{"text_format":"1","workbook":"xlsx","n_sheets":5,"sheets":["VLEESEENDEN","wisselend debiet_eend","Max waarden","Reductietechnieken","eenden"],"not_rendered":{"charts":0,"images":3,"macros":1,"external_links":0,"defined_names":2,"comments":1,"pivot_tables":0},"unopened":[],"bounds":{"document_bytes":16777216,"sheet_cells":100000,"rows_first":2000,"rows_last":500,"rows_between":2000,"halvings":0,"cell_chars":16384,"cell_head_chars":4096},"cells_cut":0,"cells_raw":0,"read":"whole","date_system":"1900"}

{"sheet":"VLEESEENDEN","index":0,"n_rows":42,"n_cols":17,"rows_kept":42,"cut":false,"hidden":false,"merged":[[13,4,15,4],[18,14,19,14],[19,4,20,4],[26,4,26,8],[10,11,12,14],[18,8,18,10],[16,8,17,10],[8,11,8,13],[14,8,15,10],[15,6,16,7],[20,12,20,15],[9,16,20,16],[14,12,15,15]]}
[null,null,null,null,"Rekenmodel Vee-combistof - pluimvee (V2.0, 15 maart 2021)",null,null,null,null,"Berekenen van het reductiepercentage van combinaties van fijnstof reducerende technieken"]
[]
[null,null,null,null,null,null,null,"TOELICHTING GEBRUIK REKENMODEL (Er is online ook een handleiding beschikbaar)."]
[null,null,null,null,"invullen","naam",null,"Bij alle GEEL gekleurde vakjes dient een keuze gemaakt te worden. Ga op het vakje staan, klik rechts naast vakje en kies een optie.                              "]
[null,null,null,null,"invullen","adres",null,"De gerealiseerde reductiepercentages staan in GROENE blokjes vermeld. Helemaal rechts is het reductiepercentage van de combinatie van de fijnstofreducerende "]
[null,null,null,"KIES HENNEN of HANEN",{"$f":"TODAY()","v":"2021-03-12"},"datum",null,"technieken weergegeven. Als combinaties niet mogelijk of zinvol zijn, verschijnt er tekst in ROOD. Bij 'niet mogelijk' dient u keuze(s) aan te passen."]
[null,null,null,"HENNEN"," ",null,null,"Bij warmtewisselaar en stoffilter kan de ventilatiehoeveelheid door een techniek aangepast worden met de pijltjes omhoog/omlaag. "]
[null,null,null,"HANEN"]
[]
[null,null,"̌",null,null,null,null,{"$f":"IF(F14+H16=0,\"Geen warmtewisselaar\",\"Warmtewisselaar\")","v":"Geen warmtewisselaar"},null,null,null,null,null,null,null,null,"Reductiepercentage PM10"]
[null,null,null,null,null,null,null,{"$f":"IF(H10=\"warmtewisselaar\",\"Reductiepercentage WW 80%\",\"   \")","v":"   "},null,{"$f":"IF(L20=\"geen techniek\",F14+H16,IF(J13=\"ja\",0,F14+H16))","v":0},"m3/uur",{"$f":"IF(L20=\"Biofilter\",IF(F11+J14>0,\"Combinatie met warmtewisselaar is niet zinvol\",\"     \"),IF(L20=\"bio wasser 60%\",IF(F11+J14>0,\"Combinatie met warmtewisselaar is niet zinvol\",\"   \"),IF(L20=\"bio wasser 75%\",IF(F11+J14>0,\"Combinatie met warmtewisselaar is niet zinvol\",\"   \"),\"   \")))","v":"   "}]
[null,null,null,null,null,null,null,{"$f":"ROUND(IF(H15=\"nee\",'wisselend debiet_eend'!$O$8*(1-E23),IF(H15=\"ja\",'wisselend debiet_eend'!$Q$8*(1-E23))),3)","v":0},{"$f":"\"Lucht WW door overige techniek?\"","v":"Lucht WW door overige techniek?"}]
[null,null,null,null,"Stal voor vleeseenden",null,null,"Warmtewisselaar met stoffilter?",null,"NEE"]
[null,null,null,0,null,{"$f":"MAX(0,IF(D14+D19>J25*100,(J25-F20),D14/100))","v":0},"m3/uur",{"$f":"IF(F15=0,\"    \",\"Reductie% stoffilter 99%\")","v":"Reductie% stoffilter 99%"},null,{"$f":"IF(L20=\"geen techniek\",0,IF(J13=\"ja\",F14+H16,0))","v":0},"m3/uur"]
[null,null,null,75,null,"% t.o.v. maximum",null,"NEE",{"$f":"IF(J13=\"nee\",\"     \",IF(L20=\"geen techniek\",IF(J13=\"ja\",\"Indien 'geen techniek', dan is er geen luchtstroom\"),\"   \"))","v":"     "},null,null,null,{"$f":"IF(F14>0,IF(L20=\"Luchtconditioneringsunit\",\"Twee keer eenzelfde type techniek in de uitgaande luchtstroom is niet logisch\",\"    \"),\"   \")","v":"   "}]
[null,null,null,null,null,{"$f":"F14/J25","v":0},{"$f":"IF(F14>0,\"Reset: Zet ventilatie door WW en/of stoffilter in 1 klik op 0 m3\",IF(F20>0,\"Zet ventilatie door WW en/of stoffilter in 1 klik op 0 m3\",\"  \"))","v":"  "}]
[null,null,null,null,null,null,null,null,{"$f":"IF(J11=0,\"   \",IF(L20=\"chemische wasser 35%\",\"Alle lucht moet door overige techniek vanwege ammoniak en/of fijn stof\",IF(L20=\"chemische wasser 70%\",\"Alle lucht moet door overige techniek vanwege ammoniak en/of fijn stof\",IF(L20=\"Bio wasser 60%\",\"Alle lucht moet door overige techniek vanwege ammoniak en/of fijn stof\",IF(L20=\"Bio wasser 75%\",\"Alle lucht moet door overige techniek vanwege ammoniak en/of fijn stof\",IF(L20=\"Biofilter\",\"Alle lucht moet door overige techniek vanwege ammoniak en/of fijn stof\",\"   \"))))))","v":"   "}]
[null,null,null,null,"Staltechniek",null,null,{"$f":"IF(F20=0,\"Geen stoffilter\",\"Droog stoffilter\")","v":"Geen stoffilter"},null,null,null,"Overige technieken"]
[null,null,null,0,"GEEN STALTECHNIEK",null,null,{"$f":"IF(F20=0,\"    \",\"Reductie% stoffilter 99%\")","v":"    "},{"$f":"IF(F20=0,\"   \",IF(L20=\"chemische wasser 35%\",\"Alle lucht moet door overige techniek vanwege ammoniak en/of fijn stof\",IF(L20=\"chemische wasser 70%\",\"Alle lucht moet door overige techniek vanwege ammoniak en/of fijn stof\",IF(L20=\"Bio wasser 60%\",\"Alle lucht moet door overige techniek vanwege ammoniak en/of fijn stof\",IF(L20=\"Bio wasser 75%\",\"Alle lucht moet door overige techniek vanwege ammoniak en/of fijn stof\",IF(L20=\"Biofilter\",\"Alle lucht moet door overige techniek vanwege ammoniak en/of fijn stof\",\"   \"))))))","v":"   "},null,null,{"$f":"IF(L20=\"chemische wasser 35%\",\"Potentieel reductie: 35%\",IF(L20=\"chemische wasser 70%\",\"Potentieel reductie: 70%\",IF(L20=\"bio wasser 60%\",\"Potentieel reductie: 60%\",IF(L20=\"bio wasser 75%\",\"Potentieel reductie: 75%\",IF(L20=\"biofilter\",\"Potentieel reductie: 80%\",IF(L20=\"waterluchtwassysteem\",\"Potentieel reductie: 33%\",IF(L20=\"droogfilterwand\",\"Potentieel reductie: 40%\",IF(L20=\"ionisatiefilter\",\"Potentieel reductie: 57%\",IF(L20=\"luchtconditioneringsunit\",\"Potentieel reductie: 80%\",\"  \")))))))))","v":"  "}]
[null,null,null,null,{"$f":"IF(E19=\"geen staltechniek\",\"    \",IF(E19=\"negatieve ionisatie\",IF(E14=\"vleeskuikens\",\"   \",\"Deze techniek kan alleen bij vleeskuikens\"),IF(E19=\"strooiselschuif\",IF(E14=\"leghennen voliere\",\"   \",\"Deze techniek kan alleen bij leghennen voliere\"),IF(E19=\"oliefilm bij voliere dmv leidingen\",IF(E14=\"leghennen voliere\",\"   \",IF(E14=\"opfok leghennen voliere\",\"     \",IF(E14=\"Vleeskuikenouderdieren voliere\",\"    \",\"Deze techniek kan alleen bij (opfok)leghennen en vleeskuikenouderdieren voliere\"))),IF(E19=\"strooiselschuif icm oliefilm bij voliere dmv leidingen\",IF(E14=\"leghennen voliere\",\"   \",\"Deze techniek kan alleen bij leghennen voliere\"),IF(E19=\"oliefilm dmv olierobot\",IF(E14=\"opfok leghennen grondhuisvesting\",\"    \",IF(E14=\"leghennen grondhuisvesting\",\"    \",IF(E14=\"vleeskuikenouderdieren grondhuisvesting\",\"    \",\"Deze techniek kan alleen bij (opfok)leghennen en vleeskuikenouderdieren grondhuisvesting\"))),\"   \"))))))","v":"    "},{"$f":"MAX(0,IF(D14+D19>J25*100,(J25*100-D14)/100,D19/100))","v":0},"m3/uur",{"$f":"ROUND(IF(F14=0,'wisselend debiet_eend'!$M$8*(1-E23),'wisselend debiet_eend'!$P$8*(1-E23)),3)","v":0},null,null,null,"GEEN TECHNIEK"]
[null,null,null,null,null,{"$f":"J25-F14-F20","v":12.56},"m3/uur",null,null,{"$f":"IF(L20=\"geen techniek\",0,F21)","v":0},"m3/uur","Reductiepercentage overige techniek",{"$f":"IF(L20=\"luchtconditioneringsunit\",\"   \",IF(L20=\"geen techniek\",\"    \",IF(L20=\"chemische wasser 35%\",\"    \",IF(L20=\"chemische wasser 70%\",\"    \",IF(L20=\"bio wasser 60%\",\"    \",IF(L20=\"bio wasser 75%\",\"    \",IF(L20=\"waterluchtwassysteem\",\"   \",IF(L25=\"biofilter\",\"    \",IF(L20=\"Droogfilterwand\",\"   \",IF(L20=\"ionisatiefilter\",IF(E19=\"ionisatie d.m.v. koolstofborsteltjes\",\"Combinatie van ionisatietechnieken is niet zinvol\",IF(E19=\"ionisatie d.m.v. koolstof-borsteltjes icm strooiselschuif\",\"Combinatie van ionisatietechnieken is niet zinvol\",\"   \")),\"  \"))))))))))","v":"    "}]
[null,null,null,null,"Reductiepercentage in stal","Max. ventilatiedebiet m3/d/uur",null," ",null,null,null,{"$f":"IF(M15=\"Twee keer eenzelfde type techniek in de uitgaande luchtstroom is niet logisch\",\"error\",IF(F24=\"Niet alle lucht gaat door luchtconditioneringsunit, dus niet combineren met droog stoffilter\",\"error\",(IF(I17=\"Alle lucht moet door overige techniek vanwege ammoniak en/of fijn stof\",\"error\",IF(I19=\"Alle lucht moet door overige techniek vanwege ammoniak en/of fijn stof\",\"error\",IF(L11=\"Combinatie met warmtewisselaar is niet toegestaan\",\"error\",IF(F20=0,IF(J13=\"ja\",'wisselend debiet_eend'!$U$8*(1-E23),'wisselend debiet_eend'!$S$8*(1-E23)),IF(F14=0,'wisselend debiet_eend'!$T$8*(1-E23),IF(F14>0,IF(F20>0,IF(J14=0,'wisselend debiet_eend'!$V$8*(1-E23),IF(J14>0,'wisselend debiet_eend'!$U$8*(1-E23),'wisselend debiet_eend'!$W$8*(1-E23)))))))))))))","v":0},null,null,null,null,{"$f":"ROUNDDOWN(100%-(1-E23)+(H20+H12)+L22,2)","v":0}]
[null,null,null,null,{"$f":"IF(E19=\"ionisatieSYSTEEM MET NEGATIEVE CORONADRADEN\",49%,IF(E19=\"ionisatie d.m.v. koolstofborsteltjes\",31%,IF(E19=\"ionisatie d.m.v. coronadraden\",52%,IF(E19=\"ionisatie d.m.v. ionisatie-units\",16%,0))))","v":0},null,{"$f":"J11+J14+J21+J23","v":12.56},null,null,{"$f":"F20+F21-H16-J21","v":12.56},"m3/uur"]
[null,null,null,null,null,{"$f":"IF(L20=\"Luchtconditioneringsunit\",IF(H20>0,\"Niet alle lucht gaat door luchtconditioneringsunit, dus niet combineren met droog stoffilter\",\"    \"),\"   \")","v":"   "}]
[null,null,null,"GEEN STALTECHNIEK",null,null,null,"Maximale ventilatie in de stal",null,{"$f":"'Max waarden'!$B$13","v":12.56},"m3/uur"]
[null,null,null,"IONISATIE d.m.v. KOOLSTOFBORSTELTJES",null,null,null,null,null,{"$f":"IF(G23<>J25,\"Optelsom debiet klopt niet\",\"   \")","v":"   "}]
[null,null,null,null,"Gemaakt in opdracht van het ministerie van Infrastructuur en Waterstaat"]
[]
[]
[null,null,null,null,null,null,null," "]
[]
[null,null,null,{"$f":"IF(H19=\"zonder stoffilter\",IF(D33=\"opfok leghennen\",IF(H12=\"warmtewisselaar 13%\",0.2,IF(H12=\"warmtewisselaar 31%\",0.43,IF(H12=\"warmtewisselaar 37%\",0.55,IF(H12=\"warmtewisselaar 50%\",0.78)))),IF(D33=\"leghennen\",IF(H12=\"warmtewisselaar 13%\",0.4,IF(H12=\"warmtewisselaar 31%\",1,IF(H12=\"warmtewisselaar 37%\",1.25,IF(H12=\"warmtewisselaar 50%\",1.8)))),IF(E14=\"opfok vleeskuikenouderdieren\",IF(H12=\"warmtewisselaar 13%\",0.4,IF(H12=\"warmtewisselaar 31%\",1,IF(H12=\"warmtewisselaar 37%\",1.3,IF(H12=\"warmtewisselaar 50%\",1.9)))),IF(D33=\"vleeskuikenouderdieren\",IF(H12=\"warmtewisselaar 13%\",0.6,IF(H12=\"warmtewisselaar 31%\",1.5,IF(H12=\"warmtewisselaar 37%\",1.85,IF(H12=\"warmtewisselaar 50%\",2.9))))))+IF(E14=\"vleeskuikens\",IF(H12=\"warmtewisselaar 13%\",0.35,IF(H12=\"warmtewisselaar 31%\",1,IF(H12=\"warmtewisselaar 37%\",1.3,IF(H12=\"warmtewisselaar 50%\",2,0)))))+IF(E14=\"vleeseenden\",IF(H12=\"warmtewisselaar 13%\",0.8,IF(H12=\"warmtewisselaar 31%\",2.3,IF(H12=\"warmtewisselaar 37%\",3.15,IF(H12=\"warmtewisselaar 50%\",4.8)))))))+IF(E14=\"kalkoen hennen\",IF(H12=\"warmtewisselaar 13%\",1.1,IF(H12=\"warmtewisselaar 31%\",3,IF(H12=\"warmtewisselaar 37%\",3.85,IF(H12=\"warmtewisselaar 50%\",5.6)))))+IF(E14=\"kalkoen hanen\",IF(H12=\"warmtewisselaar 13%\",2.5,IF(H12=\"warmtewisselaar 31%\",6.2,IF(H12=\"warmtewisselaar 37%\",8.2,IF(H12=\"warmtewisselaar 50%\",11.7))))),0)+IF(H19=\"met stoffilter\",IF(D33=\"opfok leghennen\",IF(H12=\"warmtewisselaar 13%\",0.15,IF(H12=\"warmtewisselaar 31%\",0.35,IF(H12=\"warmtewisselaar 37%\",0.4,IF(H12=\"warmtewisselaar 50%\",0.6)))),IF(D33=\"leghennen\",IF(H12=\"warmtewisselaar 13%\",0.35,IF(H12=\"warmtewisselaar 31%\",0.85,IF(H12=\"warmtewisselaar 37%\",1,IF(H12=\"warmtewisselaar 50%\",1.4)))),IF(E14=\"leghennen grondhuisvesting\",IF(H12=\"warmtewisselaar 13%\",0.35,IF(H12=\"warmtewisselaar 31%\",0.85,IF(H12=\"warmtewisselaar 37%\",1,IF(H12=\"warmtewisselaar 50%\",1.4)))),IF(E14=\"opfok vleeskuikenouderdieren\",IF(H12=\"warmtewisselaar 13%\",0.35,IF(H12=\"warmtewisselaar 31%\",0.85,IF(H12=\"warmtewisselaar 37%\",1.1,IF(H12=\"warmtewisselaar 50%\",1.45)))),IF(D33=\"vleeskuikenouderdieren\",IF(H12=\"warmtewisselaar 13%\",0.5,IF(H12=\"warmtewisselaar 31%\",1.2,IF(H12=\"warmtewisselaar 37%\",1.5,IF(H12=\"warmtewisselaar 50%\",2.1))))))+IF(E14=\"vleeskuikens\",IF(H12=\"warmtewisselaar 13%\",0.3,IF(H12=\"warmtewisselaar 31%\",0.75,IF(H12=\"warmtewisselaar 37%\",1,IF(H12=\"warmtewisselaar 50%\",1.45,0)))))+IF(E14=\"vleeseenden\",IF(H12=\"warmtewisselaar 13%\",0.7,IF(H12=\"warmtewisselaar 31%\",1.9,IF(H12=\"warmtewisselaar 37%\",2.3,IF(H12=\"warmtewisselaar 50%\",3.6)))))))+IF(E14=\"kalkoen hennen\",IF(H12=\"warmtewisselaar 13%\",0.9,IF(H12=\"warmtewisselaar 31%\",2.5,IF(H12=\"warmtewisselaar 37%\",3,IF(H12=\"warmtewisselaar 50%\",4.3)))))+IF(E14=\"kalkoen hanen\",IF(H12=\"warmtewisselaar 13%\",2.2,IF(H12=\"warmtewisselaar 31%\",5.3,IF(H12=\"warmtewisselaar 37%\",6.2,IF(H12=\"warmtewisselaar 50%\",9)))))),0)","v":0},null,null,null,null,null,null," "]
[null,null,null,{"$f":"IF(E14=\"OPFOK LEGHENNEN KOOI/KOLONIE\",\"opfok leghennen\",IF(E14=\"opfok leghennen grondhuisvesting\",\"opfok leghennen\",IF(E14=\"opfok leghennen voliere\",\"opfok leghennen\",IF(E14=\"leghennen verrijkte kooi/kolonie\",\"leghennen\",IF(E14=\"leghennen grondhuisvesting\",\"leghennen\",IF(E14=\"leghennen voliere\",\"leghennen\",IF(E14=\"vleeskuikenouderdieren groepskooi\",\"vleeskuikenouderdieren\",IF(E14=\"vleeskuikenouderdieren grondhuisvesting\",\"vleeskuikenouderdieren\",IF(E14=\"vleeskuikenouderdieren voliere\",\"vleeskuikenouderdieren\",0)))))))))","v":0}]
[]
[]
[]
[]
[]
[]
[]
[]
[null,null,null,null,null,null,null,null,null,null,null,"Kies ALLE VENTILATIELUCHT ivm vereiste NH3 reductie"]

{"sheet":"wisselend debiet_eend","index":1,"n_rows":76,"n_cols":32,"rows_kept":76,"cut":false,"hidden":true,"merged":[[0,27,0,31],[3,28,3,29],[3,30,3,31]]}
["Lft (dg)","Gew. (kg)","MG","Voer (g/d)","Totaal deb update (m3/d/u)","Hoofd deb update minus WW (m3/d/u)","Deb. w.wisselaar (m3/u/d)","Deb. Alleen Stoffilter (m3/u/d)","Deb. Ww en Stoffilter (m3/u/d)","PM10 conc (mg/m3)","#dieren","Emissie PM10 zonder reductie (g/dpl/j)","Emissie alleen stoffilter","Emissie (g/dpl/jr) bij ..% red. WW en ..%red hoofddebiet","Emissie alleen ww","Emissie ww + stand alone stoffilter","Emissie Stoffilter en ww achter elkaar","Emissie na overige techniek (g/dpl/jr)",null,null,null,null,null,null,null,null,null,"Berekeningen bij uitbroeden/opfokken en overplaatsen"]
[null,null,null,null,null,null,null,null,null,"Achtergrond",null,null,null,null,null,null,null,0,"reductie in de stal"]
[null,null,null,null,null,null,null,null,null,{"$f":"+J4","v":0},null,null,null,null,null,null,null,0.8,"reductie wwlaar zonder droge stoffilters"]
[null,null,null,null,null,null,null,null,null,null,null,null,null,null,null,null,null,{"$f":"IF(VLEESEENDEN!$H$16=0,VLEESEENDEN!F14,VLEESEENDEN!$H$16)","v":0},"max. debiet door wwlaar/droge stoffilters (m3/u/d)",null,null,null,null,null,null,null,null,null,"zonder reductie",null,"met reductie"]
[null,null,null,null,null,null,null,null,null,null,null,null,null,null,null,null,null,{"$f":"VLEESEENDEN!$F$20","v":0},"max. debiet stoffilter stand alone",null,null,null,null,null,null,null,null,"verhouding plaatsen","1:2","1:1","1:2","1:1"]
[null,null,null,null,null,null,null,null,null,null,null,null,null,null,null,null,null,{"$f":"IF(VLEESEENDEN!$L$20=\"chemische wasser 35%\",35%,IF(VLEESEENDEN!$L$20=\"chemische wasser 70%\",70%,IF(VLEESEENDEN!$L$20=\"bio wasser 60%\",60%,IF(VLEESEENDEN!$L$20=\"bio wasser 75%\",75%,IF(VLEESEENDEN!$L$20=\"biofilter\",80%,IF(VLEESEENDEN!$L$20=\"waterluchtwassysteem\",33%,IF(VLEESEENDEN!$L$20=\"droogfilterwand\",40%,IF(VLEESEENDEN!$L$20=\"ionisatiefilter\",57%,IF(VLEESEENDEN!$L$20=\"LUCHTCONDITIONERINGSUNIT\",IF(VLEESEENDEN!$F$24=\"Niet alle lucht gaat door luchtconditioneringsunit, dus niet combineren met droog stoffilter\",\"error\",80%),0)))))))))","v":0},"reductie overige techniek ALLE lucht",null,null,null," "]
[null,null,null,null,null,null,null,null,null,null,null,null,null,null,null,{"$f":"Q8+P8","v":0},null,{"$f":"VLEESEENDEN!$F$14","v":0},"max. debiet stoffilter met ww",null,null,null,null,null,null,null,"trad.","uitbroed/opfok-systeem"]
[null,null,null,null,null,null,null,null,null,null,null,{"$f":"$L$64+1","v":1},{"$f":"MIN(95%,$M$64)","v":0},{"$f":"$N$64","v":0},{"$f":"ROUND(IF(O64<22%,O64/90%,IF(O64<34.5%,$O$64/94.3%,IF(O64<45%,$O$64/98.4%,O64))),2)","v":0},{"$f":"MIN(95%,$P$64)","v":0},{"$f":"MAX(IF(Q64<22%,Q64/94%,IF(Q64<35%,$Q$64/94.5%,IF(Q64<40%,$Q$64/96%,IF(Q64<60%,$Q$64/98%,Q64)))),Q64)","v":0},{"$f":"ROUND($R$64,3)","v":0},{"$f":"ROUND($S$64,3)","v":0},{"$f":"ROUND($T$64,3)","v":0},{"$f":"$U$64","v":0},{"$f":"$V$64","v":0},{"$f":"$W$64","v":0},"gemiddelde reductie",null,null,null,"Overplaatsen op  .... dagen",13,19,13,19]
[0,null,null,null,null,null,null,null,null,null,1,null,null,null," ",{"$f":"O8+P8","v":0}," ","lucht ww i.c.m. filter via techniek","lucht ww niet via techniek","lucht ww niet via techniek wel via stoffilter","ww incl stoffilter via techniek","beiden niet via techniek","ww wel via overige techniek",null,null,null,null,"dagen eieren",3,3,3,3]
[1,75,null,null,{"$f":"0.000000000384*B10^3-0.000000342064*B10^2+0.001060852819*B10+0.088327034395","v":0.16612888582000002},{"$f":"E10-G10","v":0.16612888582000002},{"$f":"IF($R$4>0<E10,E10,IF($R$4>E10,E10,$R$4))","v":0},{"$f":"IF(E10<$R$5,E10-G10,$R$5)","v":0},{"$f":"MIN(R$5,E10-G10)","v":0},0.33639999999999998,1,{"$f":"J10/1000*E10*24*365","v":0.48955923298306853},{"$f":"IF(E10>$R$5,L10-(R$5)/E10*L10*97%,L10-(E10)/E10*L10*97%)","v":0.48955923298306853},{"$f":"(((($J10*(1-$R$2))-$J$3)/1000*$F10*24*365*$K10)*(1-R$5))+(((($J10*(1-$R$2))-$J$3)/1000*$G10*24*365*$K10)*(1-R$3))","v":0.48955923298306853},{"$f":"(((($J10)-$J$3)/1000*$F10*24*365*$K10))+(((($J10)-$J$3)/1000*$G10*24*365*$K10)*(1-R$3))","v":0.48955923298306853},{"$f":"IF(I10=0,L10,IF(I10>$R$5,L10-(R$5)/E10*L10*97%,L10-(I10)/E10*L10*97%))","v":0.48955923298306853},{"$f":"(((($J10)-$J$3)/1000*$F10*24*365*$K10))+(((($J10)-$J$3)/1000*$G10*24*365*$K10)*(1-95%))","v":0.48955923298306853},{"$f":"IF(E10-G10-H10>=0,L10-((E10-G10*80%-H10*95%)/E10*L10)*$R$6,IF(G10>H10,L10-((E10-G10)/E10*L10)*$R$6,L10-((E10-H10)/E10*L10)*$R$6))","v":0.48955923298306853},{"$f":"IF(E10-G10-H10>=0,L10-((E10-G10-H10)/E10*L10)*$R$6,IF(G10>H10,L10-((E10-G10)/E10*L10)*$R$6,L10-((E10-H10)/E10*L10)*$R$6))","v":0.48955923298306853},{"$f":"L10-(E10-H10)/E10*L10*$R$6","v":0.48955923298306853},{"$f":"IF(VLEESEENDEN!$H$15=\"ja\",L10-((E10-G10*95%-I10)/E10*L10)*$R$6,L10-((E10-G10*80%-I10)/E10*L10)*$R$6)","v":0.48955923298306853},{"$f":"L10-((E10-G10-I10)/E10*L10)*$R$6","v":0.48955923298306853},{"$f":"L10-(E10-H10)/E10*L10*$R$6","v":0.48955923298306853},{"$f":"M10/L10","v":1},null,null,null,"dagen leegstand",{"$f":"AC11-AC8-AC9","v":3},11,{"$f":"AE11-AE8-AE9","v":3},{"$f":"AF11-AF8-AF9","v":11}]
[2,100,null,null,{"$f":"0.000000000384*B11^3-0.000000342064*B11^2+0.001060852819*B11+0.088327034395","v":0.19137567629499999},{"$f":"E11-G11","v":0.19137567629499999},0,0,0,0.48144723946899115,1,{"$f":"J11/1000*E11*24*365","v":0.80712266963075363},{"$f":"IF(E11>$R$5,L11-(R$5)/E11*L11*97%,L11-(E11)/E11*L11*97%)","v":0.80712266963075363},0.80712266963075363,{"$f":"(((($J11)-$J$3)/1000*$F11*24*365*$K11))+(((($J11*(1-$R$2))-$J$3)/1000*$G11*24*365*$K11)*(1-R$3))","v":0.80712266963075363},0.80712266963075363,{"$f":"(((($J11)-$J$3)/1000*$F11*24*365*$K11))+(((($J11)-$J$3)/1000*$G11*24*365*$K11)*(1-95%))","v":0.80712266963075363},{"$f":"IF(E11-G11-H11>=0,L11-((E11-G11*80%-H11*95%)/E11*L11)*$R$6,IF(G11>H11,L11-((E11-G11)/E11*L11)*$R$6,L11-((E11-H11)/E11*L11)*$R$6))","v":0.80712266963075363},{"$f":"IF(E11-G11-H11>=0,L11-((E11-G11-H11)/E11*L11)*$R$6,IF(G11>H11,L11-((E11-G11)/E11*L11)*$R$6,L11-((E11-H11)/E11*L11)*$R$6))","v":0.80712266963075363},{"$f":"L11-(E11-H11)/E11*L11*$R$6","v":0.80712266963075363},{"$f":"IF(VLEESEENDEN!$H$15=\"ja\",L11-((E11-G11*95%-I11)/E11*L11)*$R$6,L11-((E11-G11*80%-I11)/E11*L11)*$R$6)","v":0.80712266963075363},0.80712266963075363,{"$f":"L11-(E11-H11)/E11*L11*$R$6","v":0.80712266963075363},{"$f":"M11/L11","v":1},null,null,null,"dagen/ronde",19,33,19,33]
[3,125,null,null,0.21633888676999999,0.21633888676999999,0,0,0,0.59377662936378461,1,1.1252831008826514,1.1252831008826514,1.1252831008826514,1.1252831008826514,1.1252831008826514,1.1252831008826514,1.1252831008826514,1.1252831008826514,1.1252831008826514,{"$f":"IF(VLEESEENDEN!$H$15=\"ja\",L12-((E12-G12*95%-I12)/E12*L12)*$R$6,L12-((E12-G12*80%-I12)/E12*L12)*$R$6)","v":1.1252831008826514},1.1252831008826514,1.1252831008826514,1,null,null,null,"# rondes/jr",{"$f":"365/AC11","v":19.210526315789473},11.060606060606061,{"$f":"365/AE11","v":19.210526315789473},{"$f":"365/AF11","v":11.060606060606061}]
[4,150,null,null,0.24105451724499999,0.24105451724499999,0,0,0,0.68903520925181982,1,1.4549926356436036,1.4549926356436036,1.4549926356436036,1.4549926356436036,1.4549926356436036,1.4549926356436036,1.4549926356436036,1.4549926356436036,1.4549926356436036,{"$f":"IF(VLEESEENDEN!$H$15=\"ja\",L13-((E13-G13*95%-I13)/E13*L13)*$R$6,L13-((E13-G13*80%-I13)/E13*L13)*$R$6)","v":1.4549926356436036},1.4549926356436036,1.4549926356436036,1,null,null,null,"emissie/ronde  (gam)",{"$f":"AVERAGE(L10:L22)/$AA$23","v":0.41723657641321371},{"$f":"AVERAGE(L10:L28)/$AA$23","v":0.76637991648555948},{"$f":"AVERAGE(N10:N22)/$AA$23","v":0.41723657641321371},{"$f":"AVERAGE(N10:N28)/$AA$23","v":0.76637991648555948}]
[5,175,null,null,0.26555856771999997,0.26555856771999997,0,0,0,0.77332717794733563,1,1.7989856419306816,1.7989856419306816,1.7989856419306816,1.7989856419306816,1.7989856419306816,1.7989856419306816,1.7989856419306816,1.7989856419306816,1.7989856419306816,{"$f":"IF(VLEESEENDEN!$H$15=\"ja\",L14-((E14-G14*95%-I14)/E14*L14)*$R$6,L14-((E14-G14*80%-I14)/E14*L14)*$R$6)","v":1.7989856419306816},1.7989856419306816,1.7989856419306816,1,null,null,null,"emissie/dpl/jr (gram)",{"$f":"AC13*AC12","v":8.015334231095947},{"$f":"AD13*AD12","v":8.4766263490069456},{"$f":"AE13*AE12","v":8.015334231095947},{"$f":"AF13*AF12","v":8.4766263490069456}]
[6,200,null,null,0.289887038195,0.289887038195,0,0,0,0.84979821363970398,1,2.1579864680070409,2.1579864680070409,2.1579864680070409,2.1579864680070409,2.1579864680070409,2.1579864680070409,2.1579864680070409,2.1579864680070409,2.1579864680070409,{"$f":"IF(VLEESEENDEN!$H$15=\"ja\",L15-((E15-G15*95%-I15)/E15*L15)*$R$6,L15-((E15-G15*80%-I15)/E15*L15)*$R$6)","v":2.1579864680070409},2.1579864680070409,2.1579864680070409,1,null,null,null,"vervolghuisvesting"]
[7,225,null,null,0.31407592867,0.31407592867,0,0,0,0.92032388517371078,1,2.5320918312788931,2.5320918312788931,2.5320918312788931,2.5320918312788931,2.5320918312788931,2.5320918312788931,2.5320918312788931,2.5320918312788931,2.5320918312788931,{"$f":"IF(VLEESEENDEN!$H$15=\"ja\",L16-((E16-G16*95%-I16)/E16*L16)*$R$6,L16-((E16-G16*80%-I16)/E16*L16)*$R$6)","v":2.5320918312788931},2.5320918312788931,2.5320918312788931,1,null,null,null,"# dagen"]
[8,250,null,null,0.33816123914499996,0.33816123914499996,0,0,0,0.98612990306547954,1,2.9212051714121965,2.9212051714121965,2.9212051714121965,2.9212051714121965,2.9212051714121965,2.9212051714121965,2.9212051714121965,2.9212051714121965,2.9212051714121965,{"$f":"IF(VLEESEENDEN!$H$15=\"ja\",L17-((E17-G17*95%-I17)/E17*L17)*$R$6,L17-((E17-G17*80%-I17)/E17*L17)*$R$6)","v":2.9212051714121965},2.9212051714121965,2.9212051714121965,1,null,null,null,"Groeiperiode",42,42,42,42]
[9,300,null,null,0.38616512009499998,0.38616512009499998,0,0,0,1.0480698144429763,1,3.5454173304778909,3.5454173304778909,3.5454173304778909,3.5454173304778909,3.5454173304778909,3.5454173304778909,3.5454173304778909,3.5454173304778909,3.5454173304778909,{"$f":"IF(VLEESEENDEN!$H$15=\"ja\",L18-((E18-G18*95%-I18)/E18*L18)*$R$6,L18-((E18-G18*80%-I18)/E18*L18)*$R$6)","v":3.5454173304778909},3.5454173304778909,3.5454173304778909,1,null,null,null,"Patio",{"$f":"+AC8","v":13},{"$f":"+AD8","v":19},{"$f":"+AE8","v":13},{"$f":"+AF8","v":19}]
[10,350,null,null,0.43418668104499997,0.43418668104499997,0,0,0,1.1067664537131101,1,4.2095588982916459,4.2095588982916459,4.2095588982916459,4.2095588982916459,4.2095588982916459,4.2095588982916459,4.2095588982916459,4.2095588982916459,4.2095588982916459,{"$f":"IF(VLEESEENDEN!$H$15=\"ja\",L19-((E19-G19*95%-I19)/E19*L19)*$R$6,L19-((E19-G19*80%-I19)/E19*L19)*$R$6)","v":4.2095588982916459},4.2095588982916459,4.2095588982916459,1,null,null,42,"VVH",{"$f":"AC17-AC18","v":29},23,{"$f":"AE17-AE18","v":29},{"$f":"AF17-AF18","v":23}]
[11,400,null,null,0.48251392199499998,0.48251392199499998,0,0,0,1.162690928086719,1,4.9144875436651727,4.9144875436651727,4.9144875436651727,4.9144875436651727,4.9144875436651727,4.9144875436651727,4.9144875436651727,4.9144875436651727,4.9144875436651727,{"$f":"IF(VLEESEENDEN!$H$15=\"ja\",L20-((E20-G20*95%-I20)/E20*L20)*$R$6,L20-((E20-G20*80%-I20)/E20*L20)*$R$6)","v":4.9144875436651727},4.9144875436651727,4.9144875436651727,1,null,null,0,"Leegstand na vvh",10,10,10,10]
[12,450,null,null,0.53143484294499999,0.53143484294499999,0,0,0,1.2162098812797726,1,5.6619060514755999,5.6619060514755999,5.6619060514755999,5.6619060514755999,5.6619060514755999,5.6619060514755999,5.6619060514755999,5.6619060514755999,5.6619060514755999,{"$f":"IF(VLEESEENDEN!$H$15=\"ja\",L21-((E21-G21*95%-I21)/E21*L21)*$R$6,L21-((E21-G21*80%-I21)/E21*L21)*$R$6)","v":5.6619060514755999},5.6619060514755999,5.6619060514755999,1,null,null,42,"# ronden",{"$f":"365/(AC19+AC20)","v":9.3589743589743595},{"$f":"365/(AD19+AD20)","v":11.060606060606061},{"$f":"365/(AE19+AE20)","v":9.3589743589743595},{"$f":"365/(AF19+AF20)","v":11.060606060606061}]
[13,500,null,null,0.58123744389499998,0.58123744389499998,0,0,0,1.2676153481444508,1,6.4542410220265456,6.4542410220265456,6.4542410220265456,6.4542410220265456,6.4542410220265456,6.4542410220265456,6.4542410220265456,6.4542410220265456,6.4542410220265456,{"$f":"IF(VLEESEENDEN!$H$15=\"ja\",L22-((E22-G22*95%-I22)/E22*L22)*$R$6,L22-((E22-G22*80%-I22)/E22*L22)*$R$6)","v":6.4542410220265456},6.4542410220265456,6.4542410220265456,1,null,null,10,"emissie/ronde  (gram)",{"$f":"AVERAGE(L23:L51)/$AA$23","v":9.2460586406843692},{"$f":"AVERAGE(L29:L51)/$AA$23","v":11.260806854782297},{"$f":"AVERAGE(N23:N51)/$AA$23","v":9.2460586406843692},{"$f":"AVERAGE(N29:N51)/$AA$23","v":11.260806854782297}]
[14,550,null,null,0.63220972484499993,0.63220972484499993,0,0,0,1.3171444528366822,1,7.2945530212748126,7.2945530212748126,7.2945530212748126,7.2945530212748126,7.2945530212748126,7.2945530212748126,7.2945530212748126,7.2945530212748126,7.2945530212748126,{"$f":"IF(VLEESEENDEN!$H$15=\"ja\",L23-((E23-G23*95%-I23)/E23*L23)*$R$6,L23-((E23-G23*80%-I23)/E23*L23)*$R$6)","v":7.2945530212748126},7.2945530212748126,7.2945530212748126,1,null,null,{"$f":"365/(AA21+AA22)","v":7.0192307692307692},"emissie/dpl/jr (gram)",{"$f":"AC22*AC21","v":86.533625739738326},{"$f":"AD22*AD21","v":124.55134854531934},{"$f":"AE22*AE21","v":86.533625739738326},{"$f":"AF22*AF21","v":124.55134854531934}]
[15,600,null,null,0.68463968579500001,0.68463968579500001,0,0,0,1.3649928808471363,1,8.1864678822070154,8.1864678822070154,8.1864678822070154,8.1864678822070154,8.1864678822070154,8.1864678822070154,8.1864678822070154,8.1864678822070154,8.1864678822070154,{"$f":"IF(VLEESEENDEN!$H$15=\"ja\",L24-((E24-G24*95%-I24)/E24*L24)*$R$6,L24-((E24-G24*80%-I24)/E24*L24)*$R$6)","v":8.1864678822070154},8.1864678822070154,8.1864678822070154,1,null,null,{"$f":"AA22/(AA21+AA22)","v":0.19230769230769232},"samen (gr/dpl/jr)",{"$f":"(AC14+(AC23*2))/3","v":60.360861903524203},{"$f":"(AD14+AD23)/2","v":66.513987447163146},{"$f":"(AE14+(AE23*2))/3","v":60.360861903524203},{"$f":"(AF14+AF23)/2","v":66.513987447163146}]
[16,685,null,null,0.77793117900999997,0.77793117900999997,0,0,0,1.4113243745205084,1,9.6177199354138985,9.6177199354138985,9.6177199354138985,9.6177199354138985,9.6177199354138985,9.6177199354138985,9.6177199354138985,9.6177199354138985,9.6177199354138985,{"$f":"IF(VLEESEENDEN!$H$15=\"ja\",L25-((E25-G25*95%-I25)/E25*L25)*$R$6,L25-((E25-G25*80%-I25)/E25*L25)*$R$6)","v":9.6177199354138985},9.6177199354138985,9.6177199354138985,1,null,null,null,"verschil t.o.v. trad.",{"$f":"(AC24/$L$63)","v":1.0208060798886598},{"$f":"(AD24/$L$63)","v":1.1248660248129738}]
[17,770,null,null,0.87768263142499992,0.87768263142499992,0,0,0,1.4562775995930568,1,11.196590107897979,11.196590107897979,11.196590107897979,11.196590107897979,11.196590107897979,11.196590107897979,11.196590107897979,11.196590107897979,11.196590107897979,{"$f":"IF(VLEESEENDEN!$H$15=\"ja\",L26-((E26-G26*95%-I26)/E26*L26)*$R$6,L26-((E26-G26*80%-I26)/E26*L26)*$R$6)","v":11.196590107897979},11.196590107897979,11.196590107897979,1,null,null,null,"reductie",null,null,{"$f":"(AC24-AE24)/AC24","v":0},{"$f":"(AD24-AF24)/AD24","v":0}]
[18,855,null,null,0.98530898703999992,0.98530898703999992,0,0,0,1.4999712215646515,1,12.946711694202998,12.946711694202998,12.946711694202998,12.946711694202998,12.946711694202998,12.946711694202998,12.946711694202998,12.946711694202998,12.946711694202998,{"$f":"IF(VLEESEENDEN!$H$15=\"ja\",L27-((E27-G27*95%-I27)/E27*L27)*$R$6,L27-((E27-G27*80%-I27)/E27*L27)*$R$6)","v":12.946711694202998},12.946711694202998,12.946711694202998,1]
[19,940,null,null,1.102225189855,1.102225189855,0,0,0,1.5425077315602014,1,14.893672084900514,14.893672084900514,14.893672084900514,14.893672084900514,14.893672084900514,14.893672084900514,14.893672084900514,14.893672084900514,14.893672084900514,{"$f":"IF(VLEESEENDEN!$H$15=\"ja\",L28-((E28-G28*95%-I28)/E28*L28)*$R$6,L28-((E28-G28*80%-I28)/E28*L28)*$R$6)","v":14.893672084900514},14.893672084900514,14.893672084900514,1]
[20,1025,null,null,1.2298461838699999,1.2298461838699999,0,0,0,1.5839763789448924,1,17.064894391673825,17.064894391673825,17.064894391673825,17.064894391673825,17.064894391673825,17.064894391673825,17.064894391673825,17.064894391673825,17.064894391673825,{"$f":"IF(VLEESEENDEN!$H$15=\"ja\",L29-((E29-G29*95%-I29)/E29*L29)*$R$6,L29-((E29-G29*80%-I29)/E29*L29)*$R$6)","v":17.064894391673825},17.064894391673825,17.064894391673825,1]
[21,1110,null,null,1.3695869130849998,1.3695869130849998,0,0,0,1.6244554532147113,1,19.489536463404892,19.489536463404892,19.489536463404892,19.489536463404892,19.489536463404892,19.489536463404892,19.489536463404892,19.489536463404892,19.489536463404892,{"$f":"IF(VLEESEENDEN!$H$15=\"ja\",L30-((E30-G30*95%-I30)/E30*L30)*$R$6,L30-((E30-G30*80%-I30)/E30*L30)*$R$6)","v":19.489536463404892},19.489536463404892,19.489536463404892,1]
[22,1200,null,null,1.5323302571949999,1.5323302571949999,0,0,0,1.6640140834809463,1,22.336415565804195,22.336415565804195,22.336415565804195,22.336415565804195,22.336415565804195,22.336415565804195,22.336415565804195,22.336415565804195,22.336415565804195,{"$f":"IF(VLEESEENDEN!$H$15=\"ja\",L31-((E31-G31*95%-I31)/E31*L31)*$R$6,L31-((E31-G31*80%-I31)/E31*L31)*$R$6)","v":22.336415565804195},22.336415565804195,22.336415565804195,1]
[23,1285,null,null,1.70147874241,1.70147874241,0,0,0,1.7027136746952953,1,25.378868627886579,25.378868627886579,25.378868627886579,25.378868627886579,25.378868627886579,25.378868627886579,25.378868627886579,25.378868627886579,25.378868627886579,{"$f":"IF(VLEESEENDEN!$H$15=\"ja\",L32-((E32-G32*95%-I32)/E32*L32)*$R$6,L32-((E32-G32*80%-I32)/E32*L32)*$R$6)","v":25.378868627886579},25.378868627886579,25.378868627886579,1]
[24,1370,null,null,1.8870750268250001,1.8870750268250001,0,0,0,1.7406090664597387,1,28.773620730844627,28.773620730844627,28.773620730844627,28.773620730844627,28.773620730844627,28.773620730844627,28.773620730844627,28.773620730844627,28.773620730844627,{"$f":"IF(VLEESEENDEN!$H$15=\"ja\",L33-((E33-G33*95%-I33)/E33*L33)*$R$6,L33-((E33-G33*80%-I33)/E33*L33)*$R$6)","v":28.773620730844627},28.773620730844627,28.773620730844627,1]
[25,1455,null,null,2.09053405444,2.09053405444,0,0,0,1.7777494772651317,1,32.55606540497444,32.55606540497444,32.55606540497444,32.55606540497444,32.55606540497444,32.55606540497444,32.55606540497444,32.55606540497444,32.55606540497444,{"$f":"IF(VLEESEENDEN!$H$15=\"ja\",L34-((E34-G34*95%-I34)/E34*L34)*$R$6,L34-((E34-G34*80%-I34)/E34*L34)*$R$6)","v":32.55606540497444},{"$f":"L34-((E34-G34-I34)/E34*L34)*$R$6","v":32.55606540497444},32.55606540497444,1]
[26,1540,null,null,2.3132707692550003,2.3132707692550003,0,{"$f":"IF(E35<$R$5,E35-G35,$R$5)","v":0},0,1.8141792808343342,1,36.762986008749003,36.762986008749003,36.762986008749003,36.762986008749003,36.762986008749003,36.762986008749003,36.762986008749003,36.762986008749003,36.762986008749003,{"$f":"IF(VLEESEENDEN!$H$15=\"ja\",L35-((E35-G35*95%-I35)/E35*L35)*$R$6,L35-((E35-G35*80%-I35)/E35*L35)*$R$6)","v":36.762986008749003},{"$f":"L35-((E35-G35-I35)/E35*L35)*$R$6","v":36.762986008749003},36.762986008749003,1]
[27,1625,null,null,2.55670011527,2.55670011527,{"$f":"IF($R$4>0<E36,E36,IF($R$4>E36,E36,$R$4))","v":0},{"$f":"IF(E36<$R$5,E36-G36,$R$5)","v":0},0,1.8499386496964256,1,41.432508024150415,41.432508024150415,41.432508024150415,41.432508024150415,41.432508024150415,41.432508024150415,41.432508024150415,41.432508024150415,41.432508024150415,{"$f":"IF(VLEESEENDEN!$H$15=\"ja\",L36-((E36-G36*95%-I36)/E36*L36)*$R$6,L36-((E36-G36*80%-I36)/E36*L36)*$R$6)","v":41.432508024150415},41.432508024150415,41.432508024150415,1]
[28,1710,null,null,2.8222370364850002,2.8222370364850002,{"$f":"IF($R$4>0<E37,E37,IF($R$4>E37,E37,$R$4))","v":0},0,0,1.8850640927470739,1,46.604055840601376,46.604055840601376,46.604055840601376,46.604055840601376,46.604055840601376,46.604055840601376,46.604055840601376,46.604055840601376,46.604055840601376,{"$f":"IF(VLEESEENDEN!$H$15=\"ja\",L37-((E37-G37*95%-I37)/E37*L37)*$R$6,L37-((E37-G37*80%-I37)/E37*L37)*$R$6)","v":46.604055840601376},46.604055840601376,46.604055840601376,1]
[29,1800,null,null,3.1290627485950004,3.1290627485950004,0,0,0,1.9195889074002137,1,52.617063890596754,52.617063890596754,{"$f":"(((($J38*(1-$R$2))-$J$3)/1000*$F38*24*365*$K38)*(1-R$4))+(((($J38*(1-$R$2))-$J$3)/1000*$G38*24*365*$K38)*(1-R$3))","v":52.617063890596754},52.617063890596754,52.617063890596754,52.617063890596754,52.617063890596754,52.617063890596754,52.617063890596754,{"$f":"IF(VLEESEENDEN!$H$15=\"ja\",L38-((E38-G38*95%-I38)/E38*L38)*$R$6,L38-((E38-G38*80%-I38)/E38*L38)*$R$6)","v":52.617063890596754},52.617063890596754,52.617063890596754,1]
[30,1885,null,null,3.44457062581,3.44457062581,0,0,0,1.9535435623623054,1,58.947080435303981,58.947080435303981,{"$f":"(((($J39*(1-$R$2))-$J$3)/1000*$F39*24*365*$K39)*(1-R$4))+(((($J39*(1-$R$2))-$J$3)/1000*$G39*24*365*$K39)*(1-R$3))","v":58.947080435303981},58.947080435303981,58.947080435303981,58.947080435303981,58.947080435303981,58.947080435303981,58.947080435303981,{"$f":"IF(VLEESEENDEN!$H$15=\"ja\",L39-((E39-G39*95%-I39)/E39*L39)*$R$6,L39-((E39-G39*80%-I39)/E39*L39)*$R$6)","v":58.947080435303981},58.947080435303981,58.947080435303981,1]
[31,1970,null,null,3.7865141422250002,3.7865141422250002,0,0,0,1.9869560236198514,1,65.907060850721706,65.907060850721706,{"$f":"(((($J40*(1-$R$2))-$J$3)/1000*$F40*24*365*$K40)*(1-R$4))+(((($J40*(1-$R$2))-$J$3)/1000*$G40*24*365*$K40)*(1-R$3))","v":65.907060850721706},65.907060850721706,65.907060850721706,65.907060850721706,65.907060850721706,65.907060850721706,65.907060850721706,{"$f":"IF(VLEESEENDEN!$H$15=\"ja\",L40-((E40-G40*95%-I40)/E40*L40)*$R$6,L40-((E40-G40*80%-I40)/E40*L40)*$R$6)","v":65.907060850721706},65.907060850721706,65.907060850721706,1]
[32,2055,null,null,4.1563082418400006,4.1563082418400006,0,0,0,2.0198520336153374,1,73.541318254407372,73.541318254407372,{"$f":"(((($J41*(1-$R$2))-$J$3)/1000*$F41*24*365*$K41)*(1-R$5))+(((($J41*(1-$R$2))-$J$3)/1000*$G41*24*365*$K41)*(1-R$3))","v":73.541318254407372},73.541318254407372,73.541318254407372,73.541318254407372,73.541318254407372,73.541318254407372,73.541318254407372,{"$f":"IF(VLEESEENDEN!$H$15=\"ja\",L41-((E41-G41*95%-I41)/E41*L41)*$R$6,L41-((E41-G41*80%-I41)/E41*L41)*$R$6)","v":73.541318254407372},73.541318254407372,73.541318254407372,1]
[33,2140,null,null,4.5553678686550008,4.5553678686550008,0,0,{"$f":"MIN(R$5,E42-G42)","v":0},2.0522553515790203,1,81.895296040879074,81.895296040879074,81.895296040879074,81.895296040879074,81.895296040879074,81.895296040879074,81.895296040879074,81.895296040879074,81.895296040879074,{"$f":"IF(VLEESEENDEN!$H$15=\"ja\",L42-((E42-G42*95%-I42)/E42*L42)*$R$6,L42-((E42-G42*80%-I42)/E42*L42)*$R$6)","v":81.895296040879074},81.895296040879074,81.895296040879074,1]
[34,2225,null,null,4.9851079666700002,4.9851079666700002,0,0,0,2.0841879614286749,1,91.015541612468752,91.015541612468752,91.015541612468752,91.015541612468752,91.015541612468752,91.015541612468752,91.015541612468752,91.015541612468752,91.015541612468752,{"$f":"IF(VLEESEENDEN!$H$15=\"ja\",L43-((E43-G43*95%-I43)/E43*L43)*$R$6,L43-((E43-G43*80%-I43)/E43*L43)*$R$6)","v":91.015541612468752},91.015541612468752,91.015541612468752,1]
[35,2310,null,null,5.4469434798850012,5.4469434798850012,0,0,0,2.1156702524343451,1,100.94968187485506,100.94968187485506,100.94968187485506,100.94968187485506,100.94968187485506,100.94968187485506,100.94968187485506,100.94968187485506,100.94968187485506,{"$f":"IF(VLEESEENDEN!$H$15=\"ja\",L44-((E44-G44*95%-I44)/E44*L44)*$R$6,L44-((E44-G44*80%-I44)/E44*L44)*$R$6)","v":100.94968187485506},100.94968187485506,100.94968187485506,1]
[36,2400,null,null,5.9725011599950006,5.9725011599950006,0,0,0,2.1467211768883234,1,112.31454173976576,112.31454173976576,112.31454173976576,112.31454173976576,112.31454173976576,112.31454173976576,112.31454173976576,112.31454173976576,112.31454173976576,{"$f":"IF(VLEESEENDEN!$H$15=\"ja\",L45-((E45-G45*95%-I45)/E45*L45)*$R$6,L45-((E45-G45*80%-I45)/E45*L45)*$R$6)","v":112.31454173976576},112.31454173976576,112.31454173976576,1]
[37,2471,null,null,6.4147186689440003,6.4147186689440003,0,0,0,2.1773583882614829,1,122.35215955894571,122.35215955894571,122.35215955894571,122.35215955894571,122.35215955894571,122.35215955894571,122.35215955894571,122.35215955894571,122.35215955894571,{"$f":"IF(VLEESEENDEN!$H$15=\"ja\",L46-((E46-G46*95%-I46)/E46*L46)*$R$6,L46-((E46-G46*80%-I46)/E46*L46)*$R$6)","v":122.35215955894571},122.35215955894571,122.35215955894571,1]
[38,2542,null,null,6.8821868291890009,6.8821868291890009,0,0,0,2.2075983627206743,1,133.09159433424554,133.09159433424554,133.09159433424554,133.09159433424554,133.09159433424554,133.09159433424554,133.09159433424554,133.09159433424554,133.09159433424554,{"$f":"IF(VLEESEENDEN!$H$15=\"ja\",L47-((E47-G47*95%-I47)/E47*L47)*$R$6,L47-((E47-G47*80%-I47)/E47*L47)*$R$6)","v":133.09159433424554},133.09159433424554,133.09159433424554,1]
[39,2613,null,null,7.3757302676740002,7.3757302676740002,0,0,0,2.23745650639421,1,144.56519092890727,144.56519092890727,144.56519092890727,144.56519092890727,144.56519092890727,144.56519092890727,144.56519092890727,{"$f":"IF(E48-G48-H48>=0,L48-((E48-G48-H48)/E48*L48)*$R$6,IF(G48>H48,L48-((E48-G48)/E48*L48)*$R$6,L48-((E48-H48)/E48*L48)*$R$6))","v":144.56519092890727},144.56519092890727,{"$f":"IF(VLEESEENDEN!$H$15=\"ja\",L48-((E48-G48*95%-I48)/E48*L48)*$R$6,L48-((E48-G48*80%-I48)/E48*L48)*$R$6)","v":144.56519092890727},144.56519092890727,144.56519092890727,1]
[40,2684,null,null,7.8961736113430012,7.8961736113430012,0,0,0,2.2669472503778456,1,156.80583133704346,156.80583133704346,156.80583133704346,156.80583133704346,156.80583133704346,156.80583133704346,156.80583133704346,156.80583133704346,156.80583133704346,{"$f":"IF(VLEESEENDEN!$H$15=\"ja\",L49-((E49-G49*95%-I49)/E49*L49)*$R$6,L49-((E49-G49*80%-I49)/E49*L49)*$R$6)","v":156.80583133704346},156.80583133704346,156.80583133704346,1]
[41,2755,null,null,8.4443414871400009,8.4443414871400009,0,0,0,2.2960841351525101,1,169.84692623898704,169.84692623898704,169.84692623898704,169.84692623898704,169.84692623898704,169.84692623898704,169.84692623898704,169.84692623898704,169.84692623898704,{"$f":"IF(VLEESEENDEN!$H$15=\"ja\",L50-((E50-G50*95%-I50)/E50*L50)*$R$6,L50-((E50-G50*80%-I50)/E50*L50)*$R$6)","v":169.84692623898704},169.84692623898704,169.84692623898704,1]
[42,2826,null,null,9.0210585220090014,9.0210585220090014,0,0,{"$f":"MIN(R$5,E51-G51)","v":0},2.3248798858221513,1,183.72240695819477,183.72240695819477,183.72240695819477,183.72240695819477,183.72240695819477,183.72240695819477,{"$f":"IF(E51-G51-H51>=0,L51-((E51-G51*80%-H51*95%)/E51*L51)*$R$6,IF(G51>H51,L51-((E51-G51)/E51*L51)*$R$6,L51-((E51-H51)/E51*L51)*$R$6))","v":183.72240695819477},183.72240695819477,183.72240695819477,{"$f":"IF(VLEESEENDEN!$H$15=\"ja\",L51-((E51-G51*95%-I51)/E51*L51)*$R$6,L51-((E51-G51*80%-I51)/E51*L51)*$R$6)","v":183.72240695819477},183.72240695819477,183.72240695819477,1]
[43,2900,null,null,9.6534179694950009,{"$f":"E52-G52","v":9.6534179694950009},{"$f":"IF($R$4>0<E52,E52,IF($R$4>E52,E52,$R$4))","v":0},{"$f":"IF(E52<$R$5,E52-G52,$R$5)","v":0},{"$f":"MIN(R$5,E52-G52)","v":0},2.353346479363803,1,199.00825380488382,199.00825380488382,{"$f":"(((($J52*(1-$R$2))-$J$3)/1000*$F52*24*365*$K52)*(1-R$5))+(((($J52*(1-$R$2))-$J$3)/1000*$G52*24*365*$K52)*(1-R$3))","v":199.00825380488382},{"$f":"(((($J52)-$J$3)/1000*$F52*24*365*$K52))+(((($J52*(1-$R$2))-$J$3)/1000*$G52*24*365*$K52)*(1-R$3))","v":199.00825380488382},199.00825380488382,199.00825380488382,{"$f":"IF(E52-G52-H52>=0,L52-((E52-G52*80%-H52*95%)/E52*L52)*$R$6,IF(G52>H52,L52-((E52-G52)/E52*L52)*$R$6,L52-((E52-H52)/E52*L52)*$R$6))","v":199.00825380488382},{"$f":"IF(E52-G52-H52>=0,L52-((E52-G52-H52)/E52*L52)*$R$6,IF(G52>H52,L52-((E52-G52)/E52*L52)*$R$6,L52-((E52-H52)/E52*L52)*$R$6))","v":199.00825380488382},{"$f":"L52-(E52-H52)/E52*L52*$R$6","v":199.00825380488382},{"$f":"IF(VLEESEENDEN!$H$15=\"ja\",L52-((E52-G52*95%-I52)/E52*L52)*$R$6,L52-((E52-G52*80%-I52)/E52*L52)*$R$6)","v":199.00825380488382},{"$f":"L52-((E52-G52-I52)/E52*L52)*$R$6","v":199.00825380488382},{"$f":"L52-(E52-H52)/E52*L52*$R$6","v":199.00825380488382}]
[44,2950,null,null,10.099222890445001,10.099222890445001,0,0,0,2.3814952049031657,1,210.68895776874518,210.68895776874518,210.68895776874518,210.68895776874518,210.68895776874518,210.68895776874518,210.68895776874518,210.68895776874518,210.68895776874518,{"$f":"IF(VLEESEENDEN!$H$15=\"ja\",L53-((E53-G53*95%-I53)/E53*L53)*$R$6,L53-((E53-G53*80%-I53)/E53*L53)*$R$6)","v":210.68895776874518},210.68895776874518,210.68895776874518]
[45,3000,null,null,10.560309491395,10.560309491395,0,0,0,2.4093367178804237,1,222.88367074984023,222.88367074984023,222.88367074984023,222.88367074984023,222.88367074984023,222.88367074984023,222.88367074984023,222.88367074984023,222.88367074984023,{"$f":"IF(VLEESEENDEN!$H$15=\"ja\",L54-((E54-G54*95%-I54)/E54*L54)*$R$6,L54-((E54-G54*80%-I54)/E54*L54)*$R$6)","v":222.88367074984023},222.88367074984023,222.88367074984023]
[46,3050,null,null,11.036965772345001,11.036965772345001,0,0,0,2.4368810888470627,1,235.60697295938746,235.60697295938746,235.60697295938746,235.60697295938746,235.60697295938746,235.60697295938746,235.60697295938746,235.60697295938746,235.60697295938746,{"$f":"IF(VLEESEENDEN!$H$15=\"ja\",L55-((E55-G55*95%-I55)/E55*L55)*$R$6,L55-((E55-G55*80%-I55)/E55*L55)*$R$6)","v":235.60697295938746},235.60697295938746,235.60697295938746]
[47,3100,null,null,11.529479733295002,11.529479733295002,0,0,0,2.4641378475305378,1,248.87359178878089,248.87359178878089,248.87359178878089,248.87359178878089,248.87359178878089,248.87359178878089,248.87359178878089,248.87359178878089,248.87359178878089,{"$f":"IF(VLEESEENDEN!$H$15=\"ja\",L56-((E56-G56*95%-I56)/E56*L56)*$R$6,L56-((E56-G56*80%-I56)/E56*L56)*$R$6)","v":248.87359178878089},248.87359178878089,248.87359178878089]
[48,3150,null,null,12.038139374245,12.038139374245,0,0,0,2.4911160227162288,1,262.69840045892607,262.69840045892607,262.69840045892607,262.69840045892607,262.69840045892607,262.69840045892607,262.69840045892607,262.69840045892607,262.69840045892607,{"$f":"IF(VLEESEENDEN!$H$15=\"ja\",L57-((E57-G57*95%-I57)/E57*L57)*$R$6,L57-((E57-G57*80%-I57)/E57*L57)*$R$6)","v":262.69840045892607},262.69840045892607,262.69840045892607]
[49,3200,null,null,12.563232695195001,12.563232695195001,0,0,0,2.5178241784222166,1,277.09641670257281,277.09641670257281,277.09641670257281,277.09641670257281,{"$f":"IF(I58=0,L58,IF(I58>$R$5,L58-(R$5)/E58*L58*97%,L58-(I58)/E58*L58*97%))","v":277.09641670257281},277.09641670257281,277.09641670257281,277.09641670257281,277.09641670257281,{"$f":"IF(VLEESEENDEN!$H$15=\"ja\",L58-((E58-G58*95%-I58)/E58*L58)*$R$6,L58-((E58-G58*80%-I58)/E58*L58)*$R$6)","v":277.09641670257281},277.09641670257281,277.09641670257281]
[null,null,null,null,null,null,null,null,null,null,null,null," ",null," ",null,{"$f":"I50/(E50-G50)*(L50-(L50-O50)/80%)*5%","v":0}," ",null,null,null,null," "]
[null,{"$f":"AVERAGE(B9:B51)","v":1254.6666666666667},null,null,{"$f":"AVERAGE(E10:E51)","v":2.5836133539670003},null," ",null,null,null,null," ",null,null,null,{"$f":"IF(R$5<E5,R$5/E47*(L47-(L47-O47)/80%)*95%,E$5/E47*(L47-(L47-O47)/80%)*95%)","v":0},{"$f":"L51-I51/(E51)*(L51-(L51-O51)/80%)*95%","v":183.72240695819477},{"$f":"(L45-(L45-O45)/80%)","v":112.31454173976576},{"$f":"5%*R60","v":5.6157270869882883}," "," "]
[null,null,null,"totaal reductie debiet",null,0,null," ",null,null,null,null,null,null,null,{"$f":"L51-R$5/E51*L51*95%","v":183.72240695819477},{"$f":"E49/(E49-G49)*(L49-(L49-O49)/80%)*(1-95%)","v":7.84029156685218},{"$f":"I51/(E51-G51)","v":0}]
[null,null,null,null,{"$f":"SUM(E10:E51)","v":108.51176086661401},{"$f":"SUM(F10:F51)","v":108.51176086661401},{"$f":"SUM(G10:G51)","v":0},null,null,null,"gem (- leeg)",{"$f":"AVERAGE(L10:L58)","v":73.000723707554101},{"$f":"AVERAGE(M10:M58)","v":73.000723707554101},{"$f":"AVERAGE(N10:N58)","v":73.000723707554101},{"$f":"AVERAGE(O10:O59)","v":73.000723707554101},{"$f":"AVERAGE(P10:P59)","v":73.000723707554101},{"$f":"AVERAGE(Q10:Q58)","v":73.000723707554101},73.000723707554101,73.000723707554101,73.000723707554101,73.000723707554101,73.000723707554101,73.000723707554101," "]
[null,null,null,null,null,{"$f":"F62/$E$62","v":1},{"$f":"G62/$E$62","v":0},null,null,null,"gem (+ leeg)",{"$f":"L62*0.81","v":59.130586203118824},{"$f":"M62*0.81","v":59.130586203118824},59.130586203118824,{"$f":"O62*0.81","v":59.130586203118824},59.130586203118824,59.130586203118824,{"$f":"R62*0.81","v":59.130586203118824},59.130586203118824,59.130586203118824,59.130586203118824,59.130586203118824,59.130586203118824]
[null,null,null,"TOTAAL DEBIET (hoofd en WW)",null,null,null,null,null,null,"reductie",{"$f":"1-(L63/$L$63)","v":0},0,0,{"$f":"1-(O63/$L$63)","v":0},{"$f":"1-(P63/($L$63))","v":0},0,{"$f":"1-(R63/$L$63)","v":0},{"$f":"1-(S63/$L$63)","v":0},{"$f":"1-(T63/$L$63)","v":0},0,0,{"$f":"1-(W63/$L$63)","v":0}]
[null,null,null,null,null,null,null,null,null,null,null,null,null,null,null,{"$f":"M64-P64","v":0}]
[null,null,null,null,null,null,null,null,null,null,null,null,null,null,{"$f":"O51+P51","v":367.44481391638953},{"$f":"(L51-I51/(E51-G51)*(L51-(L51-O51)/80%))*95%","v":174.53628661028503},null,null,null,null,null,null," "]
[null,null,null,null,null,null,null,null,null,null,null,null,null,null,null,{"$f":"(L51-I51/(E51-G51))*(1-95%)","v":9.1861203479097462}," "]
[null,null,null,null,null,null,null,null,null,null,null,null,null,null,null,{"$f":"(L51-I51/(E51-G51))*5%","v":9.1861203479097391}]
[null,null,null,null,null,null,null,null,null,null,null,null,null,null,null,{"$f":"(O51-(L51-O51)/80%)","v":183.72240695819477}]
[null,null,null,null,null,null,null,null,null,null,null,null,null,null,null,{"$f":"I51/(E51-G51)","v":0}]
[null,null,null,null,null,null,null,null,null,null,null,null,null,{"$f":"20%*O71","v":0},{"$f":"L51-O51","v":0}]
[null,null,null,null,null,null,null,null,null,null,null,null,null,{"$f":"O51-N71","v":183.72240695819477},{"$f":"O71/95%","v":0}]
[null,null,null,null,null,null,null,null,null,null,null,null,null,{"$f":"95%*N72","v":174.53628661028503},{"$f":"L51-O72","v":183.72240695819477}]
[null,null,null,null,null,null,null,null,null,null,null,null,null,{"$f":"L51-P51","v":0},{"$f":"5%*O73","v":9.1861203479097391}]
[null,null,null,null,null,null,null,null,null,null,null,null,null,null,{"$f":"5.95/L51","v":3.2385815636270743E-2}]
[null,null,null,null,null,null,null,null,null,null,null,null,null,{"$f":"95%*P51","v":174.53628661028503}]

{"sheet":"Max waarden","index":2,"n_rows":46,"n_cols":9,"rows_kept":46,"cut":false,"hidden":true,"merged":[]}
["Overzicht maximale waarden rekenmodel reducties fijnstof"]
[]
[null,"waarden in m3/dier/uur"]
[]
["Maximale ventilatie:"]
["Opfok leghennen",1.73]
["Leghennen",8.01]
["Opfok vleeskuikenouderdieren",4.8600000000000003]
["Vleeskuikenouderdieren",15]
["Vleeskuikens",6.1761991606700253]
["Vleeskalkoenen hennen",12.35]
["Vleeskalkoenen hanen",24.84]
["Vleeseenden",12.56]
[]
[]
["Debiet door droogtunnel",null,"rekenwaarde","in overzicht"]
["Opfok leghennen","bandendroger (30%)",0.80700000000000005,0.85,"Deze waarden staan (nog) niet genoemd in de beschrijvingen."]
[null,"platendroger (55%)",0.83799999999999997,0.85]
["Leghennen","bandendroger (30%)",1.835,2]
[null,"platendroger (55%)",1.899,2]
[]
[]
["Debiet door warmtewisselaar"]
["ZONDER FILTERS"]
["Reductiepercentage op stalniveau:",0.13,null,0.31,null,0.37,null,0.5]
[null,"rekenwaarde","in overzicht","rekenwaarde","in overzicht","rekenwaarde","in overzicht","rekenwaarde","in overzicht"]
["Opfok leghennen",0.17499999999999999,0.2,0.434,0.4,0.52700000000000002,0.55000000000000004,0.745,0.8]
["Leghennen",0.439,0.4,1.048,1,1.252,1.25,1.708,1.8]
["Opfok vleeskuikenouderdieren",0.42,0.4,1.0469999999999999,1,1.2789999999999999,1.3,1.84,1.9]
["Vleeskuikenouderdieren",0.59499999999999997,0.6,1.4850000000000001,1.5,1.845,1.85,2.8450000000000002,2.9]
["Vleeskuikens",0.35699999999999998,0.35,1.0009999999999999,1,1.27,1.3,1.9750000000000001,2]
["Vleeskalkoenen hennen",1.2450000000000001,1.1000000000000001,3.17,3,3.86,3.85,5.5,5.6]
["Vleeskalkoenen hanen",2.6949999999999998,2.5,6.75,6.2,8.1750000000000007,8.1999999999999993,11.5,11.7]
["Vleeseenden",0.88,0.8,2.4849999999999999,2.2999999999999998,3.12,3.15,4.7300000000000004,4.8]
[null,null,{"$f":"C32/B32","v":0.88353413654618473},null,{"$f":"E32/D32","v":0.94637223974763407},null,{"$f":"G32/F32","v":0.99740932642487057},null,{"$f":"I32/H32","v":1.0181818181818181}]
["MET FILTERS"]
["Reductiepercentage op stalniveau:",0.13,null,0.31,null,0.37,null,0.5]
[null,"rekenwaarde","in overzicht","rekenwaarde","in overzicht","rekenwaarde","in overzicht","rekenwaarde","in overzicht"]
["Opfok leghennen",0.14099999999999999,0.15,0.34599999999999997,0.35,0.41799999999999998,0.4,0.58099999999999996,0.6]
["Leghennen",0.35499999999999998,0.35,0.84699999999999998,0.85,1.012,1,1.369,1.4]
["Opfok vleeskuikenouderdieren",0.33700000000000002,0.35,0.83099999999999996,0.85,1.008,1.1000000000000001,1.417,1.45]
["Vleeskuikenouderdieren",0.48,0.5,1.161,1.2,1.4219999999999999,1.5,2.0750000000000002,2.1]
["Vleeskuikens",0.28499999999999998,0.3,0.76500000000000001,0.75,0.95799999999999996,1,1.4350000000000001,1.45]
["Vleeskalkoenen hennen",0.999,0.9,2.5099999999999998,2.5,3.0449999999999999,3,4.2699999999999996,4.3]
["Vleeskalkoenen hanen",2.165,2.2000000000000002,5.3579999999999997,5.3,6.4749999999999996,6.2,9.01,9]
["Vleeseenden",0.69199999999999995,0.7,1.91,1.9,2.375,2.2999999999999998,3.51,3.6]

{"sheet":"Reductietechnieken","index":3,"n_rows":55,"n_cols":29,"rows_kept":55,"cut":false,"hidden":true,"merged":[]}
[null,"serie alles\nvoetnoot 2",null,null,"A","B","C","D","E","F","G","H","I","J","K","L","M","N","O","P","Q","R","S","T","U","V","W","X","Y"]
[null,null,null,null,{"$f":"+D3","v":0.65},{"$f":"+D4","v":0.4},{"$f":"+D5","v":0.25},{"$f":"+D6","v":0.19999999999999996},{"$f":"+D8","v":0.44999999999999996},{"$f":"+D9","v":0.7},{"$f":"+D10","v":0.45999999999999996},{"$f":"+D11","v":0.51},{"$f":"+D12","v":0.66999999999999993},{"$f":"+D13","v":0.6},{"$f":"+D14","v":0.43000000000000005},{"$f":"+D15","v":0.69},{"$f":"+D16","v":0.69},{"$f":"+D17","v":0.87},{"$f":"+D18","v":0.87},{"$f":"+D19","v":0.85},{"$f":"+D20","v":0.7},{"$f":"+D21","v":0.8},{"$f":"+D22","v":0.63},{"$f":"+D23","v":0.63},{"$f":"+D24","v":0.5},{"$f":"+D25","v":0.5}]
["A","chemische wasser",0.35,{"$f":"+(1-C3)","v":0.65},{"$f":"1-($D$3*E2)","v":0.5774999999999999},{"$f":"1-($D$3*F2)","v":0.74},0.83750000000000002,0.87,0.70750000000000002,0.54500000000000004,0.70100000000000007,0.66849999999999998,0.5645,0.61,0.72049999999999992,0.5515000000000001,0.5515000000000001,0.4345,0.4345,0.44750000000000001,0.54500000000000004,0.48,0.59050000000000002,0.59050000000000002,0.67500000000000004,0.67500000000000004]
["B","bio wasser 60%",0.6,{"$f":"+(1-C4)","v":0.4},{"$f":"1-+$D$4*E2","v":0.74},{"$f":"1-+$D$4*F2","v":0.84},0.9,0.92,0.82000000000000006,0.72,0.81600000000000006,0.79600000000000004,0.73199999999999998,0.76,0.82799999999999996,0.72399999999999998,0.72399999999999998,0.65199999999999991,0.65199999999999991,0.65999999999999992,0.72,0.67999999999999994,0.748,0.748,0.8,0.8]
["C","bio wasser 75%",0.75,0.25,{"$f":"1-+$D$5*E2","v":0.83750000000000002},{"$f":"1-+$D$5*F2","v":0.9},0.9375,0.95,0.88749999999999996,0.82499999999999996,0.88500000000000001,0.87250000000000005,0.83250000000000002,0.85,0.89249999999999996,0.82750000000000001,0.82750000000000001,0.78249999999999997,0.78249999999999997,0.78749999999999998,0.82499999999999996,0.8,0.84250000000000003,0.84250000000000003,0.875,0.875]
["D","biofilter",0.8,0.19999999999999996,{"$f":"1-+$D$6*E2","v":0.87},{"$f":"1-+$D$6*F2","v":0.92},0.95,0.96,0.91,0.8600000000000001,0.90800000000000003,0.89800000000000002,0.8660000000000001,0.88,0.91400000000000003,0.8620000000000001,0.8620000000000001,0.82600000000000007,0.82600000000000007,0.83000000000000007,0.8600000000000001,0.84000000000000008,0.874,0.874,0.9,0.9]
[null,"GEEN DROOGTUNNEL"]
["E","DROOGTUNNEL (PLATEN) 55%",0.55000000000000004,0.44999999999999996,{"$f":"1-+$D$8*E2","v":0.70750000000000002},{"$f":"1-+$D$8*F2","v":0.82000000000000006},0.88749999999999996,0.91,0.7975000000000001,0.68500000000000005,0.79300000000000004,0.77049999999999996,0.69850000000000012,0.73,0.80649999999999999,0.6895,0.6895,0.60850000000000004,0.60850000000000004,0.61750000000000005,0.68500000000000005,0.64,0.71650000000000003,0.71650000000000003,0.77500000000000002,0.77500000000000002]
["F","DROOGTUNNEL (BANDEN) 30%",0.3,0.7,{"$f":"1-+$D$9*E2","v":0.54500000000000004},{"$f":"1-+$D$9*F2","v":0.72},0.82499999999999996,0.8600000000000001,0.68500000000000005,0.51,0.67800000000000005,0.64300000000000002,0.53100000000000014,0.58000000000000007,0.69900000000000007,0.51700000000000013,0.51700000000000013,0.39100000000000001,0.39100000000000001,0.40500000000000003,0.51,0.44000000000000006,0.55900000000000005,0.55900000000000005,0.65,0.65]
["G","OLIEFILM",0.54,0.45999999999999996,{"$f":"1-+$D$10*E2","v":0.70100000000000007},{"$f":"1-+$D$10*F2","v":0.81600000000000006},0.88500000000000001,0.90800000000000003,0.79300000000000004,0.67800000000000005,0.78839999999999999,0.76540000000000008,0.69180000000000008,0.72399999999999998,0.80220000000000002,0.6826000000000001,0.6826000000000001,0.59980000000000011,0.59980000000000011,0.60899999999999999,0.67800000000000005,0.63200000000000001,0.71019999999999994,0.71019999999999994,0.77,0.77]
["H","negatieve ionisatie",0.49,0.51,{"$f":"1-+$D$11*E2","v":0.66849999999999998},{"$f":"1-+$D$11*F2","v":0.79600000000000004},0.87250000000000005,0.89800000000000002,0.77049999999999996,0.64300000000000002,0.76540000000000008,0.7399,0.65830000000000011,0.69399999999999995,0.78069999999999995,0.64810000000000001,0.64810000000000001,0.55630000000000002,0.55630000000000002,0.5665,0.64300000000000002,0.59199999999999997,0.67869999999999997,0.67869999999999997,0.745,0.745]
["I","water wasser",0.33,0.66999999999999993,{"$f":"1-+$D$12*E2","v":0.5645},{"$f":"1-+$D$12*F2","v":0.73199999999999998},0.83250000000000002,0.8660000000000001,0.69850000000000012,0.53100000000000014,0.69180000000000008,0.65830000000000011,0.55110000000000015,0.59800000000000009,0.71189999999999998,0.53770000000000007,0.53770000000000007,0.41710000000000003,0.41710000000000003,0.4305000000000001,0.53100000000000014,0.46400000000000008,0.57790000000000008,0.57790000000000008,0.66500000000000004,0.66500000000000004]
["J","droogfilter",0.4,0.6,{"$f":"1-+$D$13*E2","v":0.61},{"$f":"1-+$D$13*F2","v":0.76},0.85,0.88,0.73,0.58000000000000007,0.72399999999999998,0.69399999999999995,0.59800000000000009,0.64,0.74199999999999999,0.58600000000000008,0.58600000000000008,0.47799999999999998,0.47799999999999998,0.49,0.58000000000000007,0.52,0.622,0.622,0.7,0.7]
["K","ionisatiefilter",0.56999999999999995,0.43000000000000005,{"$f":"1-+$D$14*E2","v":0.72049999999999992},{"$f":"1-+$D$14*F2","v":0.82799999999999996},0.89249999999999996,0.91400000000000003,0.80649999999999999,0.69900000000000007,0.80220000000000002,0.78069999999999995,0.71189999999999998,0.74199999999999999,0.81509999999999994,0.70330000000000004,0.70330000000000004,0.6258999999999999,0.6258999999999999,0.63449999999999995,0.69900000000000007,0.65599999999999992,0.72909999999999997,0.72909999999999997,0.78499999999999992,0.78499999999999992]
["L","warmtewisselaar zonder stof 31%",0.31,0.69,{"$f":"1-+$D$15*E2","v":0.5515000000000001},{"$f":"1-+$D$15*F2","v":0.72399999999999998},0.82750000000000001,0.8620000000000001,0.6895,0.51700000000000013,0.6826000000000001,0.64810000000000001,0.53770000000000007,0.58600000000000008,0.70330000000000004,0.52390000000000003,0.52390000000000003,0.39970000000000006,0.39970000000000006,0.41350000000000009,0.51700000000000013,0.44800000000000006,0.56530000000000002,0.56530000000000002,0.65500000000000003,0.65500000000000003]
["M","warmtewisselaar met stof 31%",0.31,0.69,{"$f":"1-+$D$16*E2","v":0.5515000000000001},{"$f":"1-+$D$16*F2","v":0.72399999999999998},0.82750000000000001,0.8620000000000001,0.6895,0.51700000000000013,0.6826000000000001,0.64810000000000001,0.53770000000000007,0.58600000000000008,0.70330000000000004,0.52390000000000003,0.52390000000000003,0.39970000000000006,0.39970000000000006,0.41350000000000009,0.51700000000000013,0.44800000000000006,0.56530000000000002,0.56530000000000002,0.65500000000000003,0.65500000000000003]
["N","warmtewisselaar zonder stof 13%",0.13,0.87,{"$f":"1-+$D$17*E2","v":0.4345},{"$f":"1-+$D$17*F2","v":0.65199999999999991},0.78249999999999997,0.82600000000000007,0.60850000000000004,0.39100000000000001,0.59980000000000011,0.55630000000000002,0.41710000000000003,0.47799999999999998,0.6258999999999999,0.39970000000000006,0.39970000000000006,0.24309999999999998,0.24309999999999998,0.26050000000000006,0.39100000000000001,0.30399999999999994,0.45189999999999997,0.45189999999999997,0.56499999999999995,0.56499999999999995]
["O","warmtewisselaar met stof 13%",0.13,0.87,{"$f":"1-+$D$18*E2","v":0.4345},{"$f":"1-+$D$18*F2","v":0.65199999999999991},0.78249999999999997,0.82600000000000007,0.60850000000000004,0.39100000000000001,0.59980000000000011,0.55630000000000002,0.41710000000000003,0.47799999999999998,0.6258999999999999,0.39970000000000006,0.39970000000000006,0.24309999999999998,0.24309999999999998,0.26050000000000006,0.39100000000000001,0.30399999999999994,0.45189999999999997,0.45189999999999997,0.56499999999999995,0.56499999999999995]
["P","oliefim",0.15,0.85,{"$f":"1-+$D$19*E2","v":0.44750000000000001},{"$f":"1-+$D$19*F2","v":0.65999999999999992},0.78749999999999998,0.83000000000000007,0.61750000000000005,0.40500000000000003,0.60899999999999999,0.5665,0.4305000000000001,0.49,0.63449999999999995,0.41350000000000009,0.41350000000000009,0.26050000000000006,0.26050000000000006,0.27750000000000008,0.40500000000000003,0.31999999999999995,0.46450000000000002,0.46450000000000002,0.57499999999999996,0.57499999999999996]
["Q","oliefilm",0.3,0.7,{"$f":"1-+$D$20*E2","v":0.54500000000000004},{"$f":"1-+$D$20*F2","v":0.72},0.82499999999999996,0.8600000000000001,0.68500000000000005,0.51,0.67800000000000005,0.64300000000000002,0.53100000000000014,0.58000000000000007,0.69900000000000007,0.51700000000000013,0.51700000000000013,0.39100000000000001,0.39100000000000001,0.40500000000000003,0.51,0.44000000000000006,0.55900000000000005,0.55900000000000005,0.65,0.65]
["R","strooiselschuif",0.2,0.8,{"$f":"1-+$D$21*E2","v":0.48},{"$f":"1-+$D$21*F2","v":0.67999999999999994},0.8,0.84000000000000008,0.64,0.44000000000000006,0.63200000000000001,0.59199999999999997,0.46400000000000008,0.52,0.65599999999999992,0.44800000000000006,0.44800000000000006,0.30399999999999994,0.30399999999999994,0.31999999999999995,0.44000000000000006,0.35999999999999988,0.496,0.496,0.6,0.6]
["S","warmtewisselaar zonder stof 37%",0.37,0.63,{"$f":"1-+$D$22*E2","v":0.59050000000000002},{"$f":"1-+$D$22*F2","v":0.748},0.84250000000000003,0.874,0.71650000000000003,0.55900000000000005,0.71019999999999994,0.67869999999999997,0.57790000000000008,0.622,0.72909999999999997,0.56530000000000002,0.56530000000000002,0.45189999999999997,0.45189999999999997,0.46450000000000002,0.55900000000000005,0.496,0.60309999999999997,0.60309999999999997,0.68500000000000005,0.68500000000000005]
["T","warmtewisselaar met stof 37%",0.37,0.63,{"$f":"1-+$D$23*E2","v":0.59050000000000002},{"$f":"1-+$D$23*F2","v":0.748},0.84250000000000003,0.874,0.71650000000000003,0.55900000000000005,0.71019999999999994,0.67869999999999997,0.57790000000000008,0.622,0.72909999999999997,0.56530000000000002,0.56530000000000002,0.45189999999999997,0.45189999999999997,0.46450000000000002,0.55900000000000005,0.496,0.60309999999999997,0.60309999999999997,0.68500000000000005,0.68500000000000005]
["U","warmtewisselaar zonder stof 50%",0.5,0.5,{"$f":"1-+$D$24*E2","v":0.67500000000000004},{"$f":"1-+$D$24*F2","v":0.8},0.875,0.9,0.77500000000000002,0.65,0.77,0.745,0.66500000000000004,0.7,0.78499999999999992,0.65500000000000003,0.65500000000000003,0.56499999999999995,0.56499999999999995,0.57499999999999996,0.65,0.6,0.68500000000000005,0.68500000000000005,0.75,0.75]
["V","warmtewisselaar met stof 50%",0.5,0.5,{"$f":"1-+$D$25*E2","v":0.67500000000000004},{"$f":"1-+$D$25*F2","v":0.8},0.875,0.9,0.77500000000000002,0.65,0.77,0.745,0.66500000000000004,0.7,0.78499999999999992,0.65500000000000003,0.65500000000000003,0.56499999999999995,0.56499999999999995,0.57499999999999996,0.65,0.6,0.68500000000000005,0.68500000000000005,0.75,0.75]
[]
[]
[null,"percentages berekend door 1 x (1-%)x(1-%)"]
[null,"rood","afwijkend"]
[null,"paars"," 1% afwijkend"]
[null,"blauw","kan niet gecombineerd"]
[null,"GEEN TECHNIEK"]
[null,"CHEMISCHE WASSER 35%","ALLE VENTILATIELUCHT"]
[null,"CHEMISCHE WASSER 70%"]
[null,"BIO WASSER 60%","DEEL VENTILATIELUCHT"]
[null,"BIO WASSER 75%"]
[null,"BIOFILTER","GEEN TECHNIEK"]
[null,"WATERLUCHTWASSYSTEEM","WATERLUCHTWASSYSTEEM"]
[null,"DROOGFILTERWAND","DROOGFILTERWAND"]
[null,"IONISATIEFILTER","IONISATIEFILTER"]
[null,"LUCHTCONDITIONERINGSUNIT"]
[null,"WARMTEWISSELAAR 13%","ALLE VENTILATIELUCHT"]
[null,"WARMTEWISSELAAR 31%","75% VENTILATIE"]
[null,"WARMTEWISSELAAR 37%","50% VENTILATIE"]
[null,"WARMTEWISSELAAR 50%","25% VENTILATIE"]
[null,"ZONDER STOFFILTER"]
[null,"MET STOFFILTER"]
[]
[null,"PARALLEL GESCHAKELD MET WARMTEWISSELAAR"]
[null,"SERIE GESCHAKELD MET WARMTEWISSELAAR"]
[]
[null,"JA","JA"]
[null,"NEE","NEE"]
[null,null,{"$f":"IF(VLEESEENDEN!$L$20=\"geen techniek\",\"GEEN TECHNIEK\",\"JA\")","v":"GEEN TECHNIEK"}]
[null,null,"NEE"]

{"sheet":"eenden","index":4,"n_rows":170,"n_cols":42,"rows_kept":170,"cut":false,"hidden":true,"merged":[]}
["Wk","Lft","Debiet","WW","WW","Hoofd debiet WW 0,35","Hoofd debiet WW","PM10","PM10 em. norm","PM10 em. +WW +50%","PM10 em. +WW +60%","PM10 em. +WW +70%","PM10 em. +WW +70%","PM10 em. +WW +77%","PM10 em. +WW +80%","PM10 em. +WW +99%",null,"Wk","Lft","gew",null,null,null,null,null,null,null,null,null,null,null,null,null,null,null,null,null,null,"Wk","Lft","gew hen","gew haan"]
[null,null,null,0.35,4.8,null,{"$f":"+E2","v":4.8},null,null,null,null,null,{"$f":"+E2","v":4.8},{"$f":"+M2","v":4.8},{"$f":"+N2","v":4.8},{"$f":"+E2","v":4.8}]
[1,1,{"$f":"0.000000000384*T3^3-0.000000342064*T3^2+0.001060852819*T3+0.088327034395","v":0.16612888582000002},{"$f":"C3","v":0.16612888582000002},{"$f":"IF(C3<$E$2,C3,$E$2)","v":0.16612888582000002},{"$f":"C3-D3","v":0},{"$f":"C3-E3","v":0},0.33639999999999998,{"$f":"(H3/1000)*C3*24*365","v":0.48955923298306853},{"$f":"$H3/1000*$F3*24*365+($H3/1000*$D3*24*365)*0.5","v":0.24477961649153426},{"$f":"$H3/1000*$F3*24*365+($H3/1000*$D3*24*365)*0.4","v":0.19582369319322743},{"$f":"$H3/1000*$F3*24*365+($H3/1000*$D3*24*365)*0.3","v":0.14686776989492056},{"$f":"$H3/1000*$G3*24*365+($H3/1000*$E3*24*365)*0.3","v":0.14686776989492056},{"$f":"$H3/1000*$G3*24*365+($H3/1000*$E3*24*365)*0.23","v":0.11259862358610577},{"$f":"$H3/1000*$G3*24*365+($H3/1000*$E3*24*365)*0.2","v":9.7911846596613714E-2},{"$f":"$H3/1000*$G3*24*365+($H3/1000*$E3*24*365)*0.01","v":4.8955923298306852E-3},null,1,1,75,null,null,null,null,null,null,null,null,null,null,null,null,null,null,null,null,null,null,1,1,0.06,0.06]
[1,2,{"$f":"0.000000000384*T4^3-0.000000342064*T4^2+0.001060852819*T4+0.088327034395","v":0.19137567629499999},0.19137567629499999,{"$f":"IF(C4<$E$2,C4,$E$2)","v":0.19137567629499999},0,{"$f":"C4-E4","v":0},0.48144723946899115,0.80712266963075363,{"$f":"$H4/1000*$F4*24*365+($H4/1000*$D4*24*365)*0.5","v":0.40356133481537682},{"$f":"$H4/1000*$F4*24*365+($H4/1000*$D4*24*365)*0.4","v":0.3228490678523015},{"$f":"$H4/1000*$F4*24*365+($H4/1000*$D4*24*365)*0.3","v":0.24213680088922607},{"$f":"$H4/1000*$G4*24*365+($H4/1000*$E4*24*365)*0.3","v":0.24213680088922607},{"$f":"$H4/1000*$G4*24*365+($H4/1000*$E4*24*365)*0.23","v":0.18563821401507336},{"$f":"$H4/1000*$G4*24*365+($H4/1000*$E4*24*365)*0.2","v":0.16142453392615075},{"$f":"$H4/1000*$G4*24*365+($H4/1000*$E4*24*365)*0.01","v":8.0712266963075367E-3},null,1,2,100,null,null,null,null,null,null,null,null,null,null,null,null,null,null,null,null,null,null,1,2,7.0000000000000007E-2,7.0000000000000007E-2]
[1,3,{"$f":"0.000000000384*T5^3-0.000000342064*T5^2+0.001060852819*T5+0.088327034395","v":0.21633888676999999},0.21633888676999999,0.21633888676999999,0,0,0.59377662936378461,1.1252831008826514,0.56264155044132569,0.45011324035306055,0.33758493026479541,0.33758493026479541,0.25881511320300982,0.22505662017653028,1.1252831008826514E-2,null,1,3,125,null,null,null,null,null,null,null,null,null,null,null,null,null,null,null,null,null,null,1,3,0.09,0.09]
[1,4,{"$f":"0.000000000384*T6^3-0.000000342064*T6^2+0.001060852819*T6+0.088327034395","v":0.24105451724499999},0.24105451724499999,0.24105451724499999,0,0,0.68903520925181982,1.4549926356436036,0.7274963178218018,0.58199705425744142,0.43649779069308109,0.43649779069308109,0.33464830619802882,0.29099852712872071,1.4549926356436036E-2,null,1,4,150,null,null,null,null,null,null,null,null,null,null,null,null,null,null,null,null,null,null,1,4,0.1,0.1]
[1,5,0.26555856771999997,0.26555856771999997,0.26555856771999997,0,0,0.77332717794733563,1.7989856419306816,0.89949282096534078,0.71959425677227262,0.53969569257920447,0.53969569257920447,0.41376669764405677,0.35979712838613631,1.7989856419306817E-2,null,1,5,175,null,null,null,null,null,null,null,null,null,null,null,null,null,null,null,null,null,null,1,5,0.12,0.12]
[1,6,0.289887038195,0.289887038195,0.289887038195,0,0,0.84979821363970398,2.1579864680070409,1.0789932340035204,0.86319458720281639,0.64739594040211224,0.64739594040211224,0.49633688764161943,0.43159729360140819,2.157986468007041E-2,null,1,6,200,null,null,null,null,null,null,null,null,null,null,null,null,null,null,null,null,null,null,1,6,0.14000000000000001,0.14000000000000001]
[1,7,0.31407592867,0.31407592867,0.31407592867,0,0,0.92032388517371078,2.5320918312788931,1.2660459156394466,1.0128367325115573,0.75962754938366794,0.75962754938366794,0.58238112119414542,0.50641836625577863,2.5320918312788931E-2,null,1,7,225,null,null,null,null,null,null,null,null,null,null,null,null,null,null,null,null,null,null,1,7,0.16,0.16]
[2,8,0.33816123914499996,0.33816123914499996,0.33816123914499996,0,0,0.98612990306547954,2.9212051714121965,1.4606025857060982,1.1684820685648787,0.8763615514236589,0.8763615514236589,0.67187718942480523,0.58424103428243934,2.9212051714121966E-2,null,2,8,250,null,null,null,null,null,null,null,null,null,null,null,null,null,null,null,null,null,null,2,8,0.18,0.18]
[2,9,0.38616512009499998,0.38616512009499998,0.38616512009499998,0,0,1.0480698144429763,3.5454173304778909,1.7727086652389454,1.4181669321911565,1.0636251991433672,1.0636251991433672,0.81544598600991491,0.70908346609557826,3.5454173304778909E-2,null,2,9,300,null,null,null,null,null,null,null,null,null,null,null,null,null,null,null,null,null,null,2,9,0.2,0.21]
[2,10,0.43418668104499997,0.35,0.43418668104499997,8.4186681044999989E-2,0,1.1067664537131101,4.2095588982916459,2.5128859247494479,2.1735513300410085,1.8342167353325687,1.2628676694874936,0.9681985466070786,0.8419117796583292,4.209558898291646E-2,null,2,10,350,null,null,null,null,null,null,null,null,null,null,null,null,null,null,null,null,null,null,2,10,0.22,0.24]
[2,11,0.48251392199499998,0.35,0.48251392199499998,0.13251392199500001,0,1.162690928086719,4.9144875436651727,3.1320823509082327,2.7756013123568444,2.4191202738054565,1.4743462630995519,1.1303321350429898,0.98289750873303461,4.9144875436651726E-2,null,2,11,400,null,null,null,null,null,null,null,null,null,null,null,null,null,null,null,null,null,null,2,11,0.25,0.27]
[2,12,0.53143484294499999,0.35,0.53143484294499999,0.18143484294500001,0,1.2162098812797726,5.6619060514755999,3.7974563034737088,3.4245663538733306,3.0516764042729521,1.6985718154426799,1.3022383918393881,1.1323812102951201,5.6619060514756001E-2,null,2,12,450,null,null,null,null,null,null,null,null,null,null,null,null,null,null,null,null,null,null,2,12,0.28000000000000003,0.31]
[2,13,0.58123744389499998,0.35,0.58123744389499998,0.23123744389500001,0,1.2676153481444508,6.4542410220265456,4.5109866933211045,4.1223358275800157,3.733684961838927,1.9362723066079637,1.4844754350661056,1.2908482044053091,6.4542410220265453E-2,null,2,13,500,null,null,null,null,null,null,null,null,null,null,null,null,null,null,null,null,null,null,2,13,0.31,0.35]
[2,14,0.63220972484499993,0.35,0.63220972484499993,0.28220972484499995,0,1.3171444528366822,7.2945530212748126,5.2753705750761792,4.8715340858364531,4.4676975965967261,2.1883659063824439,1.677747194893207,1.4589106042549627,7.2945530212748133E-2,null,2,14,550,null,null,null,null,null,null,null,null,null,null,null,null,null,null,null,null,null,null,2,14,0.34,0.39]
[3,15,0.68463968579500001,0.35,0.68463968579500001,0.33463968579500003,0,1.3649928808471363,8.1864678822070154,6.093933795868355,5.6754269786006235,5.2569201613328911,2.4559403646621045,1.8828876129076135,1.6372935764414032,8.1864678822070158E-2,null,3,15,600,null,null,null,null,null,null,null,null,null,null,null,null,null,null,null,null,null,null,3,15,0.38,0.43]
[3,16,0.77793117900999997,0.35,0.77793117900999997,0.42793117901,0,1.4113243745205084,9.6177199354138985,7.4541596692739605,7.0214476160459727,6.588735562817984,2.8853159806241693,2.2120755851451968,1.9235439870827797,9.6177199354138987E-2,null,3,16,685,null,null,null,null,null,null,null,null,null,null,null,null,null,null,null,null,null,null,3,16,0.41,0.48]
[3,17,0.87768263142499992,0.35,0.87768263142499992,0.52768263142499994,0,1.4562775995930568,11.196590107897979,8.9641165477218241,8.5176218356865938,8.0711271236513618,3.3589770323693937,2.5752157248165353,2.2393180215795958,0.11196590107897979,null,3,17,770,null,null,null,null,null,null,null,null,null,null,null,null,null,null,null,null,null,null,3,17,0.45,0.52]
[3,18,0.98530898703999992,0.35,0.98530898703999992,0.63530898703999994,0,1.4999712215646515,12.946711694202998,10.647255811544388,10.187364635012667,9.7274734584809437,3.8840135082608991,2.9777436896666898,2.5893423388405998,0.12946711694202998,null,3,18,855,null,null,null,null,null,null,null,null,null,null,null,null,null,null,null,null,null,null,3,18,0.5,0.57999999999999996]
[3,19,1.102225189855,0.35,1.102225189855,0.75222518985499998,0,1.5425077315602014,14.893672084900514,12.529007732418727,12.056074861922369,11.583141991426011,4.4681016254701538,3.4255445795271182,2.9787344169801031,0.14893672084900514,null,3,19,940,null,null,null,null,null,null,null,null,null,null,null,null,null,null,null,null,null,null,3,19,0.54,0.63]
[3,20,1.2298461838699999,0.35,1.2298461838699999,0.87984618386999991,0,1.5839763789448924,17.064894391673825,14.636658602751307,14.151011444966802,13.665364287182298,5.1194683175021476,3.9249257100849797,3.4129788783347652,0.17064894391673824,null,3,20,1025,null,null,null,null,null,null,null,null,null,null,null,null,null,null,null,null,null,null,3,20,0.59,0.69]
[3,21,1.3695869130849998,0.35,1.3695869130849998,1.0195869130849999,0,1.6244554532147113,19.489536463404892,16.999246253626744,16.501188211671113,16.003130169715483,5.8468609390214672,4.4825933865831251,3.8979072926809786,0.19489536463404894,null,3,21,1110,null,null,null,null,null,null,null,null,null,null,null,null,null,null,null,null,null,null,3,21,0.64,0.75]
[4,22,1.5323302571949999,0.35,1.5323302571949999,1.1823302571949998,0,1.6640140834809463,22.336415565804195,19.785481975827899,19.275295257832642,18.765108539837385,6.7009246697412586,5.1373755801349654,4.467283113160839,0.22336415565804196,null,4,22,1200,null,null,null,null,null,null,null,null,null,null,null,null,null,null,null,null,null,null,4,22,0.69,0.82]
[4,23,1.70147874241,0.35,1.70147874241,1.3514787424099999,0,1.7027136746952953,25.378868627886579,22.768608564578692,22.246556551917116,21.724504539255538,7.6136605883659731,5.837139784413913,5.0757737255773163,0.2537886862788658,null,4,23,1285,null,null,null,null,null,null,null,null,null,null,null,null,null,null,null,null,null,null,4,23,0.74,0.89]
[4,24,1.8870750268250001,0.35,1.8870750268250001,1.5370750268250002,0,1.7406090664597387,28.773620730844627,26.105267031961848,25.571596292185291,25.037925552408737,8.632086219253388,6.6179327680942643,5.7547241461689254,0.28773620730844629,null,4,24,1370,null,null,null,null,null,null,null,null,null,null,null,null,null,null,null,null,null,null,4,24,0.8,0.96]
[4,25,2.09053405444,0.35,2.09053405444,1.7405340544399999,0,1.7777494772651317,32.55606540497444,29.830775456326986,29.285717466597497,28.740659476868007,9.7668196214923313,7.4878950431441211,6.5112130809948887,0.32556065404974438,null,4,25,1455,null,null,null,null,null,null,null,null,null,null,null,null,null,null,null,null,null,null,4,25,0.86,1.03]
[4,26,2.3132707692550003,0.35,2.3132707692550003,1.9632707692550002,0,1.8141792808343342,36.762986008749003,33.981849171229968,33.425621803726159,32.86939443622235,11.028895802624701,8.4554867820122706,7.3525972017498011,0.36762986008749005,null,4,26,1540,null,null,null,null,null,null,null,null,null,null,null,null,null,null,null,null,null,null,4,26,0.92,1.1100000000000001]
[4,27,2.55670011527,0.35,2.55670011527,2.2067001152699999,0,1.8499386496964256,41.432508024150415,38.596552074165793,38.029360884168867,37.462169694171941,12.429752407245124,9.529476845554596,8.2865016048300841,0.41432508024150416,null,4,27,1625,null,null,null,null,null,null,null,null,null,null,null,null,null,null,null,null,null,null,4,27,0.99,1.19]
[4,28,2.8222370364850002,0.35,2.8222370364850002,2.4722370364850002,0,1.8850640927470739,46.604055840601376,43.714252586420116,43.136291935583863,42.558331284747609,13.981216752180412,10.718932843338317,9.3208111681202759,0.46604055840601377,null,4,28,1710,null,null,null,null,null,null,null,null,null,null,null,null,null,null,null,null,null,null,4,28,1.05,1.27]
[5,29,3.1290627485950004,0.35,3.1290627485950004,2.7790627485950004,0,1.9195889074002137,52.617063890596754,49.674334095552219,49.085788136543314,48.49724217753441,15.785119167179026,12.101924694837253,10.523412778119351,0.52617063890596749,null,5,29,1800,null,null,null,null,null,null,null,null,null,null,null,null,null,null,null,null,null,null,5,29,1.1200000000000001,1.36]
[5,30,3.44457062581,0.35,3.44457062581,3.0945706258099999,0,1.9535435623623054,58.947080435303981,55.952298154202573,55.353341697982287,54.754385241762009,17.684124130591194,13.557828500119916,11.789416087060797,0.58947080435303978,null,5,30,1885,null,null,null,null,null,null,null,null,null,null,null,null,null,null,null,null,null,null,5,30,1.19,1.45]
[5,31,3.7865141422250002,0.35,3.7865141422250002,3.4365141422250001,0,1.9869560236198514,65.907060850721706,62.861057266512461,62.251856549670613,61.642655832828765,19.772118255216512,15.158623995665993,13.181412170144341,0.6590706085072171,null,5,31,1970,null,null,null,null,null,null,null,null,null,null,null,null,null,null,null,null,null,null,5,31,1.27,1.54]
[5,32,4.1563082418400006,0.35,4.1563082418400006,3.8063082418400005,0,2.0198520336153374,73.541318254407372,70.444885086875047,69.825598453368585,69.206311819862123,22.062395476322212,16.914503198513696,14.708263650881475,0.73541318254407373,null,5,32,2055,null,null,null,null,null,null,null,null,null,null,null,null,null,null,null,null,null,null,5,32,1.34,1.64]
[5,33,4.5553678686550008,0.35,4.5553678686550008,{"$f":"C35-D35","v":4.2053678686550011},0,2.0522553515790203,{"$f":"(H35/1000)*C35*24*365","v":81.895296040879074},78.749188586908446,78.119967096114308,77.490745605320186,24.568588812263723,18.835918089402188,16.379059208175814,0.81895296040879073,null,5,33,2140,null,null,null,null,null,null,null,null,null,null,null,null,null,null,null,null,null,null,5,33,1.42,1.74]
[5,34,4.9851079666700002,0.35,4.8,4.6351079666700006,0.1851079666700004,2.0841879614286749,91.015541612468752,87.820481467598597,87.181469438624575,86.542457409650538,29.670386830961718,23.535871352811014,20.906793290746428,4.2559655643373695,null,5,34,2225,null,null,null,null,null,null,null,null,null,null,null,null,null,null,null,null,null,null,5,34,1.5,1.84]
[5,35,5.4469434798850012,0.35,4.8,5.0969434798850015,0.64694347988500134,2.1156702524343451,100.94968187485506,97.706359377873213,97.057694878476852,96.409030379080477,38.677889932803524,32.450710738598367,29.781919655367584,12.879576128239311,null,5,35,2310,null,null,null,null,null,null,null,null,null,null,null,null,null,null,null,null,null,null,5,35,1.59,1.95]
[6,36,5.9725011599950006,0.35,4.8,5.622501159995001,1.1725011599950008,2.1467211768883234,112.31454173976576,109.02361817559598,108.36543346276203,107.70724874992806,49.128809307705623,42.810236064499605,40.102276103125604,22.951863014423559,null,6,36,2400,null,null,null,null,null,null,null,null,null,null,null,null,null,null,null,null,null,null,6,36,1.67,2.06]
[6,37,6.4147186689440003,0.35,4.8,6.0647186689440007,1.6147186689440005,2.1773583882614829,122.35215955894571,119.01426914974087,118.34669106789991,117.67911298605894,58.26466370221253,51.855914116539218,{"$f":"$H39/1000*$G39*24*365+($H39/1000*$E39*24*365)*0.2","v":49.109307151250647},31.714129704423076,null,6,37,2471,null,null,null,null,null,null,null,null,null,null,null,null,null,null,null,null,null,null,6,37,1.76,2.17]
[6,38,6.8821868291890009,0.35,4.8,6.5321868291890013,2.0821868291890011,2.2075983627206743,133.09159433424554,129.70734604419476,129.03049638618461,128.35364672817445,68.114027165270315,61.616270448372795,58.831517569702427,41.19474933812343,null,6,38,2542,null,null,null,null,null,null,null,null,null,null,null,null,null,null,null,null,null,null,6,38,1.85,2.2799999999999998]
[6,39,7.3757302676740002,0.35,4.8,7.0257302676740006,2.5757302676740004,2.23745650639421,144.56519092890727,141.13517010460495,140.44916593974449,139.76316177488403,78.708791102302683,72.123151119642216,69.300733984216293,51.425425459852185,null,6,39,2613,null,null,null,null,null,null,null,null,null,null,null,null,null,null,null,null,null,null,6,39,1.94,2.4]
[6,40,7.8961736113430012,0.35,4.8,7.5461736113430016,3.0961736113430014,2.2669472503778456,156.80583133704346,153.33060120221424,152.63555517524838,151.94050914828253,90.081412748322094,83.408970889449961,80.549352949933336,62.438439332994676,null,6,40,2684,null,null,null,null,null,null,null,null,null,null,null,null,null,null,null,null,null,null,6,40,2.0299999999999998,2.52]
[6,41,8.4443414871400009,0.35,4.8,8.0943414871400012,3.6443414871400011,2.2960841351525101,169.84692623898704,166.32702925979822,165.62304986396049,164.91907046812273,102.26490423856211,95.50670203851962,92.610329667072847,74.266637981243221,null,6,41,2755,null,null,null,null,null,null,null,null,null,null,null,null,null,null,null,null,null,null,6,41,2.13,2.64]
[6,42,9.0210585220090014,0.35,4.8,8.6710585220090017,4.2210585220090016,2.3248798858221513,183.72240695819477,180.15836609322938,179.4455579202363,178.73274974724322,115.29282235085986,108.44986389012638,105.51716740695488,86.943423013535423,null,6,42,2826,null,null,null,null,null,null,null,null,null,null,null,null,null,null,null,null,null,null,6,42,2.23,2.77]
[7,43,9.6534179694950009,0.35,4.8,9.3034179694950012,4.853417969495001,2.353346479363803,199.00825380488382,195.40057365201909,194.67903762144616,193.95750159087322,129.74079486988137,122.81404897638114,119.84544359345246,101.04427616823752,null,7,43,2900,null,null,null,null,null,null,null,null,null,null,null,null,null,null,null,null,null,null,7,43,2.33,2.9]
[7,44,10.099222890445001,0.35,4.8,9.7492228904450009,5.2992228904450007,2.3814952049031657,210.68895776874518,207.03812561962863,206.30795918980533,205.577792759982,140.59298050570735,133.58338277940356,130.57926946813052,111.55321849673454,null,7,44,2950,null,null,null,null,null,null,null,null,null,null,null,null,null,null,null,null,null,null,7,44,2.4300000000000002,3.03]
[7,45,10.560309491395,0.35,4.8,10.210309491395,5.7603094913949997,2.4093367178804237,222.88367074984023,219.19015756132956,218.45145492362744,217.71275228592529,151.968217530435,144.87667220849448,141.83743849909141,122.58895833953855,null,7,45,3000,null,null,null,null,null,null,null,null,null,null,null,null,null,null,null,null,null,null,7,45,2.5299999999999998,3.17]
[7,46,11.036965772345001,0.35,4.8,10.686965772345001,6.2369657723450009,2.4368810888470627,235.60697295938746,231.8712342501849,231.12408650834439,230.37693876650388,163.88078974269854,156.70817142102965,153.63419214031441,134.16565669578458,null,7,46,3050,null,null,null,null,null,null,null,null,null,null,null,null,null,null,null,null,null,null,7,46,2.64,3.3]
[7,47,11.529479733295002,0.35,4.8,11.179479733295002,6.729479733295002,2.4641378475305378,248.87359178878089,245.09606846851662,244.34056380446376,243.58505914041089,176.34514403970607,169.09229926479858,165.98393721840966,146.2976442579465,null,7,47,3100,null,null,null,null,null,null,null,null,null,null,null,null,null,null,null,null,null,null,7,47,2.74,3.44]
[7,48,12.038139374245,0.35,4.8,11.688139374245001,7.2381393742450006,2.4911160227162288,262.69840045892607,258.87951959610206,258.11574342353725,257.35196725097251,189.37588789270566,182.04363663608362,178.90124324038845,158.99941840098577,null,7,48,3150,null,null,null,null,null,null,null,null,null,null,null,null,null,null,null,null,null,null,7,48,2.85,3.59]
[7,49,12.563232695195001,0.35,4.8,12.213232695195002,7.7632326951950015,2.5178241784222166,277.09641670257281,273.23659223705158,272.46462734394731,271.69266245084305,202.98778696456463,195.57692399076382,192.40083985913492,172.2856403588184,null,7,49,3200,null,null,null,null,null,null,null,null,null,null,null,null,null,null,null,null,null,null,7,49,2.96,3.73]
[null,null,null,null,null,null,null,null,null,null,null,null,null,null,null,null,null,null,null,null,null,null,null,null,null,null,null,null,null,null,null,null,null,null,null,null,null,null,8,50,3.07,3.88]
[null,null,null,null,null,null,null,"PM10",{"$f":"AVERAGE(I3:I51)","v":73.000723707554101},70.456521318614321,69.947680840826379,69.438840363038423,40.749998077158764,{"$f":"AVERAGE(N3:N51)","v":37.524925514119232},36.142751558530861,27.388983173137845,null,null,null,null,null,null,null,null,null,null,null,null,null,null,null,null,null,null,null,null,null,null,8,51,3.18,4.03]
[null,null,null,null,null,null,null,"vleeskuikens",null,{"$f":"($I53-J53)/$I53","v":3.485174200644954E-2},{"$f":"($I53-K53)/$I53","v":4.1822090407739258E-2},{"$f":"($I53-L53)/$I53","v":4.8792438809029164E-2},{"$f":"($I53-M53)/$I53","v":0.44178638227744088},{"$f":"($I53-N53)/$I53","v":0.48596502050518492},0.50489872260278956,{"$f":"($I53-P53)/$I53","v":0.62481216922095206},null,null,null,null,null,null,null,null,null,null,null,null,null,null,null,null,null,null,null,null,null,null,8,52,3.3,4.18]
[null,null,null,null,null,null,null,null,null,null,null,null,null,null,null,null,null,null,null,null,null,null,null,null,null,null,null,null,null,null,null,null,null,null,null,null,null,null,8,53,3.41,4.33]
[null,null,null,null,null,null,null,null,null,null,null,null,null,null,null,null,null,null,null,null,null,null,null,null,null,null,null,null,null,null,null,null,null,null,null,null,null,null,8,54,3.53,4.49]
[null,null,null,null,null,null,null,null,null,null,null,null,null,null,null,null,null,null,null,null,null,null,null,null,null,null,null,null,null,null,null,null,null,null,null,null,null,null,8,55,3.64,4.6500000000000004]
[null,null,null,null,null,null,null,null,null,null,null,null,null,null,null,null,null,null,null,null,null,null,null,null,null,null,null,null,null,null,null,null,null,null,null,null,null,null,8,56,3.76,4.8099999999999996]
[null,null,null,null,null,null,null,null,null,null,null,null,null,null,null,null,null,null,null,null,null,null,null,null,null,null,null,null,null,null,null,null,null,null,null,null,null,null,9,57,3.88,4.97]
[null,null,null,null,null,null,null,null,null,null,null,null,null,null,null,null,null,null,null,null,null,null,null,null,null,null,null,null,null,null,null,null,null,null,null,null,null,null,9,58,4,5.13]
[null,null,null,null,null,null,null,null,null,null,null,null,null,null,null,null,null,null,null,null,null,null,null,null,null,null,null,null,null,null,null,null,null,null,null,null,null,null,9,59,4.13,5.3]
[null,null,null,null,null,null,null,null,null,null,null,null,null,null,null,null,null,null,null,null,null,null,null,null,null,null,null,null,null,null,null,null,null,null,null,null,null,null,9,60,4.25,5.47]
[null,null,null,null,null,null,null,null,null,null,null,null,null,null,null,null,null,null,null,null,null,null,null,null,null,null,null,null,null,null,null,null,null,null,null,null,null,null,9,61,4.37,5.64]
[null,null,null,null,null,null,null,null,null,null,null,null,null,null,null,null,null,null,null,null,null,null,null,null,null,null,null,null,null,null,null,null,null,null,null,null,null,null,9,62,4.5,5.81]
[null,null,null,null,null,null,null,null,null,null,null,null,null,null,null,null,null,null,null,null,null,null,null,null,null,null,null,null,null,null,null,null,null,null,null,null,null,null,9,63,4.62,5.98]
[null,null,null,null,null,null,null,null,null,null,null,null,null,null,null,null,null,null,null,null,null,null,null,null,null,null,null,null,null,null,null,null,null,null,null,null,null,null,10,64,4.75,6.16]
[null,null,null,null,null,null,null,null,null,null,null,null,null,null,null,null,null,null,null,null,null,null,null,null,null,null,null,null,null,null,null,null,null,null,null,null,null,null,10,65,4.87,6.33]
[null,null,null,null,null,null,null,null,null,null,null,null,null,null,null,null,null,null,null,null,null,null,null,null,null,null,null,null,null,null,null,null,null,null,null,null,null,null,10,66,5,6.51]
[null,null,null,null,null,null,null,null,null,null,null,null,null,null,null,null,null,null,null,null,null,null,null,null,null,null,null,null,null,null,null,null,null,null,null,null,null,null,10,67,5.13,6.69]
[null,null,null,null,null,null,null,null,null,null,null,null,null,null,null,null,null,null,null,null,null,null,null,null,null,null,null,null,null,null,null,null,null,null,null,null,null,null,10,68,5.25,6.87]
[null,null,null,null,null,null,null,null,null,null,null,null,null,null,null,null,null,null,null,null,null,null,null,null,null,null,null,null,null,null,null,null,null,null,null,null,null,null,10,69,5.38,7.05]
[null,null,null,null,null,null,null,null,null,null,null,null,null,null,null,null,null,null,null,null,null,null,null,null,null,null,null,null,null,null,null,null,null,null,null,null,null,null,10,70,5.51,7.23]
[null,null,null,null,null,null,null,null,null,null,null,null,null,null,null,null,null,null,null,null,null,null,null,null,null,null,null,null,null,null,null,null,null,null,null,null,null,null,11,71,5.64,7.42]
[null,null,null,null,null,null,null,null,null,null,null,null,null,null,null,null,null,null,null,null,null,null,null,null,null,null,null,null,null,null,null,null,null,null,null,null,null,null,11,72,5.77,7.6]
[null,null,null,null,null,null,null,null,null,null,null,null,null,null,null,null,null,null,null,null,null,null,null,null,null,null,null,null,null,null,null,null,null,null,null,null,null,null,11,73,5.9,7.79]
[null,null,null,null,null,null,null,null,null,null,null,null,null,null,null,null,null,null,null,null,null,null,null,null,null,null,null,null,null,null,null,null,null,null,null,null,null,null,11,74,6.03,7.97]
[null,null,null,null,null,null,null,null,null,null,null,null,null,null,null,null,null,null,null,null,null,null,null,null,null,null,null,null,null,null,null,null,null,null,null,null,null,null,11,75,6.16,8.16]
[null,null,null,null,null,null,null,null,null,null,null,null,null,null,null,null,null,null,null,null,null,null,null,null,null,null,null,null,null,null,null,null,null,null,null,null,null,null,11,76,6.29,8.35]
[null,null,null,null,null,null,null,null,null,null,null,null,null,null,null,null,null,null,null,null,null,null,null,null,null,null,null,null,null,null,null,null,null,null,null,null,null,null,11,77,6.42,8.5399999999999991]
[null,null,null,null,null,null,null,null,null,null,null,null,null,null,null,null,null,null,null,null,null,null,null,null,null,null,null,null,null,null,null,null,null,null,null,null,null,null,12,78,6.55,8.73]
[null,null,null,null,null,null,null,null,null,null,null,null,null,null,null,null,null,null,null,null,null,null,null,null,null,null,null,null,null,null,null,null,null,null,null,null,null,null,12,79,6.68,8.92]
[null,null,null,null,null,null,null,null,null,null,null,null,null,null,null,null,null,null,null,null,null,null,null,null,null,null,null,null,null,null,null,null,null,null,null,null,null,null,12,80,6.81,9.11]
[null,null,null,null,null,null,null,null,null,null,null,null,null,null,null,null,null,null,null,null,null,null,null,null,null,null,null,null,null,null,null,null,null,null,null,null,null,null,12,81,6.94,9.3000000000000007]
[null,null,null,null,null,null,null,null,null,null,null,null,null,null,null,null,null,null,null,null,null,null,null,null,null,null,null,null,null,null,null,null,null,null,null,null,null,null,12,82,7.07,9.5]
[null,null,null,null,null,null,null,null,null,null,null,null,null,null,null,null,null,null,null,null,null,null,null,null,null,null,null,null,null,null,null,null,null,null,null,null,null,null,12,83,7.2,9.69]
[null,null,null,null,null,null,null,null,null,null,null,null,null,null,null,null,null,null,null,null,null,null,null,null,null,null,null,null,null,null,null,null,null,null,null,null,null,null,12,84,7.32,9.8800000000000008]
[null,null,null,null,null,null,null,null,null,null,null,null,null,null,null,null,null,null,null,null,null,null,null,null,null,null,null,null,null,null,null,null,null,null,null,null,null,null,13,85,7.45,10.08]
[null,null,null,null,null,null,null,null,null,null,null,null,null,null,null,null,null,null,null,null,null,null,null,null,null,null,null,null,null,null,null,null,null,null,null,null,null,null,13,86,7.58,10.27]
[null,null,null,null,null,null,null,null,null,null,null,null,null,null,null,null,null,null,null,null,null,null,null,null,null,null,null,null,null,null,null,null,null,null,null,null,null,null,13,87,7.71,10.47]
[null,null,null,null,null,null,null,null,null,null,null,null,null,null,null,null,null,null,null,null,null,null,null,null,null,null,null,null,null,null,null,null,null,null,null,null,null,null,13,88,7.84,10.66]
[null,null,null,null,null,null,null,null,null,null,null,null,null,null,null,null,null,null,null,null,null,null,null,null,null,null,null,null,null,null,null,null,null,null,null,null,null,null,13,89,7.97,10.85]
[null,null,null,null,null,null,null,null,null,null,null,null,null,null,null,null,null,null,null,null,null,null,null,null,null,null,null,null,null,null,null,null,null,null,null,null,null,null,13,90,8.09,11.05]
[null,null,null,null,null,null,null,null,null,null,null,null,null,null,null,null,null,null,null,null,null,null,null,null,null,null,null,null,null,null,null,null,null,null,null,null,null,null,13,91,8.2200000000000006,11.24]
[null,null,null,null,null,null,null,null,null,null,null,null,null,null,null,null,null,null,null,null,null,null,null,null,null,null,null,null,null,null,null,null,null,null,null,null,null,null,14,92,8.35,11.44]
[null,null,null,null,null,null,null,null,null,null,null,null,null,null,null,null,null,null,null,null,null,null,null,null,null,null,null,null,null,null,null,null,null,null,null,null,null,null,14,93,8.4700000000000006,11.63]
[null,null,null,null,null,null,null,null,null,null,null,null,null,null,null,null,null,null,null,null,null,null,null,null,null,null,null,null,null,null,null,null,null,null,null,null,null,null,14,94,8.6,11.83]
[null,null,null,null,null,null,null,null,null,null,null,null,null,null,null,null,null,null,null,null,null,null,null,null,null,null,null,null,null,null,null,null,null,null,null,null,null,null,14,95,8.7200000000000006,12.02]
[null,null,null,null,null,null,null,null,null,null,null,null,null,null,null,null,null,null,null,null,null,null,null,null,null,null,null,null,null,null,null,null,null,null,null,null,null,null,14,96,8.85,12.22]
[null,null,null,null,null,null,null,null,null,null,null,null,null,null,null,null,null,null,null,null,null,null,null,null,null,null,null,null,null,null,null,null,null,null,null,null,null,null,14,97,8.9700000000000006,12.41]
[null,null,null,null,null,null,null,null,null,null,null,null,null,null,null,null,null,null,null,null,null,null,null,null,null,null,null,null,null,null,null,null,null,null,null,null,null,null,14,98,9.09,12.61]
[null,null,null,null,null,null,null,null,null,null,null,null,null,null,null,null,null,null,null,null,null,null,null,null,null,null,null,null,null,null,null,null,null,null,null,null,null,null,15,99,9.2200000000000006,12.8]
[null,null,null,null,null,null,null,null,null,null,null,null,null,null,null,null,null,null,null,null,null,null,null,null,null,null,null,null,null,null,null,null,null,null,null,null,null,null,15,100,9.34,13]
[null,null,null,null,null,null,null,null,null,null,null,null,null,null,null,null,null,null,null,null,null,null,null,null,null,null,null,null,null,null,null,null,null,null,null,null,null,null,15,101,9.4600000000000009,13.19]
[null,null,null,null,null,null,null,null,null,null,null,null,null,null,null,null,null,null,null,null,null,null,null,null,null,null,null,null,null,null,null,null,null,null,null,null,null,null,15,102,9.58,13.38]
[null,null,null,null,null,null,null,null,null,null,null,null,null,null,null,null,null,null,null,null,null,null,null,null,null,null,null,null,null,null,null,null,null,null,null,null,null,null,15,103,9.6999999999999993,13.58]
[null,null,null,null,null,null,null,null,null,null,null,null,null,null,null,null,null,null,null,null,null,null,null,null,null,null,null,null,null,null,null,null,null,null,null,null,null,null,15,104,9.82,13.77]
[null,null,null,null,null,null,null,null,null,null,null,null,null,null,null,null,null,null,null,null,null,null,null,null,null,null,null,null,null,null,null,null,null,null,null,null,null,null,15,105,9.94,13.96]
[null,null,null,null,null,null,null,null,null,null,null,null,null,null,null,null,null,null,null,null,null,null,null,null,null,null,null,null,null,null,null,null,null,null,null,null,null,null,16,106,10.050000000000001,14.15]
[null,null,null,null,null,null,null,null,null,null,null,null,null,null,null,null,null,null,null,null,null,null,null,null,null,null,null,null,null,null,null,null,null,null,null,null,null,null,16,107,10.17,14.35]
[null,null,null,null,null,null,null,null,null,null,null,null,null,null,null,null,null,null,null,null,null,null,null,null,null,null,null,null,null,null,null,null,null,null,null,null,null,null,16,108,10.29,14.54]
[null,null,null,null,null,null,null,null,null,null,null,null,null,null,null,null,null,null,null,null,null,null,null,null,null,null,null,null,null,null,null,null,null,null,null,null,null,null,16,109,10.4,14.73]
[null,null,null,null,null,null,null,null,null,null,null,null,null,null,null,null,null,null,null,null,null,null,null,null,null,null,null,null,null,null,null,null,null,null,null,null,null,null,16,110,10.52,14.92]
[null,null,null,null,null,null,null,null,null,null,null,null,null,null,null,null,null,null,null,null,null,null,null,null,null,null,null,null,null,null,null,null,null,null,null,null,null,null,16,111,10.63,15.11]
[null,null,null,null,null,null,null,null,null,null,null,null,null,null,null,null,null,null,null,null,null,null,null,null,null,null,null,null,null,null,null,null,null,null,null,null,null,null,16,112,10.74,15.3]
[null,null,null,null,null,null,null,null,null,null,null,null,null,null,null,null,null,null,null,null,null,null,null,null,null,null,null,null,null,null,null,null,null,null,null,null,null,null,17,113,10.85,15.49]
[null,null,null,null,null,null,null,null,null,null,null,null,null,null,null,null,null,null,null,null,null,null,null,null,null,null,null,null,null,null,null,null,null,null,null,null,null,null,17,114,10.97,14.58]
[null,null,null,null,null,null,null,null,null,null,null,null,null,null,null,null,null,null,null,null,null,null,null,null,null,null,null,null,null,null,null,null,null,null,null,null,null,null,17,115,11.07,15.86]
[null,null,null,null,null,null,null,null,null,null,null,null,null,null,null,null,null,null,null,null,null,null,null,null,null,null,null,null,null,null,null,null,null,null,null,null,null,null,17,116,11.18,16.05]
[null,null,null,null,null,null,null,null,null,null,null,null,null,null,null,null,null,null,null,null,null,null,null,null,null,null,null,null,null,null,null,null,null,null,null,null,null,null,17,117,11.29,16.239999999999998]
[null,null,null,null,null,null,null,null,null,null,null,null,null,null,null,null,null,null,null,null,null,null,null,null,null,null,null,null,null,null,null,null,null,null,null,null,null,null,17,118,11.4,16.420000000000002]
[null,null,null,null,null,null,null,null,null,null,null,null,null,null,null,null,null,null,null,null,null,null,null,null,null,null,null,null,null,null,null,null,null,null,null,null,null,null,17,119,11.5,16.61]
[null,null,null,null,null,null,null,null,null,null,null,null,null,null,null,null,null,null,null,null,null,null,null,null,null,null,null,null,null,null,null,null,null,null,null,null,null,null,18,120,11.61,16.8]
[null,null,null,null,null,null,null,null,null,null,null,null,null,null,null,null,null,null,null,null,null,null,null,null,null,null,null,null,null,null,null,null,null,null,null,null,null,null,18,121,11.71,16.98]
[null,null,null,null,null,null,null,null,null,null,null,null,null,null,null,null,null,null,null,null,null,null,null,null,null,null,null,null,null,null,null,null,null,null,null,null,null,null,18,122,11.82,17.16]
[null,null,null,null,null,null,null,null,null,null,null,null,null,null,null,null,null,null,null,null,null,null,null,null,null,null,null,null,null,null,null,null,null,null,null,null,null,null,18,123,11.92,17.350000000000001]
[null,null,null,null,null,null,null,null,null,null,null,null,null,null,null,null,null,null,null,null,null,null,null,null,null,null,null,null,null,null,null,null,null,null,null,null,null,null,18,124,12.02,17.53]
[null,null,null,null,null,null,null,null,null,null,null,null,null,null,null,null,null,null,null,null,null,null,null,null,null,null,null,null,null,null,null,null,null,null,null,null,null,null,18,125,12.12,17.71]
[null,null,null,null,null,null,null,null,null,null,null,null,null,null,null,null,null,null,null,null,null,null,null,null,null,null,null,null,null,null,null,null,null,null,null,null,null,null,18,126,12.22,17.899999999999999]
[null,null,null,null,null,null,null,null,null,null,null,null,null,null,null,null,null,null,null,null,null,null,null,null,null,null,null,null,null,null,null,null,null,null,null,null,null,null,19,127,12.32,18.079999999999998]
[null,null,null,null,null,null,null,null,null,null,null,null,null,null,null,null,null,null,null,null,null,null,null,null,null,null,null,null,null,null,null,null,null,null,null,null,null,null,19,128,12.41,18.260000000000002]
[null,null,null,null,null,null,null,null,null,null,null,null,null,null,null,null,null,null,null,null,null,null,null,null,null,null,null,null,null,null,null,null,null,null,null,null,null,null,19,129,12.51,18.440000000000001]
[null,null,null,null,null,null,null,null,null,null,null,null,null,null,null,null,null,null,null,null,null,null,null,null,null,null,null,null,null,null,null,null,null,null,null,null,null,null,19,130,12.6,18.62]
[null,null,null,null,null,null,null,null,null,null,null,null,null,null,null,null,null,null,null,null,null,null,null,null,null,null,null,null,null,null,null,null,null,null,null,null,null,null,19,131,12.7,18.8]
[null,null,null,null,null,null,null,null,null,null,null,null,null,null,null,null,null,null,null,null,null,null,null,null,null,null,null,null,null,null,null,null,null,null,null,null,null,null,19,132,12.79,18.98]
[null,null,null,null,null,null,null,null,null,null,null,null,null,null,null,null,null,null,null,null,null,null,null,null,null,null,null,null,null,null,null,null,null,null,null,null,null,null,19,133,12.88,19.16]
[null,null,null,null,null,null,null,null,null,null,null,null,null,null,null,null,null,null,null,null,null,null,null,null,null,null,null,null,null,null,null,null,null,null,null,null,null,null,20,134,12.97,19.329999999999998]
[null,null,null,null,null,null,null,null,null,null,null,null,null,null,null,null,null,null,null,null,null,null,null,null,null,null,null,null,null,null,null,null,null,null,null,null,null,null,20,135,13.06,19.510000000000002]
[null,null,null,null,null,null,null,null,null,null,null,null,null,null,null,null,null,null,null,null,null,null,null,null,null,null,null,null,null,null,null,null,null,null,null,null,null,null,20,136,12.15,19.690000000000001]
[null,null,null,null,null,null,null,null,null,null,null,null,null,null,null,null,null,null,null,null,null,null,null,null,null,null,null,null,null,null,null,null,null,null,null,null,null,null,20,137,13.23,19.86]
[null,null,null,null,null,null,null,null,null,null,null,null,null,null,null,null,null,null,null,null,null,null,null,null,null,null,null,null,null,null,null,null,null,null,null,null,null,null,20,138,13.32,20.04]
[null,null,null,null,null,null,null,null,null,null,null,null,null,null,null,null,null,null,null,null,null,null,null,null,null,null,null,null,null,null,null,null,null,null,null,null,null,null,20,139,13.4,20.22]
[null,null,null,null,null,null,null,null,null,null,null,null,null,null,null,null,null,null,null,null,null,null,null,null,null,null,null,null,null,null,null,null,null,null,null,null,null,null,20,140,13.49,20.39]
[null,null,null,null,null,null,null,null,null,null,null,null,null,null,null,null,null,null,null,null,null,null,null,null,null,null,null,null,null,null,null,null,null,null,null,null,null,null,21,141,null,20.57]
[null,null,null,null,null,null,null,null,null,null,null,null,null,null,null,null,null,null,null,null,null,null,null,null,null,null,null,null,null,null,null,null,null,null,null,null,null,null,21,142,null,20.74]
[null,null,null,null,null,null,null,null,null,null,null,null,null,null,null,null,null,null,null,null,null,null,null,null,null,null,null,null,null,null,null,null,null,null,null,null,null,null,21,143,null,20.91]
[null,null,null,null,null,null,null,null,null,null,null,null,null,null,null,null,null,null,null,null,null,null,null,null,null,null,null,null,null,null,null,null,null,null,null,null,null,null,21,144,null,21.09]
[null,null,null,null,null,null,null,null,null,null,null,null,null,null,null,null,null,null,null,null,null,null,null,null,null,null,null,null,null,null,null,null,null,null,null,null,null,null,21,145,null,21.26]
[null,null,null,null,null,null,null,null,null,null,null,null,null,null,null,null,null,null,null,null,null,null,null,null,null,null,null,null,null,null,null,null,null,null,null,null,null,null,21,146,null,21.43]
[null,null,null,null,null,null,null,null,null,null,null,null,null,null,null,null,null,null,null,null,null,null,null,null,null,null,null,null,null,null,null,null,null,null,null,null,null,null,21,147,null,21.6]
[null,null,null,null,null,null,null,null,null,null,null,null,null,null,null,null,null,null,null,null,null,null,null,null,null,null,null,null,null,null,null,null,null,null,null,null,null,null,22,148,null,21.78]
[null,null,null,null,null,null,null,null,null,null,null,null,null,null,null,null,null,null,null,null,null,null,null,null,null,null,null,null,null,null,null,null,null,null,null,null,null,null,22,149,null,21.95]
[null,null,null,null,null,null,null,null,null,null,null,null,null,null,null,null,null,null,null,null,null,null,null,null,null,null,null,null,null,null,null,null,null,null,null,null,null,null,22,150,null,22.12]
[null,null,null,null,null,null,null,null,null,null,null,null,null,null,null,null,null,null,null,null,null,null,null,null,null,null,null,null,null,null,null,null,null,null,null,null,null,null,22,151,null,22.29]
[null,null,null,null,null,null,null,null,null,null,null,null,null,null,null,null,null,null,null,null,null,null,null,null,null,null,null,null,null,null,null,null,null,null,null,null,null,null,22,152,null,22.46]
[null,null,null,null,null,null,null,null,null,null,null,null,null,null,null,null,null,null,null,null,null,null,null,null,null,null,null,null,null,null,null,null,null,null,null,null,null,null,22,153,null,22.63]
[null,null,null,null,null,null,null,null,null,null,null,null,null,null,null,null,null,null,null,null,null,null,null,null,null,null,null,null,null,null,null,null,null,null,null,null,null,null,22,154,null,22.8]
[null,null,null,null,null,null,null,null,null,null,null,null,null,null,null,null,null,null,null,null,null,null,null,null,null,null,null,null,null,null,null,null,null,null,null,null,null,null,23,155,null,22.97]
[null,null,null,null,null,null,null,null,null,null,null,null,null,null,null,null,null,null,null,null,null,null,null,null,null,null,null,null,null,null,null,null,null,null,null,null,null,null,23,156,null,23.14]
[null,null,null,null,null,null,null,null,null,null,null,null,null,null,null,null,null,null,null,null,null,null,null,null,null,null,null,null,null,null,null,null,null,null,null,null,null,null,23,157,null,23.31]
[null,null,null,null,null,null,null,null,null,null,null,null,null,null,null,null,null,null,null,null,null,null,null,null,null,null,null,null,null,null,null,null,null,null,null,null,null,null,23,158,null,23.48]
[null,null,null,null,null,null,null,null,null,null,null,null,null,null,null,null,null,null,null,null,null,null,null,null,null,null,null,null,null,null,null,null,null,null,null,null,null,null,23,159,null,23.65]
[null,null,null,null,null,null,null,null,null,null,null,null,null,null,null,null,null,null,null,null,null,null,null,null,null,null,null,null,null,null,null,null,null,null,null,null,null,null,23,160,null,23.82]
[null,null,null,null,null,null,null,null,null,null,null,null,null,null,null,null,null,null,null,null,null,null,null,null,null,null,null,null,null,null,null,null,null,null,null,null,null,null,23,161,null,23.98]
[null,null,null,null,null,null,null,null,null,null,null,null,null,null,null,null,null,null,null,null,null,null,null,null,null,null,null,null,null,null,null,null,null,null,null,null,null,null,24,162,null,24.15]
[null,null,null,null,null,null,null,null,null,null,null,null,null,null,null,null,null,null,null,null,null,null,null,null,null,null,null,null,null,null,null,null,null,null,null,null,null,null,24,163,null,24.32]
[null,null,null,null,null,null,null,null,null,null,null,null,null,null,null,null,null,null,null,null,null,null,null,null,null,null,null,null,null,null,null,null,null,null,null,null,null,null,24,164,null,24.49]
[null,null,null,null,null,null,null,null,null,null,null,null,null,null,null,null,null,null,null,null,null,null,null,null,null,null,null,null,null,null,null,null,null,null,null,null,null,null,24,165,null,24.65]
[null,null,null,null,null,null,null,null,null,null,null,null,null,null,null,null,null,null,null,null,null,null,null,null,null,null,null,null,null,null,null,null,null,null,null,null,null,null,24,166,null,24.82]
[null,null,null,null,null,null,null,null,null,null,null,null,null,null,null,null,null,null,null,null,null,null,null,null,null,null,null,null,null,null,null,null,null,null,null,null,null,null,24,167,null,24.99]
[null,null,null,null,null,null,null,null,null,null,null,null,null,null,null,null,null,null,null,null,null,null,null,null,null,null,null,null,null,null,null,null,null,null,null,null,null,null,24,168,null,25.15]