{"text_format":"1","workbook":"xlsx","n_sheets":5,"sheets":["VLEESKUIKENS","PLUIMVEECATEGORIE","wisselend debiet en reductie","Max waarden","Reductietechnieken"],"not_rendered":{"charts":0,"images":3,"macros":1,"external_links":0,"defined_names":2,"comments":2,"pivot_tables":0},"unopened":[],"bounds":{"document_bytes":16777216,"sheet_cells":100000,"rows_first":2000,"rows_last":500,"rows_between":2000,"halvings":0,"cell_chars":16384,"cell_head_chars":4096},"cells_cut":0,"cells_raw":0,"read":"whole","date_system":"1900"}

{"sheet":"VLEESKUIKENS","index":0,"n_rows":42,"n_cols":17,"rows_kept":42,"cut":false,"hidden":false,"merged":[[13,4,15,4],[19,4,20,4],[26,4,26,8],[10,11,12,14],[16,8,17,10],[18,12,19,15],[18,8,19,10],[16,12,16,15],[8,11,8,13],[14,8,15,10],[15,6,16,7],[20,12,20,15],[9,16,20,16]]}
[null,null,null,null,"Rekenmodel Vee-combistof - pluimvee (V2.0, 15 maart 2021)",null,null,null,null,"Berekenen van het reductiepercentage van combinaties van fijnstof reducerende technieken"]
[]
[null,null,null,null,null,null,null,"TOELICHTING GEBRUIK REKENMODEL (Er is online ook een handleiding beschikbaar)."]
[null,null,null,null,"invullen","naam",null,"Bij alle GEEL gekleurde vakjes dient een keuze gemaakt te worden. Ga op het vakje staan, klik rechts naast vakje en kies een optie.                              "]
[null,null,null,null,"invullen","adres",null,"De gerealiseerde reductiepercentages staan in GROENE blokjes vermeld. Helemaal rechts is het reductiepercentage van de combinatie van de fijnstofreducerende "]
[null,null,null,null,{"$f":"TODAY()","v":"2021-03-12"},"datum",null,"technieken weergegeven. Als combinaties niet mogelijk of zinvol zijn, verschijnt er tekst in ROOD. Bij 'niet mogelijk' dient u keuze(s) aan te passen."]
[null,null,null,null," ",null,null,"Bij warmtewisselaar en stoffilter kan de ventilatiehoeveelheid door een techniek aangepast worden met de pijltjes omhoog/omlaag. "]
[]
[]
[null,null,"̌",null,null,null,null,{"$f":"IF(F14+H16=0,\"Geen warmtewisselaar\",\"Warmtewisselaar\")","v":"Geen warmtewisselaar"},null,null,null,null,null,null,null,null,"Reductiepercentage PM10"]
[null,null,null,null,null,null,null,{"$f":"IF(H10=\"warmtewisselaar\",\"Reductiepercentage WW 80%\",\"   \")","v":"   "},null,{"$f":"IF(L20=\"geen techniek\",F14+H16,IF(J13=\"ja\",0,F14+H16))","v":0},"m3/uur",{"$f":"IF(L20=\"Biofilter\",IF(H15=\"ja\",IF(J14>0,\"Deze combinatie met WW stoffilter is toepasbaar, maar niet zinvol\",\"     \"),\"  \"),IF(L20=\"bio wasser 60%\",IF(H15=\"ja\",IF(J14>0,\"Deze combinatie met WW stoffilter is toepasbaar, maar niet zinvol\",\"   \"),\"   \"),IF(L20=\"bio wasser 75%\",IF(H15=\"ja\",IF(J14>0,\"Deze combinatie met WW stoffilter is toepasbaar, maar niet zinvol\",\"   \"),\"    \"),\"   \")))","v":"   "}]
[null,null,null,null,null,null,null,{"$f":"ROUND(IF(H15=\"nee\",'wisselend debiet en reductie'!$O$8*(1-E23),'wisselend debiet en reductie'!$Q$8*(1-E23)),2)","v":0},{"$f":"\"Lucht WW door overige techniek?\"","v":"Lucht WW door overige techniek?"}]
[null,null,null,null,"Stal voor",null,null,"Warmtewisselaar met stoffilter?",null,"NEE"]
[null,null,null,0,"VLEESKUIKENS",{"$f":"MAX(0,IF(D14+D19>J25*100,(J25-F20),D14/100))","v":0},"m3/uur",{"$f":"IF(F15=0,\"    \",\"Reductie% stoffilter 99%\")","v":"Reductie% stoffilter 99%"},null,{"$f":"IF(L20=\"geen techniek\",0,IF(J13=\"ja\",F14+H16,0))","v":0},"m3/uur"]
[null,null,null,75,null,"% t.o.v. maximum",null,"NEE",{"$f":"IF(J13=\"nee\",\"     \",IF(L20=\"geen techniek\",IF(J13=\"ja\",\"Indien 'geen techniek', dan is er geen luchtstroom\"),\"   \"))","v":"     "}]
[null,null,null,null,null,{"$f":"F14/J25","v":0},{"$f":"IF(F14>0,\"Reset: Zet ventilatie door WW en/of stoffilter in 1 klik op 0 m3\",IF(F20>0,\"Zet ventilatie door WW en/of stoffilter in 1 klik op 0 m3\",\"  \"))","v":"  "}]
[null,null,null,null,null,null,null,null,{"$f":"IF(J11=0,\"   \",IF(L20=\"chemische wasser 35%\",\"Alle lucht moet door overige techniek vanwege ammoniak en/of geur\",IF(L20=\"chemische wasser 70%\",\"Alle lucht moet door overige techniek vanwege ammoniak en/of geur\",IF(L20=\"Bio wasser 60%\",\"Alle lucht moet door overige techniek vanwege ammoniak en/of geur\",IF(L20=\"Bio wasser 75%\",\"Alle lucht moet door overige techniek vanwege ammoniak en/of geur\",IF(L20=\"Biofilter\",\"Alle lucht moet door overige techniek vanwege ammoniak en/of geur\",IF(L20=\"Luchtconditioneringsunit\",\"    \",\"   \")))))))","v":"   "},null,null,null,{"$f":"IF(F14>0,IF(L20=\"Luchtconditioneringsunit\",\"Twee keer eenzelfde type techniek in de uitgaande luchtstroom is niet logisch\",\"    \"),\"   \")","v":"   "}]
[null,null,null,null,"Staltechniek",null,null,{"$f":"IF(F20=0,\"Geen stoffilter\",\"Droog stoffilter\")","v":"Geen stoffilter"},null,null,null,"Overige technieken"]
[null,null,null,0,"GEEN STALTECHNIEK",null,null,{"$f":"IF(F20=0,\"    \",\"Reductie% stoffilter 99%\")","v":"    "},null,null,null,{"$f":"IF(L20=\"chemische wasser 35%\",\"potentieel reductie: 35%\",IF(L20=\"chemische wasser 70%\",\"potentieel reductie: 70%\",IF(L20=\"bio wasser 60%\",\"potentieel reductie: 60%\",IF(L20=\"bio wasser 75%\",\"potentieel reductie: 75%\",IF(L20=\"biofilter\",\"potentieel reductie: 80%\",IF(L20=\"waterluchtwassysteem\",\"potentieel reductie: 33%\",IF(L20=\"droogfilterwand\",\"potentieel reductie: 40%\",IF(L20=\"ionisatiefilter\",\"potentieel reductie: 57%\",IF(L20=\"luchtconditioneringsunit\",\"potentieel reductie: 80%\",\"  \")))))))))","v":"  "},{"$f":"IF(F20>0,IF(L20=\"chemische wasser 35%\",\"Alle lucht moet door de luchtwasser of biofilter. De combinatie met een stoffilter is daarom niet mogelijk.\",IF(L20=\"chemische wasser 70%\",\"Alle lucht moet door de luchtwasser of biofilter. De combinatie met een stoffilter is daarom niet mogelijk.\",IF(L20=\"bio wasser 60%\",\"Alle lucht moet door de luchtwasser of biofilter. De combinatie met een stoffilter is daarom niet mogelijk.\",IF(L20=\"bio wasser 75%\",\"Alle lucht moet door de luchtwasser of biofilter. De combinatie met een stoffilter is daarom niet mogelijk.\",IF(L20=\"biofilter\",\"Alle lucht moet door de luchtwasser of biofilter. De combinatie met een stoffilter is daarom niet mogelijk.\",\"  \"))))),\"   \")","v":"   "}]
[null,null,null,null,{"$f":"IF(E19=\"geen staltechniek\",\"    \",IF(E19=\"negatieve ionisatie\",IF(E14=\"vleeskuikens\",\"   \",\"Deze techniek kan alleen bij vleeskuikens\"),IF(E19=\"strooiselschuif\",IF(E14=\"leghennen voliere\",\"   \",\"Deze techniek kan alleen bij leghennen voliere\"),IF(E19=\"oliefilm bij voliere dmv leidingen\",IF(E14=\"leghennen voliere\",\"   \",IF(E14=\"opfok leghennen voliere\",\"     \",IF(E14=\"Vleeskuikenouderdieren voliere\",\"    \",\"Deze techniek kan alleen bij (opfok)leghennen en vleeskuikenouderdieren voliere\"))),IF(E19=\"strooiselschuif icm oliefilm bij voliere dmv leidingen\",IF(E14=\"leghennen voliere\",\"   \",\"Deze techniek kan alleen bij leghennen voliere\"),IF(E19=\"oliefilm dmv olierobot\",IF(E14=\"opfok leghennen grondhuisvesting\",\"    \",IF(E14=\"leghennen grondhuisvesting\",\"    \",IF(E14=\"vleeskuikenouderdieren grondhuisvesting\",\"    \",\"Deze techniek kan alleen bij (opfok)leghennen en vleeskuikenouderdieren grondhuisvesting\"))),\"   \"))))))","v":"    "},{"$f":"MAX(0,IF(D14+D19>J25*100,(J25*100-D14)/100,D19/100))","v":0},"m3/uur",{"$f":"ROUNDDOWN(IF(F14=0,'wisselend debiet en reductie'!$M$8*(1-E23),'wisselend debiet en reductie'!$P$8*(1-E23)),2)","v":0},null,null,null,"GEEN TECHNIEK"]
[null,null,null,null,null,{"$f":"J25-F14-F20","v":6.1761991606700297},"m3/uur",null,null,{"$f":"IF(L20=\"geen techniek\",0,F21)","v":0},"m3/uur","Reductiepercentage overige techniek",{"$f":"IF(L20=\"luchtconditioneringsunit\",\"   \",IF(L20=\"geen techniek\",\"    \",IF(L20=\"chemische wasser 35%\",\"    \",IF(L20=\"chemische wasser 70%\",\"    \",IF(L20=\"bio wasser 60%\",\"    \",IF(L20=\"bio wasser 75%\",\"    \",IF(L20=\"waterluchtwassysteem\",\"   \",IF(L25=\"biofilter\",\"    \",IF(L20=\"Droogfilterwand\",\"   \",IF(L20=\"ionisatiefilter\",IF(E19=\"ionisatiesysteem met negatieve coronadraden\",\"Combinatie van ionisatietechnieken is niet zinvol\",IF(E19=\"ionisatie d.m.v. koolstofborsteltjes\",\"Combinatie van ionisatietechnieken is niet zinvol\",IF(E19=\"ionisatie d.m.v. coronadraden\",\"Combinatie van ionisatietechnieken is niet zinvol\",IF(E19=\"ionisatie d.m.v. ionisatie-units\",\"Combinatie van ionisatietechnieken is niet zinvol\",\"   \")))),\"  \"))))))))))","v":"    "}]
[null,null,null,null,"Reductiepercentage in stal","Max. ventilatiedebiet m3/d/uur",null," ",null,null,null,{"$f":"IF(M17=\"Twee keer eenzelfde type techniek in de uitgaande luchtstroom is niet logisch\",\"error\",(IF(I17=\"Alle lucht moet door overige techniek vanwege ammoniak en/of geur\",\"error\",IF(M19=\"Alle lucht moet door de luchtwasser of biofilter. De combinatie met een stoffilter is daarom niet mogelijk.\",\"error\",IF(L11=\"Combinatie met warmtewisselaar is niet toegestaan\",\"error\",IF(F20=0,IF(J13=\"ja\",'wisselend debiet en reductie'!$U$8*(1-E23),'wisselend debiet en reductie'!$S$8*(1-E23)),IF(F14=0,'wisselend debiet en reductie'!$T$8*(1-E23),IF(F14>0,IF(F20>0,IF(J14=0,'wisselend debiet en reductie'!$V$8*(1-E23),IF(J14>0,'wisselend debiet en reductie'!$U$8*(1-E23),'wisselend debiet en reductie'!$W$8*(1-E23))))))))))))","v":0},null,null,null,null,{"$f":"ROUNDDOWN(100%-(1-E23)+(H20+H12)+L22,2)","v":0}]
[null,null,null,null,{"$f":"IF(E19=\"ionisatieSYSTEEM MET NEGATIEVE CORONADRADEN\",49%,IF(E19=\"ionisatie d.m.v. koolstofborsteltjes\",31%,IF(E19=\"ionisatie d.m.v. coronadraden\",52%,IF(E19=\"ionisatie d.m.v. ionisatie-units\",16%,0))))","v":0},null,{"$f":"J11+J14+J21+J23","v":6.1761991606700297},null,null,{"$f":"F20+F21-H16-J21","v":6.1761991606700297},"m3/uur"]
[null,null,null,null,null,{"$f":"IF(L20=\"Luchtconditioneringsunit\",IF(H20>0,\"Niet alle lucht gaat door luchtconditioneringsunit, dus niet combineren met droog stoffilter\",\"    \"),\"   \")","v":"   "}]
[null,null,null,"GEEN STALTECHNIEK",null,null,null,"Maximale ventilatie in de stal",null,{"$f":"'Max waarden'!$B$10","v":6.1761991606700297},"m3/uur"]
[null,null,null,"IONISATIESYSTEEM MET NEGATIEVE CORONADRADEN",null,null,null,null,null,{"$f":"IF(G23<>J25,\"Optelsom debiet klopt niet\",\"   \")","v":"   "}]
[null,null,null,"IONISATIE d.m.v. KOOLSTOFBORSTELTJES","Gemaakt in opdracht van het ministerie van Infrastructuur en Waterstaat"]
[null,null,null,"IONISATIE d.m.v. CORONADRADEN"]
[null,null,null,"IONISATIE d.m.v. IONISATIE-UNITS"]
[null,null,null,null,null,null,null," "]
[]
[null,null,null,{"$f":"IF(H19=\"zonder stoffilter\",IF(D33=\"opfok leghennen\",IF(H12=\"warmtewisselaar 13%\",0.2,IF(H12=\"warmtewisselaar 31%\",0.43,IF(H12=\"warmtewisselaar 37%\",0.55,IF(H12=\"warmtewisselaar 50%\",0.78)))),IF(D33=\"leghennen\",IF(H12=\"warmtewisselaar 13%\",0.4,IF(H12=\"warmtewisselaar 31%\",1,IF(H12=\"warmtewisselaar 37%\",1.25,IF(H12=\"warmtewisselaar 50%\",1.8)))),IF(E14=\"opfok vleeskuikenouderdieren\",IF(H12=\"warmtewisselaar 13%\",0.4,IF(H12=\"warmtewisselaar 31%\",1,IF(H12=\"warmtewisselaar 37%\",1.3,IF(H12=\"warmtewisselaar 50%\",1.9)))),IF(D33=\"vleeskuikenouderdieren\",IF(H12=\"warmtewisselaar 13%\",0.6,IF(H12=\"warmtewisselaar 31%\",1.5,IF(H12=\"warmtewisselaar 37%\",1.85,IF(H12=\"warmtewisselaar 50%\",2.9))))))+IF(E14=\"vleeskuikens\",IF(H12=\"warmtewisselaar 13%\",0.35,IF(H12=\"warmtewisselaar 31%\",1,IF(H12=\"warmtewisselaar 37%\",1.3,IF(H12=\"warmtewisselaar 50%\",2,0)))))+IF(E14=\"vleeseenden\",IF(H12=\"warmtewisselaar 13%\",0.8,IF(H12=\"warmtewisselaar 31%\",2.3,IF(H12=\"warmtewisselaar 37%\",3.15,IF(H12=\"warmtewisselaar 50%\",4.8)))))))+IF(E14=\"kalkoen hennen\",IF(H12=\"warmtewisselaar 13%\",1.1,IF(H12=\"warmtewisselaar 31%\",3,IF(H12=\"warmtewisselaar 37%\",3.85,IF(H12=\"warmtewisselaar 50%\",5.6)))))+IF(E14=\"kalkoen hanen\",IF(H12=\"warmtewisselaar 13%\",2.5,IF(H12=\"warmtewisselaar 31%\",6.2,IF(H12=\"warmtewisselaar 37%\",8.2,IF(H12=\"warmtewisselaar 50%\",11.7))))),0)+IF(H19=\"met stoffilter\",IF(D33=\"opfok leghennen\",IF(H12=\"warmtewisselaar 13%\",0.15,IF(H12=\"warmtewisselaar 31%\",0.35,IF(H12=\"warmtewisselaar 37%\",0.4,IF(H12=\"warmtewisselaar 50%\",0.6)))),IF(D33=\"leghennen\",IF(H12=\"warmtewisselaar 13%\",0.35,IF(H12=\"warmtewisselaar 31%\",0.85,IF(H12=\"warmtewisselaar 37%\",1,IF(H12=\"warmtewisselaar 50%\",1.4)))),IF(E14=\"leghennen grondhuisvesting\",IF(H12=\"warmtewisselaar 13%\",0.35,IF(H12=\"warmtewisselaar 31%\",0.85,IF(H12=\"warmtewisselaar 37%\",1,IF(H12=\"warmtewisselaar 50%\",1.4)))),IF(E14=\"opfok vleeskuikenouderdieren\",IF(H12=\"warmtewisselaar 13%\",0.35,IF(H12=\"warmtewisselaar 31%\",0.85,IF(H12=\"warmtewisselaar 37%\",1.1,IF(H12=\"warmtewisselaar 50%\",1.45)))),IF(D33=\"vleeskuikenouderdieren\",IF(H12=\"warmtewisselaar 13%\",0.5,IF(H12=\"warmtewisselaar 31%\",1.2,IF(H12=\"warmtewisselaar 37%\",1.5,IF(H12=\"warmtewisselaar 50%\",2.1))))))+IF(E14=\"vleeskuikens\",IF(H12=\"warmtewisselaar 13%\",0.3,IF(H12=\"warmtewisselaar 31%\",0.75,IF(H12=\"warmtewisselaar 37%\",1,IF(H12=\"warmtewisselaar 50%\",1.45,0)))))+IF(E14=\"vleeseenden\",IF(H12=\"warmtewisselaar 13%\",0.7,IF(H12=\"warmtewisselaar 31%\",1.9,IF(H12=\"warmtewisselaar 37%\",2.3,IF(H12=\"warmtewisselaar 50%\",3.6)))))))+IF(E14=\"kalkoen hennen\",IF(H12=\"warmtewisselaar 13%\",0.9,IF(H12=\"warmtewisselaar 31%\",2.5,IF(H12=\"warmtewisselaar 37%\",3,IF(H12=\"warmtewisselaar 50%\",4.3)))))+IF(E14=\"kalkoen hanen\",IF(H12=\"warmtewisselaar 13%\",2.2,IF(H12=\"warmtewisselaar 31%\",5.3,IF(H12=\"warmtewisselaar 37%\",6.2,IF(H12=\"warmtewisselaar 50%\",9)))))),0)","v":0},null,null,null,null,null,null," "]
[null,null,null,{"$f":"IF(E14=\"OPFOK LEGHENNEN KOOI/KOLONIE\",\"opfok leghennen\",IF(E14=\"opfok leghennen grondhuisvesting\",\"opfok leghennen\",IF(E14=\"opfok leghennen voliere\",\"opfok leghennen\",IF(E14=\"leghennen verrijkte kooi/kolonie\",\"leghennen\",IF(E14=\"leghennen grondhuisvesting\",\"leghennen\",IF(E14=\"leghennen voliere\",\"leghennen\",IF(E14=\"vleeskuikenouderdieren groepskooi\",\"vleeskuikenouderdieren\",IF(E14=\"vleeskuikenouderdieren grondhuisvesting\",\"vleeskuikenouderdieren\",IF(E14=\"vleeskuikenouderdieren voliere\",\"vleeskuikenouderdieren\",0)))))))))","v":0}]
[]
[]
[]
[]
[]
[]
[]
[]
[null,null,null,null,null,null,null,null,null,null,null,"Kies ALLE VENTILATIELUCHT ivm vereiste NH3 reductie"]

{"sheet":"PLUIMVEECATEGORIE","index":1,"n_rows":16,"n_cols":16,"rows_kept":16,"cut":false,"hidden":true,"merged":[]}
[]
[]
[null,null,"LEGPLUIMVEE",null,null,null,null,null,"VLEESPLUIMVEE",null,null,null,null,null,null,"OPFOK LEGHENNEN KOOI/KOLONIE"]
[null,null,"OPFOK",null,null,"LEGHENNEN",null,null,null,null,null,null,null,null,null,"OPFOK LEGHENNEN GRONDHUISVESTING"]
[null,null,null,null,null,null,null,null,null,null,null,null,null,null,null,"OPFOK LEGHENNEN VOLIERE"]
[null,null,null,null,null,null,null,null,null,null,null,null,null,null,null,"LEGHENNEN VERRIJKTE KOOI/KOLONIE"]
[null,null,null,null,null,null,null,null,null,null,null,null,null,null,null,"LEGHENNEN GRONDHUISVESTING"]
[null,null,null,null,null,null,null,null,null,null,null,null,null,null,null,"LEGHENNEN VOLIERE"]
[null,null,null,null,null,null,null,null,null,null,null,null,null,null,null,"OPFOK VLEESKUIKENOUDERDIEREN"]
[null,null,null,null,null,null,null,null,null,null,null,null,null,null,null,"VLEESKUIKENOUDERDIEREN GROEPSKOOI"]
[null,null,null,null,null,null,null,null,null,null,null,null,null,null,null,"VLEESKUIKENOUDERDIEREN VOLIERE"]
[null,null,null,null,null,null,null,null,null,null,null,null,null,null,null,"VLEESKUIKENOUDERDIEREN GRONDHUISVESTING"]
[null,null,null,null,null,null,null,null,null,null,null,null,null,null,null,"VLEESKUIKENS"]
[null,null,null,null,null,null,null,null,null,null,null,null,null,null,null,"KALKOEN HENNEN"]
[null,null,null,null,null,null,null,null,null,null,null,null,null,null,null,"KALKOEN HANEN"]
[null,null,null,null,null,null,null,null,null,null,null,null,null,null,null,"VLEESEENDEN"]

{"sheet":"wisselend debiet en reductie","index":2,"n_rows":69,"n_cols":32,"rows_kept":69,"cut":false,"hidden":true,"merged":[[0,27,0,31],[3,28,3,29],[3,30,3,31]]}
["Lft (dg)","Gew. (g)","MG","Voer (g/d)","Totaal deb update (m3/d/u)","Hoofd deb update minus WW (m3/d/u)","Deb. w.wisselaar (m3/u/d)","Deb. Alleen Stoffilter (m3/u/d)","Deb. Ww en Stoffilter (m3/u/d)","PM10 conc (mg/m3)","#dieren","Emissie PM10 zonder reductie (g/dpl/j)","Emissie alleen stoffilter","Emissie (g/dpl/jr) bij ..% red. WW en ..%red hoofddebiet","Emissie alleen ww","Emissie ww + stand alone stoffilter","Emissie Stoffilter en ww achter elkaar","Emissie na overige techniek (g/dpl/jr)",null,null,null,null,null,null,null,null,null,"Berekeningen bij uitbroeden/opfokken en overplaatsen"]
[null,null,null,null,null,null,null,null,null,"Achtergrond",null,null,null,null,null,null,null,0,"reductie in de stal"]
[null,null,null,null,null,null,null,null,null,{"$f":"+J4","v":2.5999999999999999E-2},null,null,null,null,null,null,null,0.8,"reductie wwlaar zonder droge stoffilters"]
[null,null,null,null,null,null,null,null,null,2.5999999999999999E-2,null,null,null,null,null,null,null,{"$f":"IF(VLEESKUIKENS!$H$16=0,VLEESKUIKENS!F14,VLEESKUIKENS!$H$16)","v":0},"max. debiet door wwlaar/droge stoffilters (m3/u/d)",null,null,null,null,null,null,null,null,null,"zonder reductie",null,"met reductie"]
[null,null,null,null,null,null,null,null,null,null,null,null,null,null,null,null,null,{"$f":"VLEESKUIKENS!$F$20","v":0},"max. debiet stoffilter stand alone",null,null,null,null,null,null,null,null,"verhouding plaatsen","1:2","1:1","1:2","1:1"]
[null,null,null,null,null,null,null,null,null,null,null,null,null,null,null,null,null,{"$f":"IF(VLEESKUIKENS!$L$20=\"chemische wasser 35%\",35%,IF(VLEESKUIKENS!$L$20=\"chemische wasser 70%\",70%,IF(VLEESKUIKENS!$L$20=\"bio wasser 60%\",60%,IF(VLEESKUIKENS!$L$20=\"bio wasser 75%\",75%,IF(VLEESKUIKENS!$L$20=\"biofilter\",80%,IF(VLEESKUIKENS!$L$20=\"waterluchtwassysteem\",33%,IF(VLEESKUIKENS!$L$20=\"droogfilterwand\",40%,IF(VLEESKUIKENS!$L$20=\"ionisatiefilter\",57%,IF(VLEESKUIKENS!$L$20=\"LUCHTCONDITIONERINGSUNIT\",IF(VLEESKUIKENS!$F$24=\"Niet alle lucht gaat door luchtconditioneringsunit, dus niet combineren met droog stoffilter\",\"error\",80%),0)))))))))","v":0},"reductie overige techniek ALLE lucht",null,null,null," "]
[null,null,null,null,null,null,null,null,null,null,null,null,null,null,null,{"$f":"Q8+P8","v":0},null,{"$f":"VLEESKUIKENS!$F$14","v":0},"max. debiet stoffilter met ww",null,null,null,null,null,null,null,"trad.","uitbroed/opfok-systeem"]
[null,null,null,null,null,null,null,null,null,null,null,{"$f":"$L$57+1","v":1},{"$f":"MIN(95%,IF(M57<50%,$M$57*99%,M57))","v":0},{"$f":"$N$57","v":0},{"$f":"$O$57*99.6%","v":0},{"$f":"$P$57*99%","v":0},{"$f":"MIN(95%,IF(Q57>42%,Q57*1.025,IF($Q$57<24%,Q57,IF(Q57<35.5%,Q57*1.05,Q57))))","v":0},{"$f":"ROUND($R$57,3)","v":0},{"$f":"ROUND($S$57,3)","v":0},{"$f":"ROUND($T$57,3)","v":0},{"$f":"$U$57","v":0},{"$f":"$V$57","v":0},{"$f":"$W$57","v":0},"gemiddelde reductie",null,null,null,"Overplaatsen op  .... dagen",13,19,13,19]
[0,42,null,null,null,null,null,null,null,null,1,null,null,null," ",{"$f":"O8+P8","v":0}," ","lucht ww i.c.m. filter via techniek","lucht ww niet via techniek","lucht ww niet via techniek wel via stoffilter","ww incl stoffilter via techniek","beiden niet via techniek","ww wel via overige techniek",null,null,null,null,"dagen eieren",3,3,3,3]
[1,53,{"$f":"(B10/1000)^0.75","v":0.11046047392264177},14,0.14925531136914977,{"$f":"E10-G10","v":0.14925531136914977},{"$f":"IF($R$4>0<E10,E10,IF($R$4>E10,E10,$R$4))","v":0},{"$f":"IF(E10<$R$5,E10-G10,$R$5)","v":0},{"$f":"MIN(R$5,E10-G10)","v":0},0.33639999999999998,{"$f":"K9-0.0017","v":0.99829999999999997},{"$f":"($J10-$J$3)/1000*$E10*24*365*$K10","v":0.40515078495101986},{"$f":"IF(E10>$R$5,L10-(R$5)/E10*L10*99%,L10-(E10)/E10*L10*99%)","v":0.40515078495101986},{"$f":"(((($J10*(1-$R$2))-$J$3)/1000*$F10*24*365*$K10)*(1-R$5))+(((($J10*(1-$R$2))-$J$3)/1000*$G10*24*365*$K10)*(1-R$3))","v":0.40515078495101986},{"$f":"(((($J10)-$J$3)/1000*$F10*24*365*$K10))+(((($J10)-$J$3)/1000*$G10*24*365*$K10)*(1-R$3))","v":0.40515078495101986},{"$f":"IF(I10=0,L10,IF(I10>$R$5,L10-(R$5)/E10*L10*99%,L10-(I10)/E10*L10*99%))","v":0.40515078495101986},{"$f":"(((($J10)-$J$3)/1000*$F10*24*365*$K10))+(((($J10)-$J$3)/1000*$G10*24*365*$K10)*(1-95%))","v":0.40515078495101986},{"$f":"IF(E10-G10-H10>=0,L10-((E10-G10*80%-H10*95%)/E10*L10)*$R$6,IF(G10>H10,L10-((E10-G10)/E10*L10)*$R$6,L10-((E10-H10)/E10*L10)*$R$6))","v":0.40515078495101986},{"$f":"IF(E10-G10-H10>=0,L10-((E10-G10-H10)/E10*L10)*$R$6,IF(G10>H10,L10-((E10-G10)/E10*L10)*$R$6,L10-((E10-H10)/E10*L10)*$R$6))","v":0.40515078495101986},{"$f":"L10-(E10-H10)/E10*L10*$R$6","v":0.40515078495101986},{"$f":"IF(VLEESKUIKENS!$H$15=\"ja\",L10-((E10-G10*95%-I10)/E10*L10)*$R$6,L10-((E10-G10*80%-I10)/E10*L10)*$R$6)","v":0.40515078495101986},{"$f":"L10-((E10-G10-I10)/E10*L10)*$R$6","v":0.40515078495101986},{"$f":"L10-(E10-H10)/E10*L10*$R$6","v":0.40515078495101986},{"$f":"M10/L10","v":1},null,null,null,"dagen leegstand",{"$f":"AC11-AC8-AC9","v":3},11,{"$f":"AE11-AE8-AE9","v":3},{"$f":"AF11-AF8-AF9","v":11}]
[2,64,0.12724331660272806,16,0.16344202473882499,{"$f":"E11-G11","v":0.16344202473882499},0,0,0,0.48144723946899115,0.996,{"$f":"($J11-$J$3)/1000*$E11*24*365*$K11","v":0.64947920803628123},{"$f":"IF(E11>$R$5,L11-(R$5)/E11*L11*99%,L11-(E11)/E11*L11*99%)","v":0.64947920803628123},0.64947920803628123,{"$f":"(((($J11)-$J$3)/1000*$F11*24*365*$K11))+(((($J11*(1-$R$2))-$J$3)/1000*$G11*24*365*$K11)*(1-R$3))","v":0.64947920803628123},0.64947920803628123,{"$f":"(((($J11)-$J$3)/1000*$F11*24*365*$K11))+(((($J11)-$J$3)/1000*$G11*24*365*$K11)*(1-95%))","v":0.64947920803628123},{"$f":"IF(E11-G11-H11>=0,L11-((E11-G11*80%-H11*95%)/E11*L11)*$R$6,IF(G11>H11,L11-((E11-G11)/E11*L11)*$R$6,L11-((E11-H11)/E11*L11)*$R$6))","v":0.64947920803628123},{"$f":"IF(E11-G11-H11>=0,L11-((E11-G11-H11)/E11*L11)*$R$6,IF(G11>H11,L11-((E11-G11)/E11*L11)*$R$6,L11-((E11-H11)/E11*L11)*$R$6))","v":0.64947920803628123},{"$f":"L11-(E11-H11)/E11*L11*$R$6","v":0.64947920803628123},{"$f":"IF(VLEESKUIKENS!$H$15=\"ja\",L11-((E11-G11*95%-I11)/E11*L11)*$R$6,L11-((E11-G11*80%-I11)/E11*L11)*$R$6)","v":0.64947920803628123},0.64947920803628123,{"$f":"L11-(E11-H11)/E11*L11*$R$6","v":0.64947920803628123},{"$f":"M11/L11","v":1},null,null,null,"dagen/ronde",19,33,19,33]
[3,80,0.15042412372345573,18,0.17897718483637273,0.17897718483637273,0,0,0,0.59377662936378461,0.99399999999999999,0.88484189165968985,0.88484189165968985,0.88484189165968985,0.88484189165968985,0.88484189165968985,0.88484189165968985,0.88484189165968985,0.88484189165968985,0.88484189165968985,{"$f":"IF(VLEESKUIKENS!$H$15=\"ja\",L12-((E12-G12*95%-I12)/E12*L12)*$R$6,L12-((E12-G12*80%-I12)/E12*L12)*$R$6)","v":0.88484189165968985},0.88484189165968985,0.88484189165968985,1,null,null,null,"# rondes/jr",{"$f":"365/AC11","v":19.210526315789473},11.060606060606061,{"$f":"365/AE11","v":19.210526315789473},{"$f":"365/AF11","v":11.060606060606061}]
[4,98,0.17515379713639415,20,0.19598896148735642,0.19598896148735642,0,0,0,0.68903520925181982,0.99199999999999999,1.1292340925626256,1.1292340925626256,1.1292340925626256,1.1292340925626256,1.1292340925626256,1.1292340925626256,1.1292340925626256,1.1292340925626256,1.1292340925626256,{"$f":"IF(VLEESKUIKENS!$H$15=\"ja\",L13-((E13-G13*95%-I13)/E13*L13)*$R$6,L13-((E13-G13*80%-I13)/E13*L13)*$R$6)","v":1.1292340925626256},1.1292340925626256,1.1292340925626256,1,null,null,null,"emissie/ronde  (gam)",{"$f":"AVERAGE(L10:L22)/$AA$23","v":0.31643951108385232},{"$f":"AVERAGE(L10:L28)/$AA$23","v":0.55430196605395243},{"$f":"AVERAGE(N10:N22)/$AA$23","v":0.31643951108385232},{"$f":"AVERAGE(N10:N28)/$AA$23","v":0.55430196605395243}]
[5,117,0.20005038720527318,23,0.21461770705584507,0.21461770705584507,0,0,0,0.77332717794733563,{"$f":"K13-0.0017","v":0.99029999999999996},1.3913846643349628,1.3913846643349628,1.3913846643349628,1.3913846643349628,1.3913846643349628,1.3913846643349628,1.3913846643349628,1.3913846643349628,1.3913846643349628,{"$f":"IF(VLEESKUIKENS!$H$15=\"ja\",L14-((E14-G14*95%-I14)/E14*L14)*$R$6,L14-((E14-G14*80%-I14)/E14*L14)*$R$6)","v":1.3913846643349628},1.3913846643349628,1.3913846643349628,1,null,null,null,"emissie/dpl/jr (gram)",{"$f":"AC13*AC12","v":6.0789695550318994},{"$f":"AD13*AD12","v":6.1309156851422015},{"$f":"AE13*AE12","v":6.0789695550318994},{"$f":"AF13*AF12","v":6.1309156851422015}]
[6,140,0.22887377179317683,26,0.23501711439437364,0.23501711439437364,0,0,0,0.84979821363970398,0.98899999999999999,1.677338568562827,1.677338568562827,1.677338568562827,1.677338568562827,1.677338568562827,1.677338568562827,1.677338568562827,1.677338568562827,1.677338568562827,{"$f":"IF(VLEESKUIKENS!$H$15=\"ja\",L15-((E15-G15*95%-I15)/E15*L15)*$R$6,L15-((E15-G15*80%-I15)/E15*L15)*$R$6)","v":1.677338568562827},1.677338568562827,1.677338568562827,1,null,null,null,"vervolghuisvesting"]
[7,163,0.25653150160650345,28,0.25735548485701631,0.25735548485701631,0,0,0,0.92032388517371078,0.98799999999999999,1.9919998854985761,1.9919998854985761,1.9919998854985761,1.9919998854985761,1.9919998854985761,1.9919998854985761,1.9919998854985761,1.9919998854985761,1.9919998854985761,{"$f":"IF(VLEESKUIKENS!$H$15=\"ja\",L16-((E16-G16*95%-I16)/E16*L16)*$R$6,L16-((E16-G16*80%-I16)/E16*L16)*$R$6)","v":1.9919998854985761},1.9919998854985761,1.9919998854985761,1,null,null,null,"# dagen"]
[8,188,0.28550806913541388,31,0.28181711683706884,0.28181711683706884,0,0,0,0.98612990306547954,{"$f":"K16-0.000857","v":0.98714299999999999},2.3398151022830449,2.3398151022830449,2.3398151022830449,2.3398151022830449,2.3398151022830449,2.3398151022830449,2.3398151022830449,2.3398151022830449,2.3398151022830449,{"$f":"IF(VLEESKUIKENS!$H$15=\"ja\",L17-((E17-G17*95%-I17)/E17*L17)*$R$6,L17-((E17-G17*80%-I17)/E17*L17)*$R$6)","v":2.3398151022830449},2.3398151022830449,2.3398151022830449,1,null,null,null,"Groeiperiode",42,42,42,42]
[9,223,0.32451042057507024,35,0.3086038262852,0.3086038262852,0,0,0,1.0480698144429763,0.986286,2.7251401558117752,2.7251401558117752,2.7251401558117752,2.7251401558117752,2.7251401558117752,2.7251401558117752,2.7251401558117752,2.7251401558117752,2.7251401558117752,{"$f":"IF(VLEESKUIKENS!$H$15=\"ja\",L18-((E18-G18*95%-I18)/E18*L18)*$R$6,L18-((E18-G18*80%-I18)/E18*L18)*$R$6)","v":2.7251401558117752},2.7251401558117752,2.7251401558117752,1,null,null,null,"Patio",{"$f":"+AC8","v":13},{"$f":"+AD8","v":19},{"$f":"+AE8","v":13},{"$f":"+AF8","v":19}]
[10,258,0.36200517541016869,41,0.33793661175281386,0.33793661175281386,0,0,0,1.1067664537131101,0.985429,3.1528009046478571,3.1528009046478571,3.1528009046478571,3.1528009046478571,3.1528009046478571,3.1528009046478571,3.1528009046478571,3.1528009046478571,3.1528009046478571,{"$f":"IF(VLEESKUIKENS!$H$15=\"ja\",L19-((E19-G19*95%-I19)/E19*L19)*$R$6,L19-((E19-G19*80%-I19)/E19*L19)*$R$6)","v":3.1528009046478571},3.1528009046478571,3.1528009046478571,1,null,null,42,"VVH",{"$f":"AC17-AC18","v":29},23,{"$f":"AE17-AE18","v":29},{"$f":"AF17-AF18","v":23}]
[11,294,0.39926431662483602,44,0.37005747769773817,0.37005747769773817,0,0,0,1.162690928086719,0.984572,3.6279656399782625,3.6279656399782625,3.6279656399782625,3.6279656399782625,3.6279656399782625,3.6279656399782625,3.6279656399782625,3.6279656399782625,3.6279656399782625,{"$f":"IF(VLEESKUIKENS!$H$15=\"ja\",L20-((E20-G20*95%-I20)/E20*L20)*$R$6,L20-((E20-G20*80%-I20)/E20*L20)*$R$6)","v":3.6279656399782625},3.6279656399782625,3.6279656399782625,1,null,null,0,"Leegstand na vvh",10,10,10,10]
[12,333,0.43836227800313377,50,0.40523143109507043,0.40523143109507043,0,0,0,1.2162098812797726,0.98371500000000001,4.1562348031718033,4.1562348031718033,4.1562348031718033,4.1562348031718033,4.1562348031718033,4.1562348031718033,4.1562348031718033,4.1562348031718033,4.1562348031718033,{"$f":"IF(VLEESKUIKENS!$H$15=\"ja\",L21-((E21-G21*95%-I21)/E21*L21)*$R$6,L21-((E21-G21*80%-I21)/E21*L21)*$R$6)","v":4.1562348031718033},4.1562348031718033,4.1562348031718033,1,null,null,42,"# ronden",{"$f":"365/(AC19+AC20)","v":9.3589743589743595},{"$f":"365/(AD19+AD20)","v":11.060606060606061},{"$f":"365/(AE19+AE20)","v":9.3589743589743595},{"$f":"365/(AF19+AF20)","v":11.060606060606061}]
[13,375,0.47920732818470435,56,0.44374866782583194,0.44374866782583194,0,0,0,1.2676153481444508,0.98285800000000001,4.7437196849028034,4.7437196849028034,4.7437196849028034,4.7437196849028034,4.7437196849028034,4.7437196849028034,4.7437196849028034,4.7437196849028034,4.7437196849028034,{"$f":"IF(VLEESKUIKENS!$H$15=\"ja\",L22-((E22-G22*95%-I22)/E22*L22)*$R$6,L22-((E22-G22*80%-I22)/E22*L22)*$R$6)","v":4.7437196849028034},4.7437196849028034,4.7437196849028034,1,null,null,10,"emissie/ronde  (gram)",{"$f":"AVERAGE(L23:L51)/$AA$23","v":5.5804068853451332},{"$f":"AVERAGE(L29:L51)/$AA$23","v":6.7571206940901671},{"$f":"AVERAGE(N23:N51)/$AA$23","v":5.5804068853451332},{"$f":"AVERAGE(N29:N51)/$AA$23","v":6.7571206940901671}]
[14,420,0.52171937795440382,62,0.48592696688180453,0.48592696688180453,0,0,0,1.3171444528366822,0.98200100000000001,5.3971174753162323,5.3971174753162323,5.3971174753162323,5.3971174753162323,5.3971174753162323,5.3971174753162323,5.3971174753162323,5.3971174753162323,5.3971174753162323,{"$f":"IF(VLEESKUIKENS!$H$15=\"ja\",L23-((E23-G23*95%-I23)/E23*L23)*$R$6,L23-((E23-G23*80%-I23)/E23*L23)*$R$6)","v":5.3971174753162323},5.3971174753162323,5.3971174753162323,1,null,null,{"$f":"365/(AA21+AA22)","v":7.0192307692307692},"emissie/dpl/jr (gram)",{"$f":"AC22*AC21","v":52.226884952589067},{"$f":"AD22*AD21","v":74.737850101300339},{"$f":"AE22*AE21","v":52.226884952589067},{"$f":"AF22*AF21","v":74.737850101300339}]
[15,467,0.56492092352990564,67,0.53211431213947369,0.53211431213947369,0,0,0,1.3649928808471363,0.98114400000000002,6.1237868615716682,6.1237868615716682,6.1237868615716682,6.1237868615716682,6.1237868615716682,6.1237868615716682,6.1237868615716682,6.1237868615716682,6.1237868615716682,{"$f":"IF(VLEESKUIKENS!$H$15=\"ja\",L24-((E24-G24*95%-I24)/E24*L24)*$R$6,L24-((E24-G24*80%-I24)/E24*L24)*$R$6)","v":6.1237868615716682},6.1237868615716682,6.1237868615716682,1,null,null,{"$f":"AA22/(AA21+AA22)","v":0.19230769230769232},"samen (gr/dpl/jr)",{"$f":"(AC14+(AC23*2))/3","v":36.844246486736679},{"$f":"(AD14+AD23)/2","v":40.434382893221269},{"$f":"(AE14+(AE23*2))/3","v":36.844246486736679},{"$f":"(AF14+AF23)/2","v":40.434382893221269}]
[16,517,0.60970240387690722,73,0.58269176333351491,0.58269176333351491,0,0,0,1.4113243745205084,0.98028700000000002,6.9318268228757249,6.9318268228757249,6.9318268228757249,6.9318268228757249,6.9318268228757249,6.9318268228757249,6.9318268228757249,6.9318268228757249,6.9318268228757249,{"$f":"IF(VLEESKUIKENS!$H$15=\"ja\",L25-((E25-G25*95%-I25)/E25*L25)*$R$6,L25-((E25-G25*80%-I25)/E25*L25)*$R$6)","v":6.9318268228757249},6.9318268228757249,6.9318268228757249,1,null,null,null,"verschil t.o.v. trad.",{"$f":"(AC24/$L$56)","v":1.6401324261899246},{"$f":"(AD24/$L$56)","v":1.7999484000853343}]
[17,570,0.65600347774263568,80,0.63807659991623389,0.63807659991623389,0,0,0,1.4562775995930568,0.97943000000000002,7.8301604892624459,7.8301604892624459,7.8301604892624459,7.8301604892624459,7.8301604892624459,7.8301604892624459,7.8301604892624459,7.8301604892624459,7.8301604892624459,{"$f":"IF(VLEESKUIKENS!$H$15=\"ja\",L26-((E26-G26*95%-I26)/E26*L26)*$R$6,L26-((E26-G26*80%-I26)/E26*L26)*$R$6)","v":7.8301604892624459},7.8301604892624459,7.8301604892624459,1,null,null,null,"reductie",null,null,{"$f":"(AC24-AE24)/AC24","v":0},{"$f":"(AD24-AF24)/AD24","v":0}]
[18,625,0.7029266564879364,83,0.69872576374076223,0.69872576374076223,0,0,0,1.4999712215646515,0.97857300000000003,8.82862552892996,8.82862552892996,8.82862552892996,8.82862552892996,8.82862552892996,8.82862552892996,8.82862552892996,8.82862552892996,8.82862552892996,{"$f":"IF(VLEESKUIKENS!$H$15=\"ja\",L27-((E27-G27*95%-I27)/E27*L27)*$R$6,L27-((E27-G27*80%-I27)/E27*L27)*$R$6)","v":8.82862552892996},8.82862552892996,8.82862552892996,1]
[19,682,0.75047854505366585,89,0.76513962897119903,0.76513962897119903,0,0,0,1.5425077315602014,0.97771600000000003,9.9380723314916573,9.9380723314916573,9.9380723314916573,9.9380723314916573,9.9380723314916573,9.9380723314916573,9.9380723314916573,9.9380723314916573,9.9380723314916573,{"$f":"IF(VLEESKUIKENS!$H$15=\"ja\",L28-((E28-G28*95%-I28)/E28*L28)*$R$6,L28-((E28-G28*80%-I28)/E28*L28)*$R$6)","v":9.9380723314916573},9.9380723314916573,9.9380723314916573,1]
[20,741,0.79866316703709561,95,0.83786613032261226,0.83786613032261226,0,0,0,1.5839763789448924,0.97685900000000003,11.170471172628622,11.170471172628622,11.170471172628622,11.170471172628622,11.170471172628622,11.170471172628622,11.170471172628622,11.170471172628622,11.170471172628622,{"$f":"IF(VLEESKUIKENS!$H$15=\"ja\",L29-((E29-G29*95%-I29)/E29*L29)*$R$6,L29-((E29-G29*80%-I29)/E29*L29)*$R$6)","v":11.170471172628622},11.170471172628622,11.170471172628622,1]
[21,804,0.84906714609043155,100,0.91750528369014006,0.91750528369014006,0,0,0,1.6244554532147113,0.97600200000000004,12.539029533542042,12.539029533542042,12.539029533542042,12.539029533542042,12.539029533542042,12.539029533542042,12.539029533542042,12.539029533542042,12.539029533542042,{"$f":"IF(VLEESKUIKENS!$H$15=\"ja\",L30-((E30-G30*95%-I30)/E30*L30)*$R$6,L30-((E30-G30*80%-I30)/E30*L30)*$R$6)","v":12.539029533542042},12.539029533542042,12.539029533542042,1]
[22,867,0.89849222451107746,105,1.0047141364637706,1.0047141364637706,0,0,0,1.6640140834809463,0.97514500000000004,14.058320781768897,14.058320781768897,14.058320781768897,14.058320781768897,14.058320781768897,14.058320781768897,14.058320781768897,14.058320781768897,14.058320781768897,{"$f":"IF(VLEESKUIKENS!$H$15=\"ja\",L31-((E31-G31*95%-I31)/E31*L31)*$R$6,L31-((E31-G31*80%-I31)/E31*L31)*$R$6)","v":14.058320781768897},14.058320781768897,14.058320781768897,1]
[23,934,0.95007995899623099,110,1.1002121883704075,1.1002121883704075,0,0,0,1.7027136746952953,0.97428800000000004,15.744425484912538,15.744425484912538,15.744425484912538,15.744425484912538,15.744425484912538,15.744425484912538,15.744425484912538,15.744425484912538,15.744425484912538,{"$f":"IF(VLEESKUIKENS!$H$15=\"ja\",L32-((E32-G32*95%-I32)/E32*L32)*$R$6,L32-((E32-G32*80%-I32)/E32*L32)*$R$6)","v":15.744425484912538},15.744425484912538,15.744425484912538,1]
[24,1002,1.0014996253121489,115,1.2047873275668293,1.2047873275668293,0,0,0,1.7406090664597387,0.97343100000000005,17.615086718270192,17.615086718270192,17.615086718270192,17.615086718270192,17.615086718270192,17.615086718270192,17.615086718270192,17.615086718270192,17.615086718270192,{"$f":"IF(VLEESKUIKENS!$H$15=\"ja\",L33-((E33-G33*95%-I33)/E33*L33)*$R$6,L33-((E33-G33*80%-I33)/E33*L33)*$R$6)","v":17.615086718270192},17.615086718270192,17.615086718270192,1]
[25,1071,1.0527908533241697,120,1.3193023309581282,1.3193023309581282,0,0,0,1.7777494772651317,0.97257400000000005,19.689880837256492,19.689880837256492,19.689880837256492,19.689880837256492,19.689880837256492,19.689880837256492,19.689880837256492,19.689880837256492,19.689880837256492,{"$f":"IF(VLEESKUIKENS!$H$15=\"ja\",L34-((E34-G34*95%-I34)/E34*L34)*$R$6,L34-((E34-G34*80%-I34)/E34*L34)*$R$6)","v":19.689880837256492},{"$f":"L34-((E34-G34-I34)/E34*L34)*$R$6","v":19.689880837256492},19.689880837256492,1]
[26,1143,1.1054387208421237,125,1.4447019823712437,1.4447019823712437,0,{"$f":"IF(E35<$R$5,E35-G35,$R$5)","v":0},0,1.8141792808343342,0.97171700000000005,21.990405313994639,21.990405313994639,21.990405313994639,21.990405313994639,21.990405313994639,21.990405313994639,21.990405313994639,21.990405313994639,21.990405313994639,{"$f":"IF(VLEESKUIKENS!$H$15=\"ja\",L35-((E35-G35*95%-I35)/E35*L35)*$R$6,L35-((E35-G35*80%-I35)/E35*L35)*$R$6)","v":21.990405313994639},{"$f":"L35-((E35-G35-I35)/E35*L35)*$R$6","v":21.990405313994639},21.990405313994639,1]
[27,1215,1.1572633740280138,128,1.5820208673106961,1.5820208673106961,{"$f":"IF($R$4>0<E36,E36,IF($R$4>E36,E36,$R$4))","v":0},{"$f":"IF(E36<$R$5,E36-G36,$R$5)","v":0},0,1.8499386496964256,0.97086000000000006,24.540485383794802,24.540485383794802,24.540485383794802,24.540485383794802,24.540485383794802,24.540485383794802,24.540485383794802,24.540485383794802,24.540485383794802,{"$f":"IF(VLEESKUIKENS!$H$15=\"ja\",L36-((E36-G36*95%-I36)/E36*L36)*$R$6,L36-((E36-G36*80%-I36)/E36*L36)*$R$6)","v":24.540485383794802},24.540485383794802,24.540485383794802,1]
[28,1290,1.210437257034197,133,1.7323919086056518,1.7323919086056518,{"$f":"IF($R$4>0<E37,E37,IF($R$4>E37,E37,$R$4))","v":0},0,0,1.8850640927470739,0.97000300000000006,27.366401411597796,27.366401411597796,27.366401411597796,27.366401411597796,27.366401411597796,27.366401411597796,27.366401411597796,27.366401411597796,27.366401411597796,{"$f":"IF(VLEESKUIKENS!$H$15=\"ja\",L37-((E37-G37*95%-I37)/E37*L37)*$R$6,L37-((E37-G37*80%-I37)/E37*L37)*$R$6)","v":27.366401411597796},27.366401411597796,27.366401411597796,1]
[29,1366,1.2635371765267982,137,1.8970557133700083,1.8970557133700083,0,0,0,1.9195889074002137,0.96914600000000006,30.497139071527467,30.497139071527467,{"$f":"(((($J38*(1-$R$2))-$J$3)/1000*$F38*24*365*$K38)*(1-R$4))+(((($J38*(1-$R$2))-$J$3)/1000*$G38*24*365*$K38)*(1-R$3))","v":30.497139071527467},30.497139071527467,30.497139071527467,30.497139071527467,30.497139071527467,30.497139071527467,30.497139071527467,{"$f":"IF(VLEESKUIKENS!$H$15=\"ja\",L38-((E38-G38*95%-I38)/E38*L38)*$R$6,L38-((E38-G38*80%-I38)/E38*L38)*$R$6)","v":30.497139071527467},30.497139071527467,30.497139071527467,1]
[30,1443,1.3165875631814998,141,2.0773708083907936,2.0773708083907936,0,0,0,1.9535435623623054,0.96828900000000007,33.964664635588818,33.964664635588818,{"$f":"(((($J39*(1-$R$2))-$J$3)/1000*$F39*24*365*$K39)*(1-R$4))+(((($J39*(1-$R$2))-$J$3)/1000*$G39*24*365*$K39)*(1-R$3))","v":33.964664635588818},33.964664635588818,33.964664635588818,33.964664635588818,33.964664635588818,33.964664635588818,33.964664635588818,{"$f":"IF(VLEESKUIKENS!$H$15=\"ja\",L39-((E39-G39*95%-I39)/E39*L39)*$R$6,L39-((E39-G39*80%-I39)/E39*L39)*$R$6)","v":33.964664635588818},33.964664635588818,33.964664635588818,1]
[31,1521,1.3696099755898687,145,2.27482484838995,2.27482484838995,0,0,0,1.9869560236198514,0.96743200000000007,37.80422789172534,37.80422789172534,{"$f":"(((($J40*(1-$R$2))-$J$3)/1000*$F40*24*365*$K40)*(1-R$4))+(((($J40*(1-$R$2))-$J$3)/1000*$G40*24*365*$K40)*(1-R$3))","v":37.80422789172534},37.80422789172534,37.80422789172534,37.80422789172534,37.80422789172534,37.80422789172534,37.80422789172534,{"$f":"IF(VLEESKUIKENS!$H$15=\"ja\",L40-((E40-G40*95%-I40)/E40*L40)*$R$6,L40-((E40-G40*80%-I40)/E40*L40)*$R$6)","v":37.80422789172534},37.80422789172534,37.80422789172534,1]
[32,1600,1.4226235280311383,150,2.4910468896311149,2.4910468896311149,0,0,0,2.0198520336153374,0.96657500000000007,42.054695458661151,42.054695458661151,{"$f":"(((($J41*(1-$R$2))-$J$3)/1000*$F41*24*365*$K41)*(1-R$5))+(((($J41*(1-$R$2))-$J$3)/1000*$G41*24*365*$K41)*(1-R$3))","v":42.054695458661151},42.054695458661151,42.054695458661151,42.054695458661151,42.054695458661151,42.054695458661151,42.054695458661151,{"$f":"IF(VLEESKUIKENS!$H$15=\"ja\",L41-((E41-G41*95%-I41)/E41*L41)*$R$6,L41-((E41-G41*80%-I41)/E41*L41)*$R$6)","v":42.054695458661151},42.054695458661151,42.054695458661151,1]
[33,1680,1.4756452401119453,155,2.7278208301323859,2.7278208301323859,0,0,{"$f":"MIN(R$5,E42-G42)","v":0},2.0522553515790203,0.96571800000000008,46.758917537224043,46.758917537224043,46.758917537224043,46.758917537224043,46.758917537224043,46.758917537224043,46.758917537224043,46.758917537224043,46.758917537224043,{"$f":"IF(VLEESKUIKENS!$H$15=\"ja\",L42-((E42-G42*95%-I42)/E42*L42)*$R$6,L42-((E42-G42*80%-I42)/E42*L42)*$R$6)","v":46.758917537224043},46.758917537224043,46.758917537224043,1]
[34,1762,1.5293413394700739,160,2.987100127370959,2.987100127370959,0,0,0,2.0841879614286749,0.96486100000000008,51.96413143746669,51.96413143746669,51.96413143746669,51.96413143746669,51.96413143746669,51.96413143746669,51.96413143746669,51.96413143746669,51.96413143746669,{"$f":"IF(VLEESKUIKENS!$H$15=\"ja\",L43-((E43-G43*95%-I43)/E43*L43)*$R$6,L43-((E43-G43*80%-I43)/E43*L43)*$R$6)","v":51.96413143746669},51.96413143746669,51.96413143746669,1]
[35,1844,1.5824160803743146,165,{"$f":"MIN('Max waarden'!$B$10,3.2710239149052)","v":3.2710239149052001},3.2710239149052001,0,0,0,2.1156702524343451,0.96400400000000008,57.722405550439589,57.722405550439589,57.722405550439589,57.722405550439589,57.722405550439589,57.722405550439589,57.722405550439589,57.722405550439589,57.722405550439589,{"$f":"IF(VLEESKUIKENS!$H$15=\"ja\",L44-((E44-G44*95%-I44)/E44*L44)*$R$6,L44-((E44-G44*80%-I44)/E44*L44)*$R$6)","v":57.722405550439589},57.722405550439589,57.722405550439589,1]
[36,1927,1.6355404367292354,170,{"$f":"MIN('Max waarden'!$B$10,3.58193465088123)","v":3.5819346508812302},3.5819346508812302,0,0,0,2.1467211768883234,0.96314700000000009,64.091127795766525,64.091127795766525,64.091127795766525,64.091127795766525,64.091127795766525,64.091127795766525,64.091127795766525,64.091127795766525,64.091127795766525,{"$f":"IF(VLEESKUIKENS!$H$15=\"ja\",L45-((E45-G45*95%-I45)/E45*L45)*$R$6,L45-((E45-G45*80%-I45)/E45*L45)*$R$6)","v":64.091127795766525},64.091127795766525,64.091127795766525,1]
[37,2009,1.6874656945031656,175,{"$f":"MIN('Max waarden'!$B$10,3.92239744402953)","v":3.9223974440295302},3.9223974440295302,0,0,0,2.1773583882614829,0.96229000000000009,71.133542974383559,71.133542974383559,71.133542974383559,71.133542974383559,71.133542974383559,71.133542974383559,71.133542974383559,71.133542974383559,71.133542974383559,{"$f":"IF(VLEESKUIKENS!$H$15=\"ja\",L46-((E46-G46*95%-I46)/E46*L46)*$R$6,L46-((E46-G46*80%-I46)/E46*L46)*$R$6)","v":71.133542974383559},71.133542974383559,71.133542974383559,1]
[38,2092,1.7394872913327406,179,{"$f":"MIN('Max waarden'!$B$10,4.2952212165971)","v":4.2952212165971},4.2952212165971,0,0,0,2.2075983627206743,0.96143300000000009,78.919343893406136,78.919343893406136,78.919343893406136,78.919343893406136,78.919343893406136,78.919343893406136,78.919343893406136,78.919343893406136,78.919343893406136,{"$f":"IF(VLEESKUIKENS!$H$15=\"ja\",L47-((E47-G47*95%-I47)/E47*L47)*$R$6,L47-((E47-G47*80%-I47)/E47*L47)*$R$6)","v":78.919343893406136},78.919343893406136,78.919343893406136,1]
[39,2176,1.7916128483160338,184,{"$f":"MIN('Max waarden'!$B$10,4.70348187881569)","v":4.7034818788156896},4.7034818788156896,0,0,0,2.23745650639421,0.9605760000000001,87.525321610899056,87.525321610899056,87.525321610899056,87.525321610899056,87.525321610899056,87.525321610899056,87.525321610899056,{"$f":"IF(E48-G48-H48>=0,L48-((E48-G48-H48)/E48*L48)*$R$6,IF(G48>H48,L48-((E48-G48)/E48*L48)*$R$6,L48-((E48-H48)/E48*L48)*$R$6))","v":87.525321610899056},87.525321610899056,{"$f":"IF(VLEESKUIKENS!$H$15=\"ja\",L48-((E48-G48*95%-I48)/E48*L48)*$R$6,L48-((E48-G48*80%-I48)/E48*L48)*$R$6)","v":87.525321610899056},87.525321610899056,87.525321610899056,1]
[40,2259,1.8426259079151712,189,{"$f":"MIN('Max waarden'!$B$10,5.15054770610263)","v":5.1505477061026301},5.1505477061026301,0,0,0,2.2669472503778456,0.9597190000000001,97.03608067657251,97.03608067657251,97.03608067657251,97.03608067657251,97.03608067657251,97.03608067657251,97.03608067657251,97.03608067657251,97.03608067657251,{"$f":"IF(VLEESKUIKENS!$H$15=\"ja\",L49-((E49-G49*95%-I49)/E49*L49)*$R$6,L49-((E49-G49*80%-I49)/E49*L49)*$R$6)","v":97.03608067657251},97.03608067657251,97.03608067657251,1]
[41,2342,1.893172415958305,189,{"$f":"MIN('Max waarden'!$B$10,5.64010712836396)","v":5.6401071283639599},5.6401071283639599,0,0,0,2.2960841351525101,0.9588620000000001,{"$f":"($J50-$J$3)/1000*$E50*24*365*$K50","v":107.54482582472687},107.54482582472687,107.54482582472687,107.54482582472687,107.54482582472687,107.54482582472687,107.54482582472687,107.54482582472687,107.54482582472687,{"$f":"IF(VLEESKUIKENS!$H$15=\"ja\",L50-((E50-G50*95%-I50)/E50*L50)*$R$6,L50-((E50-G50*80%-I50)/E50*L50)*$R$6)","v":107.54482582472687},107.54482582472687,107.54482582472687,1]
[42,2425,1.9432729580095993,190,{"$f":"MIN('Max waarden'!$B$10,6.17619916067003)","v":6.1761991606700297},6.1761991606700297,0,0,{"$f":"MIN(R$5,E51-G51)","v":0},2.3248798858221513,0.95800500000000011,{"$f":"($J51-$J$3)/1000*$E51*24*365*$K51","v":119.15422721321058},119.15422721321058,119.15422721321058,119.15422721321058,{"$f":"IF(I51=0,L51,IF(I51>$R$5,L51-(R$5)/E51*L51*99%,L51-(I51)/E51*L51*99%))","v":119.15422721321058},119.15422721321058,{"$f":"IF(E51-G51-H51>=0,L51-((E51-G51*80%-H51*95%)/E51*L51)*$R$6,IF(G51>H51,L51-((E51-G51)/E51*L51)*$R$6,L51-((E51-H51)/E51*L51)*$R$6))","v":119.15422721321058},119.15422721321058,119.15422721321058,{"$f":"IF(VLEESKUIKENS!$H$15=\"ja\",L51-((E51-G51*95%-I51)/E51*L51)*$R$6,L51-((E51-G51*80%-I51)/E51*L51)*$R$6)","v":119.15422721321058},119.15422721321058,119.15422721321058,1]
[null,null,null,null,null,null,null,null,null,null,null,null," ",null," ",null,{"$f":"I50/(E50-G50)*(L50-(L50-O50)/80%)*5%","v":0}," ",null,null,null,null," "]
[null,{"$f":"AVERAGE(B9:B51)","v":958.65116279069764},null,null,{"$f":"AVERAGE(E10:E51)","v":1.6567704387744215},null," ",null,null,null,null," ",null,null,null,{"$f":"IF(R$5<E5,R$5/E47*(L47-(L47-O47)/80%)*95%,E$5/E47*(L47-(L47-O47)/80%)*95%)","v":0},{"$f":"L51-I51/(E51)*(L51-(L51-O51)/80%)*95%","v":119.15422721321058},{"$f":"(L45-(L45-O45)/80%)","v":64.091127795766525},{"$f":"5%*R53","v":3.2045563897883262}," "," "]
[null,null,null,"totaal reductie debiet",null,0,null," ",null,null,null,null,null,null,null,{"$f":"L51-R$5/E51*L51*95%","v":119.15422721321058},{"$f":"E49/(E49-G49)*(L49-(L49-O49)/80%)*(1-95%)","v":4.8518040338286301},{"$f":"I51/(E51-G51)","v":0}]
[null,null,null,null,{"$f":"SUM(E10:E51)","v":69.584358428525704},{"$f":"SUM(F10:F51)","v":69.584358428525704},{"$f":"SUM(G10:G51)","v":0},null,null,null,"gem (- leeg)",{"$f":"AVERAGE(L10:L51)","v":27.733567931076507},{"$f":"AVERAGE(M10:M51)","v":27.733567931076507},27.733567931076507,{"$f":"AVERAGE(O10:O52)","v":27.733567931076507},{"$f":"AVERAGE(P10:P52)","v":27.733567931076507},{"$f":"AVERAGE(Q10:Q51)","v":27.733567931076507},{"$f":"AVERAGE(R10:R51)","v":27.733567931076507},27.733567931076507,27.733567931076507,27.733567931076507,27.733567931076507,27.733567931076507," "]
[null,null,null,null,null,{"$f":"F55/$E$55","v":1},{"$f":"G55/$E$55","v":0},null,null,null,"gem (+ leeg)",{"$f":"L55*0.81","v":22.464190024171973},{"$f":"M55*0.81","v":22.464190024171973},22.464190024171973,{"$f":"O55*0.81","v":22.464190024171973},22.464190024171973,22.464190024171973,{"$f":"R55*0.81","v":22.464190024171973},22.464190024171973,22.464190024171973,22.464190024171973,22.464190024171973,22.464190024171973]
[null,null,null,"TOTAAL DEBIET (hoofd en WW)",null,null,null,null,null,null,"reductie",{"$f":"1-(L56/$L$56)","v":0},0,0,{"$f":"1-(O56/$L$56)","v":0},{"$f":"1-(P56/($L$56))","v":0},0,{"$f":"1-(R56/$L$56)","v":0},{"$f":"1-(S56/$L$56)","v":0},{"$f":"1-(T56/$L$56)","v":0},0,0,{"$f":"1-(W56/$L$56)","v":0}]
[null,null,null,null,null,null,null,null,null,null,null,null,null,null,null,{"$f":"M57-P57","v":0}]
[null,null,null,null,null,null,null,null,null,null,null,null,null,null,{"$f":"O51+P51","v":238.30845442642115},{"$f":"(L51-I51/(E51-G51)*(L51-(L51-O51)/80%))*95%","v":113.19651585255004},null,null,null,null,null,null," "]
[null,null,null,null,null,null,null,null,null,null,null,null,null,null,null,{"$f":"(L51-I51/(E51-G51))*(1-95%)","v":5.9577113606605341}," "]
[null,null,null,null,null,null,null,null,null,null,null,null,null,null,null,{"$f":"(L51-I51/(E51-G51))*5%","v":5.9577113606605288}]
[null,null,null,null,null,null,null,null,null,null,null,null,null,null,null,{"$f":"(O51-(L51-O51)/80%)","v":119.15422721321058}]
[null,null,null,null,null,null,null,null,null,null,null,null,null,null,null,{"$f":"I51/(E51-G51)","v":0}]
[null,null,null,null,null,null,null,null,null,null,null,null,null,{"$f":"20%*O64","v":0},{"$f":"L51-O51","v":0}]
[null,null,null,null,null,null,null,null,null,null,null,null,null,{"$f":"O51-N64","v":119.15422721321058},{"$f":"O64/95%","v":0}]
[null,null,null,null,null,null,null,null,null,null,null,null,null,{"$f":"95%*N65","v":113.19651585255004},{"$f":"L51-O65","v":119.15422721321058}]
[null,null,null,null,null,null,null,null,null,null,null,null,null,{"$f":"L51-P51","v":0},{"$f":"5%*O66","v":5.9577113606605288}]
[null,null,null,null,null,null,null,null,null,null,null,null,null,null,{"$f":"5.95/L51","v":4.9935282525505956E-2}]
[null,null,null,null,null,null,null,null,null,null,null,null,null,{"$f":"95%*P51","v":113.19651585255004}]

{"sheet":"Max waarden","index":3,"n_rows":46,"n_cols":9,"rows_kept":46,"cut":false,"hidden":true,"merged":[]}
["Overzicht maximale waarden rekenmodel reducties fijnstof"]
[]
[null,"waarden in m3/dier/uur"]
[]
["Maximale ventilatie:"]
["Opfok leghennen",1.73]
["Leghennen",8.01]
["Opfok vleeskuikenouderdieren",4.8600000000000003]
["Vleeskuikenouderdieren",15]
["Vleeskuikens",{"$f":"IF(VLEESKUIKENS!$L$20=\"luchtconditioneringsunit\",6.1762/2,6.17619916067003)","v":6.1761991606700297},{"$f":"VLEESKUIKENS!$L$20","v":"GEEN TECHNIEK"}]
["Vleeskalkoenen hennen",12.35]
["Vleeskalkoenen hanen",24.84]
["Vleeseenden",12.56]
[]
[]
["Debiet door droogtunnel",null,"rekenwaarde","in overzicht"]
["Opfok leghennen","bandendroger (30%)",0.80700000000000005,0.85,"Deze waarden staan (nog) niet genoemd in de beschrijvingen."]
[null,"platendroger (55%)",0.83799999999999997,0.85]
["Leghennen","bandendroger (30%)",1.835,2]
[null,"platendroger (55%)",1.899,2]
[]
[]
["Debiet door warmtewisselaar"]
["ZONDER FILTERS"]
["Reductiepercentage op stalniveau:",0.13,null,0.31,null,0.37,null,0.5]
[null,"rekenwaarde","in overzicht","rekenwaarde","in overzicht","rekenwaarde","in overzicht","rekenwaarde","in overzicht"]
["Opfok leghennen",0.17499999999999999,0.2,0.434,0.4,0.52700000000000002,0.55000000000000004,0.745,0.8]
["Leghennen",0.439,0.4,1.048,1,1.252,1.25,1.708,1.8]
["Opfok vleeskuikenouderdieren",0.42,0.4,1.0469999999999999,1,1.2789999999999999,1.3,1.84,1.9]
["Vleeskuikenouderdieren",0.59499999999999997,0.6,1.4850000000000001,1.5,1.845,1.85,2.8450000000000002,2.9]
["Vleeskuikens",0.35699999999999998,0.35,1.0009999999999999,1,1.27,1.3,1.9750000000000001,2]
["Vleeskalkoenen hennen",1.2450000000000001,1.1000000000000001,3.17,3,3.86,3.85,5.5,5.6]
["Vleeskalkoenen hanen",2.6949999999999998,2.5,6.75,6.2,8.1750000000000007,8.1999999999999993,11.5,11.7]
["Vleeseenden",0.88,0.8,2.4849999999999999,2.2999999999999998,3.12,3.15,4.7300000000000004,4.8]
[]
["MET FILTERS"]
["Reductiepercentage op stalniveau:",0.13,null,0.31,null,0.37,null,0.5]
[null,"rekenwaarde","in overzicht","rekenwaarde","in overzicht","rekenwaarde","in overzicht","rekenwaarde","in overzicht"]
["Opfok leghennen",0.14099999999999999,0.15,0.34599999999999997,0.35,0.41799999999999998,0.4,0.58099999999999996,0.6]
["Leghennen",0.35499999999999998,0.35,0.84699999999999998,0.85,1.012,1,1.369,1.4]
["Opfok vleeskuikenouderdieren",0.33700000000000002,0.35,0.83099999999999996,0.85,1.008,1.1000000000000001,1.417,1.45]
["Vleeskuikenouderdieren",0.48,0.5,1.161,1.2,1.4219999999999999,1.5,2.0750000000000002,2.1]
["Vleeskuikens",0.28499999999999998,0.3,0.76500000000000001,0.75,0.95799999999999996,1,1.4350000000000001,1.45]
["Vleeskalkoenen hennen",0.999,0.9,2.5099999999999998,2.5,3.0449999999999999,3,4.2699999999999996,4.3]
["Vleeskalkoenen hanen",2.165,2.2000000000000002,5.3579999999999997,5.3,6.4749999999999996,6.2,9.01,9]
["Vleeseenden",0.69199999999999995,0.7,1.91,1.9,2.375,2.2999999999999998,3.51,3.6]

{"sheet":"Reductietechnieken","index":4,"n_rows":54,"n_cols":29,"rows_kept":54,"cut":false,"hidden":true,"merged":[]}
[null,"serie alles\nvoetnoot 2",null,null,"A","B","C","D","E","F","G","H","I","J","K","L","M","N","O","P","Q","R","S","T","U","V","W","X","Y"]
[null,null,null,null,{"$f":"+D3","v":0.65},{"$f":"+D4","v":0.4},{"$f":"+D5","v":0.25},{"$f":"+D6","v":0.19999999999999996},{"$f":"+D8","v":0.44999999999999996},{"$f":"+D9","v":0.7},{"$f":"+D10","v":0.45999999999999996},{"$f":"+D11","v":0.51},{"$f":"+D12","v":0.66999999999999993},{"$f":"+D13","v":0.6},{"$f":"+D14","v":0.43000000000000005},{"$f":"+D15","v":0.69},{"$f":"+D16","v":0.69},{"$f":"+D17","v":0.87},{"$f":"+D18","v":0.87},{"$f":"+D19","v":0.85},{"$f":"+D20","v":0.7},{"$f":"+D21","v":0.8},{"$f":"+D22","v":0.63},{"$f":"+D23","v":0.63},{"$f":"+D24","v":0.5},{"$f":"+D25","v":0.5}]
["A","chemische wasser",0.35,{"$f":"+(1-C3)","v":0.65},{"$f":"1-($D$3*E2)","v":0.5774999999999999},{"$f":"1-($D$3*F2)","v":0.74},0.83750000000000002,0.87,0.70750000000000002,0.54500000000000004,0.70100000000000007,0.66849999999999998,0.5645,0.61,0.72049999999999992,0.5515000000000001,0.5515000000000001,0.4345,0.4345,0.44750000000000001,0.54500000000000004,0.48,0.59050000000000002,0.59050000000000002,0.67500000000000004,0.67500000000000004]
["B","bio wasser 60%",0.6,{"$f":"+(1-C4)","v":0.4},{"$f":"1-+$D$4*E2","v":0.74},{"$f":"1-+$D$4*F2","v":0.84},0.9,0.92,0.82000000000000006,0.72,0.81600000000000006,0.79600000000000004,0.73199999999999998,0.76,0.82799999999999996,0.72399999999999998,0.72399999999999998,0.65199999999999991,0.65199999999999991,0.65999999999999992,0.72,0.67999999999999994,0.748,0.748,0.8,0.8]
["C","bio wasser 75%",0.75,0.25,{"$f":"1-+$D$5*E2","v":0.83750000000000002},{"$f":"1-+$D$5*F2","v":0.9},0.9375,0.95,0.88749999999999996,0.82499999999999996,0.88500000000000001,0.87250000000000005,0.83250000000000002,0.85,0.89249999999999996,0.82750000000000001,0.82750000000000001,0.78249999999999997,0.78249999999999997,0.78749999999999998,0.82499999999999996,0.8,0.84250000000000003,0.84250000000000003,0.875,0.875]
["D","biofilter",0.8,0.19999999999999996,{"$f":"1-+$D$6*E2","v":0.87},{"$f":"1-+$D$6*F2","v":0.92},0.95,0.96,0.91,0.8600000000000001,0.90800000000000003,0.89800000000000002,0.8660000000000001,0.88,0.91400000000000003,0.8620000000000001,0.8620000000000001,0.82600000000000007,0.82600000000000007,0.83000000000000007,0.8600000000000001,0.84000000000000008,0.874,0.874,0.9,0.9]
[null,"GEEN DROOGTUNNEL"]
["E","DROOGTUNNEL (PLATEN) 55%",0.55000000000000004,0.44999999999999996,{"$f":"1-+$D$8*E2","v":0.70750000000000002},{"$f":"1-+$D$8*F2","v":0.82000000000000006},0.88749999999999996,0.91,0.7975000000000001,0.68500000000000005,0.79300000000000004,0.77049999999999996,0.69850000000000012,0.73,0.80649999999999999,0.6895,0.6895,0.60850000000000004,0.60850000000000004,0.61750000000000005,0.68500000000000005,0.64,0.71650000000000003,0.71650000000000003,0.77500000000000002,0.77500000000000002]
["F","DROOGTUNNEL (BANDEN) 30%",0.3,0.7,{"$f":"1-+$D$9*E2","v":0.54500000000000004},{"$f":"1-+$D$9*F2","v":0.72},0.82499999999999996,0.8600000000000001,0.68500000000000005,0.51,0.67800000000000005,0.64300000000000002,0.53100000000000014,0.58000000000000007,0.69900000000000007,0.51700000000000013,0.51700000000000013,0.39100000000000001,0.39100000000000001,0.40500000000000003,0.51,0.44000000000000006,0.55900000000000005,0.55900000000000005,0.65,0.65]
["G","OLIEFILM",0.54,0.45999999999999996,{"$f":"1-+$D$10*E2","v":0.70100000000000007},{"$f":"1-+$D$10*F2","v":0.81600000000000006},0.88500000000000001,0.90800000000000003,0.79300000000000004,0.67800000000000005,0.78839999999999999,0.76540000000000008,0.69180000000000008,0.72399999999999998,0.80220000000000002,0.6826000000000001,0.6826000000000001,0.59980000000000011,0.59980000000000011,0.60899999999999999,0.67800000000000005,0.63200000000000001,0.71019999999999994,0.71019999999999994,0.77,0.77]
["H","negatieve ionisatie",0.49,0.51,{"$f":"1-+$D$11*E2","v":0.66849999999999998},{"$f":"1-+$D$11*F2","v":0.79600000000000004},0.87250000000000005,0.89800000000000002,0.77049999999999996,0.64300000000000002,0.76540000000000008,0.7399,0.65830000000000011,0.69399999999999995,0.78069999999999995,0.64810000000000001,0.64810000000000001,0.55630000000000002,0.55630000000000002,0.5665,0.64300000000000002,0.59199999999999997,0.67869999999999997,0.67869999999999997,0.745,0.745]
["I","water wasser",0.33,0.66999999999999993,{"$f":"1-+$D$12*E2","v":0.5645},{"$f":"1-+$D$12*F2","v":0.73199999999999998},0.83250000000000002,0.8660000000000001,0.69850000000000012,0.53100000000000014,0.69180000000000008,0.65830000000000011,0.55110000000000015,0.59800000000000009,0.71189999999999998,0.53770000000000007,0.53770000000000007,0.41710000000000003,0.41710000000000003,0.4305000000000001,0.53100000000000014,0.46400000000000008,0.57790000000000008,0.57790000000000008,0.66500000000000004,0.66500000000000004]
["J","droogfilter",0.4,0.6,{"$f":"1-+$D$13*E2","v":0.61},{"$f":"1-+$D$13*F2","v":0.76},0.85,0.88,0.73,0.58000000000000007,0.72399999999999998,0.69399999999999995,0.59800000000000009,0.64,0.74199999999999999,0.58600000000000008,0.58600000000000008,0.47799999999999998,0.47799999999999998,0.49,0.58000000000000007,0.52,0.622,0.622,0.7,0.7]
["K","ionisatiefilter",0.56999999999999995,0.43000000000000005,{"$f":"1-+$D$14*E2","v":0.72049999999999992},{"$f":"1-+$D$14*F2","v":0.82799999999999996},0.89249999999999996,0.91400000000000003,0.80649999999999999,0.69900000000000007,0.80220000000000002,0.78069999999999995,0.71189999999999998,0.74199999999999999,0.81509999999999994,0.70330000000000004,0.70330000000000004,0.6258999999999999,0.6258999999999999,0.63449999999999995,0.69900000000000007,0.65599999999999992,0.72909999999999997,0.72909999999999997,0.78499999999999992,0.78499999999999992]
["L","warmtewisselaar zonder stof 31%",0.31,0.69,{"$f":"1-+$D$15*E2","v":0.5515000000000001},{"$f":"1-+$D$15*F2","v":0.72399999999999998},0.82750000000000001,0.8620000000000001,0.6895,0.51700000000000013,0.6826000000000001,0.64810000000000001,0.53770000000000007,0.58600000000000008,0.70330000000000004,0.52390000000000003,0.52390000000000003,0.39970000000000006,0.39970000000000006,0.41350000000000009,0.51700000000000013,0.44800000000000006,0.56530000000000002,0.56530000000000002,0.65500000000000003,0.65500000000000003]
["M","warmtewisselaar met stof 31%",0.31,0.69,{"$f":"1-+$D$16*E2","v":0.5515000000000001},{"$f":"1-+$D$16*F2","v":0.72399999999999998},0.82750000000000001,0.8620000000000001,0.6895,0.51700000000000013,0.6826000000000001,0.64810000000000001,0.53770000000000007,0.58600000000000008,0.70330000000000004,0.52390000000000003,0.52390000000000003,0.39970000000000006,0.39970000000000006,0.41350000000000009,0.51700000000000013,0.44800000000000006,0.56530000000000002,0.56530000000000002,0.65500000000000003,0.65500000000000003]
["N","warmtewisselaar zonder stof 13%",0.13,0.87,{"$f":"1-+$D$17*E2","v":0.4345},{"$f":"1-+$D$17*F2","v":0.65199999999999991},0.78249999999999997,0.82600000000000007,0.60850000000000004,0.39100000000000001,0.59980000000000011,0.55630000000000002,0.41710000000000003,0.47799999999999998,0.6258999999999999,0.39970000000000006,0.39970000000000006,0.24309999999999998,0.24309999999999998,0.26050000000000006,0.39100000000000001,0.30399999999999994,0.45189999999999997,0.45189999999999997,0.56499999999999995,0.56499999999999995]
["O","warmtewisselaar met stof 13%",0.13,0.87,{"$f":"1-+$D$18*E2","v":0.4345},{"$f":"1-+$D$18*F2","v":0.65199999999999991},0.78249999999999997,0.82600000000000007,0.60850000000000004,0.39100000000000001,0.59980000000000011,0.55630000000000002,0.41710000000000003,0.47799999999999998,0.6258999999999999,0.39970000000000006,0.39970000000000006,0.24309999999999998,0.24309999999999998,0.26050000000000006,0.39100000000000001,0.30399999999999994,0.45189999999999997,0.45189999999999997,0.56499999999999995,0.56499999999999995]
["P","oliefim",0.15,0.85,{"$f":"1-+$D$19*E2","v":0.44750000000000001},{"$f":"1-+$D$19*F2","v":0.65999999999999992},0.78749999999999998,0.83000000000000007,0.61750000000000005,0.40500000000000003,0.60899999999999999,0.5665,0.4305000000000001,0.49,0.63449999999999995,0.41350000000000009,0.41350000000000009,0.26050000000000006,0.26050000000000006,0.27750000000000008,0.40500000000000003,0.31999999999999995,0.46450000000000002,0.46450000000000002,0.57499999999999996,0.57499999999999996]
["Q","oliefilm",0.3,0.7,{"$f":"1-+$D$20*E2","v":0.54500000000000004},{"$f":"1-+$D$20*F2","v":0.72},0.82499999999999996,0.8600000000000001,0.68500000000000005,0.51,0.67800000000000005,0.64300000000000002,0.53100000000000014,0.58000000000000007,0.69900000000000007,0.51700000000000013,0.51700000000000013,0.39100000000000001,0.39100000000000001,0.40500000000000003,0.51,0.44000000000000006,0.55900000000000005,0.55900000000000005,0.65,0.65]
["R","strooiselschuif",0.2,0.8,{"$f":"1-+$D$21*E2","v":0.48},{"$f":"1-+$D$21*F2","v":0.67999999999999994},0.8,0.84000000000000008,0.64,0.44000000000000006,0.63200000000000001,0.59199999999999997,0.46400000000000008,0.52,0.65599999999999992,0.44800000000000006,0.44800000000000006,0.30399999999999994,0.30399999999999994,0.31999999999999995,0.44000000000000006,0.35999999999999988,0.496,0.496,0.6,0.6]
["S","warmtewisselaar zonder stof 37%",0.37,0.63,{"$f":"1-+$D$22*E2","v":0.59050000000000002},{"$f":"1-+$D$22*F2","v":0.748},0.84250000000000003,0.874,0.71650000000000003,0.55900000000000005,0.71019999999999994,0.67869999999999997,0.57790000000000008,0.622,0.72909999999999997,0.56530000000000002,0.56530000000000002,0.45189999999999997,0.45189999999999997,0.46450000000000002,0.55900000000000005,0.496,0.60309999999999997,0.60309999999999997,0.68500000000000005,0.68500000000000005]
["T","warmtewisselaar met stof 37%",0.37,0.63,{"$f":"1-+$D$23*E2","v":0.59050000000000002},{"$f":"1-+$D$23*F2","v":0.748},0.84250000000000003,0.874,0.71650000000000003,0.55900000000000005,0.71019999999999994,0.67869999999999997,0.57790000000000008,0.622,0.72909999999999997,0.56530000000000002,0.56530000000000002,0.45189999999999997,0.45189999999999997,0.46450000000000002,0.55900000000000005,0.496,0.60309999999999997,0.60309999999999997,0.68500000000000005,0.68500000000000005]
["U","warmtewisselaar zonder stof 50%",0.5,0.5,{"$f":"1-+$D$24*E2","v":0.67500000000000004},{"$f":"1-+$D$24*F2","v":0.8},0.875,0.9,0.77500000000000002,0.65,0.77,0.745,0.66500000000000004,0.7,0.78499999999999992,0.65500000000000003,0.65500000000000003,0.56499999999999995,0.56499999999999995,0.57499999999999996,0.65,0.6,0.68500000000000005,0.68500000000000005,0.75,0.75]
["V","warmtewisselaar met stof 50%",0.5,0.5,{"$f":"1-+$D$25*E2","v":0.67500000000000004},{"$f":"1-+$D$25*F2","v":0.8},0.875,0.9,0.77500000000000002,0.65,0.77,0.745,0.66500000000000004,0.7,0.78499999999999992,0.65500000000000003,0.65500000000000003,0.56499999999999995,0.56499999999999995,0.57499999999999996,0.65,0.6,0.68500000000000005,0.68500000000000005,0.75,0.75]
[]
[]
[null,"percentages berekend door 1 x (1-%)x(1-%)"]
[null,"rood","afwijkend"]
[null,"paars"," 1% afwijkend"]
[null,"blauw","kan niet gecombineerd"]
[null,"GEEN TECHNIEK"]
[null,"CHEMISCHE WASSER 35%","ALLE VENTILATIELUCHT"]
[null,"CHEMISCHE WASSER 70%","ALLE VENTILATIELUCHT"]
[null,"BIO WASSER 60%","DEEL VENTILATIELUCHT"]
[null,"BIO WASSER 75%"]
[null,"BIOFILTER","GEEN TECHNIEK"]
[null,"WATERLUCHTWASSYSTEEM","WATERLUCHTWASSYSTEEM"]
[null,"DROOGFILTERWAND","DROOGFILTERWAND"]
[null,"IONISATIEFILTER","IONISATIEFILTER"]
[null,"LUCHTCONDITIONERINGSUNIT"]
[null,"WARMTEWISSELAAR 13%","ALLE VENTILATIELUCHT"]
[null,"WARMTEWISSELAAR 31%","75% VENTILATIE"]
[null,"WARMTEWISSELAAR 37%","50% VENTILATIE"]
[null,"WARMTEWISSELAAR 50%","25% VENTILATIE"]
[null,"ZONDER STOFFILTER"]
[null,"MET STOFFILTER"]
[null,"PARALLEL GESCHAKELD MET WARMTEWISSELAAR"]
[null,"SERIE GESCHAKELD MET WARMTEWISSELAAR"]
[]
[null,"JA","JA"]
[null,"NEE","NEE"]
[null,null,{"$f":"IF(VLEESKUIKENS!$L$20=\"geen techniek\",\"GEEN TECHNIEK\",\"JA\")","v":"GEEN TECHNIEK"}]
[null,null,"NEE"]