{"text_format":"1","workbook":"xlsx","n_sheets":20,"sheets":["Kosteneffectiviteitsdrempels","Grafiek1","Grafiek2","Grafiek3","Grafiek4","Grafiek5","grafiek o.b.v. formules","TOELICHTING","Invoer KE-tool per stof","beslis-schema per stof","beschrijving lozing","resultaten immissietoets","beoordeling maatregel","uitvoer kostentabel","indicatie kosten AK","UITLEG bepaling mengfactoren","ZZS-lijst","ZZS-checker","pot ZZS-lijst","pot-ZZS-checker"],"not_rendered":{"charts":11,"images":11,"macros":1,"external_links":1,"defined_names":5,"comments":4,"pivot_tables":0},"unopened":[{"sheet":"Grafiek1","index":1,"reason":"not_a_worksheet"},{"sheet":"Grafiek2","index":2,"reason":"not_a_worksheet"},{"sheet":"Grafiek3","index":3,"reason":"not_a_worksheet"},{"sheet":"Grafiek4","index":4,"reason":"not_a_worksheet"},{"sheet":"Grafiek5","index":5,"reason":"not_a_worksheet"}],"bounds":{"document_bytes":16777216,"sheet_cells":100000,"rows_first":2000,"rows_last":500,"rows_between":2000,"halvings":0,"cell_chars":16384,"cell_head_chars":4096},"cells_cut":0,"cells_raw":0,"read":"whole","date_system":"1900"}

{"sheet":"Kosteneffectiviteitsdrempels","index":0,"n_rows":46,"n_cols":51,"rows_kept":46,"cut":false,"hidden":true,"merged":[]}
[null,null,null,null,null,null,null,null,"is"]
[]
[null,"geef stofnaam",null,null,null,{"$f":"IF('Invoer KE-tool per stof'!C6=\"JA\",+'Invoer KE-tool per stof'!C7,'Invoer KE-tool per stof'!C5)","v":0}]
[null,"komt stof voor in tabel?",null,null,null,{"$f":"IF(AND(ISNA(VLOOKUP(F3,B25:M45,1,)=TRUE),ISNA(VLOOKUP('Invoer KE-tool per stof'!C7,B25:M45,1,)=TRUE)),\"nee\",\"ja\")","v":"nee"}]
[null,"JG-MKE (µg/l)",null,null,null,{"$f":"IF(ISBLANK('Invoer KE-tool per stof'!C9)=FALSE,+'Invoer KE-tool per stof'!C9,10000000000)","v":10000000000},null,null,"realistische kosten voor BBT"]
[]
[null,"1/JG-MKE",null,null,null,{"$f":"IF(F5<>\" \",1/F5,0.000000001)","v":1E-10},null,null,"realistische kosten voor BBT"]
[null,"kosteneffectiviteitsdrempel BBT",null,null,null,{"$f":"IF(F7<0.01,200000*(F7^1.15),+'grafiek o.b.v. formules'!$O$3*LN(F7)+'grafiek o.b.v. formules'!R3)","v":6.3245553203367796E-7}]
[null,"kosteneffectiviteitsdrempel BBT+",null,null,null,{"$f":"F8*10","v":6.3245553203367796E-6}]
[null,null,null,null,null,null,null,null,{"$f":"COUNTIF(B25:B43,F3)","v":0},null,"BBT","BBT+"]
[null,null,null,null,null,null,null,"bov",{"$f":"IF(F5<>\" \",IF(VLOOKUP($F$3,$B$25:$M$45,10,)>F$8,\"ja\",\"nee\"),\"nee\")","v":{"$error":"#N/A"}},null,{"$f":"IF(F5<>\" \",VLOOKUP($F$3,$B$25:$M$45,10,),0)","v":{"$error":"#N/A"}},{"$f":"IF(F5<>\" \",VLOOKUP($F$3,$B$25:$M$45,12,),0)","v":{"$error":"#N/A"}},{"$f":"IF(+L11>F9,\"ja\",\"nee\")","v":{"$error":"#N/A"}}]
[null,null,null,null,null,null,null,"ond",{"$f":"IF(F5<>\" \",IF(VLOOKUP(F$3,B$25:M$45,9,)>VLOOKUP(F$3,B$25:M$45,6,),\"ja\",\"nee\"),\"nee\")","v":{"$error":"#N/A"}},null,{"$f":"IF(F5<>\" \",VLOOKUP($F$3,$B$25:$M$45,9,),0)","v":{"$error":"#N/A"}},{"$f":"IF(F5<>\" \",VLOOKUP($F$3,$B$25:$M$45,11,),0)","v":{"$error":"#N/A"}}]
[null,null,null,null,null,null,null,null,{"$f":"IF(F5<>\" \",VLOOKUP(F3,B25:M45,7,),0)","v":{"$error":"#N/A"}}]
[]
[null,null,null,null,null,null,null,null,"In rede te verlangen kosten voor BBT"]
[null,null,null,null,null,null,null,null,{"$f":"IF(F5<>\" \",IF(+F4=\"ja\",IF(AND(I$11=\"ja\",I$12=\"nee\"),F$8,IF(I$11=\"NEE\",VLOOKUP(F$3,B25:M45,10,),F$8)),F8),0.000000001)","v":6.3245553203367796E-7}]
[null,null,null,null,null,null,null,null,"In rede te verlangen kosten voor BBT+"]
[null,null,null,null,null,null,null,null,{"$f":"IF(F5<>\" \",IF(F4=\"ja\",IF(AND(I$11=\"ja\",I$12=\"nee\"),F$9,IF(I$11=\"NEE\",IF(AND(L11>F9,L12<F9),F9,10*I16),F$9)),F9),0.000000001)","v":6.3245553203367796E-6},null,null,null,null,null,null,null,null,null,null,null,null,null,null,null,null,null,null,null,null,null,null,null,null,null,null,null,null,null,null,null,null,null,null,null,null,null,null,null,null,"stof","MKE"]
[null,null,null,null,null,null,null,null,null,null,null,null,null,null,null,null,null,null,null,null,null,null,null,null,null,null,null,null,null,null,null,null,null,null,null,null,null,null,null,null,null,null,null,null,null,null,null,null,null,"HCH",0.02]
[null,null,null,null,null,null,null,null,null,null,null,null,null,null,null,null,null,null,null,null,null,null,null,null,null,null,null,null,null,null,null,null,null,null,null,null,null,null,null,null,null,null,null,null,null,null,null,null,null,"Hg",6.9999999999999994E-5]
[null,null,null,null,null,null,null,null,null,null,null,null,null,null,null,null,null,null,null,null,null,null,null,null,null,null,null,null,null,null,null,null,null,null,null,null,null,null,null,null,null,null,null,null,null,null,null,null,null,"Cd",0.08]
[null,null,null,null,null,null,null,null,null,null,null,null,null,null,null,null,null,null,null,null,null,null,null,null,null,null,null,null,null,null,null,null,null,null,null,null,null,null,null,null,null,null,null,null,null,null,null,null,null,"PAK",1]
[null,null,null,null,null,null,null,null,null,null,null,null,null,null,null,null,null,null,null,null,null,null,null,null,null,null,null,null,null,null,null,null,null,null,null,null,null,null,null,null,null,null,null,null,null,null,null,null,null,"Pb",1.2]
["MKE","stof",null,null,null,"lijn","punt in grafiek","formule","bevindt kostenrange zich buiten lijn?","ondergrens kosten BBT in praktijk","bovengrens kosten BBT in praktijk","ondergrens kosten BBT+ in praktijk","bovengrens kosten BBT+ in praktijk","realistische kosten voor BBT+ indien aanwezig","Bovengrens BBT+ o.b.v. BBT","bovengrens o.b.v. BBT+kosten in praktijk","ratio kosten BBT+/BBT (realistische kosten)","ratio kosten BBT+/BBT (realistische kosten BBT/kosten lijn)",null,null,null,null,null,null,null,null,null,null,null,null,null,null,null,null,null,null,null,null,null,null,null,null,null,null,null,null,null,null,null,"formaldehyde",180]
[0.02,"HCH",null,null,null,5000,2500,{"$f":"IF(AND(1/A25<1,1/A25>0.01),200000*(1/A25)^1.15,IF(AND(1/A25<5,1/A25>=0.01),700*LN(1/A25)+4000,0))","v":0},"nee",500,7500,25000,75000,50000,{"$f":"IF(I25=\"nee\",H25*10,10*G25)","v":0},null,{"$f":"+N25/G25","v":20},{"$f":"O25/H25","v":{"$error":"#DIV/0!"}},null,null,null,null,null,null,null,null,null,null,null,null,null,null,null,null,null,null,null,null,null,null,null,null,null,null,null,null,null,null,null,"naftaleen",2]
[7.0000000000000007E-2,"Hg",null,null,null,5000,250,5000,"nee",100,97000,20000,388000,50000,50000,null,{"$f":"+N26/G26","v":200},{"$f":"O26/H26","v":10},null,null,null,null,null,null,null,null,null,null,null,null,null,null,null,null,null,null,null,null,null,null,null,null,null,null,null,null,null,null,null,"Cu",2.5]
[0.08,"Cd",null,null,null,5000,1700,5000,"ja",1134,2269,28350,56729,45000,17000,56725,26.470588235294116,3.4,null,null,null,null,null,null,null,null,null,null,null,null,null,null,null,null,null,null,null,null,null,null,null,null,null,null,null,null,null,null,null,"Ni",4]
[1,"PAK",null,null,null,4000,2000,4000,"ja",1134,2269,11340,22690,15000,20000,22690,7.5,5,null,null,null,null,null,null,null,null,null,null,null,null,null,null,null,null,null,null,null,null,null,null,null,null,null,null,null,null,null,null,null,"Zn",7.8]
[1.2,"Pb",null,null,null,4000,500,3872,"ja",300,800,4500,18500,10000,5000,18500,20,1.2913223140495869,null,null,null,null,null,null,null,null,null,null,null,null,null,null,null,null,null,null,null,null,null,null,null,null,null,null,null,null,null,null,null,"benzeen",10]
[180,"formaldehyde",null,null,null,3500,2450,3588,"nee",50,5000,1000,100000,49000,35880,null,20,10,null,null,null,null,null,null,null,null,null,null,null,null,null,null,null,null,null,null,null,null,null,null,null,null,null,null,null,null,null,null,null,"TCE",10]
[2,"naftaleen",null,null,null,4000,14000,3514,"nee",227,14800,1816,74000,74000,35140,null,5.2857142857142856,10,null,null,null,null,null,null,null,null,null,null,null,null,null,null,null,null,null,null,null,null,null,null,null,null,null,null,null,null,null,null,null,"BTEX",41.5]
[2.5,"Cu",null,null,null,3500,400,3358,"ja",225,450,400,2500,2600,4000,2500,6.5,1.1911852293031566,null,null,null,null,null,null,null,null,null,null,null,null,null,null,null,null,null,null,null,null,null,null,null,null,null,null,null,null,null,null,null,"Fenol",100]
[4,"Ni",null,null,null,3000,400,3029,"ja",225,450,400,2500,2600,4000,2500,6.5,1.3205678441729944,null,null,null,null,null,null,null,null,null,null,null,null,null,null,null,null,null,null,null,null,null,null,null,null,null,null,null,null,null,null,null,"VOCl",117]
[7.8,"Zn",null,null,null,2500,400,2560,"ja",225,450,400,2500,2600,4000,2500,6.5,1.5625,null,null,null,null,null,null,null,null,null,null,null,null,null,null,null,null,null,null,null,null,null,null,null,null,null,null,null,null,null,null,null,"tot-P",150]
[10,"benzeen",null,null,null,2100,20000,2388,"ja",17600,24500,null,null,null,200000,null,null,83.752093802345058,null,null,null,null,null,null,null,null,null,null,null,null,null,null,null,null,null,null,null,null,null,null,null,null,null,null,null,null,null,null,null,"MBTE",651]
[10,"TCE",null,null,null,2100,28800,2388,"ja",18800,39900,null,null,null,288000,null,null,120.60301507537689,null,null,null,null,null,null,null,null,null,null,null,null,null,null,null,null,null,null,null,null,null,null,null,null,null,null,null,null,null,null,null,"tot-N",2200]
[41.5,"BTEX",null,null,null,1400,500,1392,"nee",150,1000,null,null,4650,13920,null,9.3000000000000007,10,null,null,null,null,null,null,null,null,null,null,null,null,null,null,null,null,null,null,null,null,null,null,null,null,null,null,null,null,null,null,null,"SO4",100000]
[100,"Fenol",null,null,null,750,776,776,"nee",2330,4260,null,null,3130,7760,null,4.0335051546391751,10,null,null,null,null,null,null,null,null,null,null,null,null,null,null,null,null,null,null,null,null,null,null,null,null,null,null,null,null,null,null,null,"BZV"]
[117,"VOCl",null,null,null,800,1500,837,"nee",180,2300,1680,22700,12190,8370,null,8.1266666666666669,10,null,null,null,null,null,null,null,null,null,null,null,null,null,null,null,null,null,null,null,null,null,null,null,null,null,null,null,null,null,null,null,"CZV"]
[150,"tot-P","P-tot","totaal fosfaat","P-totaal",570,7,629,"ja",3,20,25,70,35,70,null,5,0.11128775834658187,null,null,null,null,null,null,null,null,null,null,null,null,null,null,null,null,null,null,null,null,null,null,null,null,null,null,null,null,null,null,null,"Stof X"]
[651,"MBTE",null,null,null,175,4000,124,"ja",800,8145,1600,16293,7940,40000,16300,1.9850000000000001,322.58064516129031]
[2200,"tot-N","N-tot","totaal stikstof","P-totaal",45,4,29,"ja",1,6,20,50,45,40,null,11.25,1.3793103448275863]
[100000,"SO4",null,null,null,0.3,null,0.36,"nee",0.2,2.1,null,null,0.2,3.5999999999999996,null,null,10]
[null,"BZV",null,null,null,null,null,null,null,0.5,5]
[null,"CZV",null,null,null,null,null,null,null,0.1,2]
[null,"Stof X"]

{"sheet":"grafiek o.b.v. formules","index":6,"n_rows":96,"n_cols":49,"rows_kept":96,"cut":false,"hidden":true,"merged":[]}
[]
[null,"1/MKE","kosten-BBT","kosten-BBT+",{"$f":"CONCATENATE(\"kosten-BBT \",Kosteneffectiviteitsdrempels!$F3)","v":"kosten-BBT 0"},{"$f":"CONCATENATE(\"kosten-BBT+ \",Kosteneffectiviteitsdrempels!$F3)","v":"kosten-BBT+ 0"},"praktijk kosten BBT","praktijk kosten BBT+",null,null,null,null,null,null,"constante A voor lijn",null,null,"constante B voor lijn",null,null,{"$f":"CORREL(AC60:AC70,Z60:Z70)","v":0.92998567315728253},null,"kosten-BBT",null,null,"oude lijn?",null,"nee","nee",null,null,null,null,null,null,null,null,null,null,null,null,null,null,null,null,null,null,null,"Complexere functies fitten"]
[null,1E-8,{"$f":"IF(B3<0.01,200000*(B3^1.15),+$O$3*LN(B3)+$R$3)","v":1.2619146889603853E-4},{"$f":"10*+C3","v":1.2619146889603853E-3},null,null,null,null,null,null,null,null,null,null,660,null,null,3950,null,null,null,null,1.2619146889603853E-4]
[null,{"$f":"2*B3","v":2E-8},{"$f":"IF(B4<0.01,200000*(B4^1.15),+$O$3*LN(B4)+$R$3)","v":2.8003640304488712E-4},{"$f":"10*+C4","v":2.8003640304488714E-3},null,null,null,null,null,null,null,null,null,null,null,null,null,null,null,null,{"$f":"CORREL(X60:X70,Z60:Z70)","v":0.92998567315728253},null,2.8003640304488712E-4,null,null,null,null,null,null,null,null,null,null,null,null,null,null,null,null,null,null,null,null,null,null,null,null,null,"Wat nu als je een complexere functie hebt, zoals y=exp(a.x).sin(x) + b ? Hoe fit je deze curve met behulp van Excel?"]
[null,{"$f":"5*B3","v":4.9999999999999998E-8},8.032403202953781E-4,8.032403202953781E-3,null,null,null,null,null,null,null,null,null,null,null,null,null,null,null,null,null,null,8.032403202953781E-4]
[null,{"$f":"10*B3","v":9.9999999999999995E-8},1.7825018762674953E-3,1.7825018762674952E-2,null,null,null,null,null,null,null,null,null,null,null,null,null,null,null,null,null,null,1.7825018762674953E-3,null,null,null,null,null,null,null,null,null,null,null,null,null,null,null,null,null,null,null,null,null,null,null,null,null,"Ik heb hiervoor een methode bedacht die de volgende stappen omvat:"]
[2,{"$f":"B6*A7","v":1.9999999999999999E-7},3.9556193316201268E-3,3.955619331620127E-2,null,null,null,null,null,null,null,null,null,null,null,null,null,null,null,null,null,null,3.9556193316201268E-3]
[5,{"$f":"B7*A8","v":9.9999999999999995E-7},2.5178508235883391E-2,0.2517850823588339,null,null,null,null,null,null,null,null,null,null,null,null,null,null,null,null,null,null,2.5178508235883391E-2,null,null,null,null,null,null,null,null,null,null,null,null,null,null,null,null,null,null,null,null,null,null,null,null,null,"Maak een tabel met x en y waarden"]
[10,9.9999999999999991E-6,0.35565588200778514,3.5565588200778513,null,null,null,null,null,null,null,null,null,null,null,null,null,null,null,null,null,null,0.35565588200778514,null,null,null,null,null,null,null,null,null,null,null,null,null,null,null,null,null,null,null,null,null,null,null,null,null,"Voeg een kolom toe achter deze tabel met daarin de formule van jouw functie zoals je die in Excel moet invoegen, die verwijst naar je x-waarden en naar een paar cellen (met bereiknamen) die de constanten van de vergelijking bevatten die je wilt gaan schatten"]
[2,1.9999999999999998E-5,0.78924981847440356,7.8924981847440359,null,null,null,null,null,null,null,null,null,null,null,null,null,null,null,null,null,null,0.78924981847440356,null,null,null,null,null,null,null,null,null,null,null,null,null,null,null,null,null,null,null,null,null,null,null,null,null,"Voeg een kolom toe die de som der kwadraten berekent"]
[5,9.9999999999999991E-5,5.0237728630191576,50.237728630191576,null,null,null,null,null,null,null,null,null,null,null,null,null,null,null,null,null,null,5.0237728630191576,null,null,null,null,null,null,null,null,null,null,null,null,null,null,null,null,null,null,null,null,null,null,null,null,null,"Gebruik Excel's Oplosser om de constanten te zoeken die de kleinste som der kwadraten vindt."]
[10,1E-3,70.962677846715167,709.62677846715167,null,null,null,null,null,null,null,null,null,null,null,null,null,null,null,null,null,null,70.962677846715167]
[2,2E-3,157.47604198980056,1574.7604198980057,null,null,null,null,null,null,null,null,null,null,null,null,null,null,null,null,null,null,157.47604198980056]
[5,0.01,910.58767724786003,9105.8767724786012,null,null,null,null,null,null,null,null,null,null,null,null,null,null,null,null,null,null,860.58767724786003]
[10,0.1,2430.2938386239302,24302.938386239301,null,null,null,null,null,null,null,null,null,null,null,null,null,null,null,null,null,null,2380.2938386239302]
[2,0.2,2887.7709777934938,28877.709777934939,null,null,null,null,null,null,null,null,null,null,null,null,null,null,null,null,null,null,2837.7709777934938]
[5,1,3950,39500,null,null,null,null,null,null,null,null,null,null,null,null,null,null,null,null,null,null,3900]
[10,10,5469.7061613760707,54697.061613760707,null,null,null,null,null,null,null,null,null,null,null,null,null,null,null,null,null,null,5419.7061613760707]
[2,20,5927.1833005456338,59271.833005456341,null,null,null,null,null,null,null,null,null,null,null,null,null,null,null,null,null,null,5877.1833005456338]
[5,100,6989.4123227521404,69894.123227521399,null,null,null,null,null,null,null,null,null,null,null,null,null,null,null,null,null,null,6939.4123227521404]
[10,1000,8509.1184841282102,85091.184841282098,null,null,null,null,null,null,null,null,null,null,null,null,null,null,null,null,null,null,8459.1184841282102]
[2,2000,8966.5956232977733,89665.95623297774,null,null,null,null,null,null,null,null,null,null,null,null,null,null,null,null,null,null,8916.5956232977733]
[5,10000,10028.824645504281,100288.24645504281,null,null,null,null,null,null,null,null,null,null,null,null,null,null,null,null,null,null,9978.8246455042809,null,null,null,null,null,null,null,null,null,null,"1/mke",{"$f":"660*LN(+AH24)+3950","v":-1128.8406717487933}]
[10,100000,11548.53080688035,115485.3080688035,null,null,null,null,null,null,null,null,null,null,null,null,null,null,null,null,null,null,11498.53080688035,null,null,null,null,null,null,null,null,null,null,4.55E-4]
[null,{"$f":"IF(+Kosteneffectiviteitsdrempels!F5=\" \",0.000000001,Kosteneffectiviteitsdrempels!F7)","v":1E-10},null,null,{"$f":"+Kosteneffectiviteitsdrempels!I16","v":6.3245553203367796E-7},{"$f":"+Kosteneffectiviteitsdrempels!I18","v":6.3245553203367796E-6},{"$f":"IF(Kosteneffectiviteitsdrempels!F5<>\" \",VLOOKUP(Kosteneffectiviteitsdrempels!$F3,Kosteneffectiviteitsdrempels!$B25:$M45,9,),0)","v":{"$error":"#N/A"}},{"$f":"IF(Kosteneffectiviteitsdrempels!F5<>\" \",VLOOKUP(Kosteneffectiviteitsdrempels!$F3,Kosteneffectiviteitsdrempels!$B25:$M45,11,),0)","v":{"$error":"#N/A"}}]
[null,{"$f":"+B25","v":1E-10},null,null,null,null,{"$f":"IF(Kosteneffectiviteitsdrempels!F5<>\" \",VLOOKUP(Kosteneffectiviteitsdrempels!$F3,Kosteneffectiviteitsdrempels!$B25:$M45,10,),0)","v":{"$error":"#N/A"}},{"$f":"IF(Kosteneffectiviteitsdrempels!F5<>\" \",VLOOKUP(Kosteneffectiviteitsdrempels!$F3,Kosteneffectiviteitsdrempels!$B25:$M45,12,),0)","v":{"$error":"#N/A"}}]
[]
[null,null,null,null,null,null,null,null,null,null,null,null,null,null,null,null,null,null,null,null,null,null,null,null,null,null,null,null,null,null,null,null,null,null,null,null,null,null,null,"Correlatie",null,{"$f":"CORREL(AK49:AK52,AL49:AL52)","v":0.96010466728512645}]
[]
[]
[]
[]
["1/MKE","MKE","stof","lijn","punt in grafiek","formule","bevindt kostenrange zich buiten lijn?","ondergrens kosten BBT in praktijk","bovengrens kosten BBT in praktijk","ondergrens kosten BBT+ in praktijk","bovengrens kosten BBT+ in praktijk",null,null,null,null,null,null,null,null,"1/MKE","gem kosten","ondergrens kosten BBT in praktijk","bovengrens kosten BBT in praktijk",null,"1/MKE","kosten-BBT","onder-grens kosten BBT in praktijk","boven-grens kosten BBT in praktijk","gemiddelde kosten BBT in praktijk",null,null,null,null,"1/MKE","gemiddelde kosten voor BBT+ in praktijk","ondergrens BBT=","bovengrens kosten BBT+ in praktijk","kosten-BBT",null,"kosten BBT o.b.v. 1 lijn"]
[{"$f":"1/B34","v":50},0.02,"HCH",5000,2500,{"$f":"IF(AND(1/B34<1,1/B34>0.01),200000*(1/B34)^1.15,IF(AND(1/B34<5,1/B34>=0.01),700*LN(1/B34)+4000,0))","v":0},"nee",500,7500,25000,75000,null,null,null,null,null,null,null,null,null,null,null,null,null,1E-8,{"$f":"IF(Y34<0.01,200000*(Y34^1.15),+$O$3*LN(Y34)+$R$3)","v":1.2619146889603853E-4},null,null,null,null,null,null,null,1.0000000000000001E-5,null,null,null,{"$f":"IF($AH34<0.01,200000*($AH34^1.15),+$O$3*LN($AH34)+$R$3)*10","v":3.5565588200778513},null,{"$f":"+$O$3*LN($AH34)+$R$3","v":-3648.5308068803506}]
[{"$f":"1/B35","v":14.285714285714285},7.0000000000000007E-2,"Hg",5000,250,5000,"nee",100,97000,20000,388000,null,null,null,null,null,null,null,null,null,null,null,null,null,2E-8,{"$f":"IF(Y35<0.01,200000*(Y35^1.15),+$O$3*LN(Y35)+$R$3)","v":2.8003640304488712E-4},null,null,null,null,null,null,null,4.5454545454545455E-4,{"$f":"AVERAGE(AK35,AL35)","v":168.2893514691215},20,50,{"$f":"IF(AH35<0.01,200000*(AH35^1.15),+$O$3*LN(AH35)+$R$3)*10","v":286.578702938243}]
[12.5,0.08,"Cd",5000,1700,5000,"ja",1134,2269,28350,56729,null,null,null,null,null,null,null,null,null,null,null,null,null,4.9999999999999998E-8,8.032403202953781E-4,null,null,null,null,null,null,null,1.5360983102918587E-3,{"$f":"AVERAGE(AK36,AL36)","v":8727.7752922041691},1600,16293,1162.5505844083375]
[1,1,"PAK",4000,2000,4000,"ja",1134,2269,11340,22690,null,null,null,null,null,null,null,null,null,null,null,null,null,9.9999999999999995E-8,1.7825018762674953E-3,null,null,null,null,null,null,null,6.6666666666666671E-3,3179.0905994522564,25,70,6288.1811989045127]
[0.83333333333333337,1.2,"Pb",4000,500,3872,"ja",300,800,4500,18500,null,null,null,null,null,null,null,null,null,null,null,null,null,1.9999999999999999E-7,3.9556193316201268E-3,null,null,null,null,null,null,null,8.5470085470085479E-3,15533.947814139025,1680,22700,8367.8956282780473]
[0.55555555555555558,1.8,"formaldehyde",3500,2450,3588,"nee",50,5000,1000,100000,null,null,null,null,null,null,null,null,null,null,null,null,null,9.9999999999999995E-7,2.5178508235883391E-2,null,null,null,null,null,null,null,0.01,null,null,null,9105.8767724786012]
[0.5,2,"naftaleen",4000,14000,3514,"nee",227,14800,1816,74000,null,null,null,null,null,null,null,null,1.0000000000000001E-5,{"$f":"AVERAGE(W40,V40)","v":1.1500000000000001},0.2,2.1,{"$f":"AVERAGE(V40,W40)","v":1.1500000000000001},9.9999999999999991E-6,0.35565588200778514,0.2,2.1,{"$f":"AVERAGE(AA40,AB40)","v":1.1500000000000001},null,null,null,null,2.4096385542168676E-2,null,null,null,14910.423380238095]
[0.4,2.5,"Cu",3500,400,3358,"ja",225,450,400,2500,null,null,null,null,null,null,null,null,null,null,null,null,null,1.9999999999999998E-5,0.78924981847440356,null,null,null,null,null,null,null,0.1,null,null,null,24302.938386239301]
[null,null,null,null,null,null,null,null,null,null,null,null,null,null,null,null,null,null,null,4.5454545454545455E-4,{"$f":"AVERAGE(W42,V42)","v":3.5},1,6,{"$f":"AVERAGE(V42,W42)","v":3.5},5.0000000000000002E-5,2.2638388084238801,1,6,{"$f":"AVERAGE(AA42,AB42)","v":3.5},null,null,null,null,0.1,null,null,null,24302.938386239301]
[0.25,4,"Ni",3000,400,3029,"ja",225,450,400,2500,null,null,null,null,null,null,null,null,null,null,null,null,null,9.9999999999999991E-5,5.0237728630191576,null,null,null,null,null,null,null,0.12820512820512822,{"$f":"AVERAGE(AK43,AL43)","v":14221.391678804699},400,2500,25942.783357609398]
[0.12820512820512822,7.8,"Zn",2500,400,2560,"ja",225,450,400,2500,null,null,null,null,null,null,null,null,null,null,null,null,null,1E-3,70.962677846715167,null,null,null,null,null,null,null,0.25,16425.228608304358,400,2500,30350.45721660872]
[null,null,null,null,null,null,null,null,null,null,null,null,null,null,null,null,null,null,null,1.5360983102918587E-3,{"$f":"AVERAGE(W45,V45)","v":4472.5},800,8145,{"$f":"AVERAGE(V45,W45)","v":4472.5},1.5E-3,113.11884017265446,800,8145,{"$f":"AVERAGE(AA45,AB45)","v":4472.5},null,null,null,null,0.4,17976.240584815288,400,2500,33452.481169630577]
[0.1,10,"benzeen",2100,20000,2388,"ja",17600,24500,null,null,null,null,null,null,null,null,null,null,null,null,null,null,null,2E-3,157.47604198980056,null,null,null,null,null,null,null,0.5,54462.614304152179,1816,74000,34925.228608304358]
[null,null,null,null,null,null,null,null,null,null,null,null,null,null,null,null,null,null,null,6.6666666666666671E-3,{"$f":"AVERAGE(W47,V47)","v":11.5},3,20,{"$f":"AVERAGE(V47,W47)","v":11.5},6.7000000000000002E-3,632.43517805247859,3,20,{"$f":"AVERAGE(AA47,AB47)","v":11.5},null,null,null,null,0.55555555555555558,67810.304005823011,1000,100000,35620.608011646014]
[null,null,null,null,null,null,null,null,null,null,null,null,null,null,null,null,null,null,null,8.5470085470085479E-3,1240,180,2300,1240,8.5000000000000006E-3,831.49905549007894,180,2300,1240,null,null,null,null,0.83333333333333337,28398.338862579949,4500,18500,38296.677725159898,null,"verschil (punt en lijn)",null,null,"1/MKE","KE(€/kg-verw) volgens lijn","gemiddelde kosten voor BBT+ in de praktijk","verschil (punt en lijn)"]
[0.1,10,"TCE",2100,28800,2388,"ja",18800,39900,null,null,null,null,null,null,null,null,null,null,0.01,3295,2330,4260,3295,0.01,910.58767724786003,2330,4260,3295,null,null,null,null,1,31095,11340,22690,{"$f":"IF(AH49<0.01,200000*(AH49^1.15),IF(AC$2=\"ja\",IF(AH49>5,5000,+$O$3*LN(AH49)+$R$3),+$O$3*LN(AH49)+$R$3))*10","v":39500},null,{"$f":"(AI49-AL49)^2","v":70644025},null,null,1,{"$f":"+AL49","v":39500},{"$f":"+AI49","v":31095},{"$f":"(AR49-AS49)^2","v":70644025}]
[null,null,null,null,null,null,null,null,null,null,null,null,null,null,null,null,null,null,null,2.4096385542168676E-2,575,150,1000,575,2.41E-2,1491.1413305995516,150,1000,575,null,null,null,null,12.5,56449.404526217244,28350,56729,{"$f":"IF(AH50<0.01,200000*(AH50^1.15),IF(AC$2=\"ja\",IF(AH50>5,5000,+$O$3*LN(AH50)+$R$3),+$O$3*LN(AH50)+$R$3))*10","v":56169.809052434488},null,{"$f":"(AI50-AL50)^2","v":78173.628959803813},null,null,12.5,{"$f":"+AL50","v":56169.809052434488},{"$f":"+AI50","v":56449.404526217244},{"$f":"(AR50-AS50)^2","v":78173.628959803813}]
[2.4096385542168676E-2,41.5,"BTEX",1400,500,1392,"nee",150,1000,null,null,null,null,null,null,null,null,null,null,0.1,21050,17600,24500,21050,0.1,2430.2938386239302,17600,24500,21050,null,null,null,null,{"$f":"1/0.00007","v":14285.714285714286},245321.15054251923,20000,388000,102642.30108503846,null,20357254082.51046,null,null,{"$f":"1/0.00007","v":14285.714285714286},102642.30108503846,245321.15054251923,20357254082.51046]
[null,null,null,null,null,null,null,null,null,null,null,null,null,null,null,null,null,null,null,0.1,29350,18800,39900,29350,0.1,2430.2938386239302,18800,39900,29350,null,null,null,null,50,70159.675917912886,25000,75000,65319.351835825764,null,23428737.219632536,null,null,50,65319.351835825764,70159.675917912886,23428737.219632536]
[null,null,null,null,null,null,null,null,null,null,null,null,null,null,null,null,null,null,null,0.12820512820512822,337.5,225,450,337.5,0.12820000000000001,2594.2519352329255,225,450,337.5,null,null,null,null,null,null,null,null,{"$f":"10*Z53","v":25942.519352329255},null,{"$f":"(SUM(AN49:AN52))^0.5","v":143008.40890786477}]
[0.01,100,"Fenol",750,776,776,"nee",2330,4260,null,null,null,null,null,null,null,null,null,null,null,null,null,null,null,0.2,2887.7709777934938,null,null,null,null,null,null,null,null,null,null,null,28877.709777934939,null,null,null,null,null,null,null,{"$f":"(AT49+AT50+AT51+AT52)^0.5","v":143008.40890786477}]
[null,null,null,null,null,null,null,null,null,null,null,null,null,null,null,null,null,null,null,0.25,{"$f":"AVERAGE(W55,V55)","v":337.5},225,450,{"$f":"AVERAGE(V55,W55)","v":337.5},0.25,3035.045721660872,225,450,{"$f":"AVERAGE(AA55,AB55)","v":337.5},null,null,null,null,null,null,null,null,30350.45721660872]
[null,null,null,null,null,null,null,null,null,null,null,null,null,null,null,null,null,null,null,0.4,337.5,225,450,337.5,0.4,3345.2481169630578,225,450,337.5,null,null,null,null,null,null,null,null,33452.481169630577]
[null,null,null,null,null,null,null,null,null,null,null,null,null,null,null,null,null,null,null,0.5,7513.5,227,14800,7513.5,0.5,3492.522860830436,227,14800,7513.5,null,null,null,null,null,null,null,null,34925.228608304358]
[null,null,null,null,null,null,null,null,null,null,null,null,null,null,null,null,null,null,null,0.55555555555555558,2525,50,5000,2525,0.55559999999999998,3562.1135990527141,50,5000,2525,null,null,null,null,null,null,null,null,35621.135990527138]
[null,null,null,null,null,null,null,null,null,null,null,null,null,null,null,null,null,null,null,0.83333333333333337,550,300,800,550,0.83330000000000004,3829.6413719879761,300,800,550,null,"verschil (punt en lijn)",null,null,null,null,null,null,38296.413719879762]
[8.5470085470085479E-3,117,"VOCl",800,1500,837,"nee",180,2300,1680,22700,null,null,null,null,null,null,null,null,1,1701.5,1134,2269,1701.5,1,{"$f":"IF(Y60<0.01,200000*(Y60^1.15),IF(AC$2=\"ja\",IF(Y60>5,5000,+$O$3*LN(Y60)+$R$3),+$O$3*LN(Y60)+$R$3))","v":3950},1134,2269,1701.5,null,{"$f":"(Z60-AC60)^2","v":5055752.25},null,null,null,null,null,null,39500]
[6.6666666666666671E-3,150,"tot-P",570,7,629,"ja",3,20,25,70,null,null,null,null,null,null,null,null,null,null,null,null,null,10,{"$f":"IF(Y61<0.01,200000*(Y61^1.15),IF(AC$2=\"ja\",IF(Y61>5,5000,+$O$3*LN(Y61)+$R$3),+$O$3*LN(Y61)+$R$3))","v":5469.7061613760707},null,null,null,null,null,null,null,null,null,null,null,54697.061613760707]
[null,null,null,null,null,null,null,null,null,null,null,null,null,null,null,null,null,null,null,12.5,{"$f":"AVERAGE(W62,V62)","v":1701.5},1134,2269,{"$f":"AVERAGE(V62,W62)","v":1701.5},12.5,5616.9809052434484,1134,2269,{"$f":"AVERAGE(AA62,AB62)","v":1701.5},null,{"$f":"(Z62-AC62)^2","v":15330990.719326055},null,null,null,null,null,null,56169.809052434488]
[1.5360983102918587E-3,651,"MBTE",175,4000,124,"ja",800,8145,1600,16293,null,null,null,null,null,null,null,null,null,null,null,null,null,20,5927.1833005456338,null,null,null,null,null,null,null,null,null,null,null,59271.833005456341]
[null,null,null,null,null,null,null,null,null,null,null,null,null,null,null,null,null,null,null,50,{"$f":"AVERAGE(W64,V64)","v":4000},500,7500,{"$f":"AVERAGE(V64,W64)","v":4000},50,6531.9351835825764,500,7500,{"$f":"AVERAGE(AA64,AB64)","v":4000},null,{"$f":"(Z64-AC64)^2","v":6410695.7738633351},null,null,null,null,null,null,65319.351835825764]
[4.5454545454545455E-4,2200,"tot-N",45,4,29,"ja",1,6,20,50,null,null,null,null,null,null,null,null,null,null,null,null,null,100,6989.4123227521404,null,null,null,null,null,null,null,null,null,null,null,69894.123227521399]
[1.0000000000000001E-5,100000,"SO4",0.3,null,0.36,"nee",0.2,2.1,null,null,null,null,null,null,null,null,null,null,null,null,null,null,null,1000,8509.1184841282102,null,null,null,null,null,null,null,null,null,null,null,85091.184841282098]
[null,null,"BZV",null,null,null,null,0.5,5,null,null,null,null,null,null,null,null,null,null,null,null,null,null,null,2000,8966.5956232977733,null,null,null,null,null,null,null,null,null,null,null,89665.95623297774]
[null,null,"CZV",null,null,null,null,0.1,2,null,null,null,null,null,null,null,null,null,null,null,null,null,null,null,10000,10028.824645504281,null,null,null,null,null,null,null,null,null,null,null,100288.24645504281]
[null,null,null,null,null,null,null,null,null,null,null,null,null,null,null,null,null,null,null,14.285714285714301,{"$f":"AVERAGE(W69,V69)","v":48550},100,97000,{"$f":"AVERAGE(V69,W69)","v":48550},14286,10264.243308371846,100,97000,{"$f":"AVERAGE(AA69,AB69)","v":48550},null,{"$f":"(Z69-AC69)^2","v":1465799165.4505496}]
[null,null,null,null,null,null,null,null,null,null,null,null,null,null,null,null,null,null,null,null,null,null,null,null,100000,11548.53080688035]
[]
[null,null,null,null,null,null,null,null,null,null,null,null,null,null,null,null,null,null,null,1,{"$f":"AVERAGE(W72,V72)","v":1701.5},1134,2269]
[null,null,null,null,null,null,null,null,null,null,null,null,null,null,null,null,null,null,null,12.5,{"$f":"AVERAGE(W73,V73)","v":1701.5},1134,2269,null,null,null,null,null,null,"gem",{"$f":"(SUM(AE60:AE69))^0.5","v":38634.137808339132}]
[]
[]
[null,null,null,null,null,null,null,null,null,null,null,null,null,null,null,null,null,null,null,null,null,0.5,5]
[null,null,null,null,null,null,null,null,null,null,null,null,null,null,null,null,null,null,null,null,null,0.1,2]
[]
[]
[]
[]
[null,null,null,null,null,null,null,null,null,null,null,null,null,null,null,null,null,null,null,null,null,null,null,null,"1/MKE","KE (€/kg-verw) volgens lijn ",null,null,"gemiddelde KE (€/kg-verw) in praktijk",null,"di2"]
[null,null,null,null,null,null,null,null,null,null,null,null,null,null,null,null,null,null,null,null,null,null,null,null,1,{"$f":"+Z60","v":3950},1134,2269,1701.5,null,{"$f":"(AC83-Z83)^2","v":5055752.25}]
[null,null,null,null,null,null,null,null,null,null,null,null,null,null,null,null,null,null,null,null,null,null,null,null,10,{"$f":"+Z61","v":5469.7061613760707}]
[null,null,null,null,null,null,null,null,null,null,null,null,null,null,null,null,null,null,null,null,null,null,null,null,12.5,5616.9809052434484,1134,2269,1701.5,null,{"$f":"(AC85-Z85)^2","v":15330990.719326055}]
[null,null,null,null,null,null,null,null,null,null,null,null,null,null,null,null,null,null,null,null,null,null,null,null,20,5927.1833005456338]
[null,null,null,null,null,null,null,null,null,null,null,null,null,null,null,null,null,null,null,null,null,null,null,null,50,6531.9351835825764,500,7500,4000,null,{"$f":"(AC87-Z87)^2","v":6410695.7738633351}]
[null,null,null,null,null,null,null,null,null,null,null,null,null,null,null,null,null,null,null,null,null,null,null,null,100,6989.4123227521404]
[null,null,null,null,null,null,null,null,null,null,null,null,null,null,null,null,null,null,null,null,null,null,null,null,1000,8509.1184841282102]
[null,null,null,null,null,null,null,null,null,null,null,null,null,null,null,null,null,null,null,null,null,null,null,null,2000,8966.5956232977733]
[null,null,null,null,null,null,null,null,null,null,null,null,null,null,null,null,null,null,null,null,null,null,null,null,10000,10028.824645504281]
[null,null,null,null,null,null,null,null,null,null,null,null,null,null,null,null,null,null,null,null,null,null,null,null,14286,10264.243308371846,100,97000,48550,null,{"$f":"(AC92-Z92)^2","v":1465799165.4505496}]
[null,null,null,null,null,null,null,null,null,null,null,null,null,null,null,null,null,null,null,null,null,null,null,null,100000,11548.53080688035]
[]
[]
[null,null,null,null,null,null,null,null,null,null,null,null,null,null,null,null,null,null,null,null,null,null,null,null,null,null,null,null,null,null,{"$f":"(AE92+AE87+AE85+AE83)^0.5","v":38634.137808339132}]

{"sheet":"TOELICHTING","index":7,"n_rows":46,"n_cols":9,"rows_kept":46,"cut":false,"hidden":false,"merged":[[1,8,2,22]]}
[]
[null,null,null,null,null,null,null,null,"TOOL VOOR DE BEREKENING VAN KOSTENEFFCETIVITEIT VAN MAATREGELEN VOOR DE BEPERKING VAN WATEREMISSIES"]
[]
[null,null,null,"WERKWIJZE",null,null,"Ga voor de bepaling van de kosteneffectiviteit KE eerst naar tabblad \"Invoer KE-tool per stof\", ga DAARNA naar tabblad \"beschrijving lozing\" en daarna naar tabblad \"resultaten immissietoets\"voor de "]
[null,null,null,null,null,null,"beoordeling van de lozing o.b.v. de immissietoets. DEZE VOLGORDE is cruciaal. Daarna kan in tabblad \"beoordeling maatregel\" een oordeel worden verkregen over de REDELIJKHEID van maatregelen."]
[]
[null,null,null,"WAAROM DEZE TOOL?",null,null,"De tool behoort bij het rapport \"kosteneffectiviteit van maatregelen voor de beperking van wateremissies\", dat is gemaakt in opdracht van het Ministerie van Infrastructuur en Waterstaat."]
[]
[]
[null,null,null,"WAT DOET DEZE TOOL?",null,null,"Met de tool kan de kosteneffectiviteit (KE), de maximaal in rede te verlangen kosten van een maatregel per kg-verwijderd (voor BBT en BBT+), afhankelijk van de waterbezwaarlijkheid van "]
[null,null,null,null,null,null,"de te verwijderen stof, worden berekend (GA HIERVOOR NAAR TABBLAD \"Invoer KE-tool per stof\")"]
[]
[null,null,null,null,null,null,"Indien meerdere stoffen moeten worden teruggehouden op grond van de immissietoets, kunnen de kosten van een maatregel worden verdeeld over meerdere stoffen."]
[null,null,null,null,null,null,"Hiervoor moet eerst de kosteneffectiviteit per stof (KE) worden bepaald (zie tabblad \"Invoer KE-tool per stof\")"]
[null,null,null,null,null,null,"LET OP! Kosten van maatregelen mogen alleen worden verdeeld over stoffen waarvoor daadwerkelijk maatregelen op grond van de immissietoets vereist zijn!"]
[null,null,null,null,null,null,"In dat geval berekent de tool hoe deze verdeling plaatsvindt en hoe de kosteneffectiviteit per stof uitvalt (GA HIERVOOR NAAR TABBLAD \"Beoordeling maatregel\")"]
[null,null,null,null,null,null,"Om de kosteneffectiviteit te kunnen berekenen is ook inzicht nodig in de vracht die moet worden verwijderd door maatregelen (Ga hiervoor naar TABBLAD \"resultaten immissietoets\")"]
[]
[null,null,null,"Tabblad Invoer KE-tool per stof",null,null,"In dit tabblad kan op basis van de waterkwaliteitsnorm van een stof de kosteneffectiviteit KE per stof voor BBT- en BBT+-maatregelen worden berekend. Een waarde voor de "]
[null,null,null,null,null,null,"waterkwaliteitsnorm is nodig als invoer om KE te bepalen. Voor sommige stoffen vallen de kosten van maatregelen in de praktijk lager uit dan op grond van de afgeleide relatie tussen "]
[null,null,null,null,null,null,"waterbezwaarlijkheid en de in de praktijk gevonden kosten van maatregelen wordt berekend. Als zowel de kosten voor BBT als de kosten voor BBT+ in de praktijk lager uitvallen dan de "]
[null,null,null,null,null,null,"voorspelde kosten o.b.v. waterbezwaarlijkheid dan wordt voor BBT+ een waarde van 10* kosten voor BBT, gebaseerd op praktijkkosten, aangehouden. Voor nadere uitleg zie tabblad "]
[null,null,null,null,null,null,"\"beslis-schema per stof\". In deze tool kan alleen INVOER alleen worden ingevoerd in de blauwe cellen:"]
[]
[null,null,null,"Tabblad beslis-schema per stof",null,null,"In dit tabblad wordt wordt uitgelegd hoe wordt gekomen tot de gevonden waarde voor KE voor BBT en BBT+: op basis van de blauwe (BBT) of rode lijn (BBT+) of op basis van"]
[null,null,null,null,null,null,"afwijkende kosten gevonden in de praktijk."]
[]
[null,null,null,"Tabblad resultaten immissietoets",null,null,"In het tabblad \"resultaten immissietoets\" worden alle resultaten van de immissietoets voor geloosde stoffen aanwezig in het effluent gegeven, als de effluentconcenttratie wordt ingevoerd."]
[null,null,null,null,null,null,"Hiervoor moet de verdunningsfactor FL ter hoogte van de rand van de mengzone, de verdunningsfactor bij het drinkwter-innamepunt en de verdunningsfactor op MAC-mengzone worden ingevoerd. "]
[null,null,null,null,null,null,"Deze verdunningsfactoren kunnen worden afgeleid uit de resultaten van de webapplicatie van de immissietoets. Hiervoor volstaat slechts één berekening voor (1 stof) in het geloosde effluent. "]
[null,null,null,null,null,null,"(zie voor afleiding mengfactoren Tabblad \"UITLEG bepaling mengfactoren\"). Het tabblad \"resultaten immissietoets\" geeft inzicht in welke stoffen verder moeten worden gereduceerd door "]
[null,null,null,null,null,null,"het nemen van aanvullende maatregelen. Ook de benodigde reductiepercentages worden gegeven, evenals welke criteria van de immissietoets niet voldoen. Hiermee wordt ook inzicht in de te"]
[null,null,null,null,null,null,"verwijderen vracht gegeven. Deze is nodig voor de berekening van KE."]
[]
[null,null,null,"Tabblad beoordeling maatregel",null,null,"In dit tabblad wordt een oordeel gegeven of kosten in de beoordeling van maatregel mogen worden betrokken of niet en waarom. Tevens wordt in geval sprake is van meerdere stoffen "]
[null,null,null,null,null,null,"die moeten worden verwijderd door maatregelen rekening gehouden met de verdeling van kosten per stof. Vervolgens wordt KE berekend. Een maatregel is kosteneffectief als voor "]
[null,null,null,null,null,null,"één van de stoffen die moet worden verwijderd op grond van de immissietoets de kosten lager uitvallen dan KE voor de stof en de totale kosten van een maatregel lager uitvallen "]
[null,null,null,null,null,null,"dan de maximaal in rede te verlangen kosten per jaar: ∑ Xi*KE-stof i, met Xi de te verwijderen vracht van stof-i om te voldoen aan de immissietoets."]
[]
[null,null,null,"Toepassingsgebied",null,null,"De tool kan worden toegepast voor lozingen die worden geregeld via een vergunning. In sommige gevallen kan de tool in geval van een meldingen ook worden toegepast voor lozingen die zijn "]
[null,null,null,null,null,null,"geregeld conform 'algemene regels'. Het gaat dan om situaties waarvan op grond van de melding aanvullend maatwerk nodig is op grond van de immissietoets. Bij melding gaat het veelal "]
[null,null,null,null,null,null,"om lozing van nieuwe stoffen of een aangepaste lozing. Om deze reden is aanvullende beoordeling met behulp van immissietoets (veelal) noodzakelijk. Indien de immissietoets tot aanvullende "]
[null,null,null,null,null,null,"maatregelen leidt om de emissie te beperken, kunnen kosten voor deze maatregelen alleen bij beoordeling van de redelijkheid van maatregelen worden betrokken als het niet voldoen aan de"]
[null,null,null,null,null,null,"immissietoets wordt veroorzaakt door alleen de significantietoets."]
[null,null,null,null,null,null,"Voor vergunde lozingen kan ook aanscherping van een norm, de lozing van (nieuwe) opkomende stoffen of de aanscherpig van een waterkwaliteitsnorm voor bestaande lozingen aanleiding zijn "]
[null,null,null,null,null,null,"om kosten maatregelen te betrekken bij de beoordeling van de redelijkheid van maatregelen (zie navolgende schema)."]

{"sheet":"Invoer KE-tool per stof","index":8,"n_rows":17,"n_cols":13,"rows_kept":17,"cut":false,"hidden":false,"merged":[[3,6,4,18],[6,6,7,16],[12,12,13,16],[16,12,17,16]]}
[]
[null,null,null,"VOOR NIEUWE BEREKENING KE: ALVORENS NIEUWE GEGEVENS IN TE VOEREN DRUK OP START!"]
[]
[null,null,null,null,null,null,{"$f":"IF(OR(OR(ISBLANK(C5)=TRUE,ISBLANK(C6)=TRUE),IF(C6=\"ja\",ISBLANK(C7)=TRUE,ISBLANK(C6)=TRUE)),\" \",IF(Kosteneffectiviteitsdrempels!F4=\"nee\",\"Er zijn géén praktijkkosten voor BBT en BBT+ voor deze stof voorhanden!\",\" \"))","v":" "}]
[null," Geef Stofnaam"]
[null," Betreft het een metaal ?",null,null,null,"ja"]
[null,{"$f":"IF(C6=\"ja\",\" Geef element notatie\",\" \")","v":" "},null,null,null,"nee",{"$f":"IF(OR(ISBLANK(C5)=TRUE,ISBLANK(C9)=TRUE),\" \",IF(Kosteneffectiviteitsdrempels!F4=\"nee\",\"De in rede te verlangen kosten voor BBT worden gegeven door blauwe lijn en kosten voor BBT+ door rode lijn!\",IF(AND(Kosteneffectiviteitsdrempels!L12<Kosteneffectiviteitsdrempels!F9,Kosteneffectiviteitsdrempels!L11>Kosteneffectiviteitsdrempels!F9,Kosteneffectiviteitsdrempels!I16<Kosteneffectiviteitsdrempels!F8),\"Maximale praktijk-kosten voor BBT vallen lager uit dan Blauwe lijn, maar rode lijn ligt binnen bandbreedte van praktijk-kosten voor BBT+ !\",IF(Kosteneffectiviteitsdrempels!I16<Kosteneffectiviteitsdrempels!F8,\"De in rede te verlangen kosten voor BBT vallen lager uit dan blauwe lijn en voor de kosten voor BBT+ wordt 10* de kosten voor BBT aangehouden!\",\"voor de in rede te verlangen kosten voor BBT+ wordt 10* de kosten voor BBT aangehouden!\"))))","v":" "}]
[null,{"$f":"IF(ISNA(F9)=TRUE,\" Geef Cas-nummer van de stof\",IF(F9<>C5,\"  Geef Cas-nummer van de stof\",\" \"))","v":" Geef Cas-nummer van de stof"},null,null,{"$f":"IF(AND(ISNA(E9)=FALSE,E9<>0),\"voorstel\",\" \")","v":{"$error":"#N/A"}}]
[null," Geef MKE of MKN [ug/l]",null,{"$f":"IF(OR(ISBLANK(E9)=TRUE,ISNA(E9)=TRUE),\" \",\"<==\")","v":" "},{"$f":"VLOOKUP(IF(C6=\"ja\",C7,C5),Kosteneffectiviteitsdrempels!AX19:AY40,2,FALSE)","v":{"$error":"#N/A"}},{"$f":"VLOOKUP('Invoer KE-tool per stof'!C5,'ZZS-lijst'!C2:C1464,1,FALSE)","v":{"$error":"#N/A"}},{"$f":"IF(E9=\" \",1,2)","v":{"$error":"#N/A"}}]
[null," maximaal ín rede te verlangen kosten voor BBT (€/kg-verw.) :",{"$f":"IF(OR(ISBLANK(C5)=TRUE,ISBLANK(C9)=TRUE),\" \",+Kosteneffectiviteitsdrempels!I16)","v":" "},null,null,{"$f":"ISNA(F9)","v":true}]
[null," maximaal ín rede te verlangen kosten voor BBT+: (€/kg-verw.) :",{"$f":"IF(OR(ISBLANK(C5)=TRUE,ISBLANK(C9)=TRUE),\" \",+Kosteneffectiviteitsdrempels!I18)","v":" "}]
[]
[null,null,null,null,null,null,null,null,null,null,null,null,{"$f":"IF(F10=FALSE,\"Deze stof wordt aangemerkt als ZZS\",+'ZZS-checker'!A2)","v":" "}]
[]
[]
[]
[null,null,null,null,null,null,null,null,null,null,null,null,{"$f":"IF(OR('ZZS-checker'!B2>0,F10=FALSE),\"Let op!, voor deze stof geldt een minimalisatieverplichting!\",\" \")","v":" "}]

{"sheet":"beslis-schema per stof","index":9,"n_rows":53,"n_cols":28,"rows_kept":53,"cut":false,"hidden":false,"merged":[[46,21,47,28],[1,1,1,2],[36,11,39,14],[3,11,7,14],[10,10,14,15],[11,18,13,21],[18,3,22,7],[18,10,22,15],[28,10,32,15],[28,21,32,23],[11,3,13,7]]}
[]
["Stof:",{"$f":"IF(ISBLANK(+'Invoer KE-tool per stof'!C5)=TRUE,\" \",+'Invoer KE-tool per stof'!C5)","v":" "}]
[]
[null,null,null,"KOSTEN VOOR BBT",null,null,null,null,null,null,null,"Zijn er voor de te verwijderen stof voldoende praktijkgegevens voor kosten van BBT- maatregelen voorhanden of zijn kosten af te leiden uit BREF-documenten?"]
[null,null,null,null,null,null,null,null,null,null,null,null,null,null,null,"nee"]
[]
[null,null,null,null,null,null,null,null,null,null,null,null,null,null,null,null,null,null,null,null,null,null,null,null,null,null,"©"]
[]
[null,null,null,null,null,null,null,null,null,null,null,null,{"$f":"IF(Kosteneffectiviteitsdrempels!F4=\"ja\",\"ja\",\" \")","v":" "}]
[null,null,null,null,null,null,null,null,null,null,null,null,null,{"$f":"IF(Kosteneffectiviteitsdrempels!F4=\"ja\",Z14,\" \")","v":" "}]
[null,null,null,null,null,null,null,null,null,null,"Vallen de kosten o.b.v. de blauwe lijn in de grafiek significant1) hoger uit dan de in de praktijk gevonden kosten voor BBT?",null,null,null,null,null,null,null,null,null,null,null,null,null,null,"<"]
[null,null,null,null,null,null,null,null,null,null,null,null,null,null,null,null,{"$f":"IF(AND(Kosteneffectiviteitsdrempels!I11=\"ja\",Kosteneffectiviteitsdrempels!I12=\"nee\",Kosteneffectiviteitsdrempels!F4=\"ja\"),\"nee\",\"ja\")","v":{"$error":"#N/A"}},null,"Ga voor kosten van BBT uit van blauwe lijn in grafiek!"]
[]
[null,null,null,null,null,null,null,null,null,null,null,null,null,null,null,null,null,null,null,null,null,null,null,null,null,{"$f":"+AA7","v":"©"}]
[]
[null,null,null,null,null,null,null,null,null,null,null,null,{"$f":"IF(Kosteneffectiviteitsdrempels!F4=\"nee\",\" \",IF(Kosteneffectiviteitsdrempels!I11=\"nee\",\"ja\",\" \"))","v":" "}]
[null,null,null,null,null,null,null,null,null,null,null,null,null,null,null,null,null,null,null,null,null,null,null,null,null,","]
[null,null,null,null,null,null,null,null,null,null,null,null,null,{"$f":"IF(+Kosteneffectiviteitsdrempels!I11=\"nee\",+'beslis-schema per stof'!Z14,\" \")","v":{"$error":"#N/A"}}]
[null,null,null,"Mits adequaat onderbouwd kan voor BBT-kosten uit worden uitgegaan van beschikbare praktijk-info of kosten afgeleid uit BREF's.",null,null,null,null,null,null,"Wijken de kosten voor BBT+ significant 2) af van de kosten o.b.v. de rode lijn?"]
[null,null,null,null,null,null,null,null,null,"ja",null,null,null,null,null,null,{"$f":"IF(AND(Kosteneffectiviteitsdrempels!I11=\"nee\",Kosteneffectiviteitsdrempels!M11<>\"nee\"),\"nee\",IF(AND(Kosteneffectiviteitsdrempels!I11=\"nee\",Kosteneffectiviteitsdrempels!M11=\"nee\"),\" \",\"nee\"))","v":{"$error":"#N/A"}}]
[]
[]
[]
[]
[]
[]
[]
[null,null,null,null,null,null,null,null,null,null,null,null,null,null,null,null,null,null,null,null,null,null,{"$f":"IF(AND(Kosteneffectiviteitsdrempels!I11=\"nee\",Kosteneffectiviteitsdrempels!M11<>\"nee\"),+'beslis-schema per stof'!Z14,\" \")","v":{"$error":"#N/A"}}]
[null,null,null,null,null,null,null,null,null,null,"De 'ín rede te verlangen' kosten voor BBT+ bedragen 10*kosten voor BBT (€/kg-verw.)",null,null,null,null,null,null,null,null,null,null,"Ga voor kosten voor BBT+ uit van kosten gegeven door rode lijn"]
[null,null,null,"KOSTEN VOOR BBT+"]
[]
[]
[]
[null,null,null,null,null,null,null,null,null,null,null,null,null,"^",null,null,null,null,null,null,null,null,{"$f":"IF(AND(Q20=\"nee\",M16<>\"ja\"),+N34,\" \")","v":{"$error":"#N/A"}}]
[]
[]
[null,null,null,null,null,null,null,null,null,null,null,"Gemiddelde Ratio F:                         kosten BBT+/kosten BBT = 10"]
[]
[]
[]
[]
[null,null,null,null,null,null,null,null,null,null,null,null,null,null,null,null,null,null,null,null,null,"  kosten BBT (€/kg=verw.)",null,null,null,null,null,{"$f":"+'Invoer KE-tool per stof'!C10","v":" "}]
[]
[null,null,null,null,null,null,null,null,null,null,null,null,null,null,null,null,null,null,null,null,null,"  kosten BBT+ (€/kg-verw.)",null,null,null,null,null,{"$f":"+'Invoer KE-tool per stof'!C11","v":" "}]
[]
[]
[null,null,null,null,null,null,null,null,null,null,null,null,null,null,null,null,null,null,null,null,null,{"$f":"IF('Invoer KE-tool per stof'!M13=\"Deze stof wordt aangemerkt als ZZS\",\"Het betreft een ZZS-stof waarvoor een minimalisatieverplichting geldt\",\" \")","v":" "}]
[]
[]
[null,null,null,null,null,null,null,null,null,null,null,"1) Kosten wijken significant af als de kosten o.b.v. blauwe lijn buiten de bandbreedte vallen van kostenrange "]
[null,null,null,null,null,null,null,null,null,null,null,"   gevonden voor BBT."]
[null,null,null,null,null,null,null,null,null,null,null,"2) Kosten wijken significant af als de kosten o.b.v. rode lijn buiten de bandbreedte vallen van kostenrange voor"]
[null,null,null,null,null,null,null,null,null,null,null,"   gevonden voor BBT+."]

{"sheet":"beschrijving lozing","index":10,"n_rows":77,"n_cols":18,"rows_kept":77,"cut":false,"hidden":false,"merged":[[36,15,36,16],[9,8,9,9],[10,8,10,9],[19,13,23,19],[22,35,24,41],[74,18,74,19],[75,18,75,19],[76,18,76,19],[77,18,77,19],[59,15,59,16],[50,15,50,16],[51,15,51,16],[52,15,52,16],[53,15,53,16],[54,15,54,16],[45,15,45,16],[46,15,46,16],[47,15,47,16],[48,15,48,16],[49,15,49,16],[40,15,40,16],[41,15,41,16],[42,15,42,16],[43,15,43,16],[0,1,0,13],[12,8,12,9],[24,18,24,19],[75,15,75,16],[76,15,76,16],[70,15,70,16],[71,15,71,16],[72,15,72,16],[73,15,73,16],[74,15,74,16],[65,15,65,16],[66,15,66,16],[67,15,67,16],[68,15,68,16],[69,15,69,16],[60,15,60,16],[61,15,61,16],[62,15,62,16],[63,15,63,16],[64,15,64,16],[55,15,55,16],[56,15,56,16],[57,15,57,16],[58,15,58,16],[44,15,44,16],[75,12,75,13],[76,12,76,13],[24,15,24,16],[26,15,26,16],[27,15,27,16],[28,15,28,16],[29,15,29,16],[30,15,30,16],[31,15,31,16],[32,15,32,16],[33,15,33,16],[34,15,34,16],[35,15,35,16],[37,15,37,16],[38,15,38,16],[39,15,39,16],[70,12,70,13],[71,12,71,13],[72,12,72,13],[73,12,73,13],[74,12,74,13],[65,12,65,13],[66,12,66,13],[67,12,67,13],[68,12,68,13],[69,12,69,13],[60,12,60,13],[61,12,61,13],[62,12,62,13],[63,12,63,13],[64,12,64,13],[55,12,55,13],[56,12,56,13],[57,12,57,13],[58,12,58,13],[59,12,59,13],[52,12,52,13],[53,12,53,13],[54,12,54,13],[33,12,33,13],[45,12,45,13],[46,12,46,13],[47,12,47,13],[48,12,48,13],[49,12,49,13],[40,12,40,13],[41,12,41,13],[42,12,42,13],[43,12,43,13],[44,12,44,13],[36,12,36,13],[47,8,47,9],[48,8,48,9],[49,8,49,9],[50,8,50,9],[51,8,51,9],[34,12,34,13],[35,12,35,13],[37,12,37,13],[38,12,38,13],[39,12,39,13],[43,8,43,9],[44,8,44,9],[45,8,45,9],[46,8,46,9],[37,8,37,9],[38,8,38,9],[39,8,39,9],[40,8,40,9],[41,8,41,9],[50,12,50,13],[51,12,51,13],[42,8,42,9],[36,8,36,9],[57,8,57,9],[58,8,58,9],[59,8,59,9],[60,8,60,9],[61,8,61,9],[52,8,52,9],[53,8,53,9],[55,8,55,9],[56,8,56,9],[54,8,54,9],[76,8,76,9],[67,8,67,9],[68,8,68,9],[69,8,69,9],[70,8,70,9],[71,8,71,9],[62,8,62,9],[63,8,63,9],[64,8,64,9],[65,8,65,9],[66,8,66,9],[72,8,72,9],[73,8,73,9],[74,8,74,9],[75,8,75,9],[32,12,32,13],[33,8,33,9],[34,8,34,9],[35,8,35,9],[26,8,26,9],[27,8,27,9],[28,8,28,9],[29,8,29,9],[30,8,30,9],[32,8,32,9],[15,15,16,20],[3,8,3,9],[6,8,6,9],[18,8,18,9],[21,8,21,9],[25,8,25,9],[21,1,21,6],[3,11,18,13],[31,8,31,9],[15,8,15,9],[24,12,24,13],[24,8,24,9],[26,12,26,13],[27,12,27,13],[28,12,28,13],[29,12,29,13],[30,12,30,13],[31,12,31,13]]}
[null,"BESCHRIJVING VAN DE LOZING"]
[]
[]
[null,"Gaat het om een bestaande of nieuwe lozing?",null,null,null,null,null,null,null,null,null,{"$f":"IF(R25=1,\"Ga naar tabblad 'resultaten immissietoets' en voer immissietoets voor alle geloosde stoffen uit en beoordeel kosten van maatregelen (indien nodig) in tabblad 'beoordeling maatregel' !\",\" \")","v":" "},null,null,"bestaand"]
[null,null,null,null,null,null,null,null,null,null,null,null,null,null,"nieuw"]
[]
[null,{"$f":"IF(I4=\"bestaand\",\"Hoe is de lozing gereguleerd?\",\"Hoe wordt de lozing gereguleerd?\")","v":"Hoe wordt de lozing gereguleerd?"}]
[null,null,null,null,null,null,null,null,null,null,null,null,null,null,"algemene regels"]
[null,null,null,null,null,null,null,null,null,null,null,null,null,null,"vergunning"]
[]
[]
[null,null,null,null,null,null,null,null,null,null,null,null,null,null,"vergunning"]
[null,"Is sprake van een directe of indirecte lozing?",null,null,null,null,null,null,null,null,null,null,null,null,"directe lozing"]
[null,null,null,null,null,null,null,null,null,null,null,null,null,null,"indirecte lozing"]
[]
[null,{"$f":"IF(I7=\"vergunning\",\"Is BBT voor de activiteit vastgelegd in een BREF document?\",\" \")","v":" "},null,null,null,null,null,null,null,null,null,null,null,null,"ja",{"$f":"IF(AND(I7=\"vergunning\",I16=\"nee\"),\"Verken maatregelen  o.b.v. KE-methodiek in tabblad 'beordeling maatregel', hiervoor is invullen van immissietoets nodig!\",\" \")","v":" "}]
[null,{"$f":"IF(I$7=\"algemene regels\",\"Werkwijze bij meldingen:\",\" \")","v":" "},null,null,null,null,null,null,null,null,null,null,null,null,"nee"]
[]
[null,{"$f":"IF(I4=\"bestaand\",IF(+I7=\"algemene regels\",\"Is op grond van melding aanvullend maatwerk nodig op grond van immissietoets?\",IF(I4=\"nieuw\",\"Voldoet de lozing aan BBT?\",\" \")),IF(I7=\"algemene regels\",\"Is op grond van melding aanvullend maatwerk nodig op grond van immissietoets?\",IF(AND(I7=\"vergunning\",I16=\"ja\",+I4=\"nieuw\"),\"Voldoet de lozing aan BBT?\",\" \")))","v":" "}]
[null,null,null,null,null,null,null,null,null,null,null,null,null,{"$f":"IF(AND(I19=\"ja\",I7=\"algemene regels\"),CONCATENATE(\"Indien niet kan worden voldaan aan immissietoets kunnen kosten van maatregelen alleen bij de beoordeling worden betrokken als alleen de significantietoets de oorzaak is\",\" van het niet voldoen aan immissietoets; in alle andere gevallen spelen kosten géén rol bij de beoordelijk van de redelijkheid van maatregelen\"),\" \")","v":" "}]
[]
[null,{"$f":"IF(ISBLANK(I16)=TRUE,\" \",IF(I7=\"vergunning\",IF(+I19=\"ja\",\"Voer immissietoets uit in tabblad 'resultaten immissietoets\",IF(I19=\"nee\",\"Aanvullende maatregelen zijn noodzakelijk\",\"Ga naar tabblad 'resultaten immissietoets' en voer immissietoets uit\")),IF(I19=\"nee\",\" \",\"Ga naar tabblad 'resultaten immissietoets' en voer immissietoets uit\")))","v":" "}]
[]
[]
[null,{"$f":"IF(AND($I22>0,$I$7= \"algemene regels\",I$19=\"nee\"),\"Stofnaam\",IF(I22>0,IF(B22=\"Aanvullende maatregelen zijn noodzakelijk\",\"Ga naar tabblad 'resultaten immissietoets' en voer immissietoets uit en bepaal kosteneffectiviteit (KE) van maatregelen\",\"Ga naar tabblad 'resultaten immissietoets' en voer immissietoets uit\"),IF(AND(I7=\"vergunning\",I16=\"ja\",I19=\"nee\"),\"Ga naar tabblad 'resultaten immissietoets' en voer immissietoets uit en bepaal kosteneffectiviteit (KE) van maatregelen in tabblad 'beoordeling maatregel'\",\" \")))","v":" "},null,null,null,null,null,null,{"$f":"IF(AND($I22>0,$I$7= \"algemene regels\"),\"Lozingsconcentratie [ug/l]\",\" \")","v":" "},null,null,null,{"$f":"IF(AND($I22>0,$I$7= \"algemene regels\"),\"Voorgeschreven concentratie [ug/l] algemene regels\",\" \")","v":" "},null,null,{"$f":"IF(AND($I22>0,$I$7= \"algemene regels\"),\"Benodigde reductie [%]\",\" \")","v":" "},null,{"$f":"IF(I19=\"nee\",SUM(R27:R77),0)","v":0}]
[]
[1,null,null,null,null,null,null,null,null,null,null,null,null,null,null,{"$f":"IF(ISBLANK(B27)=FALSE,1-M27/I27,\" \")","v":" "},null,{"$f":"IF(AND(ISBLANK(B27)=FALSE,ISBLANK(M27)=FALSE,A27=I$22,I$7=\"algemene regels\"),1,0)","v":0}]
[2,null,null,null,null,null,null,null,null,null,null,null,null,null,null,{"$f":"IF(ISBLANK(B28)=FALSE,1-M28/I28,\" \")","v":" "},null,0]
[3,null,null,null,null,null,null,null,null,null,null,null,null,null,null," ",null,0]
[4,null,null,null,null,null,null,null,null,null,null,null,null,null,null," ",null,0]
[5,null,null,null,null,null,null,null,null,null,null,null,null,null,null," ",null,0]
[6,null,null,null,null,null,null,null,null,null,null,null,null,null,null," ",null,0]
[7,null,null,null,null,null,null,null,null,null,null,null,null,null,null," ",null,0]
[8,null,null,null,null,null,null,null,null,null,null,null,null,null,null," ",null,0]
[9,null,null,null,null,null,null,null,null,null,null,null,null,null,null," ",null,0]
[10,null,null,null,null,null,null,null,null,null,null,null,null,null,null," ",null,0]
[10,null,null,null,null,null,null,null,null,null,null,null,null,null,null,null,null,0]
[11,null,null,null,null,null,null,null,null,null,null,null,null,null,null," ",null,0]
[12]
[13]
[14]
[15]
[16]
[17]
[18]
[19]
[20]
[21]
[1]
[2]
[3]
[4]
[5]
[6]
[7]
[8]
[9,null,null,null,null,null,null,null,null,null,null,null,null,null,null,{"$f":"IF(ISBLANK(B57)=FALSE,1-M57/I57,\" \")","v":" "},null,{"$f":"IF(AND(ISBLANK(B57)=FALSE,ISBLANK(M57)=FALSE,A57=I$22,I$7=\"algemene regels\"),1,0)","v":0}]
[10,null,null,null,null,null,null,null,null,null,null,null,null,null,null," ",null,0]
[32,null,null,null,null,null,null,null,null,null,null,null,null,null,null,null,null,0]
[33,null,null,null,null,null,null,null,null,null,null,null,null,null,null," ",null,0]
[34,null,null,null,null,null,null,null,null,null,null,null,null,null,null," ",null,0]
[35,null,null,null,null,null,null,null,null,null,null,null,null,null,null," ",null,0]
[36,null,null,null,null,null,null,null,null,null,null,null,null,null,null," ",null,0]
[37,null,null,null,null,null,null,null,null,null,null,null,null,null,null," ",null,0]
[38,null,null,null,null,null,null,null,null,null,null,null,null,null,null," ",null,0]
[39,null,null,null,null,null,null,null,null,null,null,null,null,null,null," ",null,0]
[40,null,null,null,null,null,null,null,null,null,null,null,null,null,null," ",null,0]
[41,null,null,null,null,null,null,null,null,null,null,null,null,null,null," ",null,0]
[42,null,null,null,null,null,null,null,null,null,null,null,null,null,null," ",null,0]
[43,null,null,null,null,null,null,null,null,null,null,null,null,null,null," ",null,0]
[44,null,null,null,null,null,null,null,null,null,null,null,null,null,null," ",null,0]
[45,null,null,null,null,null,null,null,null,null,null,null,null,null,null," ",null,0]
[46,null,null,null,null,null,null,null,null,null,null,null,null,null,null," ",null,0]
[47,null,null,null,null,null,null,null,null,null,null,null,null,null,null," ",null,0]
[48,null,null,null,null,null,null,null,null,null,null,null,null,null,null," ",null,0]
[49,null,null,null,null,null,null,null,null,null,null,null,null,null,null," ",null,0]
[50,null,null,null,null,null,null,null,null,null,null,null,null,null,null," ",null,0]

{"sheet":"resultaten immissietoets","index":11,"n_rows":96,"n_cols":92,"rows_kept":96,"cut":false,"hidden":false,"merged":[[21,73,23,73],[84,7,84,34],[91,0,92,35],[24,27,24,30],[21,69,23,71],[2,2,2,7],[24,40,24,41],[15,31,17,32],[17,0,18,6],[19,0,19,6],[24,7,24,11],[24,13,24,26],[24,31,24,35],[24,36,24,37],[3,40,17,49],[3,22,4,30],[9,22,9,31],[21,40,23,41],[21,42,23,43],[7,0,7,1],[8,0,8,1]]}
["RESULTATENBLAD IMMISSIETOETS O.B.V. VERDUNNINGSFACTOREN UIT WEBAPPLICATIE IMMISSIETOETS"]
[null,null,null,null,null,null,null,null,null,null,null,null,null,null,null,null,null,null,null,null,null,null,null,null,null,null,"90-percentiel lage afvoer"]
["Naam bedrijf/lozer:",null,null,null,null,null,null,null,null,null,null,null,null,null,null,null,null,null,null,null,null,null,null,null,null,null,"gemiddelde afvoer"]
[null,null,null,null,null,null,null,null,null,null,null,null,null,null,null,null,null,null,null,null,null,null,"Wilt u de invloed van hechting aan zwevend stof meenemen bij beoordeling?  (dit kan bij lozing van metalen en stoffen die aan zwevend stof hechten van belang zijn!)",null,null,null,null,null,null,null,null,"nee","nee",null,null,null,null,null,null,null,{"$f":"IF(BD25>=1,+AZ9,\" \")","v":" "}]
[]
[null,null,null,null,null,null,null,null,null,null,null,null,null,null,null,null,null,null,null,null,null,null,null,null,null,null,null,null,null,null,null,"ja"]
[null,null,null,null,null,null,null,null,null,null,null,null,null,null,null,null,null,null,null,null,null,null,null,null,null,null,null,null,null,null,null,"nee"]
["Vindt de lozing plaats op zee?",null,null,null,null,null,null,null,null,null,null,null,null,null,null,null,null,null,null,null,null,null,"Wilt u in geval van metalen corrigeren voor natuurlijke achtergrondconc. ?",null,null,null,null,null,null,null,null,null,"nee"]
[{"$f":"IF(C8=\"nee\",\"Vindt de lozing plaats op haven?\",\" \")","v":" "},null,null,null,null,null,null,null,null,null,null,null,null,null,null,null,null,null,null,null,null,null,null,null,null,null,null,null,null,null,null,null,null,null,null,null,null,null,null,null,null,null,null,null,null,null,null,null,null,null,null,"Vanuit drinkwater problematiek is lozing niet mogelijk. Vanwege een te hoge achtergrondconcentratie wordt de signaleringsparameter van 1 ug/l ter hoogte van het innamepunt overschreden. Geadviseerd wordt om met BG contact op te nemen om RIVM te raadplegen over de  afleiding van een indicatieve richtwaarde voor drinkwater voor de betreffende stof"]
[null,null,null,null,null,null,null,null,null,null,null,null,null,null,null,null,null,null,null,null,null,null,{"$f":"IF(AG4=\"nee\",\" \",\"Geef zwevend stof gehalte in ontvangende oppervlaktewater [ug/l]: \")","v":" "}]
["dimensies watersysteem:"]
[{"$f":"IF(C8=\"ja\",\" \",\"breedte (m)\")","v":"breedte (m)"}]
["diepte (m)"]
[{"$f":"IF(C8=\"ja\",\" \",\"afvoer (m3/s)   90-percentiel lage afvoer:\")","v":"afvoer (m3/s)   90-percentiel lage afvoer:"},null,null,null,null,null,null,null,null,null,null,null,null,null,null,null,null,null,null,null,null,null,null,null,null,null,null,null,null,null,null,null,null,"ja"]
["gemiddelde afvoer (m3/s) ter hoogte van monitoringspunt",null,null,null,null,null,null,null,null,null,null,null,null,"ng/l",null,null,null,null,null,"BIJ NIEUWE BEOORDELING: LET OP ",null,null,null,null,null,null,null,null,null,null,null,null,null,"nee"]
["lozingsdebiet (m3/s)",null,null,null,null,null,null,null,null,null,null,null,null,"ug/l",null,null,null,null,null," OUDE INVOERDATA VERWIJDEREN!",null,null,null,null,null,null,null,null,null,null,null,"Beoordeling o.b.v. gemiddelde afvoer "]
["Type lozing",null,null,null,null,null,null,null,null,null,null,null,null,"mg/l",null,null,null,null,null,"bestaand"]
["Is er benedenstrooms sprake van beschermde gebieden (drinkwater, zwemwater, natura 2000, schelpdierwater of overgangswater) ?",null,null,null,null,null,null,null,null,null,null,1,null,"g/l","ja",null,null,null,null,"nieuw"]
[null,null,null,null,null,null,null,null,null,null,null,null,null,null,"nee",null,null,null,null,"      Beoordeling o.b.v. maatgevende 90-percentiel lage afvoer"]
[{"$f":"IF(H18=\"ja\",\"geef verdunningsfactor ter hoogte van drinkwaterinnamepunt\",\" \")","v":" "}]
[null,null,null,null,null,null,null,null,null,null,null,null,null,null,null,null,null,null,null,null,null,null,null,null,null,null,null,null,null,null,null,null,null,null,null,null,null,null,null,null,{"$f":"COUNTIF(AO28:AO84,\">0\")","v":0}]
["Verdunnings-factor","ja",null,null,null,null,null,{"$f":"CONCATENATE(\"X-L \",ROUND(MIN((+H12*10),1000),0),\" [m]\")","v":"X-L 0 [m]"},null,null,null,null,null,null,null,null,null,null,null,null,null,null,null,null,null,null,null,null,null,null,null,null,null,null,null,null,null,null,null,null,{"$f":"IF(AL26=1,\"Let op !: door ontbreken van drinkwaternorm kan berekende benodigde reductie (in rood), o.b.v. sign-waarde van 1 ug/l of Ca, worden overschat!\",\" \")","v":" "},null,{"$f":"IF(+$C9=\"ja\",\"Let op lozing vindt plaats op haven: effecten voor hoofdwatersysteem vallen doorgaans lager uit!\",\" \")","v":" "},null,null,null,null,null,null,null,null,null,null,null,null,null,null,null,null,null,null,null,null,null,null,null,null,null,null,{"$f":"IF('beschrijving lozing'!I13=\"indirecte lozing\",\"beoordeling van biologische zuivering  als maatregel\",\" \")","v":" "},null,null,null,"ondergrens voor verwijderings-rendement voor BBT [%]"]
[null,"nee",null,null,null,null,null,{"$f":"CONCATENATE(\"X-mac \",CEILING(MIN((+H12*0.25),25),1),\" [m]\")","v":"X-mac 0 [m]"},null,null,null,null,null,null,null,null,null,null,null,null,null,null,null,null,null,null,null,null,null,null,null,null,null,null,null,null,null,null,null,null,null,null,null,null,null,null,null,null,null,null,null,{"$f":"J22*(N28-J28)+J28","v":0}]
["berekende mengfactor (volledige menging) op monitoringspunt",null,null,null,null,null,null,null,null,{"$f":"IF(ISBLANK(H15)=FALSE,(H15+H16)/H16,\" \")","v":" "},null,null,null,null,null,null,null,null,null,null,null,null,null,null,null,null,null,null,null,null,null,null,null,null,null,null,null,null,null,null,null,null,null,null,null,null,null,null,null,null,null,null,null,null,null,null,{"$f":"MAX(BE28:BE84)","v":0}]
["Invoer",null,null,null,null,null,null,"invoer",null,null,null,null,null,"resultaten immissietoets (mengzone)",null,null,null,null,null,null,null,null,null,null,null,null,null,"resultaat beschermde gebieden",null,null,null,"beoordeling op waterlichaamniveau",null,null,null,null,"overall oordeel",null,null,null,"Consequentie",null,null,null,"reductie lozing",null,null,null,null,null,"normtoets",null,null,null,null,{"$f":"COUNTIF(BD28:BD83,\">=1\")","v":0},"drinkwater",null,null,null,null,null,null,null,null,null,null,null,null,null,null,null,null,1]
["Geloosde stof","ZZS (ja/nee?)",{"$f":"IF(AG4=\"ja\",\"Kp (alleen van belang bij aan zw-stof adsor-berende stoffen)\",\" \")","v":" "},"F-verdunning op afst. L","F-verdunning op afst. Xmac","F-volledig mon-punt",{"$f":"IF('beschrijving lozing'!I13=\"indirecte lozing\",\"biologische afbraak in rwzi [%]\",\" \")","v":" "},{"$f":"IF(OR(ISBLANK('beschrijving lozing'!I13)=TRUE,'beschrijving lozing'!I13=\"directe lozing\"),\"Effluent-concentratie [ug/l]\",\"Concentratie na biologische zuivering [ug/l]\")","v":"Effluent-concentratie [ug/l]"},"Natuur-lijke Cachter-grond [ug/l]","Cachter-grond [ug/l]","eenheid waarin MKN is vastgesteld","Waarde MKN  **)",null,"norm voor norm-toets [ug/l]         ***)","meet-nauw-keurig-heid *)",null,"MN","meet-nauw-keurig-heid [ug/l]*)",null,"MAC [ug/l]","MAC [mg/l]",{"$f":"CONCATENATE(\"C-Xmac > MAC?\")","v":"C-Xmac > MAC?"},"DCL     (rand meng-zone) [ug/l]","DCL/MKN [%]","DCL/MKN [%]","CL       [ug/l]","Resultaat van immissietoets","geef achter-grondcon-centratie ter hoogte van drinkwater-inamepunt [ug/l]",{"$f":"IF(H18=\"ja\",\"Concen-tratie ter hoogte van beschermde gebied [ug/l]\",\" \")","v":" "},{"$f":"IF(H18=\"ja\",\"drink-water-norm [ug/l]\",\" \")","v":" "},"oordeel beschermde gebieden","C-moni-torings-punt        [ug/l]","C-mon > MKN?","∆C-mon > meet-nauw-keurig-heid?","Resul-taat van toetsing aan prin-cipe van geen achter-uitgang (KRW)",null,"overall oordeel",{"$f":"IF(ISNA(VLOOKUP(1,AL28:AL84,1,0)=TRUE),0,1)","v":0},null,null,"beno-digde reductie o.b.v. immissie-toets [%] ","Oorzaak niet voldoen immissietoets","Advies","Relatieve bijdrage van de lozing aan concentratieverhoging bij het innamepunt of de rand van mengzone in geval van overschrijding- of ontbreken van normen","resultaat sign.toets","resultaat normtoets","resultaat krw toets","KRW","resultaat drinkwatertoets",null,"Reductiefactor R","reductie Cloz","Cloz-nieuw","red% Cloz o.b.v. norm-toets","red% norm-toets",null,"reductie","norm","red Cloz drink-water","overschrijding norm",null,null,"correctie adsorptie zw-stof",null,null,null,"drinkwatertoets overschreden?",null,{"$f":"IF('beschrijving lozing'!I13=\"indirecte lozing\",\"Clozing als lozing via rwzi gaat [ug/l]\",\" \")","v":" "},"berekend rendement rwzi a.g.v. adsorptie aan slib","biologische afbraak in zuivering [%]","overall rendement [%]","influent-concentratie voor maatregel [ug/l]","In 'rede te verlangen' kosten per stof voor BBT per jaar [€/j]",null,"In 'rede te verlangen' kosten per stof voor BBT+ per jaar [€/j]",null,"KE [€/kg-verw.]",null,"totale in rede te verlangen kosten voor BBT o.b.v. alle stoffen [€/j]",null,"totale in rede te verlangen kosten voor BBT o.b.v. ZZS [€/j]",null,"totale in rede te verlangen kosten voor BBT o.b.v. PFAS [€/j]",null,"totale in rede te verlangen kosten voor BBT+ o.b.v. alle stoffen [€/j]",null,"totale in rede te verlangen kosten voor BBT+ o.b.v. ZZS [€/j]",null,"totale in rede te verlangen kosten voor BBT+ o.b.v. PFAS [€/j]"]
["zwevend stof",null,0,{"$f":"J22","v":0},{"$f":"J23","v":0},{"$f":"(H$15+H16)/H$16","v":{"$error":"#DIV/0!"}},null,20000,null,{"$f":"+$AG$10","v":0},null,null,null,null,null,null,null,null,null,null,null,{"$f":"IF(AND(+H27<>\" \",ISBLANK(T27)<>TRUE),IF(+J27+(H27-J27)/E27>U27,\"JA\",\"NEE\"),\" \")","v":" "},{"$f":"IF(+H27<>\" \",(H27-J27)/D27,\" \")","v":{"$error":"#DIV/0!"}},null,{"$f":"IF(+H27<>\" \",IF(AND(+H27>0,L27>0),W27/L27,\" \"),\" \")","v":" "},{"$f":"IF(H27<>\" \",+J27+W27,J27)","v":{"$error":"#DIV/0!"}},{"$f":"IF(ISBLANK(A27)<>TRUE,IF(AND(H27>0,L27>0),IF(IF(H$35=\"nieuw\",AND(Z27<N27,+X27<=0.1),X27<=0.1),\"VOLDOET\",\"VOLDOET NIET!\"),\" \"),\" \")","v":" "},null,null,null,null,{"$f":"IF(ISBLANK(A27)<>TRUE,(BQ27-J27)/F27,\" \")+J27","v":{"$error":"#DIV/0!"}},{"$f":"IF(+ISBLANK($D27)<>TRUE,IF(AND(+$J27>0,$O27>0),IF(+AF27>M27,\"JA\",\"NEE\"),\" \"),\" \")","v":" "},{"$f":"IF(+ISBLANK($D27)<>TRUE,IF(AND(+$J27>0,$N27>0),IF(+AF27-J27>O27,\"JA\",\"NEE\"),\" \"),\" \")","v":" "},{"$f":"IF(ISBLANK(A27)<>TRUE,IF(AND(H27>0,M27>0),IF(AND(AG27=\"NEE\",J27<M27),\"VOLDOET\",IF(AND(+J27>=M27,(AF27-J27)<=O27),\"VOLDOET\",\"VOLDOET NIET!\")),\" \"),\" \")","v":" "},null,null,null,0,null,null,null,null,{"$f":"IF(OR(BO27=\"ja\",AO27=\"n.t.b\"),IF(AND(ISBLANK(L27)=TRUE,ISBLANK(AD27)=TRUE,BO27=\"ja\"),CONCATENATE(\"delta C-innamepunt: \",ROUND((AC27-AB27)/AB27*100,4),\" %\",\"; delta C-L-: \",ROUND(W27/J27*100,4),\" %\"),IF(ISBLANK(L27)=TRUE,IF(ISBLANK(J27)=TRUE,CONCATENATE(\"delta C-L: \",ROUND(W27,4),\" ug/l\"),CONCATENATE(\"delta C-L: \",ROUND(+W27/J27*100,4),\" %\")),IF(ISBLANK(AD27)=TRUE,CONCATENATE(\"delta C-innamepunt: \",ROUND((AC27-AB27)/AB27*100,4),\"%\")))),\" \")","v":" "},null,null,null,null,null,null,null,null,null,null,null,null,null,null,null,null,null,null,null,null,null,null,null,null,{"$f":"IF(AND(ISBLANK(A27)=FALSE,A27<>\" \"),IF('beschrijving lozing'!I$13=\"indirecte lozing\",+J27,+'resultaten immissietoets'!H27-J27/J22),\" \")","v":{"$error":"#DIV/0!"}}]
[null,null,null,{"$f":"+D27","v":0},{"$f":"+E27","v":0},{"$f":"+F27","v":{"$error":"#DIV/0!"}},null,null,null,null,null,null,{"$f":"IF(AG$8=\"ja\",L28+I28,L28)","v":0},{"$f":"IF(K28=\"ng/l\",0.001*+M28,IF(K28=\"ug/l\",M28,IF(K28=\"mg/l\",1000*M28,100000*M28)))","v":0},{"$f":"IF(ISBLANK(K28)=FALSE,IF(AND($D28<>\"\",ISBLANK(L28)<>TRUE),MIN(IF(ROUNDDOWN($N28,5)-ROUNDDOWN($N28,4)>0,0.00001,IF(ROUNDDOWN($N28,4)-ROUNDDOWN($N28,3)>0,0.0001,IF(ROUNDDOWN($N28,3)-ROUNDDOWN($N28,2)>0,0.001,IF(ROUNDDOWN($N28,2)-ROUNDDOWN($N28,1)>0,0.01,IF(ROUNDDOWN($N28,1)-ROUNDDOWN(N28,0)>0,0.1,IF(ROUNDDOWN($N28/10,1)-ROUNDDOWN(N28/10,0)>0,1,IF(ROUNDDOWN($N28/100,1)-ROUNDDOWN(N28/100,0)>0,10,IF(ROUNDDOWN($N28/1000,1)-ROUNDDOWN(N28/1000,0)>0,100,IF(ROUNDDOWN($N28/10000,1)-ROUNDDOWN(N28/10000,0)>0,1000,10000))))))))),1000),\" \"),\" \")","v":" "},{"$f":"IF(AND(ROUNDDOWN($N28/1000,2)-ROUNDDOWN($N28/100000,3)>0,N28>1000),1000,IF(AND(ROUNDDOWN($N28/10000,2)-ROUNDDOWN($N28/10000,3),N28>100),100,IF(AND(ROUNDDOWN($N28/1000,2)-ROUNDDOWN($N28/1000>0,3),N28>10),10,IF(AND(ROUNDDOWN($N28/100,2)-ROUNDDOWN($N28/100>0,3),N28>1),1,0.1))))","v":0.1},{"$f":"IF(ISBLANK(#REF!)=FALSE,IF(K28=\"ng/l\",0.001,IF(K28=\"ug/l\",1,IF(K28=\"mg/l\",1000,1000000)))*IF(M28/10<1,0.1,IF(M28/100<1,1,IF(M28/1000<1,1,1))),\" \")","v":100000},{"$f":"IF(AND(ISBLANK(#REF!)=FALSE,ISBLANK(L28)=FALSE),MIN(Q28,O28)*IF(ISNUMBER(S28)=TRUE,S28,1),\" \")","v":" "},null,null,{"$f":"IF(T28>0,IF(AG$28=\"ja\",T28+I28,T28),\" \")","v":" "},{"$f":"IF(AND(+H28<>\" \",ISBLANK(T28)<>TRUE),IF(+J28+(H28-J28)/E28*IF(+X$41=\"ja\",1/(1+C28*(AG$30+W$46*D28/E28)*0.000001),1)>U28,\"JA\",\"NEE\"),\" \")","v":" "},{"$f":"IF(ISBLANK(H28)=FALSE,IF(AND(+H28>0,L28>0),(H28-J28)/D28,\" \"),0)*IF(+AG$4=\"ja\",1/(1+C28*Z$27/1000*0.000001),1)","v":0},{"$f":"IF(AND(L28>0,H28>0),+W28/N28,\" \")","v":" "}," ",{"$f":"IF(ISBLANK(H28)=FALSE,IF(H28>0,+J28+W28,\" \"),\" \")","v":" "},{"$f":"IF(ISBLANK(A28)<>TRUE,IF(AND(H28>0,L28>0),IF(OR(AND(Z28<=N28,+X28<=0.1),H28<=N28),\"VOLDOET\",IF(AND(J28>=N28,X28<=0.1,AF28-J28<=O28),\"VOLDOET\",\"VOLDOET NIET!\")),\" \"))","v":false},null,{"$f":"IF(ISBLANK(A28)=FALSE,(H28-AB28)/+H$20,0+I28)*IF(AG$4=\"JA\",1/(1+(AG$10+X$27)*C28*0.000001),1)+AB28","v":0},null,{"$f":"IF(H$18=\"ja\",IF(ISBLANK(AD28)=TRUE,IF((AC28)>1,IF(AC28>AB28,\"voldoet niet\",\"voldoet\"),\"voldoet\"),IF(AND(AC28>AD28,H28>AB28),\"voldoet niet\",\"voldoet\")),\"voldoet\")","v":"voldoet"},{"$f":"IF(ISBLANK(A28)<>TRUE,IF(AND(H28>0),(BQ28-J28)/F28*IF(AG$4=\"ja\",1/(1+C28*(AG$10+X$27)*0.000001),1)+J28,\" \"),\" \")","v":" "},{"$f":"IF(AND(+ISBLANK(#REF!)=FALSE,ISBLANK(L28)=FALSE),IF(+AF28>N28,\"JA\",\"NEE\"),\" \")","v":" "},{"$f":"IF(+ISBLANK(A28)<>TRUE,IF($N28>0,IF(+AF28-J28>R28,\"JA\",\"NEE\"),\" \"),\" \")","v":" "},{"$f":"IF(ISBLANK(A28)<>TRUE,IF(AND(H28>0,N28>0),IF(AND(AG28=\"NEE\",J28<N28),\"VOLDOET\",IF(AND(+J28>=N28,(AF28-J28)<=R28),\"VOLDOET\",\"VOLDOET NIET!\")),\" \"),\" \")","v":" "},null,{"$f":"IF(AND(ISBLANK(H28)=FALSE,ISBLANK(L28)=FALSE),IF(ISBLANK(A28)=FALSE,IF(IF(H$18=\"ja\",OR(AND(ISBLANK(AD28)=TRUE,AC28>1),AA28=\" \"),AA28=\" \"),IF(OR(AE28=\"VOLDOET NIET!\",AA28=\"VOLDOET NIET!\"),\"VOLDOET NIET!\",IF(AND(AC28>AB28,ISBLANK(AD28)=TRUE),\"VOLDOET NIET?\",\"VOLDOET\")),IF(ISBLANK(A28)=FALSE,IF(J28<L28,IF(OR(AA28=\"voldoet niet!\",AI28=\"voldoet niet!\",AE28=\"VOLDOET NIET\"),\"VOLDOET NIET!\",\"VOLDOET\"),IF(AND(X28<=0.1,AI28=\"VOLDOET\"),\"VOLDOET\",\"VOLDOET NIET!\")))),\" \"),\"VOLDOET NIET?\")","v":"VOLDOET NIET?"},{"$f":"IF(AND(AO28>0,AK28=\"VOLDOET NIET?\",ISBLANK(L28)=FALSE),1,0)","v":0},{"$f":"IF(AND(AO28>0,ISBLANK(A28)=FALSE),1,+AM27)","v":0},{"$f":"+A28","v":0},{"$f":"IF(AND(ISBLANK(AD28)=TRUE,ISBLANK(L28)=TRUE),\"n.t.b\",IF(AK28=\"VOLDOET\",0,IF(AND(ISBLANK(H28)=FALSE,ISBLANK(L28)=FALSE),IF(AND(AK28=\"VOLDOET NIET?\",ISBLANK(L28)=TRUE),\"ntb\",IF(H$18=\"ja\",IF(AND(ISBLANK(AD28)=TRUE,AB28>=1,AC28>1,AE28=\"voldoet niet!\"),\"n.t.b\",MIN(1,MAX(AS28,AT28,AU28,AW28,BE28,BG28,BM28))),MIN(1,MAX(AS28,AT28,AU28,AW28)))),\" \")))","v":"n.t.b"},{"$f":"CONCATENATE(IF(AK28=\"VOLDOET\",\" \",IF(AND(ISBLANK(H28)=FALSE,ISBLANK(L28)=FALSE),CONCATENATE(IF(AND(ISBLANK(L28)=FALSE,X28>0.1),\"sign.-toets; \",\"\"),IF(AND(J28<N28,Z28>N28),\"normtoets; \",\"\"),IF(AND(J28>=N28,AF28-J28>R28),\"KRW-toets; \",\"\"),IF(AND(J28<N28,AF28>N28),\"KRW-toets; \",IF(H$18=\"ja\",IF(AND(ISBLANK(AD28)=FALSE,AC28>AD28),\"drinkwatertoets\",IF(AND(AC28>1,ISBLANK(AD28)=TRUE,AC28>AB28),\"drinkwatertoets\",\"\")),\"\")),IF(ISBLANK(L28)=TRUE,\" ;sign.- en normtoets??\",\"\")),\" \")),IF(V28=\"ja\",\"MAC-toets\",\" \"))","v":"  "},{"$f":"IF(OR(AE28=\"voldoet niet\",AK28=\"VOLDOET niet?\"),IF(AND(H$18=\"ja\",OR(ISBLANK(L28)=TRUE,ISBLANK(AD28)=TRUE)),CONCATENATE(\"Raadpleeg RIVM (via BG) voor (noodzaak) afleiding \",IF(AND(ISBLANK(L28)=TRUE,AA28<>\"VOLDOET\"),\" i-MKN\",\" \"),IF(AND(ISBLANK(AD28)=TRUE,AE28<>\"VOLDOET\"),IF(AND(ISBLANK(L28)=TRUE,AA28<>\"VOLDOET\"),\" en i-DW\",\"i-DW\"),\" \")),\" \"),\" \")","v":" "},{"$f":"IF(OR(BO28=\"ja\",AO28=\"n.t.b\"),IF(AND(ISBLANK(L28)=TRUE,ISBLANK(AD28)=TRUE,BO28=\"ja\"),CONCATENATE(\"delta C-innamepunt: \",ROUND((AC28-AB28)/AB28*100,4),\" %\",\"; delta C-L-: \",IF(J28>0,ROUND(W28/J28*100,4),ROUND(W28,4)),IF(J28>0,\"%\",\" ug/l\")),IF(ISBLANK(L28)=TRUE,IF(OR(ISBLANK(J28)=TRUE,J28=0),CONCATENATE(\"delta C-L: \",ROUND(W28,4),\" ug/l\"),CONCATENATE(\"delta C-L: \",ROUND(+W28/J28*100,4),\" %\")),IF(ISBLANK(AD28)=TRUE,CONCATENATE(\"delta C-innamepunt: \",ROUND((AC28-AB28)/AB28*100,4),\"%\")))),\" \")","v":"delta C-L: 0 ug/l"},{"$f":"IF(AND(ISBLANK(A28)=FALSE,ISBLANK(L28)=FALSE),IF(OR(X28<0.1,+H28<=N28),0,IF(J28>=N28,MAX(IF(AF28-N28>R28,1-(J28+J$24*R28/H28),0),IF(X28>0.1,1-0.1/X28,1)),1-0.1/X28))*(H28-J28)/H28,0)","v":0},{"$f":"IF(AND(ISBLANK(A28)=FALSE,ISBLANK(L28)=FALSE),IF(AA28=\"VOLDOET NIET!\",IF(+J28>N28,+BC28,AZ28),0),0)","v":0},{"$f":"IF(AI28<>\"VOLDOET\",1-((1-AV28)*H28+AV28*J28)/H28,0)","v":{"$error":"#VALUE!"}},{"$f":"IF(AI28<>\"VOLDOET\",MAX(IF(J28>=N28,1-R28/(AF28-J28),IF(AF28<=J28+R28,0,IF(J28<N28,1-(N28-J28)/(AF28-J28)))),0),0)","v":{"$error":"#VALUE!"}},{"$f":"IF(AND(ISBLANK(A28)=FALSE,ISBLANK(L28)=FALSE),IF(+H$18=\"ja\",IF(ISBLANK(AD28)=TRUE,IF(AC28>1,+BG28,0),IF(ISBLANK(AD28)=TRUE,IF(AND(AC28>AB28,H28>=AB28),1-AB28/H28,0),IF(AB28<AD28,1-((AD28-AB28)*H$20+AB28)/H28,+BM28))),0),0)","v":0},null,{"$f":"IF(AND(ISBLANK(#REF!)=FALSE,ISBLANK(L28)=FALSE),IF(AND(Z28>N28,J28<N28),(+Z28-+N28)/N28,0),\" \")","v":" "},{"$f":"IF(AND(ISBLANK(A28)=FALSE,ISBLANK(L28)=FALSE),IF(+Z28>N28,IF(J28>=N28,IF(J28+J$24*R28>=H28,0,1-(J28+J$24*R28/H28)),1-(J28+(N28-J28)*J$22/BK28)/(H28)),0),0)","v":0},{"$f":"IF(AND(ISBLANK(A28)=FALSE,ISBLANK(L28)=FALSE),IF(J28<N28,(1-+AZ28)*(H28),MAX(J28,(1-AZ28)*H28)),\" \")","v":" "},null,{"$f":"IF(AND(ISBLANK(#REF!)=FALSE,ISBLANK(L28)=FALSE),IF(AF28>=N28,IF(AND(J28>=N28,AF28-J28<=R28),0,1-BA28/+H28),0),\" \")","v":" "},{"$f":"IF(AND(ISBLANK(#REF!)=FALSE,ISBLANK(L28)=FALSE),IF(AND(BE28>1,ISBLANK(AD28)=TRUE,AO28=1),1,0),\" \")","v":" "},{"$f":"IF(AND(ISBLANK(#REF!)=FALSE,ISBLANK(L28)=FALSE),IF(H$18=\"ja\",1-IF(AND(H$18=\"ja\",AC28>IF(ISBLANK(AD28)=TRUE,1,AD28)),1-+BG28,1),0),0)","v":0},{"$f":"IF(AND(ISBLANK(A36)=FALSE,ISBLANK(L28)=FALSE),IF(ISBLANK(+AD28)=TRUE,1,AD28),\" \")","v":" "},{"$f":"IF($H$18=\"ja\",IF(AND(ISBLANK(AD28)=TRUE,AB28>1),1-AB28/H28,IF(ISBLANK(AD28)=TRUE,IF(AC28>1,1-(H$20*1+AB28)/H28,0),IF(ISBLANK(AD28)=FALSE,IF(AC28>AD28,1-(H$20*AD28+AB28)/H28,0),1-(AB28+H$20*AD28)/H28))),0)","v":0},{"$f":"IF(H$18=\"ja\",IF(AND(ISBLANK(#REF!)=FALSE,ISBLANK(L28)=FALSE),IF(AD28>AC28,0,(AC28-IF(ISBLANK(AD28)=TRUE,1,AD28))/IF(ISBLANK(AD28)=TRUE,1,AD28)-1),\" \"),0)","v":0},null,null,{"$f":"IF(AND(ISBLANK(#REF!)=FALSE,ISBLANK(L28)=FALSE),1/(1+C28*Z$27/1000*0.000001),\" \")","v":" "},null,{"$f":"IF(H$18=\"ja\",IF(AND(AB28<1,ISBLANK(AD28)=TRUE),1-((1-AB28)*H$20+AB28)/H28,MIN(1-AB28/H28,1-AD28/AC28)),0)","v":0},null,{"$f":"IF(BG28>0,\"ja\",\"nee\")","v":"nee"},null,{"$f":"IF(AND(ISBLANK(A28)=FALSE,A28<>\" \"),IF('beschrijving lozing'!I$13=\"indirecte lozing\",1/(1+'resultaten immissietoets'!C28*60*0.000001)*(1-BS28),1)*+'resultaten immissietoets'!H28,\" \")","v":" "},{"$f":"IF(ISBLANK(A28)=FALSE,(1-1/(1+C28*60*0.000001)),\" \")","v":" "},{"$f":"IF(ISBLANK(A28)=FALSE,+G28,\" \")","v":" "},{"$f":"IF(ISBLANK(A28)=FALSE,(1-(1-BS28)*(1-BR28)),\" \")","v":" "},{"$f":"IF(ISBLANK(A28)=FALSE,(1-BT28)*H28,\" \")","v":" "},{"$f":"MAX(IF(ISBLANK($H28)=FALSE,IF('beschrijving lozing'!I$13=\"indirecte lozing\",+$H$16*8760*3600*$H28/1000000*$BZ28*(BV$25-G28-BR28),+$H$16*8760*3600*$H28/1000000*$BZ28*(BV$25))),0)","v":0},null,{"$f":"IF(ISBLANK(A28)=FALSE,IF(ISBLANK($H28)=TRUE,0,+$H$16*8760*3600*$H28/1000000*$BZ28*10*AO28)*IF('beschrijving lozing'!I$13=\"indirecte lozing\",(1-'resultaten immissietoets'!BT28),1),0)","v":0},null,{"$f":"IF(ISBLANK(H28)=TRUE,0,IF(AND(ISBLANK(A28)=FALSE,A28<>\" \"),IF(OR(A28=\"Zink\",A28=\"Zn\",A28=\"Nikkel\",A28=\"Ni\",A28=\"Koper\",A28=\"Cu\"),450,IF(OR(A28=\"P-tot\",A28=\"Tot-P\",A28=\"totaal-P\",A28=\"P-totaal\"),20,IF(OR(A28=\"N-tot\",A28=\"tot-N\",A28=\"totaal-N\",A28=\"N-totaal\",A28=\"totaal-stikstof\",A28=\"stikstof-totaal\"),6,IF(1/N28<0.01,200000*(1/N28)^1.15,660*LN(1/N28)+3950)))),0))","v":0},null,{"$f":"SUBTOTAL(9,(BV28:BV84))","v":0},{"$f":"IF(+B28=\"ja\",+BV28,0)","v":0},{"$f":"SUBTOTAL(9,(CC28:CC84))","v":0},{"$f":"IF(OR($A28=\"PFOS\",$A28=\"PFOA\",$A28=\"GENX\",$A28=\"overige PFAS\",$A28=\"6:2 FTS\"),+BV28,0)","v":0},{"$f":"SUBTOTAL(9,(CE28:CE84))","v":0},null,{"$f":"SUBTOTAL(9,BX27:BX84)","v":0},{"$f":"IF(B28=\"ja\",BX28,0)","v":0},{"$f":"SUBTOTAL(9,CI28:CI84)","v":0},{"$f":"IF(OR($A28=\"PFOS\",$A28=\"PFOA\",$A28=\"GENX\",$A28=\"overige PFAS\",$A28=\"6:2 FTS\"),+BX28,0)","v":0},{"$f":"SUBTOTAL(9,CK28:CK84)","v":0},null,{"$f":"IF(AND($AO28>0,$AK28=\"VOLDOET NIET?\",ISBLANK($L28)=TRUE),1,0)","v":1}]
[null,null,null,{"$f":"+D28","v":0},{"$f":"+E28","v":0},{"$error":"#DIV/0!"},null,null,null,null,null,null,{"$f":"IF(AG$8=\"ja\",L29+I29,L29)","v":0},{"$f":"IF(K29=\"ng/l\",0.001*+M29,IF(K29=\"ug/l\",M29,IF(K29=\"mg/l\",1000*M29,100000*M29)))","v":0},{"$f":"IF(ISBLANK(K29)=FALSE,IF(AND($D29<>\"\",ISBLANK(L29)<>TRUE),MIN(IF(ROUNDDOWN($N29,5)-ROUNDDOWN($N29,4)>0,0.00001,IF(ROUNDDOWN($N29,4)-ROUNDDOWN($N29,3)>0,0.0001,IF(ROUNDDOWN($N29,3)-ROUNDDOWN($N29,2)>0,0.001,IF(ROUNDDOWN($N29,2)-ROUNDDOWN($N29,1)>0,0.01,IF(ROUNDDOWN($N29,1)-ROUNDDOWN(N29,0)>0,0.1,IF(ROUNDDOWN($N29/10,1)-ROUNDDOWN(N29/10,0)>0,1,IF(ROUNDDOWN($N29/100,1)-ROUNDDOWN(N29/100,0)>0,10,IF(ROUNDDOWN($N29/1000,1)-ROUNDDOWN(N29/1000,0)>0,100,IF(ROUNDDOWN($N29/10000,1)-ROUNDDOWN(N29/10000,0)>0,1000,10000))))))))),1000),\" \"),\" \")","v":" "},0.1,{"$f":"IF(ISBLANK(A28)=FALSE,IF(K29=\"ng/l\",0.001,IF(K29=\"ug/l\",1,IF(K29=\"mg/l\",1000,1000000)))*IF(M29/10<1,0.1,IF(M29/100<1,1,IF(M29/1000<1,1,1))),\" \")","v":" "},{"$f":"IF(AND(ISBLANK(A28)=FALSE,ISBLANK(L29)=FALSE),MIN(Q29,O29)*IF(ISNUMBER(S29)=TRUE,S29,1),\" \")","v":" "},null,null," ",{"$f":"IF(AND(+H29<>\" \",ISBLANK(T29)<>TRUE),IF(+J29+(H29-J29)/E29*IF(+X$41=\"ja\",1/(1+C29*(AG$30+W$46*D29/E29)*0.000001),1)>U29,\"JA\",\"NEE\"),\" \")","v":" "},{"$f":"IF(ISBLANK(H29)=FALSE,IF(AND(+H29>0,L29>0),(H29-J29)/D29,\" \"),0)*IF(+AG$4=\"ja\",1/(1+C29*Z$27/1000*0.000001),1)","v":0}," "," ",{"$f":"IF(ISBLANK(H29)=FALSE,IF(H29>0,+J29+W29,\" \"),\" \")","v":" "},false,null,0,null,{"$f":"IF(H$18=\"ja\",IF(ISBLANK(AD29)=TRUE,IF((AC29)>1,IF(AC29>AB29,\"voldoet niet\",\"voldoet\"),\"voldoet\"),IF(AND(AC29>AD29,H29>AB29),\"voldoet niet\",\"voldoet\")),\"voldoet\")","v":"voldoet"}," ",{"$f":"IF(AND(+ISBLANK(A29)=FALSE,ISBLANK(L29)=FALSE),IF(+AF29>N29,\"JA\",\"NEE\"),\" \")","v":" "},{"$f":"IF(+ISBLANK(A29)<>TRUE,IF($N29>0,IF(+AF29-J29>R29,\"JA\",\"NEE\"),\" \"),\" \")","v":" "},{"$f":"IF(ISBLANK(A29)<>TRUE,IF(AND(H29>0,N29>0),IF(AND(AG29=\"NEE\",J29<N29),\"VOLDOET\",IF(AND(+J29>=N29,(AF29-J29)<=R29),\"VOLDOET\",\"VOLDOET NIET!\")),\" \"),\" \")","v":" "},null,{"$f":"IF(AND(ISBLANK(H29)=FALSE,ISBLANK(L29)=FALSE),IF(ISBLANK(A29)=FALSE,IF(IF(H$18=\"ja\",OR(AND(ISBLANK(AD29)=TRUE,AC29>1),AA29=\" \"),AA29=\" \"),IF(OR(AE29=\"VOLDOET NIET!\",AA29=\"VOLDOET NIET!\"),\"VOLDOET NIET!\",IF(AND(AC29>AB29,ISBLANK(AD29)=TRUE),\"VOLDOET NIET?\",\"VOLDOET\")),IF(ISBLANK(A29)=FALSE,IF(J29<L29,IF(OR(AA29=\"voldoet niet!\",AI29=\"voldoet niet!\",AE29=\"VOLDOET NIET\"),\"VOLDOET NIET!\",\"VOLDOET\"),IF(AND(X29<=0.1,AI29=\"VOLDOET\"),\"VOLDOET\",\"VOLDOET NIET!\")))),\" \"),\"VOLDOET NIET?\")","v":"VOLDOET NIET?"},{"$f":"IF(AND(AO29>0,AK29=\"VOLDOET NIET?\",ISBLANK(L29)=FALSE),1,0)","v":0},{"$f":"IF(AND(AO29>0,ISBLANK(A29)=FALSE),+AM28+1,+AM28)","v":0},{"$f":"+A29","v":0},{"$f":"IF(AND(ISBLANK(AD29)=TRUE,ISBLANK(L29)=TRUE),\"n.t.b\",IF(AK29=\"VOLDOET\",0,IF(AND(ISBLANK(H29)=FALSE,ISBLANK(L29)=FALSE),IF(AND(AK29=\"VOLDOET NIET?\",ISBLANK(L29)=TRUE),\"ntb\",IF(H$18=\"ja\",IF(AND(ISBLANK(AD29)=TRUE,AB29>=1,AC29>1,AE29=\"voldoet niet!\"),\"n.t.b\",MIN(1,MAX(AS29,AT29,AU29,AW29,BE29,BG29,BM29))),MIN(1,MAX(AS29,AT29,AU29,AW29)))),\" \")))","v":"n.t.b"},{"$f":"CONCATENATE(IF(AK29=\"VOLDOET\",\" \",IF(AND(ISBLANK(H29)=FALSE,ISBLANK(L29)=FALSE),CONCATENATE(IF(AND(ISBLANK(L29)=FALSE,X29>0.1),\"sign.-toets; \",\"\"),IF(AND(J29<N29,Z29>N29),\"normtoets; \",\"\"),IF(AND(J29>=N29,AF29-J29>R29),\"KRW-toets; \",\"\"),IF(AND(J29<N29,AF29>N29),\"KRW-toets; \",IF(H$18=\"ja\",IF(AND(ISBLANK(AD29)=FALSE,AC29>AD29),\"drinkwatertoets\",IF(AND(AC29>1,ISBLANK(AD29)=TRUE,AC29>AB29),\"drinkwatertoets\",\"\")),\"\")),IF(ISBLANK(L29)=TRUE,\" ;sign.- en normtoets??\",\"\")),\" \")),IF(V29=\"ja\",\"MAC-toets\",\" \"))","v":"  "}," ",{"$f":"IF(OR(BO29=\"ja\",AO29=\"n.t.b\"),IF(AND(ISBLANK(L29)=TRUE,ISBLANK(AD29)=TRUE,BO29=\"ja\"),CONCATENATE(\"delta C-innamepunt: \",ROUND((AC29-AB29)/AB29*100,4),\" %\",\"; delta C-L: \",IF(J29>0,ROUND(W29/J29*100,4),ROUND(W29,4)),IF(J29>0,\"%\",\" ug/l\")),IF(ISBLANK(L29)=TRUE,IF(OR(ISBLANK(J29)=TRUE,J29=0),CONCATENATE(\"delta C-L: \",ROUND(W29,4),\" ug/l\"),CONCATENATE(\"delta C-L: \",ROUND(+W29/J29*100,4),\" %\")),IF(ISBLANK(AD29)=TRUE,CONCATENATE(\"delta C-innamepunt: \",ROUND((AC29-AB29)/AB29*100,4),\"%\"),\" \"))),\" \")","v":"delta C-L: 0 ug/l"},0,{"$f":"IF(AND(ISBLANK(A29)=FALSE,ISBLANK(L29)=FALSE),IF(AA29=\"VOLDOET NIET!\",IF(+J29>N29,+BC29,AZ29),0),0)","v":0},{"$f":"IF(AI29<>\"VOLDOET\",1-((1-AV29)*H29+AV29*J29)/H29,0)","v":{"$error":"#VALUE!"}},{"$f":"IF(AI29<>\"VOLDOET\",MAX(IF(J29>=N29,1-R29/(AF29-J29),IF(AF29<=J29+R29,0,IF(J29<N29,1-(N29-J29)/(AF29-J29)))),0),0)","v":{"$error":"#VALUE!"}},0,null,{"$f":"IF(AND(ISBLANK(A28)=FALSE,ISBLANK(L29)=FALSE),IF(AND(Z29>N29,J29<N29),(+Z29-+N29)/N29,0),0)","v":0},{"$f":"IF(AND(ISBLANK(A29)=FALSE,ISBLANK(L29)=FALSE),IF(+Z29>N29,IF(J29>=N29,IF(J29+J$24*R29>=H29,0,1-(J29+J$24*R29/H29)),1-(J29+(N29-J29)*J$22/BK29)/(H29)),0),0)","v":0}," ",null,{"$f":"IF(AND(ISBLANK(A28)=FALSE,ISBLANK(L29)=FALSE),IF(J29>N29,0,1-(N29-J29)/(Z29-J29)),0)","v":0},{"$f":"IF(AND(ISBLANK(A28)=FALSE,ISBLANK(L29)=FALSE),IF(AND(BE29>1,ISBLANK(AD29)=TRUE),1,0),0)","v":0},{"$f":"IF(AND(ISBLANK(#REF!)=FALSE,ISBLANK(L29)=FALSE),IF(H$18=\"ja\",1-IF(AND(H$18=\"ja\",AC29>IF(ISBLANK(AD29)=TRUE,1,AD29)),1-+BG29,1),0),0)","v":0},{"$f":"IF(AND(ISBLANK(A28)=FALSE,ISBLANK(L29)=FALSE),IF(ISBLANK(+AD29)=TRUE,1,AD29),\" \")","v":" "},{"$f":"IF($H$18=\"ja\",IF(AND(ISBLANK(AD29)=TRUE,AB29>1),1-AB29/H29,IF(ISBLANK(AD29)=TRUE,IF(AC29>1,1-(H$20*1+AB29)/H29,0),IF(ISBLANK(AD29)=FALSE,IF(AC29>AD29,1-(H$20*AD29+AB29)/H29,0),1-(AB29+H$20*AD29)/H29))),0)","v":0},{"$f":"IF(H$18=\"ja\",IF(AND(ISBLANK(A28)=FALSE,ISBLANK(L29)=FALSE),IF(AD29>AC29,0,(AC29-IF(ISBLANK(AD29)=TRUE,1,AD29))/IF(ISBLANK(AD29)=TRUE,1,AD29)-1),\" \"),0)","v":0},null,null,{"$f":"IF(AND(ISBLANK(#REF!)=FALSE,ISBLANK(L29)=FALSE),1/(1+C29*Z$27/1000*0.000001),\" \")","v":" "},null,0,null,"nee",null,{"$f":"IF(AND(ISBLANK(A29)=FALSE,A29<>\" \"),IF('beschrijving lozing'!I$13=\"indirecte lozing\",1/(1+'resultaten immissietoets'!C29*60*0.000001)*(1-BS29),1)*+'resultaten immissietoets'!H29,\" \")","v":" "},{"$f":"IF(ISBLANK(A29)=FALSE,(1-1/(1+C29*60*0.000001)),\" \")","v":" "},{"$f":"IF(ISBLANK(A29)=FALSE,+G29,\" \")","v":" "},{"$f":"IF(ISBLANK(A29)=FALSE,(1-(1-BS29)*(1-BR29)),\" \")","v":" "},{"$f":"IF(ISBLANK(A29)=FALSE,(1-BT29)*H29,\" \")","v":" "},{"$f":"MAX(IF(ISBLANK($H29)=FALSE,IF('beschrijving lozing'!I$13=\"indirecte lozing\",+$H$16*8760*3600*$H29/1000000*$BZ29*(BV$25-G29-BR29),+$H$16*8760*3600*$H29/1000000*$BZ29*(BV$25))),0)","v":0},null,{"$f":"IF(ISBLANK(A29)=FALSE,IF(ISBLANK($H29)=TRUE,0,+$H$16*8760*3600*$H29/1000000*$BZ29*10*AO29)*IF('beschrijving lozing'!I$13=\"indirecte lozing\",(1-'resultaten immissietoets'!BT29),1),0)","v":0},null,{"$f":"IF(ISBLANK(H29)=TRUE,0,IF(AND(ISBLANK(A29)=FALSE,A29<>\" \"),IF(OR(A29=\"Zink\",A29=\"Zn\",A29=\"Nikkel\",A29=\"Ni\",A29=\"Koper\",A29=\"Cu\"),450,IF(OR(A29=\"P-tot\",A29=\"Tot-P\",A29=\"totaal-P\",A29=\"P-totaal\"),20,IF(OR(A29=\"N-tot\",A29=\"tot-N\",A29=\"totaal-N\",A29=\"N-totaal\",A29=\"totaal-stikstof\",A29=\"stikstof-totaal\"),6,IF(1/N29<0.01,200000*(1/N29)^1.15,660*LN(1/N29)+3950)))),0))","v":0},null,null,{"$f":"IF(+B29=\"ja\",+BV29,0)","v":0},null,{"$f":"IF(OR($A29=\"PFOS\",$A29=\"PFOA\",$A29=\"GENX\",$A29=\"overige PFAS\",$A29=\"6:2 FTS\"),+BV29,0)","v":0},null,null,null,{"$f":"IF(B29=\"ja\",BX29,0)","v":0},null,{"$f":"IF(OR($A29=\"PFOS\",$A29=\"PFOA\",$A29=\"GENX\",$A29=\"overige PFAS\",$A29=\"6:2 FTS\"),+BX29,0)","v":0},null,null,{"$f":"IF(AND($AO29>0,$AK29=\"VOLDOET NIET?\",ISBLANK($L29)=TRUE),1,0)","v":1}]
[null,null,null,0,0,{"$error":"#DIV/0!"},null,null,null,null,null,null,0,0," ",{"$f":"IF(AND(ROUNDDOWN($N30/1000,2)-ROUNDDOWN($N30/100000,3)>0,N30>1000),1000,IF(AND(ROUNDDOWN($N30/10000,2)-ROUNDDOWN($N30/10000,3),N30>100),100,IF(AND(ROUNDDOWN($N30/1000,2)-ROUNDDOWN($N30/1000>0,3),N30>10),10,IF(AND(ROUNDDOWN($N30/100,2)-ROUNDDOWN($N30/100>0,3),N30>1),1,0.1))))","v":0.1},{"$f":"IF(ISBLANK(A30)=FALSE,IF(K30=\"ng/l\",0.001,IF(K30=\"ug/l\",1,IF(K30=\"mg/l\",1000,1000000)))*IF(M30/10<1,0.1,IF(M30/100<1,1,IF(M30/1000<1,1,1))),\" \")","v":" "},{"$f":"IF(AND(ISBLANK(A30)=FALSE,ISBLANK(L30)=FALSE),MIN(Q30,O30)*IF(ISNUMBER(S30)=TRUE,S30,1),\" \")","v":" "},null,null," ",{"$f":"IF(AND(+H30<>\" \",ISBLANK(T30)<>TRUE),IF(+J30+(H30-J30)/E30*IF(+X$41=\"ja\",1/(1+C30*(AG$30+W$46*D30/E30)*0.000001),1)>U30,\"JA\",\"NEE\"),\" \")","v":" "},0," "," ",{"$f":"IF(ISBLANK(H30)=FALSE,IF(H30>0,+J30+W30,\" \"),\" \")","v":" "},false,null,0,null,"voldoet"," ",{"$f":"IF(AND(+ISBLANK(A30)=FALSE,ISBLANK(L30)=FALSE),IF(+AF30>N30,\"JA\",\"NEE\"),\" \")","v":" "},{"$f":"IF(+ISBLANK(A30)<>TRUE,IF($N30>0,IF(+AF30-J30>R30,\"JA\",\"NEE\"),\" \"),\" \")","v":" "},{"$f":"IF(ISBLANK(A30)<>TRUE,IF(AND(H30>0,N30>0),IF(AND(AG30=\"NEE\",J30<N30),\"VOLDOET\",IF(AND(+J30>=N30,(AF30-J30)<=R30),\"VOLDOET\",\"VOLDOET NIET!\")),\" \"),\" \")","v":" "},null,{"$f":"IF(AND(ISBLANK(H30)=FALSE,ISBLANK(L30)=FALSE),IF(ISBLANK(A30)=FALSE,IF(IF(H$18=\"ja\",OR(AND(ISBLANK(AD30)=TRUE,AC30>1),AA30=\" \"),AA30=\" \"),IF(OR(AE30=\"VOLDOET NIET!\",AA30=\"VOLDOET NIET!\"),\"VOLDOET NIET!\",IF(AND(AC30>AB30,ISBLANK(AD30)=TRUE),\"VOLDOET NIET?\",\"VOLDOET\")),IF(ISBLANK(A30)=FALSE,IF(J30<L30,IF(OR(AA30=\"voldoet niet!\",AI30=\"voldoet niet!\",AE30=\"VOLDOET NIET\"),\"VOLDOET NIET!\",\"VOLDOET\"),IF(AND(X30<=0.1,AI30=\"VOLDOET\"),\"VOLDOET\",\"VOLDOET NIET!\")))),\" \"),\"VOLDOET NIET?\")","v":"VOLDOET NIET?"},{"$f":"IF(AND(AO30>0,AK30=\"VOLDOET NIET?\",ISBLANK(L30)=FALSE),1,0)","v":0},{"$f":"IF(AND(AO30>0,ISBLANK(A30)=FALSE),+AM29+1,+AM29)","v":0},0,{"$f":"IF(AND(ISBLANK(AD30)=TRUE,ISBLANK(L30)=TRUE),\"n.t.b\",IF(AK30=\"VOLDOET\",0,IF(AND(ISBLANK(H30)=FALSE,ISBLANK(L30)=FALSE),IF(AND(AK30=\"VOLDOET NIET?\",ISBLANK(L30)=TRUE),\"ntb\",IF(H$18=\"ja\",IF(AND(ISBLANK(AD30)=TRUE,AB30>=1,AC30>1,AE30=\"voldoet niet!\"),\"n.t.b\",MIN(1,MAX(AS30,AT30,AU30,AW30,BE30,BG30,BM30))),MIN(1,MAX(AS30,AT30,AU30,AW30)))),\" \")))","v":"n.t.b"},{"$f":"CONCATENATE(IF(AK30=\"VOLDOET\",\" \",IF(AND(ISBLANK(H30)=FALSE,ISBLANK(L30)=FALSE),CONCATENATE(IF(AND(ISBLANK(L30)=FALSE,X30>0.1),\"sign.-toets; \",\"\"),IF(AND(J30<N30,Z30>N30),\"normtoets; \",\"\"),IF(AND(J30>=N30,AF30-J30>R30),\"KRW-toets; \",\"\"),IF(AND(J30<N30,AF30>N30),\"KRW-toets; \",IF(H$18=\"ja\",IF(AND(ISBLANK(AD30)=FALSE,AC30>AD30),\"drinkwatertoets\",IF(AND(AC30>1,ISBLANK(AD30)=TRUE,AC30>AB30),\"drinkwatertoets\",\"\")),\"\")),IF(ISBLANK(L30)=TRUE,\" ;sign.- en normtoets??\",\"\")),\" \")),IF(V30=\"ja\",\"MAC-toets\",\" \"))","v":"  "}," ",{"$f":"IF(OR(BO30=\"ja\",AO30=\"n.t.b\"),IF(AND(ISBLANK(L30)=TRUE,ISBLANK(AD30)=TRUE,BO30=\"ja\"),CONCATENATE(\"delta C-innamepunt: \",ROUND((AC30-AB30)/AB30*100,4),\" %\",\"; delta C-L: \",IF(J30>0,ROUND(W30/J30*100,4),ROUND(W30,4)),IF(J30>0,\"%\",\" ug/l\")),IF(ISBLANK(L30)=TRUE,IF(OR(ISBLANK(J30)=TRUE,J30=0),CONCATENATE(\"delta C-L: \",ROUND(W30,4),\" ug/l\"),CONCATENATE(\"delta C-L: \",ROUND(+W30/J30*100,4),\" %\")),IF(ISBLANK(AD30)=TRUE,CONCATENATE(\"delta C-innamepunt: \",ROUND((AC30-AB30)/AB30*100,4),\"%\"),\" \"))),\" \")","v":"delta C-L: 0 ug/l"},{"$f":"IF(AND(ISBLANK(A30)=FALSE,ISBLANK(L30)=FALSE),IF(OR(X30<0.1,+H30<=N30),0,IF(J30>=N30,MAX(IF(AF30-N30>R30,1-(J30+J$24*R30/H30),0),IF(X30>0.1,1-0.1/X30,1)),1-0.1/X30))*(H30-J30)/H30,0)","v":0},0,{"$f":"IF(AI30<>\"VOLDOET\",1-((1-AV30)*H30+AV30*J30)/H30,0)","v":{"$error":"#VALUE!"}},{"$f":"IF(AI30<>\"VOLDOET\",MAX(IF(J30>=N30,1-R30/(AF30-J30),IF(AF30<=J30+R30,0,IF(J30<N30,1-(N30-J30)/(AF30-J30)))),0),0)","v":{"$error":"#VALUE!"}},{"$f":"IF(AND(ISBLANK(A30)=FALSE,ISBLANK(L30)=FALSE),IF(+H$18=\"ja\",IF(ISBLANK(AD30)=TRUE,IF(AC30>1,+BG30,0),IF(ISBLANK(AD30)=TRUE,IF(AND(AC30>AB30,H30>=AB30),1-AB30/H30,0),IF(AB30<AD30,1-((AD30-AB30)*H$20+AB30)/H30,+BM30))),0),0)","v":0},null,{"$f":"IF(AND(ISBLANK(A30)=FALSE,ISBLANK(L30)=FALSE),IF(AND(Z30>N30,J30<N30),(+Z30-+N30)/N30,0),0)","v":0},{"$f":"IF(AND(ISBLANK(A30)=FALSE,ISBLANK(L30)=FALSE),IF(+Z30>N30,IF(J30>=N30,IF(J30+J$24*R30>=H30,0,1-(J30+J$24*R30/H30)),1-(J30+(N30-J30)*J$22/BK30)/(H30)),0),0)","v":0}," ",null,{"$f":"IF(AND(ISBLANK(A30)=FALSE,ISBLANK(L30)=FALSE),IF(AF30>=N30,IF(AND(J30>N30,AF30-J30<=R30),0,1-BA30/+H30),0),\" \")","v":" "},{"$f":"IF(AND(ISBLANK(A30)=FALSE,ISBLANK(L30)=FALSE),IF(AND(BE30>1,ISBLANK(AD30)=TRUE,AO30=1),1,0),0)","v":0},{"$f":"IF(AND(ISBLANK(#REF!)=FALSE,ISBLANK(L30)=FALSE),IF(H$18=\"ja\",1-IF(AND(H$18=\"ja\",AC30>IF(ISBLANK(AD30)=TRUE,1,AD30)),1-+BG30,1),0),0)","v":0},{"$f":"IF(AND(ISBLANK(A30)=FALSE,ISBLANK(L30)=FALSE),IF(ISBLANK(+AD30)=TRUE,1,AD30),\" \")","v":" "},{"$f":"IF($H$18=\"ja\",MAX(IF(AND(ISBLANK(AD30)=TRUE,AB30>1),1-AB30/H30,IF(ISBLANK(AD30)=TRUE,IF(AC30>1,1-(H$20*1+AB30)/H30,0),IF(ISBLANK(AD30)=FALSE,IF(AC30>AD30,1-(H$20*AD30+AB30)/H30,0),1-(AB30+H$20*AD30)/H30))),BM30),0)","v":0},{"$f":"IF(H$18=\"ja\",IF(AND(ISBLANK(A30)=FALSE,ISBLANK(L30)=FALSE),IF(AD30>AC30,0,(AC30-IF(ISBLANK(AD30)=TRUE,1,AD30))/IF(ISBLANK(AD30)=TRUE,1,AD30)-1),\" \"),0)","v":0},null,null,{"$f":"IF(AND(ISBLANK(#REF!)=FALSE,ISBLANK(L30)=FALSE),1/(1+C30*Z$27/1000*0.000001),\" \")","v":" "},null,0,null,"nee",null,{"$f":"IF(AND(ISBLANK(A30)=FALSE,A30<>\" \"),IF('beschrijving lozing'!I$13=\"indirecte lozing\",1/(1+'resultaten immissietoets'!C30*60*0.000001)*(1-BS30),1)*+'resultaten immissietoets'!H30,\" \")","v":" "}," "," "," "," ",{"$f":"MAX(IF(ISBLANK($H30)=FALSE,IF('beschrijving lozing'!I$13=\"indirecte lozing\",+$H$16*8760*3600*$H30/1000000*$BZ30*(BV$25-G30-BR30),+$H$16*8760*3600*$H30/1000000*$BZ30*(BV$25))),0)","v":0},null,{"$f":"IF(ISBLANK(A30)=FALSE,IF(ISBLANK($H30)=TRUE,0,+$H$16*8760*3600*$H30/1000000*$BZ30*10*AO30)*IF('beschrijving lozing'!I$13=\"indirecte lozing\",(1-'resultaten immissietoets'!BT30),1),0)","v":0},null,0,null,null,0,null,0,null,null,null,{"$f":"IF(B30=\"ja\",BX30,0)","v":0},null,0,null,null,{"$f":"IF(AND($AO30>0,$AK30=\"VOLDOET NIET?\",ISBLANK($L30)=TRUE),1,0)","v":1}]
[null,null,null,0,0,{"$error":"#DIV/0!"},null,null,null,null,null,null,0,0," ",0.1," "," ",null,null," ",{"$f":"IF(AND(+H31<>\" \",ISBLANK(T31)<>TRUE),IF(+J31+(H31-J31)/E31*IF(+X$41=\"ja\",1/(1+C31*(AG$30+W$46*D31/E31)*0.000001),1)>U31,\"JA\",\"NEE\"),\" \")","v":" "},0," "," ",{"$f":"IF(ISBLANK(H31)=FALSE,IF(H31>0,+J31+W31,\" \"),\" \")","v":" "},{"$f":"IF(ISBLANK(A31)<>TRUE,IF(AND(H31>0,L31>0),IF(OR(AND(Z31<=N31,+X31<=0.1),H31<=N31),\"VOLDOET\",IF(AND(J31>=N31,X31<=0.1,AF31-J31<=O31),\"VOLDOET\",\"VOLDOET NIET!\")),\" \"))","v":false},null,0,null,"voldoet"," "," ",{"$f":"IF(+ISBLANK(A31)<>TRUE,IF($N31>0,IF(+AF31-J31>R31,\"JA\",\"NEE\"),\" \"),\" \")","v":" "},{"$f":"IF(ISBLANK(A31)<>TRUE,IF(AND(H31>0,N31>0),IF(AND(AG31=\"NEE\",J31<N31),\"VOLDOET\",IF(AND(+J31>=N31,(AF31-J31)<=R31),\"VOLDOET\",\"VOLDOET NIET!\")),\" \"),\" \")","v":" "},null,{"$f":"IF(AND(ISBLANK(H31)=FALSE,ISBLANK(L31)=FALSE),IF(ISBLANK(A31)=FALSE,IF(IF(H$18=\"ja\",OR(AND(ISBLANK(AD31)=TRUE,AC31>1),AA31=\" \"),AA31=\" \"),IF(OR(AE31=\"VOLDOET NIET!\",AA31=\"VOLDOET NIET!\"),\"VOLDOET NIET!\",IF(AND(AC31>AB31,ISBLANK(AD31)=TRUE),\"VOLDOET NIET?\",\"VOLDOET\")),IF(ISBLANK(A31)=FALSE,IF(J31<L31,IF(OR(AA31=\"voldoet niet!\",AI31=\"voldoet niet!\",AE31=\"VOLDOET NIET\"),\"VOLDOET NIET!\",\"VOLDOET\"),IF(AND(X31<=0.1,AI31=\"VOLDOET\"),\"VOLDOET\",\"VOLDOET NIET!\")))),\" \"),\"VOLDOET NIET?\")","v":"VOLDOET NIET?"},0,{"$f":"IF(AND(AO31>0,ISBLANK(A31)=FALSE),+AM30+1,+AM30)","v":0},0,"n.t.b","  ",{"$f":"IF(OR(AE31=\"voldoet niet\",AK31=\"VOLDOET niet?\"),IF(AND(H$18=\"ja\",OR(ISBLANK(L31)=TRUE,ISBLANK(AD31)=TRUE)),CONCATENATE(\"Raadpleeg RIVM (via BG) voor (noodzaak) afleiding \",IF(AND(ISBLANK(L31)=TRUE,AA31<>\"VOLDOET\"),\" i-MKN\",\" \"),IF(AND(ISBLANK(AD31)=TRUE,AE31<>\"VOLDOET\"),IF(AND(ISBLANK(L31)=TRUE,AA31<>\"VOLDOET\"),\" en i-DW\",\"i-DW\"),\" \")),\" \"),\" \")","v":" "},{"$f":"IF(OR(BO31=\"ja\",AO31=\"n.t.b\"),IF(AND(ISBLANK(L31)=TRUE,ISBLANK(AD31)=TRUE,BO31=\"ja\"),CONCATENATE(\"delta C-innamepunt: \",ROUND((AC31-AB31)/AB31*100,4),\" %\",\"; delta C-L: \",IF(J31>0,ROUND(W31/J31*100,4),ROUND(W31,4)),IF(J31>0,\"%\",\" ug/l\")),IF(ISBLANK(L31)=TRUE,IF(OR(ISBLANK(J31)=TRUE,J31=0),CONCATENATE(\"delta C-L: \",ROUND(W31,4),\" ug/l\"),CONCATENATE(\"delta C-L: \",ROUND(+W31/J31*100,4),\" %\")),IF(ISBLANK(AD31)=TRUE,CONCATENATE(\"delta C-innamepunt: \",ROUND((AC31-AB31)/AB31*100,4),\"%\"),\" \"))),\" \")","v":"delta C-L: 0 ug/l"},{"$f":"IF(AND(ISBLANK(A31)=FALSE,ISBLANK(L31)=FALSE),IF(OR(X31<0.1,+H31<=N31),0,IF(J31>=N31,MAX(IF(AF31-N31>R31,1-(J31+J$24*R31/H31),0),IF(X31>0.1,1-0.1/X31,1)),1-0.1/X31))*(H31-J31)/H31,0)","v":0},{"$f":"IF(AND(ISBLANK(A31)=FALSE,ISBLANK(L31)=FALSE),IF(AA31=\"VOLDOET NIET!\",IF(+J31>N31,+BC31,AZ31),0),0)","v":0},{"$f":"IF(AI31<>\"VOLDOET\",1-((1-AV31)*H31+AV31*J31)/H31,0)","v":{"$error":"#VALUE!"}},{"$f":"IF(AI31<>\"VOLDOET\",MAX(IF(J31>=N31,1-R31/(AF31-J31),IF(AF31<=J31+R31,0,IF(J31<N31,1-(N31-J31)/(AF31-J31)))),0),0)","v":{"$error":"#VALUE!"}},{"$f":"IF(AND(ISBLANK(A31)=FALSE,ISBLANK(L31)=FALSE),IF(+H$18=\"ja\",IF(ISBLANK(AD31)=TRUE,IF(AC31>1,+BG31,0),IF(ISBLANK(AD31)=TRUE,IF(AND(AC31>AB31,H31>=AB31),1-AB31/H31,0),IF(AB31<AD31,1-((AD31-AB31)*H$20+AB31)/H31,+BM31))),0),0)","v":0},null,{"$f":"IF(AND(ISBLANK(A31)=FALSE,ISBLANK(L31)=FALSE),IF(AND(Z31>N31,J31<N31),(+Z31-+N31)/N31,0),0)","v":0},{"$f":"IF(AND(ISBLANK(A31)=FALSE,ISBLANK(L31)=FALSE),IF(+Z31>N31,IF(J31>=N31,IF(J31+J$24*R31>=H31,0,1-(J31+J$24*R31/H31)),1-(J31+(N31-J31)*J$22/BK31)/(H31)),0),0)","v":0},{"$f":"IF(AND(ISBLANK(A31)=FALSE,ISBLANK(L31)=FALSE),IF(J31<N31,(1-+AZ31)*(H31),MAX(J31,(1-AZ31)*H31)),\" \")","v":" "},null,{"$f":"IF(AND(ISBLANK(A31)=FALSE,ISBLANK(L31)=FALSE),IF(AF31>=N31,IF(AND(J31>N31,AF31-J31<=R31),0,1-BA31/+H31),0),\" \")","v":" "},{"$f":"IF(AND(ISBLANK(A31)=FALSE,ISBLANK(L31)=FALSE),IF(AND(BE31>1,ISBLANK(AD31)=TRUE,AO31=1),1,0),0)","v":0},{"$f":"IF(AND(ISBLANK(#REF!)=FALSE,ISBLANK(L31)=FALSE),IF(H$18=\"ja\",1-IF(AND(H$18=\"ja\",AC31>IF(ISBLANK(AD31)=TRUE,1,AD31)),1-+BG31,1),0),0)","v":0}," ",{"$f":"IF($H$18=\"ja\",IF(AND(ISBLANK(AD31)=TRUE,AB31>1),1-AB31/H31,IF(ISBLANK(AD31)=TRUE,IF(AC31>1,1-(H$20*1+AB31)/H31,0),IF(ISBLANK(AD31)=FALSE,IF(AC31>AD31,1-(H$20*AD31+AB31)/H31,0),1-(AB31+H$20*AD31)/H31))),0)","v":0},0,null,null,{"$f":"IF(AND(ISBLANK(#REF!)=FALSE,ISBLANK(L31)=FALSE),1/(1+C31*Z$27/1000*0.000001),\" \")","v":" "},null,0,null,"nee",null,{"$f":"IF(AND(ISBLANK(A31)=FALSE,A31<>\" \"),IF('beschrijving lozing'!I$13=\"indirecte lozing\",1/(1+'resultaten immissietoets'!C31*60*0.000001)*(1-BS31),1)*+'resultaten immissietoets'!H31,\" \")","v":" "}," "," "," "," ",{"$f":"MAX(IF(ISBLANK($H31)=FALSE,IF('beschrijving lozing'!I$13=\"indirecte lozing\",+$H$16*8760*3600*$H31/1000000*$BZ31*(BV$25-G31-BR31),+$H$16*8760*3600*$H31/1000000*$BZ31*(BV$25))),0)","v":0},null,{"$f":"IF(ISBLANK(A31)=FALSE,IF(ISBLANK($H31)=TRUE,0,+$H$16*8760*3600*$H31/1000000*$BZ31*10*AO31)*IF('beschrijving lozing'!I$13=\"indirecte lozing\",(1-'resultaten immissietoets'!BT31),1),0)","v":0},null,0,null,null,0,null,0,null,null,null,0,null,0,null,null,1]
[null,null,null,0,0,{"$error":"#DIV/0!"},null,null,null,null,null,null,0,{"$f":"IF(K32=\"ng/l\",0.001*+M32,IF(K32=\"ug/l\",M32,IF(K32=\"mg/l\",1000*M32,100000*M32)))","v":0},{"$f":"IF(ISBLANK(K32)=FALSE,IF(AND($D32<>\"\",ISBLANK(L32)<>TRUE),MIN(IF(ROUNDDOWN($N32,5)-ROUNDDOWN($N32,4)>0,0.00001,IF(ROUNDDOWN($N32,4)-ROUNDDOWN($N32,3)>0,0.0001,IF(ROUNDDOWN($N32,3)-ROUNDDOWN($N32,2)>0,0.001,IF(ROUNDDOWN($N32,2)-ROUNDDOWN($N32,1)>0,0.01,IF(ROUNDDOWN($N32,1)-ROUNDDOWN(N32,0)>0,0.1,IF(ROUNDDOWN($N32/10,1)-ROUNDDOWN(N32/10,0)>0,1,IF(ROUNDDOWN($N32/100,1)-ROUNDDOWN(N32/100,0)>0,10,IF(ROUNDDOWN($N32/1000,1)-ROUNDDOWN(N32/1000,0)>0,100,IF(ROUNDDOWN($N32/10000,1)-ROUNDDOWN(N32/10000,0)>0,1000,10000))))))))),1000),\" \"),\" \")","v":" "},0.1,{"$f":"IF(ISBLANK(A32)=FALSE,IF(K32=\"ng/l\",0.001,IF(K32=\"ug/l\",1,IF(K32=\"mg/l\",1000,1000000)))*IF(M32/10<1,0.1,IF(M32/100<1,1,IF(M32/1000<1,1,1))),\" \")","v":" "}," ",null,null," ",{"$f":"IF(AND(+H32<>\" \",ISBLANK(T32)<>TRUE),IF(+J32+(H32-J32)/E32*IF(+X$41=\"ja\",1/(1+C32*(AG$30+W$46*D32/E32)*0.000001),1)>U32,\"JA\",\"NEE\"),\" \")","v":" "},0," "," ",{"$f":"IF(ISBLANK(H32)=FALSE,IF(H32>0,+J32+W32,\" \"),\" \")","v":" "},{"$f":"IF(ISBLANK(A32)<>TRUE,IF(AND(H32>0,L32>0),IF(OR(AND(Z32<=N32,+X32<=0.1),H32<=N32),\"VOLDOET\",IF(AND(J32>=N32,X32<=0.1,AF32-J32<=O32),\"VOLDOET\",\"VOLDOET NIET!\")),\" \"))","v":false},null,0,null,"voldoet"," "," ",{"$f":"IF(+ISBLANK(A32)<>TRUE,IF($N32>0,IF(+AF32-J32>R32,\"JA\",\"NEE\"),\" \"),\" \")","v":" "},{"$f":"IF(ISBLANK(A32)<>TRUE,IF(AND(H32>0,N32>0),IF(AND(AG32=\"NEE\",J32<N32),\"VOLDOET\",IF(AND(+J32>=N32,(AF32-J32)<=R32),\"VOLDOET\",\"VOLDOET NIET!\")),\" \"),\" \")","v":" "},null,{"$f":"IF(AND(ISBLANK(H32)=FALSE,ISBLANK(L32)=FALSE),IF(ISBLANK(A32)=FALSE,IF(IF(H$18=\"ja\",OR(AND(ISBLANK(AD32)=TRUE,AC32>1),AA32=\" \"),AA32=\" \"),IF(OR(AE32=\"VOLDOET NIET!\",AA32=\"VOLDOET NIET!\"),\"VOLDOET NIET!\",IF(AND(AC32>AB32,ISBLANK(AD32)=TRUE),\"VOLDOET NIET?\",\"VOLDOET\")),IF(ISBLANK(A32)=FALSE,IF(J32<L32,IF(OR(AA32=\"voldoet niet!\",AI32=\"voldoet niet!\",AE32=\"VOLDOET NIET\"),\"VOLDOET NIET!\",\"VOLDOET\"),IF(AND(X32<=0.1,AI32=\"VOLDOET\"),\"VOLDOET\",\"VOLDOET NIET!\")))),\" \"),\"VOLDOET NIET?\")","v":"VOLDOET NIET?"},0,{"$f":"IF(AO32<>\"n.t.b.\",IF(AND(AO32>0,ISBLANK(A32)=FALSE),+AM31+1,+AM31),AM31)","v":0},0,{"$f":"IF(AND(ISBLANK(AD32)=TRUE,ISBLANK(L32)=TRUE),\"n.t.b.\",IF(AK32=\"VOLDOET\",0,IF(AND(ISBLANK(H32)=FALSE,ISBLANK(L32)=FALSE),IF(AND(AK32=\"VOLDOET NIET?\",ISBLANK(L32)=TRUE),\"n.t.b.\",IF(H$18=\"ja\",IF(AND(ISBLANK(AD32)=TRUE,AB32>=1,AC32>1,AE32=\"voldoet niet!\"),\"n.t.b\",MIN(1,MAX(AS32,AT32,AU32,AW32,BE32,BG32,BM32))),MIN(1,MAX(AS32,AT32,AU32,AW32)))),\" \")))","v":"n.t.b."},"  ",{"$f":"IF(OR(AE32=\"voldoet niet\",AK32=\"VOLDOET niet?\"),IF(AND(H$18=\"ja\",OR(ISBLANK(L32)=TRUE,ISBLANK(AD32)=TRUE)),CONCATENATE(\"Raadpleeg RIVM (via BG) voor (noodzaak) afleiding \",IF(AND(ISBLANK(L32)=TRUE,AA32<>\"VOLDOET\"),\" i-MKN\",\" \"),IF(AND(ISBLANK(AD32)=TRUE,AE32<>\"VOLDOET\"),IF(AND(ISBLANK(L32)=TRUE,AA32<>\"VOLDOET\"),\" en i-DW\",\"i-DW\"),\" \")),\" \"),\" \")","v":" "},{"$f":"IF(OR(BO32=\"ja\",AO32=\"n.t.b\"),IF(AND(ISBLANK(L32)=TRUE,ISBLANK(AD32)=TRUE,BO32=\"ja\"),CONCATENATE(\"delta C-innamepunt: \",ROUND((AC32-AB32)/AB32*100,4),\" %\",\"; delta C-L: \",IF(J32>0,ROUND(W32/J32*100,4),ROUND(W32,4)),IF(J32>0,\"%\",\" ug/l\")),IF(ISBLANK(L32)=TRUE,IF(OR(ISBLANK(J32)=TRUE,J32=0),CONCATENATE(\"delta C-L: \",ROUND(W32,4),\" ug/l\"),CONCATENATE(\"delta C-L: \",ROUND(+W32/J32*100,4),\" %\")),IF(ISBLANK(AD32)=TRUE,CONCATENATE(\"delta C-innamepunt: \",ROUND((AC32-AB32)/AB32*100,4),\"%\"),\" \"))),\" \")","v":" "},{"$f":"IF(AND(ISBLANK(A32)=FALSE,ISBLANK(L32)=FALSE),IF(OR(X32<0.1,+H32<=N32),0,IF(J32>=N32,MAX(IF(AF32-N32>R32,1-(J32+J$24*R32/H32),0),IF(X32>0.1,1-0.1/X32,1)),1-0.1/X32))*(H32-J32)/H32,0)","v":0},{"$f":"IF(AND(ISBLANK(A32)=FALSE,ISBLANK(L32)=FALSE),IF(AA32=\"VOLDOET NIET!\",IF(+J32>N32,+BC32,AZ32),0),0)","v":0},{"$f":"IF(AI32<>\"VOLDOET\",1-((1-AV32)*H32+AV32*J32)/H32,0)","v":{"$error":"#VALUE!"}},{"$f":"IF(AI32<>\"VOLDOET\",MAX(IF(J32>=N32,1-R32/(AF32-J32),IF(AF32<=J32+R32,0,IF(J32<N32,1-(N32-J32)/(AF32-J32)))),0),0)","v":{"$error":"#VALUE!"}},0,null,{"$f":"IF(AND(ISBLANK(A32)=FALSE,ISBLANK(L32)=FALSE),IF(AND(Z32>N32,J32<N32),(+Z32-+N32)/N32,0),0)","v":0},{"$f":"IF(AND(ISBLANK(A32)=FALSE,ISBLANK(L32)=FALSE),IF(+Z32>N32,IF(J32>=N32,IF(J32+J$24*R32>=H32,0,1-(J32+J$24*R32/H32)),1-(J32+(N32-J32)*J$22/BK32)/(H32)),0),0)","v":0},{"$f":"IF(AND(ISBLANK(A32)=FALSE,ISBLANK(L32)=FALSE),IF(J32<N32,(1-+AZ32)*(H32),MAX(J32,(1-AZ32)*H32)),\" \")","v":" "},null,{"$f":"IF(AND(ISBLANK(A32)=FALSE,ISBLANK(L32)=FALSE),IF(AF32>=N32,IF(AND(J32>N32,AF32-J32<=R32),0,1-BA32/+H32),0),\" \")","v":" "},{"$f":"IF(AND(ISBLANK(A32)=FALSE,ISBLANK(L32)=FALSE),IF(AND(BE32>1,ISBLANK(AD32)=TRUE,AO32=1),1,0),0)","v":0},{"$f":"IF(AND(ISBLANK(#REF!)=FALSE,ISBLANK(L32)=FALSE),IF(H$18=\"ja\",1-IF(AND(H$18=\"ja\",AC32>IF(ISBLANK(AD32)=TRUE,1,AD32)),1-+BG32,1),0),0)","v":0}," ",0,0,null,null,{"$f":"IF(AND(ISBLANK(#REF!)=FALSE,ISBLANK(L32)=FALSE),1/(1+C32*Z$27/1000*0.000001),\" \")","v":" "},null,0,null,"nee",null,{"$f":"IF(AND(ISBLANK(A32)=FALSE,A32<>\" \"),IF('beschrijving lozing'!I$13=\"indirecte lozing\",1/(1+'resultaten immissietoets'!C32*60*0.000001)*(1-BS32),1)*+'resultaten immissietoets'!H32,\" \")","v":" "}," "," "," "," ",{"$f":"MAX(IF(ISBLANK($H32)=FALSE,IF('beschrijving lozing'!I$13=\"indirecte lozing\",+$H$16*8760*3600*$H32/1000000*$BZ32*(BV$25-G32-BR32),+$H$16*8760*3600*$H32/1000000*$BZ32*(BV$25))),0)","v":0},null,{"$f":"IF(ISBLANK(A32)=FALSE,IF(ISBLANK($H32)=TRUE,0,+$H$16*8760*3600*$H32/1000000*$BZ32*10*AO32)*IF('beschrijving lozing'!I$13=\"indirecte lozing\",(1-'resultaten immissietoets'!BT32),1),0)","v":0},null,0,null,null,0,null,0,null,null,null,0,null,0,null,null,1]
[null,null,null,0,0,{"$error":"#DIV/0!"},null,null,null,null,null,null,0,{"$f":"IF(K33=\"ng/l\",0.001*+M33,IF(K33=\"ug/l\",M33,IF(K33=\"mg/l\",1000*M33,100000*M33)))","v":0},{"$f":"IF(ISBLANK(K33)=FALSE,IF(AND($D33<>\"\",ISBLANK(L33)<>TRUE),MIN(IF(ROUNDDOWN($N33,5)-ROUNDDOWN($N33,4)>0,0.00001,IF(ROUNDDOWN($N33,4)-ROUNDDOWN($N33,3)>0,0.0001,IF(ROUNDDOWN($N33,3)-ROUNDDOWN($N33,2)>0,0.001,IF(ROUNDDOWN($N33,2)-ROUNDDOWN($N33,1)>0,0.01,IF(ROUNDDOWN($N33,1)-ROUNDDOWN(N33,0)>0,0.1,IF(ROUNDDOWN($N33/10,1)-ROUNDDOWN(N33/10,0)>0,1,IF(ROUNDDOWN($N33/100,1)-ROUNDDOWN(N33/100,0)>0,10,IF(ROUNDDOWN($N33/1000,1)-ROUNDDOWN(N33/1000,0)>0,100,IF(ROUNDDOWN($N33/10000,1)-ROUNDDOWN(N33/10000,0)>0,1000,10000))))))))),1000),\" \"),\" \")","v":" "},0.1,{"$f":"IF(ISBLANK(A33)=FALSE,IF(K33=\"ng/l\",0.001,IF(K33=\"ug/l\",1,IF(K33=\"mg/l\",1000,1000000)))*IF(M33/10<1,0.1,IF(M33/100<1,1,IF(M33/1000<1,1,1))),\" \")","v":" "}," ",null,null," ",{"$f":"IF(AND(+H33<>\" \",ISBLANK(T33)<>TRUE),IF(+J33+(H33-J33)/E33*IF(+X$41=\"ja\",1/(1+C33*(AG$30+W$46*D33/E33)*0.000001),1)>U33,\"JA\",\"NEE\"),\" \")","v":" "},0," "," ",{"$f":"IF(ISBLANK(H33)=FALSE,IF(H33>0,+J33+W33,\" \"),\" \")","v":" "},{"$f":"IF(ISBLANK(A33)<>TRUE,IF(AND(H33>0,L33>0),IF(OR(AND(Z33<=N33,+X33<=0.1),H33<=N33),\"VOLDOET\",IF(AND(J33>=N33,X33<=0.1,AF33-J33<=O33),\"VOLDOET\",\"VOLDOET NIET!\")),\" \"))","v":false},null,0,null,"voldoet"," "," "," "," ",null,"VOLDOET NIET?",0,{"$f":"IF(AO33<>\"n.t.b.\",IF(AND(AO33>0,ISBLANK(A33)=FALSE),+AM32+1,+AM32),AM32)","v":0},0,{"$f":"IF(AND(ISBLANK(AD33)=TRUE,ISBLANK(L33)=TRUE),\"n.t.b.\",IF(AK33=\"VOLDOET\",0,IF(AND(ISBLANK(H33)=FALSE,ISBLANK(L33)=FALSE),IF(AND(AK33=\"VOLDOET NIET?\",ISBLANK(L33)=TRUE),\"n.t.b.\",IF(H$18=\"ja\",IF(AND(ISBLANK(AD33)=TRUE,AB33>=1,AC33>1,AE33=\"voldoet niet!\"),\"n.t.b\",MIN(1,MAX(AS33,AT33,AU33,AW33,BE33,BG33,BM33))),MIN(1,MAX(AS33,AT33,AU33,AW33)))),\" \")))","v":"n.t.b."},"  "," "," ",{"$f":"IF(AND(ISBLANK(A33)=FALSE,ISBLANK(L33)=FALSE),IF(OR(X33<0.1,+H33<=N33),0,IF(J33>=N33,MAX(IF(AF33-N33>R33,1-(J33+J$24*R33/H33),0),IF(X33>0.1,1-0.1/X33,1)),1-0.1/X33))*(H33-J33)/H33,0)","v":0},0,{"$error":"#VALUE!"},{"$error":"#VALUE!"},0,null,0,0," ",null,{"$f":"IF(AND(ISBLANK(A33)=FALSE,ISBLANK(L33)=FALSE),IF(AF33>=N33,IF(AND(J33>N33,AF33-J33<=R33),0,1-BA33/+H33),0),\" \")","v":" "},{"$f":"IF(AND(ISBLANK(A33)=FALSE,ISBLANK(L33)=FALSE),IF(AND(BE33>1,ISBLANK(AD33)=TRUE,AO33=1),1,0),0)","v":0},{"$f":"IF(AND(ISBLANK(#REF!)=FALSE,ISBLANK(L33)=FALSE),IF(H$18=\"ja\",1-IF(AND(H$18=\"ja\",AC33>IF(ISBLANK(AD33)=TRUE,1,AD33)),1-+BG33,1),0),0)","v":0}," ",0,0,null,null,{"$f":"IF(AND(ISBLANK(#REF!)=FALSE,ISBLANK(L33)=FALSE),1/(1+C33*Z$27/1000*0.000001),\" \")","v":" "},null,0,null,"nee",null,{"$f":"IF(AND(ISBLANK(A33)=FALSE,A33<>\" \"),IF('beschrijving lozing'!I$13=\"indirecte lozing\",1/(1+'resultaten immissietoets'!C33*60*0.000001)*(1-BS33),1)*+'resultaten immissietoets'!H33,\" \")","v":" "}," "," "," "," ",{"$f":"MAX(IF(ISBLANK($H33)=FALSE,IF('beschrijving lozing'!I$13=\"indirecte lozing\",+$H$16*8760*3600*$H33/1000000*$BZ33*(BV$25-G33-BR33),+$H$16*8760*3600*$H33/1000000*$BZ33*(BV$25))),0)","v":0},null,{"$f":"IF(ISBLANK(A33)=FALSE,IF(ISBLANK($H33)=TRUE,0,+$H$16*8760*3600*$H33/1000000*$BZ33*10*AO33)*IF('beschrijving lozing'!I$13=\"indirecte lozing\",(1-'resultaten immissietoets'!BT33),1),0)","v":0},null,0,null,null,0,null,0,null,null,null,0,null,0,null,null,1]
[null,null,null,0,0,{"$error":"#DIV/0!"},null,null,null,null,null,null,{"$f":"IF(AG$8=\"ja\",L34+I34,L34)","v":0},{"$f":"IF(K34=\"ng/l\",0.001*+M34,IF(K34=\"ug/l\",M34,IF(K34=\"mg/l\",1000*M34,100000*M34)))","v":0},{"$f":"IF(ISBLANK(K34)=FALSE,IF(AND($D34<>\"\",ISBLANK(L34)<>TRUE),MIN(IF(ROUNDDOWN($N34,5)-ROUNDDOWN($N34,4)>0,0.00001,IF(ROUNDDOWN($N34,4)-ROUNDDOWN($N34,3)>0,0.0001,IF(ROUNDDOWN($N34,3)-ROUNDDOWN($N34,2)>0,0.001,IF(ROUNDDOWN($N34,2)-ROUNDDOWN($N34,1)>0,0.01,IF(ROUNDDOWN($N34,1)-ROUNDDOWN(N34,0)>0,0.1,IF(ROUNDDOWN($N34/10,1)-ROUNDDOWN(N34/10,0)>0,1,IF(ROUNDDOWN($N34/100,1)-ROUNDDOWN(N34/100,0)>0,10,IF(ROUNDDOWN($N34/1000,1)-ROUNDDOWN(N34/1000,0)>0,100,IF(ROUNDDOWN($N34/10000,1)-ROUNDDOWN(N34/10000,0)>0,1000,10000))))))))),1000),\" \"),\" \")","v":" "},{"$f":"IF(AND(ROUNDDOWN($N34/1000,2)-ROUNDDOWN($N34/100000,3)>0,N34>1000),1000,IF(AND(ROUNDDOWN($N34/10000,2)-ROUNDDOWN($N34/10000,3),N34>100),100,IF(AND(ROUNDDOWN($N34/1000,2)-ROUNDDOWN($N34/1000>0,3),N34>10),10,IF(AND(ROUNDDOWN($N34/100,2)-ROUNDDOWN($N34/100>0,3),N34>1),1,0.1))))","v":0.1},{"$f":"IF(ISBLANK(A34)=FALSE,IF(K34=\"ng/l\",0.001,IF(K34=\"ug/l\",1,IF(K34=\"mg/l\",1000,1000000)))*IF(M34/10<1,0.1,IF(M34/100<1,1,IF(M34/1000<1,1,1))),\" \")","v":" "},{"$f":"IF(AND(ISBLANK(A34)=FALSE,ISBLANK(L34)=FALSE),MIN(Q34,O34)*IF(ISNUMBER(S34)=TRUE,S34,1),\" \")","v":" "},null,null,{"$f":"IF(T34>0,IF(AG$28=\"ja\",T34+I34,T34),\" \")","v":" "}," ",0," ",{"$f":"IF(+H34<>\" \",IF(AND(+H34>0,L34>0),W34/L34,\" \"),\" \")","v":" "},{"$f":"IF(ISBLANK(H34)=FALSE,IF(H34>0,+J34+W34,\" \"),\" \")","v":" "},{"$f":"IF(ISBLANK(A34)<>TRUE,IF(AND(H34>0,L34>0),IF(OR(AND(Z34<=N34,+X34<=0.1),H34<=N34),\"VOLDOET\",IF(AND(J34>=N34,X34<=0.1,AF34-J34<=O34),\"VOLDOET\",\"VOLDOET NIET!\")),\" \"))","v":false},null,0,null,{"$f":"IF(H$18=\"ja\",IF(ISBLANK(AD34)=TRUE,IF((AC34)>1,IF(AC34>AB34,\"voldoet niet\",\"voldoet\"),\"voldoet\"),IF(AND(AC34>AD34,H34>AB34),\"voldoet niet\",\"voldoet\")),\"voldoet\")","v":"voldoet"}," ",{"$f":"IF(AND(+ISBLANK(A34)=FALSE,ISBLANK(L34)=FALSE),IF(+AF34>N34,\"JA\",\"NEE\"),\" \")","v":" "},{"$f":"IF(+ISBLANK(A34)<>TRUE,IF($N34>0,IF(+AF34-J34>R34,\"JA\",\"NEE\"),\" \"),\" \")","v":" "},{"$f":"IF(ISBLANK(A34)<>TRUE,IF(AND(H34>0,N34>0),IF(AND(AG34=\"NEE\",J34<N34),\"VOLDOET\",IF(AND(+J34>=N34,(AF34-J34)<=R34),\"VOLDOET\",\"VOLDOET NIET!\")),\" \"),\" \")","v":" "},null,"VOLDOET NIET?",0,{"$f":"IF(AO34<>\"n.t.b.\",IF(AND(AO34>0,ISBLANK(A34)=FALSE),+AM33+1,+AM33),AM33)","v":0},0,{"$f":"IF(AND(ISBLANK(AD34)=TRUE,ISBLANK(L34)=TRUE),\"n.t.b.\",IF(AK34=\"VOLDOET\",0,IF(AND(ISBLANK(H34)=FALSE,ISBLANK(L34)=FALSE),IF(AND(AK34=\"VOLDOET NIET?\",ISBLANK(L34)=TRUE),\"n.t.b.\",IF(H$18=\"ja\",IF(AND(ISBLANK(AD34)=TRUE,AB34>=1,AC34>1,AE34=\"voldoet niet!\"),\"n.t.b\",MIN(1,MAX(AS34,AT34,AU34,AW34,BE34,BG34,BM34))),MIN(1,MAX(AS34,AT34,AU34,AW34)))),\" \")))","v":"n.t.b."},"  ",{"$f":"IF(OR(AE34=\"voldoet niet\",AK34=\"VOLDOET niet?\"),IF(AND(H$18=\"ja\",OR(ISBLANK(L34)=TRUE,ISBLANK(AD34)=TRUE)),CONCATENATE(\"Raadpleeg RIVM (via BG) voor (noodzaak) afleiding \",IF(AND(ISBLANK(L34)=TRUE,AA34<>\"VOLDOET\"),\" i-MKN\",\" \"),IF(AND(ISBLANK(AD34)=TRUE,AE34<>\"VOLDOET\"),IF(AND(ISBLANK(L34)=TRUE,AA34<>\"VOLDOET\"),\" en i-DW\",\"i-DW\"),\" \")),\" \"),\" \")","v":" "}," ",0,0,{"$error":"#VALUE!"},{"$error":"#VALUE!"},0,null,{"$f":"IF(AND(ISBLANK(A34)=FALSE,ISBLANK(L34)=FALSE),IF(AND(Z34>N34,J34<N34),(+Z34-+N34)/N34,0),0)","v":0},0," ",null,{"$f":"IF(AND(ISBLANK(A34)=FALSE,ISBLANK(L34)=FALSE),IF(AF34>=N34,IF(AND(J34>N34,AF34-J34<=R34),0,1-BA34/+H34),0),\" \")","v":" "},{"$f":"IF(AND(ISBLANK(A34)=FALSE,ISBLANK(L34)=FALSE),IF(AND(BE34>1,ISBLANK(AD34)=TRUE,AO34=1),1,0),0)","v":0},{"$f":"IF(AND(ISBLANK(#REF!)=FALSE,ISBLANK(L34)=FALSE),IF(H$18=\"ja\",1-IF(AND(H$18=\"ja\",AC34>IF(ISBLANK(AD34)=TRUE,1,AD34)),1-+BG34,1),0),0)","v":0},{"$f":"IF(AND(ISBLANK(A34)=FALSE,ISBLANK(L34)=FALSE),IF(ISBLANK(+AD34)=TRUE,1,AD34),\" \")","v":" "},0,{"$f":"IF(H$18=\"ja\",IF(AND(ISBLANK(A34)=FALSE,ISBLANK(L34)=FALSE),IF(AD34>AC34,0,(AC34-IF(ISBLANK(AD34)=TRUE,1,AD34))/IF(ISBLANK(AD34)=TRUE,1,AD34)-1),\" \"),0)","v":0},null,null,{"$f":"IF(AND(ISBLANK(#REF!)=FALSE,ISBLANK(L34)=FALSE),1/(1+C34*Z$27/1000*0.000001),\" \")","v":" "},null,0,null,"nee",null,{"$f":"IF(AND(ISBLANK(A34)=FALSE,A34<>\" \"),IF('beschrijving lozing'!I$13=\"indirecte lozing\",1/(1+'resultaten immissietoets'!C34*60*0.000001)*(1-BS34),1)*+'resultaten immissietoets'!H34,\" \")","v":" "}," "," "," "," ",{"$f":"MAX(IF(ISBLANK($H34)=FALSE,IF('beschrijving lozing'!I$13=\"indirecte lozing\",+$H$16*8760*3600*$H34/1000000*$BZ34*(BV$25-G34-BR34),+$H$16*8760*3600*$H34/1000000*$BZ34*(BV$25))),0)","v":0},null,{"$f":"IF(ISBLANK(A34)=FALSE,IF(ISBLANK($H34)=TRUE,0,+$H$16*8760*3600*$H34/1000000*$BZ34*10*AO34)*IF('beschrijving lozing'!I$13=\"indirecte lozing\",(1-'resultaten immissietoets'!BT34),1),0)","v":0},null,0,null,null,0,null,0,null,null,null,0,null,0,null,null,1]
[null,null,null,{"$f":"+D34","v":0},0,{"$error":"#DIV/0!"},null,null,null,null,null,null,0,0," ",0.1," "," ",null,null," "," ",0," "," "," ",false,null,0,null,"voldoet"," "," "," "," ",null,"VOLDOET NIET?",0,{"$f":"IF(AO35<>\"n.t.b.\",IF(AND(AO35>0,ISBLANK(A35)=FALSE),+AM34+1,+AM34),AM34)","v":0},0,"n.t.b.","  "," "," ",0,0,{"$error":"#VALUE!"},{"$error":"#VALUE!"},0,null,0,0," ",null," ",0,{"$f":"IF(AND(ISBLANK(#REF!)=FALSE,ISBLANK(L35)=FALSE),IF(H$18=\"ja\",1-IF(AND(H$18=\"ja\",AC35>IF(ISBLANK(AD35)=TRUE,1,AD35)),1-+BG35,1),0),0)","v":0}," ",0,0,null,null,{"$f":"IF(AND(ISBLANK(#REF!)=FALSE,ISBLANK(L35)=FALSE),1/(1+C35*Z$27/1000*0.000001),\" \")","v":" "},null,0,null,"nee",null,{"$f":"IF(AND(ISBLANK(A35)=FALSE,A35<>\" \"),IF('beschrijving lozing'!I$13=\"indirecte lozing\",1/(1+'resultaten immissietoets'!C35*60*0.000001)*(1-BS35),1)*+'resultaten immissietoets'!H35,\" \")","v":" "}," "," "," "," ",{"$f":"MAX(IF(ISBLANK($H35)=FALSE,IF('beschrijving lozing'!I$13=\"indirecte lozing\",+$H$16*8760*3600*$H35/1000000*$BZ35*(BV$25-G35-BR35),+$H$16*8760*3600*$H35/1000000*$BZ35*(BV$25))),0)","v":0},null,{"$f":"IF(ISBLANK(A35)=FALSE,IF(ISBLANK($H35)=TRUE,0,+$H$16*8760*3600*$H35/1000000*$BZ35*10*AO35)*IF('beschrijving lozing'!I$13=\"indirecte lozing\",(1-'resultaten immissietoets'!BT35),1),0)","v":0},null,0,null,null,0,null,0,null,null,null,0,null,0,null,null,1]
[null,null,null,{"$f":"+D35","v":0},0,{"$error":"#DIV/0!"},null,null,null,null,null,null,0,0," ",0.1," "," ",null,null," "," ",0," ",null," ",false,null,0,null,"voldoet"," "," "," "," ",null,"VOLDOET NIET?",0,{"$f":"IF(AO36<>\"n.t.b.\",IF(AND(AO36>0,ISBLANK(A36)=FALSE),+AM35+1,+AM35),AM35)","v":0},0,"n.t.b.","  "," "," ",0,0,{"$error":"#VALUE!"},{"$error":"#VALUE!"},0,null,0,0," ",null," ",0,{"$f":"IF(AND(ISBLANK(#REF!)=FALSE,ISBLANK(L36)=FALSE),IF(H$18=\"ja\",1-IF(AND(H$18=\"ja\",AC36>IF(ISBLANK(AD36)=TRUE,1,AD36)),1-+BG36,1),0),0)","v":0}," ",0,0,null,null,{"$f":"IF(AND(ISBLANK(#REF!)=FALSE,ISBLANK(L36)=FALSE),1/(1+C36*Z$27/1000*0.000001),\" \")","v":" "},null,0,null,"nee",null,{"$f":"IF(AND(ISBLANK(A36)=FALSE,A36<>\" \"),IF('beschrijving lozing'!I$13=\"indirecte lozing\",1/(1+'resultaten immissietoets'!C36*60*0.000001)*(1-G36),1)*+'resultaten immissietoets'!H36,\" \")","v":" "}," "," "," "," ",{"$f":"MAX(IF(ISBLANK($H36)=FALSE,IF('beschrijving lozing'!I$13=\"indirecte lozing\",+$H$16*8760*3600*$H36/1000000*$BZ36*(BV$25-G36-BR36),+$H$16*8760*3600*$H36/1000000*$BZ36*(BV$25))),0)","v":0},null,{"$f":"IF(ISBLANK(A36)=FALSE,IF(ISBLANK($H36)=TRUE,0,+$H$16*8760*3600*$H36/1000000*$BZ36*10*AO36)*IF('beschrijving lozing'!I$13=\"indirecte lozing\",(1-'resultaten immissietoets'!BT36),1),0)","v":0},null,0,null,null,0,null,0,null,null,null,0,null,0,null,null,1]
[null,null,null,{"$f":"+D36","v":0},0,{"$error":"#DIV/0!"},null,null,null,null,null,null,0,0," ",0.1," "," ",null,null," "," ",0," "," "," ",false,null,0,null,"voldoet"," "," "," "," ",null,"VOLDOET NIET?",0,{"$f":"IF(AO37<>\"n.t.b.\",IF(AND(AO37>0,ISBLANK(A37)=FALSE),+AM36+1,+AM36),AM36)","v":0},0,"n.t.b.","  "," "," ",0,0,{"$error":"#VALUE!"},{"$error":"#VALUE!"},0,null,0,0," ",null," ",0,{"$f":"IF(AND(ISBLANK(#REF!)=FALSE,ISBLANK(L37)=FALSE),IF(H$18=\"ja\",1-IF(AND(H$18=\"ja\",AC37>IF(ISBLANK(AD37)=TRUE,1,AD37)),1-+BG37,1),0),0)","v":0}," ",0,0,null,null,{"$f":"IF(AND(ISBLANK(#REF!)=FALSE,ISBLANK(L37)=FALSE),1/(1+C37*Z$27/1000*0.000001),\" \")","v":" "},null,0,null,"nee",null,{"$f":"IF(AND(ISBLANK(A37)=FALSE,A37<>\" \"),IF('beschrijving lozing'!I$13=\"indirecte lozing\",1/(1+'resultaten immissietoets'!C37*60*0.000001)*(1-G37),1)*+'resultaten immissietoets'!H37,\" \")","v":" "}," "," "," "," ",{"$f":"MAX(IF(ISBLANK($H37)=FALSE,IF('beschrijving lozing'!I$13=\"indirecte lozing\",+$H$16*8760*3600*$H37/1000000*$BZ37*(BV$25-G37-BR37),+$H$16*8760*3600*$H37/1000000*$BZ37*(BV$25))),0)","v":0},null,{"$f":"IF(ISBLANK(A37)=FALSE,IF(ISBLANK($H37)=TRUE,0,+$H$16*8760*3600*$H37/1000000*$BZ37*10*AO37)*IF('beschrijving lozing'!I$13=\"indirecte lozing\",(1-'resultaten immissietoets'!BT37),1),0)","v":0},null,0,null,null,0,null,0,null,null,null,0,null,0,null,null,1]
[null,null,null,{"$f":"+D37","v":0},0,{"$error":"#DIV/0!"},null,null,null,null,null,null,0,0," ",0.1," "," ",null,null," "," ",0," "," "," ",false,null,0,null,"voldoet"," "," "," "," ",null,"VOLDOET NIET?",0,0,0,"n.t.b.","  "," "," ",0,0,{"$error":"#VALUE!"},{"$error":"#VALUE!"},0,null,0,0,{"$f":"IF(AND(ISBLANK(A38)=FALSE,ISBLANK(L38)=FALSE),IF(J38<N38,(1-+AZ38)*(H38),MAX(J38,(1-AZ38)*H38)),\" \")","v":" "},null," ",0,{"$f":"IF(AND(ISBLANK(#REF!)=FALSE,ISBLANK(L38)=FALSE),IF(H$18=\"ja\",1-IF(AND(H$18=\"ja\",AC38>IF(ISBLANK(AD38)=TRUE,1,AD38)),1-+BG38,1),0),0)","v":0}," ",0,0,null,null,{"$f":"IF(AND(ISBLANK(#REF!)=FALSE,ISBLANK(L38)=FALSE),1/(1+C38*Z$27/1000*0.000001),\" \")","v":" "},null,0,null,"nee",null,{"$f":"IF(AND(ISBLANK(A38)=FALSE,A38<>\" \"),IF('beschrijving lozing'!I$13=\"indirecte lozing\",1/(1+'resultaten immissietoets'!C38*60*0.000001)*(1-G38),1)*+'resultaten immissietoets'!H38,\" \")","v":" "}," "," "," "," ",{"$f":"MAX(IF(ISBLANK($H38)=FALSE,IF('beschrijving lozing'!I$13=\"indirecte lozing\",+$H$16*8760*3600*$H38/1000000*$BZ38*(BV$25-G38-BR38),+$H$16*8760*3600*$H38/1000000*$BZ38*(BV$25))),0)","v":0},null,{"$f":"IF(ISBLANK(A38)=FALSE,IF(ISBLANK($H38)=TRUE,0,+$H$16*8760*3600*$H38/1000000*$BZ38*10*AO38)*IF('beschrijving lozing'!I$13=\"indirecte lozing\",(1-'resultaten immissietoets'!BT38),1),0)","v":0},null,0,null,null,0,null,0,null,null,null,0,null,0,null,null,1]
[null,null,null,{"$f":"+D38","v":0},0,{"$error":"#DIV/0!"},null,null,null,null,null,null,0,0," ",0.1," "," ",null,null," "," ",0," "," "," ",false,null,0,null,"voldoet"," "," "," "," ",null,"VOLDOET NIET?",0,0,0,"n.t.b.","  "," "," ",0,0,{"$error":"#VALUE!"},{"$error":"#VALUE!"},0,null,0,0,{"$f":"IF(AND(ISBLANK(A39)=FALSE,ISBLANK(L39)=FALSE),IF(J39<N39,(1-+AZ39)*(H39),MAX(J39,(1-AZ39)*H39)),\" \")","v":" "},null," ",0,{"$f":"IF(AND(ISBLANK(#REF!)=FALSE,ISBLANK(L39)=FALSE),IF(H$18=\"ja\",1-IF(AND(H$18=\"ja\",AC39>IF(ISBLANK(AD39)=TRUE,1,AD39)),1-+BG39,1),0),0)","v":0}," ",0,0,null,null,{"$f":"IF(AND(ISBLANK(#REF!)=FALSE,ISBLANK(L39)=FALSE),1/(1+C39*Z$27/1000*0.000001),\" \")","v":" "},null,0,null,"nee",null,{"$f":"IF(AND(ISBLANK(A39)=FALSE,A39<>\" \"),IF('beschrijving lozing'!I$13=\"indirecte lozing\",1/(1+'resultaten immissietoets'!C39*60*0.000001)*(1-G39),1)*+'resultaten immissietoets'!H39,\" \")","v":" "}," "," "," ",{"$f":"IF(ISBLANK(A39)=FALSE,(1-BT39)*H39,\" \")","v":" "},{"$f":"MAX(IF(ISBLANK($H39)=FALSE,IF('beschrijving lozing'!I$13=\"indirecte lozing\",+$H$16*8760*3600*$H39/1000000*$BZ39*(BV$25-G39-BR39),+$H$16*8760*3600*$H39/1000000*$BZ39*(BV$25))),0)","v":0},null,{"$f":"IF(ISBLANK(A39)=FALSE,IF(ISBLANK($H39)=TRUE,0,+$H$16*8760*3600*$H39/1000000*$BZ39*10*AO39)*IF('beschrijving lozing'!I$13=\"indirecte lozing\",(1-'resultaten immissietoets'!BT39),1),0)","v":0},null,0,null,null,0,null,0,null,null,null,0,null,0,null,null,1]
[null,null,null,{"$f":"+D39","v":0},0,{"$error":"#DIV/0!"},null,null,null,null,null,null,0,0," ",0.1," "," ",null,null," "," ",0," "," "," ",false,null,0,null,"voldoet"," "," "," "," ",null,"VOLDOET NIET?",0,0,0,"n.t.b.","  "," "," ",0,0,{"$error":"#VALUE!"},{"$error":"#VALUE!"},0,null,0,0," ",null," ",0,{"$f":"IF(AND(ISBLANK(#REF!)=FALSE,ISBLANK(L40)=FALSE),IF(H$18=\"ja\",1-IF(AND(H$18=\"ja\",AC40>IF(ISBLANK(AD40)=TRUE,1,AD40)),1-+BG40,1),0),0)","v":0}," ",0,0,null,null,{"$f":"IF(AND(ISBLANK(#REF!)=FALSE,ISBLANK(L40)=FALSE),1/(1+C40*Z$27/1000*0.000001),\" \")","v":" "},null,0,null,"nee",null,{"$f":"IF(AND(ISBLANK(A40)=FALSE,A40<>\" \"),IF('beschrijving lozing'!I$13=\"indirecte lozing\",1/(1+'resultaten immissietoets'!C40*60*0.000001)*(1-G40),1)*+'resultaten immissietoets'!H40,\" \")","v":" "}," "," "," "," ",{"$f":"MAX(IF(ISBLANK($H40)=FALSE,IF('beschrijving lozing'!I$13=\"indirecte lozing\",+$H$16*8760*3600*$H40/1000000*$BZ40*(BV$25-G40-BR40),+$H$16*8760*3600*$H40/1000000*$BZ40*(BV$25))),0)","v":0},null,{"$f":"IF(ISBLANK(A40)=FALSE,IF(ISBLANK($H40)=TRUE,0,+$H$16*8760*3600*$H40/1000000*$BZ40*10*AO40)*IF('beschrijving lozing'!I$13=\"indirecte lozing\",(1-'resultaten immissietoets'!BT40),1),0)","v":0},null,0,null,null,0,null,0,null,null,null,0,null,0,null,null,1]
[null,null,null,{"$f":"+D40","v":0},0,{"$error":"#DIV/0!"},null,null,null,null,null,null,0,0," ",0.1," "," ",null,null," "," ",0," "," "," ",false,null,0,null,"voldoet"," "," "," "," ",null,"VOLDOET NIET?",0,0,0,"n.t.b.","  "," "," ",0,0,{"$error":"#VALUE!"},{"$error":"#VALUE!"},0,null,0,0," ",null," ",0,{"$f":"IF(AND(ISBLANK(#REF!)=FALSE,ISBLANK(L41)=FALSE),IF(H$18=\"ja\",1-IF(AND(H$18=\"ja\",AC41>IF(ISBLANK(AD41)=TRUE,1,AD41)),1-+BG41,1),0),0)","v":0}," ",0,0,null,null,{"$f":"IF(AND(ISBLANK(#REF!)=FALSE,ISBLANK(L41)=FALSE),1/(1+C41*Z$27/1000*0.000001),\" \")","v":" "},null,0,null,"nee",null,{"$f":"IF(AND(ISBLANK(A41)=FALSE,A41<>\" \"),IF('beschrijving lozing'!I$13=\"indirecte lozing\",1/(1+'resultaten immissietoets'!C41*60*0.000001)*(1-G41),1)*+'resultaten immissietoets'!H41,\" \")","v":" "}," "," "," "," ",{"$f":"MAX(IF(ISBLANK($H41)=FALSE,IF('beschrijving lozing'!I$13=\"indirecte lozing\",+$H$16*8760*3600*$H41/1000000*$BZ41*(BV$25-G41-BR41),+$H$16*8760*3600*$H41/1000000*$BZ41*(BV$25))),0)","v":0},null,{"$f":"IF(ISBLANK(A41)=FALSE,IF(ISBLANK($H41)=TRUE,0,+$H$16*8760*3600*$H41/1000000*$BZ41*10*AO41)*IF('beschrijving lozing'!I$13=\"indirecte lozing\",(1-'resultaten immissietoets'!BT41),1),0)","v":0},null,0,null,null,0,null,0,null,null,null,0,null,0,null,null,1]
[null,null,null,{"$f":"+D41","v":0},0,{"$error":"#DIV/0!"},null,null,null,null,null,null,0,0," ",0.1," "," ",null,null," "," ",0," "," "," ",false,null,0,null,"voldoet"," "," "," "," ",null,"VOLDOET NIET?",0,0,0,"n.t.b.","  "," "," ",0,0,{"$error":"#VALUE!"},{"$error":"#VALUE!"},0,null,0,0," ",null," ",0,{"$f":"IF(AND(ISBLANK(#REF!)=FALSE,ISBLANK(L42)=FALSE),IF(H$18=\"ja\",1-IF(AND(H$18=\"ja\",AC42>IF(ISBLANK(AD42)=TRUE,1,AD42)),1-+BG42,1),0),0)","v":0}," ",0,0,null,null,{"$f":"IF(AND(ISBLANK(#REF!)=FALSE,ISBLANK(L42)=FALSE),1/(1+C42*Z$27/1000*0.000001),\" \")","v":" "},null,0,null,"nee",null,{"$f":"IF(AND(ISBLANK(A42)=FALSE,A42<>\" \"),IF('beschrijving lozing'!I$13=\"indirecte lozing\",1/(1+'resultaten immissietoets'!C42*60*0.000001)*(1-G42),1)*+'resultaten immissietoets'!H42,\" \")","v":" "}," "," "," "," ",{"$f":"MAX(IF(ISBLANK($H42)=FALSE,IF('beschrijving lozing'!I$13=\"indirecte lozing\",+$H$16*8760*3600*$H42/1000000*$BZ42*(BV$25-G42-BR42),+$H$16*8760*3600*$H42/1000000*$BZ42*(BV$25))),0)","v":0},null,{"$f":"IF(ISBLANK(A42)=FALSE,IF(ISBLANK($H42)=TRUE,0,+$H$16*8760*3600*$H42/1000000*$BZ42*10*AO42)*IF('beschrijving lozing'!I$13=\"indirecte lozing\",(1-'resultaten immissietoets'!BT42),1),0)","v":0},null,0,null,null,0,null,0,null,null,null,0,null,0,null,null,1]
[null,null,null,{"$f":"+D42","v":0},0,{"$error":"#DIV/0!"},null,null,null,null,null,null,0,0," ",0.1," "," ",null,null," "," ",0," "," "," ",false,null,0,null,"voldoet"," "," "," "," ",null,"VOLDOET NIET?",0,0,0,"n.t.b.","  "," "," ",0,0,{"$error":"#VALUE!"},{"$error":"#VALUE!"},0,null,0,0," ",null," ",0,{"$f":"IF(AND(ISBLANK(#REF!)=FALSE,ISBLANK(L43)=FALSE),IF(H$18=\"ja\",1-IF(AND(H$18=\"ja\",AC43>IF(ISBLANK(AD43)=TRUE,1,AD43)),1-+BG43,1),0),0)","v":0}," ",0,0,null,null,{"$f":"IF(AND(ISBLANK(#REF!)=FALSE,ISBLANK(L43)=FALSE),1/(1+C43*Z$27/1000*0.000001),\" \")","v":" "},null,0,null,"nee",null,{"$f":"IF(AND(ISBLANK(A43)=FALSE,A43<>\" \"),IF('beschrijving lozing'!I$13=\"indirecte lozing\",1/(1+'resultaten immissietoets'!C43*60*0.000001)*(1-G43),1)*+'resultaten immissietoets'!H43,\" \")","v":" "}," "," "," "," ",{"$f":"MAX(IF(ISBLANK($H43)=FALSE,IF('beschrijving lozing'!I$13=\"indirecte lozing\",+$H$16*8760*3600*$H43/1000000*$BZ43*(BV$25-G43-BR43),+$H$16*8760*3600*$H43/1000000*$BZ43*(BV$25))),0)","v":0},null,{"$f":"IF(ISBLANK(A43)=FALSE,IF(ISBLANK($H43)=TRUE,0,+$H$16*8760*3600*$H43/1000000*$BZ43*10*AO43)*IF('beschrijving lozing'!I$13=\"indirecte lozing\",(1-'resultaten immissietoets'!BT43),1),0)","v":0},null,0,null,null,0,null,0,null,null,null,0,null,0,null,null,1]
[null,null,null,{"$f":"+D43","v":0},0,{"$error":"#DIV/0!"},null,null,null,null,null,null,0,0," ",0.1," "," ",null,null," "," ",0," "," "," ",false,null,0,null,"voldoet"," "," "," "," ",null,"VOLDOET NIET?",0,0,0,"n.t.b.","  "," "," ",0,0,{"$error":"#VALUE!"},{"$error":"#VALUE!"},0,null,0,0," ",null," ",0,{"$f":"IF(AND(ISBLANK(#REF!)=FALSE,ISBLANK(L44)=FALSE),IF(H$18=\"ja\",1-IF(AND(H$18=\"ja\",AC44>IF(ISBLANK(AD44)=TRUE,1,AD44)),1-+BG44,1),0),0)","v":0}," ",0,0,null,null,{"$f":"IF(AND(ISBLANK(#REF!)=FALSE,ISBLANK(L44)=FALSE),1/(1+C44*Z$27/1000*0.000001),\" \")","v":" "},null,0,null,"nee",null,{"$f":"IF(AND(ISBLANK(A44)=FALSE,A44<>\" \"),IF('beschrijving lozing'!I$13=\"indirecte lozing\",1/(1+'resultaten immissietoets'!C44*60*0.000001)*(1-G44),1)*+'resultaten immissietoets'!H44,\" \")","v":" "}," "," "," "," ",{"$f":"MAX(IF(ISBLANK($H44)=FALSE,IF('beschrijving lozing'!I$13=\"indirecte lozing\",+$H$16*8760*3600*$H44/1000000*$BZ44*(BV$25-G44-BR44),+$H$16*8760*3600*$H44/1000000*$BZ44*(BV$25))),0)","v":0},null,{"$f":"IF(ISBLANK(A44)=FALSE,IF(ISBLANK($H44)=TRUE,0,+$H$16*8760*3600*$H44/1000000*$BZ44*10*AO44)*IF('beschrijving lozing'!I$13=\"indirecte lozing\",(1-'resultaten immissietoets'!BT44),1),0)","v":0},null,0,null,null,0,null,0,null,null,null,0,null,0,null,null,1]
[null,null,null,{"$f":"+D44","v":0},0,{"$error":"#DIV/0!"},null,null,null,null,null,null,0,0," ",0.1," "," ",null,null," "," ",0," "," "," ",false,null,0,null,"voldoet"," "," "," "," ",null,"VOLDOET NIET?",0,0,0,"n.t.b.","  "," "," ",0,0,{"$error":"#VALUE!"},{"$error":"#VALUE!"},0,null,0,0," ",null," ",0,{"$f":"IF(AND(ISBLANK(#REF!)=FALSE,ISBLANK(L45)=FALSE),IF(H$18=\"ja\",1-IF(AND(H$18=\"ja\",AC45>IF(ISBLANK(AD45)=TRUE,1,AD45)),1-+BG45,1),0),0)","v":0}," ",0,0,null,null,{"$f":"IF(AND(ISBLANK(#REF!)=FALSE,ISBLANK(L45)=FALSE),1/(1+C45*Z$27/1000*0.000001),\" \")","v":" "},null,0,null,"nee",null,{"$f":"IF(AND(ISBLANK(A45)=FALSE,A45<>\" \"),IF('beschrijving lozing'!I$13=\"indirecte lozing\",1/(1+'resultaten immissietoets'!C45*60*0.000001)*(1-G45),1)*+'resultaten immissietoets'!H45,\" \")","v":" "}," "," "," "," ",{"$f":"MAX(IF(ISBLANK($H45)=FALSE,IF('beschrijving lozing'!I$13=\"indirecte lozing\",+$H$16*8760*3600*$H45/1000000*$BZ45*(BV$25-G45-BR45),+$H$16*8760*3600*$H45/1000000*$BZ45*(BV$25))),0)","v":0},null,{"$f":"IF(ISBLANK(A45)=FALSE,IF(ISBLANK($H45)=TRUE,0,+$H$16*8760*3600*$H45/1000000*$BZ45*10*AO45)*IF('beschrijving lozing'!I$13=\"indirecte lozing\",(1-'resultaten immissietoets'!BT45),1),0)","v":0},null,0,null,null,0,null,0,null,null,null,0,null,0,null,null,1]
[null,null,null,{"$f":"+D45","v":0},0,{"$error":"#DIV/0!"},null,null,null,null,null,null,0,0," ",0.1," "," ",null,null," "," ",0," "," "," ",false,null,0,null,"voldoet"," "," "," "," ",null,"VOLDOET NIET?",0,0,0,"n.t.b.","  "," "," ",0,0,{"$error":"#VALUE!"},{"$error":"#VALUE!"},0,null,0,0," ",null," ",0,{"$f":"IF(AND(ISBLANK(#REF!)=FALSE,ISBLANK(L46)=FALSE),IF(H$18=\"ja\",1-IF(AND(H$18=\"ja\",AC46>IF(ISBLANK(AD46)=TRUE,1,AD46)),1-+BG46,1),0),0)","v":0}," ",0,{"$f":"MAX(IF(H$18=\"ja\",IF(AND(ISBLANK(A46)=FALSE,ISBLANK(L46)=FALSE),IF(AD46>AC46,0,(AC46-IF(ISBLANK(AD46)=TRUE,1,AD46))/IF(ISBLANK(AD46)=TRUE,1,AD46)-1),\" \"),0),0)","v":0},null,null,{"$f":"IF(AND(ISBLANK(#REF!)=FALSE,ISBLANK(L46)=FALSE),1/(1+C46*Z$27/1000*0.000001),\" \")","v":" "},null,{"$f":"IF(H$18=\"ja\",IF(AND(AB46<1,ISBLANK(AD46)=TRUE),1-((1-AB46)*H$20+AB46)/H46,MIN(1-AB46/H46,1-AD46/AC46)),0)","v":0},null,{"$f":"IF(BG46>0,\"ja\",\"nee\")","v":"nee"},null,{"$f":"IF(AND(ISBLANK(A46)=FALSE,A46<>\" \"),IF('beschrijving lozing'!I$13=\"indirecte lozing\",1/(1+'resultaten immissietoets'!C46*60*0.000001)*(1-G46),1)*+'resultaten immissietoets'!H46,\" \")","v":" "}," "," "," "," ",{"$f":"MAX(IF(ISBLANK($H46)=FALSE,IF('beschrijving lozing'!I$13=\"indirecte lozing\",+$H$16*8760*3600*$H46/1000000*$BZ46*(BV$25-G46-BR46),+$H$16*8760*3600*$H46/1000000*$BZ46*(BV$25))),0)","v":0},null,{"$f":"IF(ISBLANK(A46)=FALSE,IF(ISBLANK($H46)=TRUE,0,+$H$16*8760*3600*$H46/1000000*$BZ46*10*AO46)*IF('beschrijving lozing'!I$13=\"indirecte lozing\",(1-'resultaten immissietoets'!BT46),1),0)","v":0},null,0,null,null,0,null,0,null,null,null,0,null,0,null,null,1]
[null,null,null,{"$f":"+D46","v":0},0,{"$error":"#DIV/0!"},null,null,null,null,null,null,0,0," ",0.1," "," ",null,null," "," ",0," "," "," ",false,null,0,null,"voldoet"," "," "," "," ",null,"VOLDOET NIET?",0,0,0,"n.t.b.","  "," "," ",0,0,{"$error":"#VALUE!"},{"$error":"#VALUE!"},0,null,0,0," ",null," ",0,{"$f":"IF(AND(ISBLANK(#REF!)=FALSE,ISBLANK(L47)=FALSE),IF(H$18=\"ja\",1-IF(AND(H$18=\"ja\",AC47>IF(ISBLANK(AD47)=TRUE,1,AD47)),1-+BG47,1),0),0)","v":0}," ",0,0,null,null,{"$f":"IF(AND(ISBLANK(#REF!)=FALSE,ISBLANK(L47)=FALSE),1/(1+C47*Z$27/1000*0.000001),\" \")","v":" "},null,{"$f":"IF(H$18=\"ja\",IF(AND(AB47<1,ISBLANK(AD47)=TRUE),1-((1-AB47)*H$20+AB47)/H47,MIN(1-AB47/H47,1-AD47/AC47)),0)","v":0},null,{"$f":"IF(BG47>0,\"ja\",\"nee\")","v":"nee"},null,{"$f":"IF(AND(ISBLANK(A47)=FALSE,A47<>\" \"),IF('beschrijving lozing'!I$13=\"indirecte lozing\",1/(1+'resultaten immissietoets'!C47*60*0.000001)*(1-G47),1)*+'resultaten immissietoets'!H47,\" \")","v":" "}," "," "," "," ",{"$f":"MAX(IF(ISBLANK($H47)=FALSE,IF('beschrijving lozing'!I$13=\"indirecte lozing\",+$H$16*8760*3600*$H47/1000000*$BZ47*(BV$25-G47-BR47),+$H$16*8760*3600*$H47/1000000*$BZ47*(BV$25))),0)","v":0},null,{"$f":"IF(ISBLANK(A47)=FALSE,IF(ISBLANK($H47)=TRUE,0,+$H$16*8760*3600*$H47/1000000*$BZ47*10*AO47)*IF('beschrijving lozing'!I$13=\"indirecte lozing\",(1-'resultaten immissietoets'!BT47),1),0)","v":0},null,0,null,null,0,null,0,null,null,null,0,null,0,null,null,1]
[null,null,null,{"$f":"+D47","v":0},0,{"$error":"#DIV/0!"},null,null,null,null,null,null,0,0," ",0.1," "," ",null,null," "," ",0," "," "," ",false,null,0,null,"voldoet"," "," "," "," ",null,"VOLDOET NIET?",0,0,0,"n.t.b.","  "," "," ",0,0,{"$error":"#VALUE!"},{"$error":"#VALUE!"},0,null,0,0," ",null," ",0,{"$f":"IF(AND(ISBLANK(#REF!)=FALSE,ISBLANK(L48)=FALSE),IF(H$18=\"ja\",1-IF(AND(H$18=\"ja\",AC48>IF(ISBLANK(AD48)=TRUE,1,AD48)),1-+BG48,1),0),0)","v":0}," ",0,0,null,null,{"$f":"IF(AND(ISBLANK(#REF!)=FALSE,ISBLANK(L48)=FALSE),1/(1+C48*Z$27/1000*0.000001),\" \")","v":" "},null,0,null,"nee",null,{"$f":"IF(AND(ISBLANK(A48)=FALSE,A48<>\" \"),IF('beschrijving lozing'!I$13=\"indirecte lozing\",1/(1+'resultaten immissietoets'!C48*60*0.000001)*(1-G48),1)*+'resultaten immissietoets'!H48,\" \")","v":" "}," "," "," "," ",{"$f":"MAX(IF(ISBLANK($H48)=FALSE,IF('beschrijving lozing'!I$13=\"indirecte lozing\",+$H$16*8760*3600*$H48/1000000*$BZ48*(BV$25-G48-BR48),+$H$16*8760*3600*$H48/1000000*$BZ48*(BV$25))),0)","v":0},null,{"$f":"IF(ISBLANK(A48)=FALSE,IF(ISBLANK($H48)=TRUE,0,+$H$16*8760*3600*$H48/1000000*$BZ48*10*AO48)*IF('beschrijving lozing'!I$13=\"indirecte lozing\",(1-'resultaten immissietoets'!BT48),1),0)","v":0},null,0,null,null,0,null,0,null,null,null,0,null,0,null,null,1]
[null,null,null,{"$f":"+D48","v":0},0,{"$error":"#DIV/0!"},null,null,null,null,null,null,0,0," ",0.1," "," ",null,null," "," ",0," "," "," ",false,null,0,null,"voldoet"," "," "," "," ",null,"VOLDOET NIET?",0,0,0,"n.t.b.","  "," "," ",0,0,{"$error":"#VALUE!"},{"$error":"#VALUE!"},0,null,0,0," ",null," ",0,{"$f":"IF(AND(ISBLANK(#REF!)=FALSE,ISBLANK(L49)=FALSE),IF(H$18=\"ja\",1-IF(AND(H$18=\"ja\",AC49>IF(ISBLANK(AD49)=TRUE,1,AD49)),1-+BG49,1),0),0)","v":0}," ",0,0,null,null,{"$f":"IF(AND(ISBLANK(#REF!)=FALSE,ISBLANK(L49)=FALSE),1/(1+C49*Z$27/1000*0.000001),\" \")","v":" "},null,0,null,"nee",null,{"$f":"IF(AND(ISBLANK(A49)=FALSE,A49<>\" \"),IF('beschrijving lozing'!I$13=\"indirecte lozing\",1/(1+'resultaten immissietoets'!C49*60*0.000001)*(1-G49),1)*+'resultaten immissietoets'!H49,\" \")","v":" "}," "," "," "," ",{"$f":"MAX(IF(ISBLANK($H49)=FALSE,IF('beschrijving lozing'!I$13=\"indirecte lozing\",+$H$16*8760*3600*$H49/1000000*$BZ49*(BV$25-G49-BR49),+$H$16*8760*3600*$H49/1000000*$BZ49*(BV$25))),0)","v":0},null,{"$f":"IF(ISBLANK(A49)=FALSE,IF(ISBLANK($H49)=TRUE,0,+$H$16*8760*3600*$H49/1000000*$BZ49*10*AO49)*IF('beschrijving lozing'!I$13=\"indirecte lozing\",(1-'resultaten immissietoets'!BT49),1),0)","v":0},null,0,null,null,0,null,0,null,null,null,0,null,0,null,null,1]
[null,null,null,{"$f":"+D49","v":0},0,{"$error":"#DIV/0!"},null,null,null,null,null,null,0,0," ",0.1," "," ",null,null," "," ",0," "," "," ",false,null,0,null,"voldoet"," "," "," "," ",null,"VOLDOET NIET?",0,0,0,"n.t.b.","  "," "," ",0,0,{"$error":"#VALUE!"},{"$error":"#VALUE!"},0,null,0,0," ",null," ",0,{"$f":"IF(AND(ISBLANK(#REF!)=FALSE,ISBLANK(L50)=FALSE),IF(H$18=\"ja\",1-IF(AND(H$18=\"ja\",AC50>IF(ISBLANK(AD50)=TRUE,1,AD50)),1-+BG50,1),0),0)","v":0}," ",0,0,null,null,{"$f":"IF(AND(ISBLANK(#REF!)=FALSE,ISBLANK(L50)=FALSE),1/(1+C50*Z$27/1000*0.000001),\" \")","v":" "},null,0,null,"nee",null,{"$f":"IF(AND(ISBLANK(A50)=FALSE,A50<>\" \"),IF('beschrijving lozing'!I$13=\"indirecte lozing\",1/(1+'resultaten immissietoets'!C50*60*0.000001)*(1-G50),1)*+'resultaten immissietoets'!H50,\" \")","v":" "}," "," "," "," ",{"$f":"MAX(IF(ISBLANK($H50)=FALSE,IF('beschrijving lozing'!I$13=\"indirecte lozing\",+$H$16*8760*3600*$H50/1000000*$BZ50*(BV$25-G50-BR50),+$H$16*8760*3600*$H50/1000000*$BZ50*(BV$25))),0)","v":0},null,{"$f":"IF(ISBLANK(A50)=FALSE,IF(ISBLANK($H50)=TRUE,0,+$H$16*8760*3600*$H50/1000000*$BZ50*10*AO50)*IF('beschrijving lozing'!I$13=\"indirecte lozing\",(1-'resultaten immissietoets'!BT50),1),0)","v":0},null,0,null,null,0,null,0,null,null,null,0,null,0,null,null,1]
[null,null,null,{"$f":"+D50","v":0},0,{"$error":"#DIV/0!"},null,null,null,null,null,null,0,0," ",0.1," "," ",null,null," "," ",0," "," "," ",false,null,0,null,"voldoet"," "," "," "," ",null,"VOLDOET NIET?",0,0,0,"n.t.b.","  "," "," ",0,0,{"$error":"#VALUE!"},{"$error":"#VALUE!"},0,null,0,0," ",null," ",0,{"$f":"IF(AND(ISBLANK(#REF!)=FALSE,ISBLANK(L51)=FALSE),IF(H$18=\"ja\",1-IF(AND(H$18=\"ja\",AC51>IF(ISBLANK(AD51)=TRUE,1,AD51)),1-+BG51,1),0),0)","v":0}," ",0,0,null,null,{"$f":"IF(AND(ISBLANK(#REF!)=FALSE,ISBLANK(L51)=FALSE),1/(1+C51*Z$27/1000*0.000001),\" \")","v":" "},null,0,null,"nee",null,{"$f":"IF(AND(ISBLANK(A51)=FALSE,A51<>\" \"),IF('beschrijving lozing'!I$13=\"indirecte lozing\",1/(1+'resultaten immissietoets'!C51*60*0.000001)*(1-G51),1)*+'resultaten immissietoets'!H51,\" \")","v":" "}," "," "," "," ",{"$f":"MAX(IF(ISBLANK($H51)=FALSE,IF('beschrijving lozing'!I$13=\"indirecte lozing\",+$H$16*8760*3600*$H51/1000000*$BZ51*(BV$25-G51-BR51),+$H$16*8760*3600*$H51/1000000*$BZ51*(BV$25))),0)","v":0},null,{"$f":"IF(ISBLANK(A51)=FALSE,IF(ISBLANK($H51)=TRUE,0,+$H$16*8760*3600*$H51/1000000*$BZ51*10*AO51)*IF('beschrijving lozing'!I$13=\"indirecte lozing\",(1-'resultaten immissietoets'!BT51),1),0)","v":0},null,0,null,null,0,null,0,null,null,null,0,null,0,null,null,1]
[null,null,null,{"$f":"+D51","v":0},0,{"$error":"#DIV/0!"},null,null,null,null,null,null,0,0," ",0.1," "," ",null,null," "," ",0," "," "," ",false,null,0,null,"voldoet"," "," "," "," ",null,"VOLDOET NIET?",0,0,0,"n.t.b.","  "," "," ",0,0,{"$error":"#VALUE!"},{"$error":"#VALUE!"},0,null,0,0," ",null," ",0,{"$f":"IF(AND(ISBLANK(#REF!)=FALSE,ISBLANK(L52)=FALSE),IF(H$18=\"ja\",1-IF(AND(H$18=\"ja\",AC52>IF(ISBLANK(AD52)=TRUE,1,AD52)),1-+BG52,1),0),0)","v":0}," ",0,0,null,null,{"$f":"IF(AND(ISBLANK(#REF!)=FALSE,ISBLANK(L52)=FALSE),1/(1+C52*Z$27/1000*0.000001),\" \")","v":" "},null,0,null,"nee",null,{"$f":"IF(AND(ISBLANK(A52)=FALSE,A52<>\" \"),IF('beschrijving lozing'!I$13=\"indirecte lozing\",1/(1+'resultaten immissietoets'!C52*60*0.000001)*(1-G52),1)*+'resultaten immissietoets'!H52,\" \")","v":" "}," "," "," "," ",{"$f":"MAX(IF(ISBLANK($H52)=FALSE,IF('beschrijving lozing'!I$13=\"indirecte lozing\",+$H$16*8760*3600*$H52/1000000*$BZ52*(BV$25-G52-BR52),+$H$16*8760*3600*$H52/1000000*$BZ52*(BV$25))),0)","v":0},null,{"$f":"IF(ISBLANK(A52)=FALSE,IF(ISBLANK($H52)=TRUE,0,+$H$16*8760*3600*$H52/1000000*$BZ52*10*AO52)*IF('beschrijving lozing'!I$13=\"indirecte lozing\",(1-'resultaten immissietoets'!BT52),1),0)","v":0},null,0,null,null,0,null,0,null,null,null,0,null,0,null,null,1]
[null,null,null,{"$f":"+D52","v":0},0,{"$error":"#DIV/0!"},null,null,null,null,null,null,0,0," ",0.1," "," ",null,null," "," ",0," "," "," ",false,null,0,null,"voldoet"," "," "," "," ",null,"VOLDOET NIET?",0,0,0,"n.t.b.","  "," "," ",0,0,{"$error":"#VALUE!"},{"$error":"#VALUE!"},0,null,0,0," ",null," ",0,{"$f":"IF(AND(ISBLANK(#REF!)=FALSE,ISBLANK(L53)=FALSE),IF(H$18=\"ja\",1-IF(AND(H$18=\"ja\",AC53>IF(ISBLANK(AD53)=TRUE,1,AD53)),1-+BG53,1),0),0)","v":0}," ",0,0,null,null,{"$f":"IF(AND(ISBLANK(#REF!)=FALSE,ISBLANK(L53)=FALSE),1/(1+C53*Z$27/1000*0.000001),\" \")","v":" "},null,0,null,"nee",null,{"$f":"IF(AND(ISBLANK(A53)=FALSE,A53<>\" \"),IF('beschrijving lozing'!I$13=\"indirecte lozing\",1/(1+'resultaten immissietoets'!C53*60*0.000001)*(1-G53),1)*+'resultaten immissietoets'!H53,\" \")","v":" "}," "," "," "," ",{"$f":"MAX(IF(ISBLANK($H53)=FALSE,IF('beschrijving lozing'!I$13=\"indirecte lozing\",+$H$16*8760*3600*$H53/1000000*$BZ53*(BV$25-G53-BR53),+$H$16*8760*3600*$H53/1000000*$BZ53*(BV$25))),0)","v":0},null,{"$f":"IF(ISBLANK(A53)=FALSE,IF(ISBLANK($H53)=TRUE,0,+$H$16*8760*3600*$H53/1000000*$BZ53*10*AO53)*IF('beschrijving lozing'!I$13=\"indirecte lozing\",(1-'resultaten immissietoets'!BT53),1),0)","v":0},null,0,null,null,0,null,0,null,null,null,0,null,0,null,null,1]
[null,null,null,{"$f":"+D53","v":0},0,{"$error":"#DIV/0!"},null,null,null,null,null,null,0,0," ",0.1," "," ",null,null," "," ",0," "," "," ",false,null,0,null,"voldoet"," "," "," "," ",null,"VOLDOET NIET?",0,0,0,"n.t.b.","  "," "," ",0,0,{"$error":"#VALUE!"},{"$error":"#VALUE!"},0,null,0,0," ",null," ",0,{"$f":"IF(AND(ISBLANK(#REF!)=FALSE,ISBLANK(L54)=FALSE),IF(H$18=\"ja\",1-IF(AND(H$18=\"ja\",AC54>IF(ISBLANK(AD54)=TRUE,1,AD54)),1-+BG54,1),0),0)","v":0}," ",0,0,null,null,{"$f":"IF(AND(ISBLANK(#REF!)=FALSE,ISBLANK(L54)=FALSE),1/(1+C54*Z$27/1000*0.000001),\" \")","v":" "},null,0,null,"nee",null,{"$f":"IF(AND(ISBLANK(A54)=FALSE,A54<>\" \"),IF('beschrijving lozing'!I$13=\"indirecte lozing\",1/(1+'resultaten immissietoets'!C54*60*0.000001)*(1-G54),1)*+'resultaten immissietoets'!H54,\" \")","v":" "}," "," "," "," ",{"$f":"MAX(IF(ISBLANK($H54)=FALSE,IF('beschrijving lozing'!I$13=\"indirecte lozing\",+$H$16*8760*3600*$H54/1000000*$BZ54*(BV$25-G54-BR54),+$H$16*8760*3600*$H54/1000000*$BZ54*(BV$25))),0)","v":0},null,{"$f":"IF(ISBLANK(A54)=FALSE,IF(ISBLANK($H54)=TRUE,0,+$H$16*8760*3600*$H54/1000000*$BZ54*10*AO54)*IF('beschrijving lozing'!I$13=\"indirecte lozing\",(1-'resultaten immissietoets'!BT54),1),0)","v":0},null,0,null,null,0,null,0,null,null,null,0,null,0,null,null,1]
[null,null,null,{"$f":"+D54","v":0},0,{"$error":"#DIV/0!"},null,null,null,null,null,null,0,0," ",0.1," "," ",null,null," "," ",0," "," "," ",false,null,0,null,"voldoet"," "," "," "," ",null,"VOLDOET NIET?",0,0,0,"n.t.b.","  "," "," ",0,0,{"$error":"#VALUE!"},{"$error":"#VALUE!"},0,null,0,0," ",null," ",0,{"$f":"IF(AND(ISBLANK(#REF!)=FALSE,ISBLANK(L55)=FALSE),IF(H$18=\"ja\",1-IF(AND(H$18=\"ja\",AC55>IF(ISBLANK(AD55)=TRUE,1,AD55)),1-+BG55,1),0),0)","v":0}," ",0,0,null,null,{"$f":"IF(AND(ISBLANK(#REF!)=FALSE,ISBLANK(L55)=FALSE),1/(1+C55*Z$27/1000*0.000001),\" \")","v":" "},null,0,null,"nee",null,{"$f":"IF(AND(ISBLANK(A55)=FALSE,A55<>\" \"),IF('beschrijving lozing'!I$13=\"indirecte lozing\",1/(1+'resultaten immissietoets'!C55*60*0.000001)*(1-G55),1)*+'resultaten immissietoets'!H55,\" \")","v":" "}," "," "," "," ",{"$f":"MAX(IF(ISBLANK($H55)=FALSE,IF('beschrijving lozing'!I$13=\"indirecte lozing\",+$H$16*8760*3600*$H55/1000000*$BZ55*(BV$25-G55-BR55),+$H$16*8760*3600*$H55/1000000*$BZ55*(BV$25))),0)","v":0},null,{"$f":"IF(ISBLANK(A55)=FALSE,IF(ISBLANK($H55)=TRUE,0,+$H$16*8760*3600*$H55/1000000*$BZ55*10*AO55)*IF('beschrijving lozing'!I$13=\"indirecte lozing\",(1-'resultaten immissietoets'!BT55),1),0)","v":0},null,0,null,null,0,null,0,null,null,null,0,null,0,null,null,1]
[null,null,null,{"$f":"+D55","v":0},0,{"$error":"#DIV/0!"},null,null,null,null,null,null,0,0," ",0.1," "," ",null,null," "," ",0," "," "," ",false,null,0,null,"voldoet"," "," "," "," ",null,"VOLDOET NIET?",0,0,0,"n.t.b.","  "," "," ",0,0,{"$error":"#VALUE!"},{"$error":"#VALUE!"},0,null,0,0," ",null," ",0,{"$f":"IF(AND(ISBLANK(#REF!)=FALSE,ISBLANK(L56)=FALSE),IF(H$18=\"ja\",1-IF(AND(H$18=\"ja\",AC56>IF(ISBLANK(AD56)=TRUE,1,AD56)),1-+BG56,1),0),0)","v":0}," ",0,0,null,null,{"$f":"IF(AND(ISBLANK(#REF!)=FALSE,ISBLANK(L56)=FALSE),1/(1+C56*Z$27/1000*0.000001),\" \")","v":" "},null,0,null,"nee",null,{"$f":"IF(AND(ISBLANK(A56)=FALSE,A56<>\" \"),IF('beschrijving lozing'!I$13=\"indirecte lozing\",1/(1+'resultaten immissietoets'!C56*60*0.000001)*(1-G56),1)*+'resultaten immissietoets'!H56,\" \")","v":" "}," "," "," "," ",{"$f":"MAX(IF(ISBLANK($H56)=FALSE,IF('beschrijving lozing'!I$13=\"indirecte lozing\",+$H$16*8760*3600*$H56/1000000*$BZ56*(BV$25-G56-BR56),+$H$16*8760*3600*$H56/1000000*$BZ56*(BV$25))),0)","v":0},null,{"$f":"IF(ISBLANK(A56)=FALSE,IF(ISBLANK($H56)=TRUE,0,+$H$16*8760*3600*$H56/1000000*$BZ56*10*AO56)*IF('beschrijving lozing'!I$13=\"indirecte lozing\",(1-'resultaten immissietoets'!BT56),1),0)","v":0},null,0,null,null,0,null,0,null,null,null,0,null,0,null,null,1]
[null,null,null,{"$f":"+D56","v":0},0,{"$error":"#DIV/0!"},null,null,null,null,null,null,0,0," ",0.1," "," ",null,null," "," ",0," "," "," ",false,null,0,null,"voldoet"," "," "," "," ",null,"VOLDOET NIET?",0,0,0,"n.t.b.","  "," "," ",0,0,{"$error":"#VALUE!"},{"$error":"#VALUE!"},0,null,0,0," ",null," ",0,{"$f":"IF(AND(ISBLANK(#REF!)=FALSE,ISBLANK(L57)=FALSE),IF(H$18=\"ja\",1-IF(AND(H$18=\"ja\",AC57>IF(ISBLANK(AD57)=TRUE,1,AD57)),1-+BG57,1),0),0)","v":0}," ",0,0,null,null,{"$f":"IF(AND(ISBLANK(#REF!)=FALSE,ISBLANK(L57)=FALSE),1/(1+C57*Z$27/1000*0.000001),\" \")","v":" "},null,0,null,"nee",null,{"$f":"IF(AND(ISBLANK(A57)=FALSE,A57<>\" \"),IF('beschrijving lozing'!I$13=\"indirecte lozing\",1/(1+'resultaten immissietoets'!C57*60*0.000001)*(1-G57),1)*+'resultaten immissietoets'!H57,\" \")","v":" "}," "," "," "," ",{"$f":"MAX(IF(ISBLANK($H57)=FALSE,IF('beschrijving lozing'!I$13=\"indirecte lozing\",+$H$16*8760*3600*$H57/1000000*$BZ57*(BV$25-G57-BR57),+$H$16*8760*3600*$H57/1000000*$BZ57*(BV$25))),0)","v":0},null,{"$f":"IF(ISBLANK(A57)=FALSE,IF(ISBLANK($H57)=TRUE,0,+$H$16*8760*3600*$H57/1000000*$BZ57*10*AO57)*IF('beschrijving lozing'!I$13=\"indirecte lozing\",(1-'resultaten immissietoets'!BT57),1),0)","v":0},null,0,null,null,0,null,0,null,null,null,0,null,0,null,null,1]
[null,null,null,{"$f":"+D57","v":0},0,{"$error":"#DIV/0!"},null,null,null,null,null,null,0,0," ",0.1," "," ",null,null," "," ",0," "," "," ",false,null,0,null,"voldoet"," "," "," "," ",null,"VOLDOET NIET?",0,0,0,"n.t.b.","  "," "," ",0,0,{"$error":"#VALUE!"},{"$error":"#VALUE!"},0,null,0,0," ",null," ",0,{"$f":"IF(AND(ISBLANK(#REF!)=FALSE,ISBLANK(L58)=FALSE),IF(H$18=\"ja\",1-IF(AND(H$18=\"ja\",AC58>IF(ISBLANK(AD58)=TRUE,1,AD58)),1-+BG58,1),0),0)","v":0},{"$f":"IF(AND(ISBLANK(A58)=FALSE,ISBLANK(L58)=FALSE),IF(ISBLANK(+AD58)=TRUE,1,AD58),\" \")","v":" "},0,0,null,null,{"$f":"IF(AND(ISBLANK(#REF!)=FALSE,ISBLANK(L58)=FALSE),1/(1+C58*Z$27/1000*0.000001),\" \")","v":" "},null,0,null,"nee",null,{"$f":"IF(AND(ISBLANK(A58)=FALSE,A58<>\" \"),IF('beschrijving lozing'!I$13=\"indirecte lozing\",1/(1+'resultaten immissietoets'!C58*60*0.000001)*(1-G58),1)*+'resultaten immissietoets'!H58,\" \")","v":" "}," "," "," "," ",{"$f":"MAX(IF(ISBLANK($H58)=FALSE,IF('beschrijving lozing'!I$13=\"indirecte lozing\",+$H$16*8760*3600*$H58/1000000*$BZ58*(BV$25-G58-BR58),+$H$16*8760*3600*$H58/1000000*$BZ58*(BV$25))),0)","v":0},null,{"$f":"IF(ISBLANK(A58)=FALSE,IF(ISBLANK($H58)=TRUE,0,+$H$16*8760*3600*$H58/1000000*$BZ58*10*AO58)*IF('beschrijving lozing'!I$13=\"indirecte lozing\",(1-'resultaten immissietoets'!BT58),1),0)","v":0},null,0,null,null,0,null,0,null,null,null,0,null,0,null,null,1]
[null,null,null,{"$f":"+D58","v":0},0,{"$error":"#DIV/0!"},null,null,null,null,null,null,0,0," ",0.1," "," ",null,null," "," ",0," "," "," ",false,null,0,null,"voldoet"," "," "," "," ",null,"VOLDOET NIET?",0,0,0,"n.t.b.","  "," "," ",0,0,{"$error":"#VALUE!"},{"$error":"#VALUE!"},0,null,0,0," ",null," ",{"$f":"IF(AND(ISBLANK(A59)=FALSE,ISBLANK(L59)=FALSE),IF(AND(BE59>1,ISBLANK(AD59)=TRUE,AO59=1),1,0),0)","v":0},{"$f":"IF(AND(ISBLANK(#REF!)=FALSE,ISBLANK(L59)=FALSE),IF(H$18=\"ja\",1-IF(AND(H$18=\"ja\",AC59>IF(ISBLANK(AD59)=TRUE,1,AD59)),1-+BG59,1),0),0)","v":0}," ",0,0,null,null,{"$f":"IF(AND(ISBLANK(#REF!)=FALSE,ISBLANK(L59)=FALSE),1/(1+C59*Z$27/1000*0.000001),\" \")","v":" "},null,0,null,"nee",null,{"$f":"IF(AND(ISBLANK(A59)=FALSE,A59<>\" \"),IF('beschrijving lozing'!I$13=\"indirecte lozing\",1/(1+'resultaten immissietoets'!C59*60*0.000001)*(1-G59),1)*+'resultaten immissietoets'!H59,\" \")","v":" "}," "," "," "," ",{"$f":"MAX(IF(ISBLANK($H59)=FALSE,IF('beschrijving lozing'!I$13=\"indirecte lozing\",+$H$16*8760*3600*$H59/1000000*$BZ59*(BV$25-G59-BR59),+$H$16*8760*3600*$H59/1000000*$BZ59*(BV$25))),0)","v":0},null,{"$f":"IF(ISBLANK(A59)=FALSE,IF(ISBLANK($H59)=TRUE,0,+$H$16*8760*3600*$H59/1000000*$BZ59*10*AO59)*IF('beschrijving lozing'!I$13=\"indirecte lozing\",(1-'resultaten immissietoets'!BT59),1),0)","v":0},null,0,null,null,0,null,0,null,null,null,0,null,0,null,null,1]
[null,null,null,{"$f":"+D59","v":0},0,{"$error":"#DIV/0!"},null,null,null,null,null,null,0,0," ",0.1," "," ",null,null," "," ",0," "," "," ",false,null,{"$f":"IF(ISBLANK(A60)=FALSE,(H60-AB60)/+H$20,0+I60)*IF(AG$4=\"JA\",1/(1+(AG$10+X$27)*C60*0.000001),1)+AB60","v":0},null,"voldoet",{"$f":"IF(ISBLANK(A60)<>TRUE,IF(AND(H60>0),(BQ60-J60)/F60*IF(AG$4=\"ja\",1/(1+C60*(AG$10+X$27)*0.000001),1)+J60,\" \"),\" \")","v":" "}," "," "," ",null,"VOLDOET NIET?",0,0,0,"n.t.b.","  "," "," ",0,0,{"$error":"#VALUE!"},{"$error":"#VALUE!"},0,null,0,0," ",null,{"$f":"IF(AND(ISBLANK(A60)=FALSE,ISBLANK(L60)=FALSE),IF(AF60>=N60,IF(AND(J60>N60,AF60-J60<=R60),0,1-BA60/+H60),0),\" \")","v":" "},0,{"$f":"IF(AND(ISBLANK(#REF!)=FALSE,ISBLANK(L60)=FALSE),IF(H$18=\"ja\",1-IF(AND(H$18=\"ja\",AC60>IF(ISBLANK(AD60)=TRUE,1,AD60)),1-+BG60,1),0),0)","v":0}," ",0,0,null,null,{"$f":"IF(AND(ISBLANK(#REF!)=FALSE,ISBLANK(L60)=FALSE),1/(1+C60*Z$27/1000*0.000001),\" \")","v":" "},null,0,null,"nee",null,{"$f":"IF(AND(ISBLANK(A60)=FALSE,A60<>\" \"),IF('beschrijving lozing'!I$13=\"indirecte lozing\",1/(1+'resultaten immissietoets'!C60*60*0.000001)*(1-G60),1)*+'resultaten immissietoets'!H60,\" \")","v":" "}," "," "," "," ",{"$f":"MAX(IF(ISBLANK($H60)=FALSE,IF('beschrijving lozing'!I$13=\"indirecte lozing\",+$H$16*8760*3600*$H60/1000000*$BZ60*(BV$25-G60-BR60),+$H$16*8760*3600*$H60/1000000*$BZ60*(BV$25))),0)","v":0},null,{"$f":"IF(ISBLANK(A60)=FALSE,IF(ISBLANK($H60)=TRUE,0,+$H$16*8760*3600*$H60/1000000*$BZ60*10*AO60)*IF('beschrijving lozing'!I$13=\"indirecte lozing\",(1-'resultaten immissietoets'!BT60),1),0)","v":0},null,0,null,null,0,null,0,null,null,null,0,null,0,null,null,1]
[null,null,null,0,0,{"$error":"#DIV/0!"},null,null,null,null,null,null,0,0," ",0.1," "," ",null,null," "," ",0," "," "," ",false,null,0,null,"voldoet"," "," "," "," ",null,"VOLDOET NIET?",0,0,0,"n.t.b.","  "," "," ",0,0,{"$error":"#VALUE!"},{"$error":"#VALUE!"},0,null,0,0," ",null," ",0,{"$f":"IF(AND(ISBLANK(#REF!)=FALSE,ISBLANK(L61)=FALSE),IF(H$18=\"ja\",1-IF(AND(H$18=\"ja\",AC61>IF(ISBLANK(AD61)=TRUE,1,AD61)),1-+BG61,1),0),0)","v":0}," ",0,0,null,null,{"$f":"IF(AND(ISBLANK(#REF!)=FALSE,ISBLANK(L61)=FALSE),1/(1+C61*Z$27/1000*0.000001),\" \")","v":" "},null,0,null,"nee",null,{"$f":"IF(AND(ISBLANK(A61)=FALSE,A61<>\" \"),IF('beschrijving lozing'!I$13=\"indirecte lozing\",1/(1+'resultaten immissietoets'!C61*60*0.000001)*(1-G61),1)*+'resultaten immissietoets'!H61,\" \")","v":" "}," "," "," "," ",{"$f":"MAX(IF(ISBLANK($H61)=FALSE,IF('beschrijving lozing'!I$13=\"indirecte lozing\",+$H$16*8760*3600*$H61/1000000*$BZ61*(BV$25-G61-BR61),+$H$16*8760*3600*$H61/1000000*$BZ61*(BV$25))),0)","v":0},null,{"$f":"IF(ISBLANK(A61)=FALSE,IF(ISBLANK($H61)=TRUE,0,+$H$16*8760*3600*$H61/1000000*$BZ61*10*AO61)*IF('beschrijving lozing'!I$13=\"indirecte lozing\",(1-'resultaten immissietoets'!BT61),1),0)","v":0},null,0,null,null,0,null,0,null,null,null,0,null,0,null,null,1]
[null,null,null,{"$f":"+D61","v":0},0,{"$error":"#DIV/0!"},null,null,null,null,null,null,0,0," ",0.1," "," ",null,null,null," ",0," "," "," ",false,null,0,null,"voldoet"," "," "," "," ",null,"VOLDOET NIET?",0,0,0,"n.t.b.","  "," "," ",0,0,{"$error":"#VALUE!"},{"$error":"#VALUE!"},0,null,0,0," ",null," ",0,{"$f":"IF(AND(ISBLANK(#REF!)=FALSE,ISBLANK(L62)=FALSE),IF(H$18=\"ja\",1-IF(AND(H$18=\"ja\",AC62>IF(ISBLANK(AD62)=TRUE,1,AD62)),1-+BG62,1),0),0)","v":0}," ",0,0,null,null,{"$f":"IF(AND(ISBLANK(#REF!)=FALSE,ISBLANK(L62)=FALSE),1/(1+C62*Z$27/1000*0.000001),\" \")","v":" "},null,0,null,"nee",null,{"$f":"IF(AND(ISBLANK(A62)=FALSE,A62<>\" \"),IF('beschrijving lozing'!I$13=\"indirecte lozing\",1/(1+'resultaten immissietoets'!C62*60*0.000001)*(1-G62),1)*+'resultaten immissietoets'!H62,\" \")","v":" "}," "," "," "," ",{"$f":"MAX(IF(ISBLANK($H62)=FALSE,IF('beschrijving lozing'!I$13=\"indirecte lozing\",+$H$16*8760*3600*$H62/1000000*$BZ62*(BV$25-G62-BR62),+$H$16*8760*3600*$H62/1000000*$BZ62*(BV$25))),0)","v":0},null,{"$f":"IF(ISBLANK(A62)=FALSE,IF(ISBLANK($H62)=TRUE,0,+$H$16*8760*3600*$H62/1000000*$BZ62*10*AO62)*IF('beschrijving lozing'!I$13=\"indirecte lozing\",(1-'resultaten immissietoets'!BT62),1),0)","v":0},null,0,null,null,0,null,0,null,null,null,0,null,0,null,null,1]
[null,null,null,{"$f":"+D62","v":0},0,{"$error":"#DIV/0!"},null,null,null,null,null,null,0,0," ",0.1," "," ",null,null,null,{"$f":"IF(AND(+H63<>\" \",ISBLANK(T63)<>TRUE),IF(+J63+(H63-J63)/E63*IF(+X$41=\"ja\",1/(1+C63*(AG$30+W$46*D63/E63)*0.000001),1)>U63,\"JA\",\"NEE\"),\" \")","v":" "},0," "," "," ",false,null,0,null,"voldoet"," "," "," "," ",null,"VOLDOET NIET?",0,0,0,"n.t.b.","  "," "," ",0,0,{"$error":"#VALUE!"},{"$error":"#VALUE!"},0,null,0,0," ",null," ",0,{"$f":"IF(AND(ISBLANK(#REF!)=FALSE,ISBLANK(L63)=FALSE),IF(H$18=\"ja\",1-IF(AND(H$18=\"ja\",AC63>IF(ISBLANK(AD63)=TRUE,1,AD63)),1-+BG63,1),0),0)","v":0}," ",0,0,null,null,{"$f":"IF(AND(ISBLANK(#REF!)=FALSE,ISBLANK(L63)=FALSE),1/(1+C63*Z$27/1000*0.000001),\" \")","v":" "},null,0,null,"nee",null,{"$f":"IF(AND(ISBLANK(A63)=FALSE,A63<>\" \"),IF('beschrijving lozing'!I$13=\"indirecte lozing\",1/(1+'resultaten immissietoets'!C63*60*0.000001)*(1-G63),1)*+'resultaten immissietoets'!H63,\" \")","v":" "}," "," "," "," ",{"$f":"MAX(IF(ISBLANK($H63)=FALSE,IF('beschrijving lozing'!I$13=\"indirecte lozing\",+$H$16*8760*3600*$H63/1000000*$BZ63*(BV$25-G63-BR63),+$H$16*8760*3600*$H63/1000000*$BZ63*(BV$25))),0)","v":0},null,{"$f":"IF(ISBLANK(A63)=FALSE,IF(ISBLANK($H63)=TRUE,0,+$H$16*8760*3600*$H63/1000000*$BZ63*10*AO63)*IF('beschrijving lozing'!I$13=\"indirecte lozing\",(1-'resultaten immissietoets'!BT63),1),0)","v":0},null,0,null,null,0,null,0,null,null,null,0,null,0,null,null,1]
[null,null,null,{"$f":"+D63","v":0},0,{"$error":"#DIV/0!"},null,null,null,null,null,null,0,0," ",0.1," "," ",null,null,null," ",0," "," "," ",false,null,0,null,"voldoet"," "," "," "," ",null,"VOLDOET NIET?",0,0,0,"n.t.b.","  "," "," ",0,0,{"$error":"#VALUE!"},{"$error":"#VALUE!"},0,null,0,0," ",null," ",0,{"$f":"IF(AND(ISBLANK(#REF!)=FALSE,ISBLANK(L64)=FALSE),IF(H$18=\"ja\",1-IF(AND(H$18=\"ja\",AC64>IF(ISBLANK(AD64)=TRUE,1,AD64)),1-+BG64,1),0),0)","v":0}," ",0,0,null,null,{"$f":"IF(AND(ISBLANK(#REF!)=FALSE,ISBLANK(L64)=FALSE),1/(1+C64*Z$27/1000*0.000001),\" \")","v":" "},null,0,null,"nee",null,{"$f":"IF(AND(ISBLANK(A64)=FALSE,A64<>\" \"),IF('beschrijving lozing'!I$13=\"indirecte lozing\",1/(1+'resultaten immissietoets'!C64*60*0.000001)*(1-G64),1)*+'resultaten immissietoets'!H64,\" \")","v":" "}," "," "," "," ",{"$f":"MAX(IF(ISBLANK($H64)=FALSE,IF('beschrijving lozing'!I$13=\"indirecte lozing\",+$H$16*8760*3600*$H64/1000000*$BZ64*(BV$25-G64-BR64),+$H$16*8760*3600*$H64/1000000*$BZ64*(BV$25))),0)","v":0},null,{"$f":"IF(ISBLANK(A64)=FALSE,IF(ISBLANK($H64)=TRUE,0,+$H$16*8760*3600*$H64/1000000*$BZ64*10*AO64)*IF('beschrijving lozing'!I$13=\"indirecte lozing\",(1-'resultaten immissietoets'!BT64),1),0)","v":0},null,0,null,null,0,null,0,null,null,null,0,null,0,null,null,1]
[null,null,null,{"$f":"+D64","v":0},0,{"$error":"#DIV/0!"},null,null,null,null,null,null,0,0," ",0.1," "," ",null,null,null," ",0," "," "," ",false,null,0,null,"voldoet"," "," "," "," ",null,"VOLDOET NIET?",0,0,0,"n.t.b.","  "," "," ",0,0,{"$error":"#VALUE!"},{"$error":"#VALUE!"},0,null,0,0," ",null," ",0,{"$f":"IF(AND(ISBLANK(#REF!)=FALSE,ISBLANK(L65)=FALSE),IF(H$18=\"ja\",1-IF(AND(H$18=\"ja\",AC65>IF(ISBLANK(AD65)=TRUE,1,AD65)),1-+BG65,1),0),0)","v":0}," ",0,0,null,null,{"$f":"IF(AND(ISBLANK(#REF!)=FALSE,ISBLANK(L65)=FALSE),1/(1+C65*Z$27/1000*0.000001),\" \")","v":" "},null,0,null,"nee",null,{"$f":"IF(AND(ISBLANK(A65)=FALSE,A65<>\" \"),IF('beschrijving lozing'!I$13=\"indirecte lozing\",1/(1+'resultaten immissietoets'!C65*60*0.000001)*(1-G65),1)*+'resultaten immissietoets'!H65,\" \")","v":" "}," "," "," "," ",{"$f":"MAX(IF(ISBLANK($H65)=FALSE,IF('beschrijving lozing'!I$13=\"indirecte lozing\",+$H$16*8760*3600*$H65/1000000*$BZ65*(BV$25-G65-BR65),+$H$16*8760*3600*$H65/1000000*$BZ65*(BV$25))),0)","v":0},null,{"$f":"IF(ISBLANK(A65)=FALSE,IF(ISBLANK($H65)=TRUE,0,+$H$16*8760*3600*$H65/1000000*$BZ65*10*AO65)*IF('beschrijving lozing'!I$13=\"indirecte lozing\",(1-'resultaten immissietoets'!BT65),1),0)","v":0},null,0,null,null,0,null,0,null,null,null,0,null,0,null,null,1]
[null,null,null,{"$f":"+D65","v":0},0,{"$error":"#DIV/0!"},null,null,null,null,null,null,0,0," ",0.1," "," ",null,null,null," ",0," "," "," ",false,null,0,null,"voldoet"," "," "," "," ",null,"VOLDOET NIET?",0,0,0,"n.t.b.","  "," "," ",0,0,{"$error":"#VALUE!"},{"$error":"#VALUE!"},0,null,0,0," ",null," ",0,{"$f":"IF(AND(ISBLANK(#REF!)=FALSE,ISBLANK(L66)=FALSE),IF(H$18=\"ja\",1-IF(AND(H$18=\"ja\",AC66>IF(ISBLANK(AD66)=TRUE,1,AD66)),1-+BG66,1),0),0)","v":0}," ",0,0,null,null,{"$f":"IF(AND(ISBLANK(#REF!)=FALSE,ISBLANK(L66)=FALSE),1/(1+C66*Z$27/1000*0.000001),\" \")","v":" "},null,0,null,"nee",null,{"$f":"IF(AND(ISBLANK(A66)=FALSE,A66<>\" \"),IF('beschrijving lozing'!I$13=\"indirecte lozing\",1/(1+'resultaten immissietoets'!C66*60*0.000001)*(1-G66),1)*+'resultaten immissietoets'!H66,\" \")","v":" "}," "," "," "," ",{"$f":"MAX(IF(ISBLANK($H66)=FALSE,IF('beschrijving lozing'!I$13=\"indirecte lozing\",+$H$16*8760*3600*$H66/1000000*$BZ66*(BV$25-G66-BR66),+$H$16*8760*3600*$H66/1000000*$BZ66*(BV$25))),0)","v":0},null,{"$f":"IF(ISBLANK(A66)=FALSE,IF(ISBLANK($H66)=TRUE,0,+$H$16*8760*3600*$H66/1000000*$BZ66*10*AO66)*IF('beschrijving lozing'!I$13=\"indirecte lozing\",(1-'resultaten immissietoets'!BT66),1),0)","v":0},null,0,null,null,0,null,0,null,null,null,0,null,0,null,null,1]
[null,null,null,{"$f":"+D66","v":0},0,{"$error":"#DIV/0!"},null,null,null,null,null,null,0,0," ",0.1," "," ",null,null,null," ",0," "," "," ",false,null,0,null,"voldoet"," "," "," "," ",null,"VOLDOET NIET?",0,0,0,"n.t.b.","  "," "," ",0,0,{"$error":"#VALUE!"},{"$error":"#VALUE!"},0,null,0,0," ",null," ",0,{"$f":"IF(AND(ISBLANK(#REF!)=FALSE,ISBLANK(L67)=FALSE),IF(H$18=\"ja\",1-IF(AND(H$18=\"ja\",AC67>IF(ISBLANK(AD67)=TRUE,1,AD67)),1-+BG67,1),0),0)","v":0}," ",0,0,null,null,{"$f":"IF(AND(ISBLANK(#REF!)=FALSE,ISBLANK(L67)=FALSE),1/(1+C67*Z$27/1000*0.000001),\" \")","v":" "},null,0,null,"nee",null,{"$f":"IF(AND(ISBLANK(A67)=FALSE,A67<>\" \"),IF('beschrijving lozing'!I$13=\"indirecte lozing\",1/(1+'resultaten immissietoets'!C67*60*0.000001)*(1-G67),1)*+'resultaten immissietoets'!H67,\" \")","v":" "}," "," "," "," ",{"$f":"MAX(IF(ISBLANK($H67)=FALSE,IF('beschrijving lozing'!I$13=\"indirecte lozing\",+$H$16*8760*3600*$H67/1000000*$BZ67*(BV$25-G67-BR67),+$H$16*8760*3600*$H67/1000000*$BZ67*(BV$25))),0)","v":0},null,{"$f":"IF(ISBLANK(A67)=FALSE,IF(ISBLANK($H67)=TRUE,0,+$H$16*8760*3600*$H67/1000000*$BZ67*10*AO67)*IF('beschrijving lozing'!I$13=\"indirecte lozing\",(1-'resultaten immissietoets'!BT67),1),0)","v":0},null,0,null,null,0,null,0,null,null,null,0,null,0,null,null,1]
[null,null,null,{"$f":"+D67","v":0},0,{"$error":"#DIV/0!"},null,null,null,null,null,null,0,0," ",0.1," "," ",null,null,null," ",0," "," "," ",false,null,0,null,"voldoet"," "," "," "," ",null,"VOLDOET NIET?",0,0,0,"n.t.b.","  "," "," ",0,0,{"$error":"#VALUE!"},{"$error":"#VALUE!"},0,null,0,0," ",null," ",0,{"$f":"IF(AND(ISBLANK(#REF!)=FALSE,ISBLANK(L68)=FALSE),IF(H$18=\"ja\",1-IF(AND(H$18=\"ja\",AC68>IF(ISBLANK(AD68)=TRUE,1,AD68)),1-+BG68,1),0),0)","v":0}," ",0,0,null,null,{"$f":"IF(AND(ISBLANK(#REF!)=FALSE,ISBLANK(L68)=FALSE),1/(1+C68*Z$27/1000*0.000001),\" \")","v":" "},null,0,null,"nee",null,{"$f":"IF(AND(ISBLANK(A68)=FALSE,A68<>\" \"),IF('beschrijving lozing'!I$13=\"indirecte lozing\",1/(1+'resultaten immissietoets'!C68*60*0.000001)*(1-G68),1)*+'resultaten immissietoets'!H68,\" \")","v":" "}," "," "," "," ",{"$f":"MAX(IF(ISBLANK($H68)=FALSE,IF('beschrijving lozing'!I$13=\"indirecte lozing\",+$H$16*8760*3600*$H68/1000000*$BZ68*(BV$25-G68-BR68),+$H$16*8760*3600*$H68/1000000*$BZ68*(BV$25))),0)","v":0},null,{"$f":"IF(ISBLANK(A68)=FALSE,IF(ISBLANK($H68)=TRUE,0,+$H$16*8760*3600*$H68/1000000*$BZ68*10*AO68)*IF('beschrijving lozing'!I$13=\"indirecte lozing\",(1-'resultaten immissietoets'!BT68),1),0)","v":0},null,0,null,null,0,null,0,null,null,null,0,null,0,null,null,1]
[null,null,null,{"$f":"+D68","v":0},0,{"$error":"#DIV/0!"},null,null,null,null,null,null,0,0," ",0.1," "," ",null,null,null," ",0," "," "," ",false,null,0,null,"voldoet"," "," "," "," ",null,"VOLDOET NIET?",0,0,0,"n.t.b.","  ",{"$f":"IF(OR(AE69=\"voldoet niet\",AK69=\"VOLDOET niet?\"),IF(OR(H$18=\"ja\",OR(ISBLANK(L69)=TRUE,ISBLANK(AD69)=TRUE)),CONCATENATE(\"Raadpleeg RIVM (via BG) voor (noodzaak) afleiding \",IF(AND(ISBLANK(L69)=TRUE,AA69<>\"VOLDOET\"),\" i-MKN\",\" \"),IF(AND(ISBLANK(AD69)=TRUE,AE69<>\"VOLDOET\"),IF(AND(ISBLANK(L69)=TRUE,AA69<>\"VOLDOET\"),\" en i-DW\",\"i-DW\"),\" \")),\" \"),\" \")","v":"Raadpleeg RIVM (via BG) voor (noodzaak) afleiding  i-MKN "},{"$f":"IF(OR(BO69=\"ja\",AO69=\"n.t.b\"),IF(AND(ISBLANK(L69)=TRUE,ISBLANK(AD69)=TRUE,BO69=\"ja\"),CONCATENATE(\"delta C-innamepunt: \",ROUND((AC69-AB69)/AB69*100,4),\" %\",\"; delta C-L-: \",IF(J69>0,ROUND(W69/J69*100,4),ROUND(W69,4)),IF(J69>0,\"%\",\" ug/l\")),IF(ISBLANK(L69)=TRUE,IF(OR(ISBLANK(J69)=TRUE,J69=0),CONCATENATE(\"delta C-L: \",ROUND(W69,4),\" ug/l\"),CONCATENATE(\"delta C-L: \",ROUND(+W69/J69*100,4),\" %\")),IF(ISBLANK(AD69)=TRUE,CONCATENATE(\"delta C-innamepunt: \",ROUND((AC69-AB69)/AB69*100,4),\"%\")))),\" \")","v":" "},0,0,{"$error":"#VALUE!"},{"$error":"#VALUE!"},0,null,0,0,{"$f":"IF(AND(ISBLANK(A69)=FALSE,ISBLANK(L69)=FALSE),IF(J69<N69,(1-+AZ69)*(H69),(1-AZ69)*H69),\" \")","v":" "},null," ",0,{"$f":"IF(AND(ISBLANK(#REF!)=FALSE,ISBLANK(L69)=FALSE),IF(H$18=\"ja\",1-IF(AND(H$18=\"ja\",AC69>IF(ISBLANK(AD69)=TRUE,1,AD69)),1-+BG69,1),0),0)","v":0}," ",0,0,null,null,{"$f":"IF(AND(ISBLANK(#REF!)=FALSE,ISBLANK(L69)=FALSE),1/(1+C69*Z$27/1000*0.000001),\" \")","v":" "},null,0,null,"nee",null,{"$f":"IF(AND(ISBLANK(A69)=FALSE,A69<>\" \"),IF('beschrijving lozing'!I$13=\"indirecte lozing\",1/(1+'resultaten immissietoets'!C69*60*0.000001)*(1-G69),1)*+'resultaten immissietoets'!H69,\" \")","v":" "}," "," "," "," ",{"$f":"MAX(IF(ISBLANK($H69)=FALSE,IF('beschrijving lozing'!I$13=\"indirecte lozing\",+$H$16*8760*3600*$H69/1000000*$BZ69*(BV$25-G69-BR69),+$H$16*8760*3600*$H69/1000000*$BZ69*(BV$25))),0)","v":0},null,{"$f":"IF(ISBLANK(A69)=FALSE,IF(ISBLANK($H69)=TRUE,0,+$H$16*8760*3600*$H69/1000000*$BZ69*10*AO69)*IF('beschrijving lozing'!I$13=\"indirecte lozing\",(1-'resultaten immissietoets'!BT69),1),0)","v":0},null,0,null,null,0,null,0,null,null,null,0,null,0,null,null,1]
[null,null,null,{"$f":"+D69","v":0},0,{"$error":"#DIV/0!"},null,null,null,null,null,null,0,0," ",0.1," "," ",null,null,null," ",0," "," "," ",false,null,0,null,"voldoet"," "," "," "," ",null,"VOLDOET NIET?",0,0,0,"n.t.b.","  ","Raadpleeg RIVM (via BG) voor (noodzaak) afleiding  i-MKN "," ",0,0,{"$error":"#VALUE!"},{"$error":"#VALUE!"},0,null,0,0," ",null," ",0,{"$f":"IF(AND(ISBLANK(#REF!)=FALSE,ISBLANK(L70)=FALSE),IF(H$18=\"ja\",1-IF(AND(H$18=\"ja\",AC70>IF(ISBLANK(AD70)=TRUE,1,AD70)),1-+BG70,1),0),0)","v":0}," ",0,0,null,null,{"$f":"IF(AND(ISBLANK(#REF!)=FALSE,ISBLANK(L70)=FALSE),1/(1+C70*Z$27/1000*0.000001),\" \")","v":" "},null,0,null,"nee",null,{"$f":"IF(AND(ISBLANK(A70)=FALSE,A70<>\" \"),IF('beschrijving lozing'!I$13=\"indirecte lozing\",1/(1+'resultaten immissietoets'!C70*60*0.000001)*(1-G70),1)*+'resultaten immissietoets'!H70,\" \")","v":" "}," "," "," "," ",{"$f":"MAX(IF(ISBLANK($H70)=FALSE,IF('beschrijving lozing'!I$13=\"indirecte lozing\",+$H$16*8760*3600*$H70/1000000*$BZ70*(BV$25-G70-BR70),+$H$16*8760*3600*$H70/1000000*$BZ70*(BV$25))),0)","v":0},null,{"$f":"IF(ISBLANK(A70)=FALSE,IF(ISBLANK($H70)=TRUE,0,+$H$16*8760*3600*$H70/1000000*$BZ70*10*AO70)*IF('beschrijving lozing'!I$13=\"indirecte lozing\",(1-'resultaten immissietoets'!BT70),1),0)","v":0},null,0,null,null,0,null,0,null,null,null,0,null,0,null,null,1]
[null,null,null,{"$f":"+D70","v":0},0,{"$error":"#DIV/0!"},null,null,null,null,null,null,0,0," ",0.1," "," ",null,null,null," ",0," "," "," ",false,null,0,null,"voldoet"," "," "," "," ",null,"VOLDOET NIET?",0,0,0,"n.t.b.","  ","Raadpleeg RIVM (via BG) voor (noodzaak) afleiding  i-MKN "," ",0,0,{"$error":"#VALUE!"},{"$error":"#VALUE!"},0,null,0,0," ",null," ",0,{"$f":"IF(AND(ISBLANK(#REF!)=FALSE,ISBLANK(L71)=FALSE),IF(H$18=\"ja\",1-IF(AND(H$18=\"ja\",AC71>IF(ISBLANK(AD71)=TRUE,1,AD71)),1-+BG71,1),0),0)","v":0}," ",0,0,null,null,{"$f":"IF(AND(ISBLANK(#REF!)=FALSE,ISBLANK(L71)=FALSE),1/(1+C71*Z$27/1000*0.000001),\" \")","v":" "},null,0,null,"nee",null,{"$f":"IF(AND(ISBLANK(A71)=FALSE,A71<>\" \"),IF('beschrijving lozing'!I$13=\"indirecte lozing\",1/(1+'resultaten immissietoets'!C71*60*0.000001)*(1-G71),1)*+'resultaten immissietoets'!H71,\" \")","v":" "}," "," "," "," ",{"$f":"MAX(IF(ISBLANK($H71)=FALSE,IF('beschrijving lozing'!I$13=\"indirecte lozing\",+$H$16*8760*3600*$H71/1000000*$BZ71*(BV$25-G71-BR71),+$H$16*8760*3600*$H71/1000000*$BZ71*(BV$25))),0)","v":0},null,{"$f":"IF(ISBLANK(A71)=FALSE,IF(ISBLANK($H71)=TRUE,0,+$H$16*8760*3600*$H71/1000000*$BZ71*10*AO71)*IF('beschrijving lozing'!I$13=\"indirecte lozing\",(1-'resultaten immissietoets'!BT71),1),0)","v":0},null,0,null,null,0,null,0,null,null,null,0,null,0,null,null,1]
[null,null,null,{"$f":"+D71","v":0},0,{"$error":"#DIV/0!"},null,null,null,null,null,null,0,0," ",0.1," "," ",null,null,null," ",0," "," "," ",false,null,0,null,"voldoet"," "," "," "," ",null,"VOLDOET NIET?",0,0,0,"n.t.b.","  ","Raadpleeg RIVM (via BG) voor (noodzaak) afleiding  i-MKN "," ",0,0,{"$error":"#VALUE!"},{"$error":"#VALUE!"},0,null,0,0," ",null," ",0,{"$f":"IF(AND(ISBLANK(#REF!)=FALSE,ISBLANK(L72)=FALSE),IF(H$18=\"ja\",1-IF(AND(H$18=\"ja\",AC72>IF(ISBLANK(AD72)=TRUE,1,AD72)),1-+BG72,1),0),0)","v":0}," ",0,0,null,null,{"$f":"IF(AND(ISBLANK(#REF!)=FALSE,ISBLANK(L72)=FALSE),1/(1+C72*Z$27/1000*0.000001),\" \")","v":" "},null,0,null,"nee",null,{"$f":"IF(AND(ISBLANK(A72)=FALSE,A72<>\" \"),IF('beschrijving lozing'!I$13=\"indirecte lozing\",1/(1+'resultaten immissietoets'!C72*60*0.000001)*(1-G72),1)*+'resultaten immissietoets'!H72,\" \")","v":" "}," "," "," "," ",{"$f":"MAX(IF(ISBLANK($H72)=FALSE,IF('beschrijving lozing'!I$13=\"indirecte lozing\",+$H$16*8760*3600*$H72/1000000*$BZ72*(BV$25-G72-BR72),+$H$16*8760*3600*$H72/1000000*$BZ72*(BV$25))),0)","v":0},null,{"$f":"IF(ISBLANK(A72)=FALSE,IF(ISBLANK($H72)=TRUE,0,+$H$16*8760*3600*$H72/1000000*$BZ72*10*AO72)*IF('beschrijving lozing'!I$13=\"indirecte lozing\",(1-'resultaten immissietoets'!BT72),1),0)","v":0},null,0,null,null,0,null,0,null,null,null,0,null,0,null,null,1]
[null,null,null,{"$f":"+D72","v":0},0,{"$error":"#DIV/0!"},null,null,null,null,null,null,0,0," ",0.1," "," ",null,null,null," ",0," "," "," ",false,null,0,null,"voldoet"," "," "," "," ",null,"VOLDOET NIET?",0,0,0,"n.t.b.","  ","Raadpleeg RIVM (via BG) voor (noodzaak) afleiding  i-MKN "," ",0,0,{"$error":"#VALUE!"},{"$error":"#VALUE!"},0,null,0,0," ",null," ",0,{"$f":"IF(AND(ISBLANK(#REF!)=FALSE,ISBLANK(L73)=FALSE),IF(H$18=\"ja\",1-IF(AND(H$18=\"ja\",AC73>IF(ISBLANK(AD73)=TRUE,1,AD73)),1-+BG73,1),0),0)","v":0}," ",0,0,null,null,{"$f":"IF(AND(ISBLANK(#REF!)=FALSE,ISBLANK(L73)=FALSE),1/(1+C73*Z$27/1000*0.000001),\" \")","v":" "},null,0,null,"nee",null,{"$f":"IF(AND(ISBLANK(A73)=FALSE,A73<>\" \"),IF('beschrijving lozing'!I$13=\"indirecte lozing\",1/(1+'resultaten immissietoets'!C73*60*0.000001)*(1-G73),1)*+'resultaten immissietoets'!H73,\" \")","v":" "}," "," "," "," ",{"$f":"MAX(IF(ISBLANK($H73)=FALSE,IF('beschrijving lozing'!I$13=\"indirecte lozing\",+$H$16*8760*3600*$H73/1000000*$BZ73*(BV$25-G73-BR73),+$H$16*8760*3600*$H73/1000000*$BZ73*(BV$25))),0)","v":0},null,{"$f":"IF(ISBLANK(A73)=FALSE,IF(ISBLANK($H73)=TRUE,0,+$H$16*8760*3600*$H73/1000000*$BZ73*10*AO73)*IF('beschrijving lozing'!I$13=\"indirecte lozing\",(1-'resultaten immissietoets'!BT73),1),0)","v":0},null,0,null,null,0,null,0,null,null,null,0,null,0,null,null,1]
[null,null,null,{"$f":"+D73","v":0},0,{"$error":"#DIV/0!"},null,null,null,null,null,null,0,0," ",0.1," "," ",null,null,null," ",0," "," "," ",false,null,0,null,"voldoet"," "," "," "," ",null,"VOLDOET NIET?",0,0,0,"n.t.b.","  ","Raadpleeg RIVM (via BG) voor (noodzaak) afleiding  i-MKN "," ",0,0,{"$error":"#VALUE!"},{"$error":"#VALUE!"},0,null,0,0," ",null," ",0,{"$f":"IF(AND(ISBLANK(#REF!)=FALSE,ISBLANK(L74)=FALSE),IF(H$18=\"ja\",1-IF(AND(H$18=\"ja\",AC74>IF(ISBLANK(AD74)=TRUE,1,AD74)),1-+BG74,1),0),0)","v":0}," ",0,0,null,null,{"$f":"IF(AND(ISBLANK(#REF!)=FALSE,ISBLANK(L74)=FALSE),1/(1+C74*Z$27/1000*0.000001),\" \")","v":" "},null,0,null,"nee",null,{"$f":"IF(AND(ISBLANK(A74)=FALSE,A74<>\" \"),IF('beschrijving lozing'!I$13=\"indirecte lozing\",1/(1+'resultaten immissietoets'!C74*60*0.000001)*(1-G74),1)*+'resultaten immissietoets'!H74,\" \")","v":" "}," "," "," "," ",{"$f":"MAX(IF(ISBLANK($H74)=FALSE,IF('beschrijving lozing'!I$13=\"indirecte lozing\",+$H$16*8760*3600*$H74/1000000*$BZ74*(BV$25-G74-BR74),+$H$16*8760*3600*$H74/1000000*$BZ74*(BV$25))),0)","v":0},null,{"$f":"IF(ISBLANK(A74)=FALSE,IF(ISBLANK($H74)=TRUE,0,+$H$16*8760*3600*$H74/1000000*$BZ74*10*AO74)*IF('beschrijving lozing'!I$13=\"indirecte lozing\",(1-'resultaten immissietoets'!BT74),1),0)","v":0},null,0,null,null,0,null,0,null,null,null,0,null,0,null,null,1]
[null,null,null,{"$f":"+D74","v":0},0,{"$error":"#DIV/0!"},null,null,null,null,null,null,0,0," ",0.1," "," ",null,null,null," ",0," "," "," ",false,null,0,null,"voldoet"," "," "," "," ",null,"VOLDOET NIET?",0,0,0,"n.t.b.","  ","Raadpleeg RIVM (via BG) voor (noodzaak) afleiding  i-MKN "," ",0,0,{"$error":"#VALUE!"},{"$error":"#VALUE!"},0,null,0,0," ",null," ",0,{"$f":"IF(AND(ISBLANK(#REF!)=FALSE,ISBLANK(L75)=FALSE),IF(H$18=\"ja\",1-IF(AND(H$18=\"ja\",AC75>IF(ISBLANK(AD75)=TRUE,1,AD75)),1-+BG75,1),0),0)","v":0}," ",0,0,null,null,{"$f":"IF(AND(ISBLANK(#REF!)=FALSE,ISBLANK(L75)=FALSE),1/(1+C75*Z$27/1000*0.000001),\" \")","v":" "},null,0,null,"nee",null,{"$f":"IF(AND(ISBLANK(A75)=FALSE,A75<>\" \"),IF('beschrijving lozing'!I$13=\"indirecte lozing\",1/(1+'resultaten immissietoets'!C75*60*0.000001)*(1-G75),1)*+'resultaten immissietoets'!H75,\" \")","v":" "}," "," "," "," ",{"$f":"MAX(IF(ISBLANK($H75)=FALSE,IF('beschrijving lozing'!I$13=\"indirecte lozing\",+$H$16*8760*3600*$H75/1000000*$BZ75*(BV$25-G75-BR75),+$H$16*8760*3600*$H75/1000000*$BZ75*(BV$25))),0)","v":0},null,{"$f":"IF(ISBLANK(A75)=FALSE,IF(ISBLANK($H75)=TRUE,0,+$H$16*8760*3600*$H75/1000000*$BZ75*10*AO75)*IF('beschrijving lozing'!I$13=\"indirecte lozing\",(1-'resultaten immissietoets'!BT75),1),0)","v":0},null,0,null,null,0,null,0,null,null,null,0,null,0,null,null,1]
[null,null,null,{"$f":"+D75","v":0},0,{"$error":"#DIV/0!"},null,null,null,null,null,null,0,0," ",0.1," "," ",null,null,null," ",0," "," "," ",false,null,0,null,"voldoet"," "," "," "," ",null,"VOLDOET NIET?",0,0,0,"n.t.b.","  ","Raadpleeg RIVM (via BG) voor (noodzaak) afleiding  i-MKN "," ",0,0,{"$error":"#VALUE!"},{"$error":"#VALUE!"},0,null,0,0," ",null," ",0,{"$f":"IF(AND(ISBLANK(#REF!)=FALSE,ISBLANK(L76)=FALSE),IF(H$18=\"ja\",1-IF(AND(H$18=\"ja\",AC76>IF(ISBLANK(AD76)=TRUE,1,AD76)),1-+BG76,1),0),0)","v":0}," ",0,0,null,null,{"$f":"IF(AND(ISBLANK(#REF!)=FALSE,ISBLANK(L76)=FALSE),1/(1+C76*Z$27/1000*0.000001),\" \")","v":" "},null,0,null,"nee",null,{"$f":"IF(AND(ISBLANK(A76)=FALSE,A76<>\" \"),IF('beschrijving lozing'!I$13=\"indirecte lozing\",1/(1+'resultaten immissietoets'!C76*60*0.000001)*(1-G76),1)*+'resultaten immissietoets'!H76,\" \")","v":" "}," "," "," "," ",{"$f":"MAX(IF(ISBLANK($H76)=FALSE,IF('beschrijving lozing'!I$13=\"indirecte lozing\",+$H$16*8760*3600*$H76/1000000*$BZ76*(BV$25-G76-BR76),+$H$16*8760*3600*$H76/1000000*$BZ76*(BV$25))),0)","v":0},null,{"$f":"IF(ISBLANK(A76)=FALSE,IF(ISBLANK($H76)=TRUE,0,+$H$16*8760*3600*$H76/1000000*$BZ76*10*AO76)*IF('beschrijving lozing'!I$13=\"indirecte lozing\",(1-'resultaten immissietoets'!BT76),1),0)","v":0},null,0,null,null,0,null,0,null,null,null,0,null,0,null,null,1]
[null,null,null,{"$f":"+D76","v":0},0,{"$error":"#DIV/0!"},null,null,null,null,null,null,0,0," ",0.1," "," ",null,null,null," ",0," "," "," ",false,null,0,null,"voldoet"," "," "," "," ",null,"VOLDOET NIET?",0,0,0,"n.t.b.","  ","Raadpleeg RIVM (via BG) voor (noodzaak) afleiding  i-MKN "," ",0,0,{"$error":"#VALUE!"},{"$error":"#VALUE!"},0,null,0,0," ",null," ",0,{"$f":"IF(AND(ISBLANK(#REF!)=FALSE,ISBLANK(L77)=FALSE),IF(H$18=\"ja\",1-IF(AND(H$18=\"ja\",AC77>IF(ISBLANK(AD77)=TRUE,1,AD77)),1-+BG77,1),0),0)","v":0}," ",0,0,null,null,{"$f":"IF(AND(ISBLANK(#REF!)=FALSE,ISBLANK(L77)=FALSE),1/(1+C77*Z$27/1000*0.000001),\" \")","v":" "},null,0,null,"nee",null,{"$f":"IF(AND(ISBLANK(A77)=FALSE,A77<>\" \"),IF('beschrijving lozing'!I$13=\"indirecte lozing\",1/(1+'resultaten immissietoets'!C77*60*0.000001)*(1-G77),1)*+'resultaten immissietoets'!H77,\" \")","v":" "}," "," "," "," ",{"$f":"MAX(IF(ISBLANK($H77)=FALSE,IF('beschrijving lozing'!I$13=\"indirecte lozing\",+$H$16*8760*3600*$H77/1000000*$BZ77*(BV$25-G77-BR77),+$H$16*8760*3600*$H77/1000000*$BZ77*(BV$25))),0)","v":0},null,{"$f":"IF(ISBLANK(A77)=FALSE,IF(ISBLANK($H77)=TRUE,0,+$H$16*8760*3600*$H77/1000000*$BZ77*10*AO77)*IF('beschrijving lozing'!I$13=\"indirecte lozing\",(1-'resultaten immissietoets'!BT77),1),0)","v":0},null,0,null,null,0,null,0,null,null,null,0,null,0,null,null,1]
[null,null,null,{"$f":"+D77","v":0},0,{"$error":"#DIV/0!"},null,null,null,null,null,null,0,0," ",0.1," "," ",null,null,null," ",0," "," "," ",false,null,0,null,"voldoet"," "," "," "," ",null,"VOLDOET NIET?",0,0,0,"n.t.b.","  ","Raadpleeg RIVM (via BG) voor (noodzaak) afleiding  i-MKN "," ",0,0,{"$error":"#VALUE!"},{"$error":"#VALUE!"},0,null,0,0," ",null," ",0,{"$f":"IF(AND(ISBLANK(#REF!)=FALSE,ISBLANK(L78)=FALSE),IF(H$18=\"ja\",1-IF(AND(H$18=\"ja\",AC78>IF(ISBLANK(AD78)=TRUE,1,AD78)),1-+BG78,1),0),0)","v":0}," ",0,0,null,null,{"$f":"IF(AND(ISBLANK(#REF!)=FALSE,ISBLANK(L78)=FALSE),1/(1+C78*Z$27/1000*0.000001),\" \")","v":" "},null,0,null,"nee",null,{"$f":"IF(AND(ISBLANK(A78)=FALSE,A78<>\" \"),IF('beschrijving lozing'!I$13=\"indirecte lozing\",1/(1+'resultaten immissietoets'!C78*60*0.000001)*(1-G78),1)*+'resultaten immissietoets'!H78,\" \")","v":" "}," "," "," "," ",{"$f":"MAX(IF(ISBLANK($H78)=FALSE,IF('beschrijving lozing'!I$13=\"indirecte lozing\",+$H$16*8760*3600*$H78/1000000*$BZ78*(BV$25-G78-BR78),+$H$16*8760*3600*$H78/1000000*$BZ78*(BV$25))),0)","v":0},null,{"$f":"IF(ISBLANK(A78)=FALSE,IF(ISBLANK($H78)=TRUE,0,+$H$16*8760*3600*$H78/1000000*$BZ78*10*AO78)*IF('beschrijving lozing'!I$13=\"indirecte lozing\",(1-'resultaten immissietoets'!BT78),1),0)","v":0},null,0,null,null,0,null,0,null,null,null,0,null,0,null,null,1]
[null,null,null,{"$f":"+D78","v":0},0,{"$error":"#DIV/0!"},null,null,null,null,null,null,0,0," ",0.1," "," ",null,null,null," ",0," "," "," ",false,null,0,null,"voldoet"," "," "," "," ",null,"VOLDOET NIET?",0,0,0,"n.t.b.","  ","Raadpleeg RIVM (via BG) voor (noodzaak) afleiding  i-MKN "," ",0,0,{"$error":"#VALUE!"},{"$error":"#VALUE!"},0,null,0,0," ",null," ",0,{"$f":"IF(AND(ISBLANK(#REF!)=FALSE,ISBLANK(L79)=FALSE),IF(H$18=\"ja\",1-IF(AND(H$18=\"ja\",AC79>IF(ISBLANK(AD79)=TRUE,1,AD79)),1-+BG79,1),0),0)","v":0}," ",0,0,null,null,{"$f":"IF(AND(ISBLANK(#REF!)=FALSE,ISBLANK(L79)=FALSE),1/(1+C79*Z$27/1000*0.000001),\" \")","v":" "},null,0,null,"nee",null,{"$f":"IF(AND(ISBLANK(A79)=FALSE,A79<>\" \"),IF('beschrijving lozing'!I$13=\"indirecte lozing\",1/(1+'resultaten immissietoets'!C79*60*0.000001)*(1-G79),1)*+'resultaten immissietoets'!H79,\" \")","v":" "}," "," "," "," ",{"$f":"MAX(IF(ISBLANK($H79)=FALSE,IF('beschrijving lozing'!I$13=\"indirecte lozing\",+$H$16*8760*3600*$H79/1000000*$BZ79*(BV$25-G79-BR79),+$H$16*8760*3600*$H79/1000000*$BZ79*(BV$25))),0)","v":0},null,{"$f":"IF(ISBLANK(A79)=FALSE,IF(ISBLANK($H79)=TRUE,0,+$H$16*8760*3600*$H79/1000000*$BZ79*10*AO79)*IF('beschrijving lozing'!I$13=\"indirecte lozing\",(1-'resultaten immissietoets'!BT79),1),0)","v":0},null,0,null,null,0,null,0,null,null,null,0,null,0,null,null,1]
[null,null,null,{"$f":"+D79","v":0},0,{"$error":"#DIV/0!"},null,null,null,null,null,null,0,0," ",0.1," "," ",null,null,null," ",0," "," "," ",false,null,0,null,"voldoet"," "," "," "," ",null,"VOLDOET NIET?",0,0,0,"n.t.b.","  ","Raadpleeg RIVM (via BG) voor (noodzaak) afleiding  i-MKN "," ",0,0,{"$error":"#VALUE!"},{"$error":"#VALUE!"},0,null,0,0," ",null," ",0,{"$f":"IF(AND(ISBLANK(#REF!)=FALSE,ISBLANK(L80)=FALSE),IF(H$18=\"ja\",1-IF(AND(H$18=\"ja\",AC80>IF(ISBLANK(AD80)=TRUE,1,AD80)),1-+BG80,1),0),0)","v":0}," ",0,0,null,null,{"$f":"IF(AND(ISBLANK(#REF!)=FALSE,ISBLANK(L80)=FALSE),1/(1+C80*Z$27/1000*0.000001),\" \")","v":" "},null,0,null,"nee",null,{"$f":"IF(AND(ISBLANK(A80)=FALSE,A80<>\" \"),IF('beschrijving lozing'!I$13=\"indirecte lozing\",1/(1+'resultaten immissietoets'!C80*60*0.000001)*(1-G80),1)*+'resultaten immissietoets'!H80,\" \")","v":" "}," "," "," "," ",{"$f":"MAX(IF(ISBLANK($H80)=FALSE,IF('beschrijving lozing'!I$13=\"indirecte lozing\",+$H$16*8760*3600*$H80/1000000*$BZ80*(BV$25-G80-BR80),+$H$16*8760*3600*$H80/1000000*$BZ80*(BV$25))),0)","v":0},null,{"$f":"IF(ISBLANK(A80)=FALSE,IF(ISBLANK($H80)=TRUE,0,+$H$16*8760*3600*$H80/1000000*$BZ80*10*AO80)*IF('beschrijving lozing'!I$13=\"indirecte lozing\",(1-'resultaten immissietoets'!BT80),1),0)","v":0},null,0,null,null,0,null,0,null,null,null,0,null,0,null,null,1]
[null,null,null,{"$f":"+D80","v":0},0,{"$error":"#DIV/0!"},null,null,null,null,null,null,0,0," ",0.1," "," ",null,null,null," ",0," "," "," ",false,null,0,null,"voldoet"," "," "," "," ",null,"VOLDOET NIET?",0,0,0,"n.t.b.","  ","Raadpleeg RIVM (via BG) voor (noodzaak) afleiding  i-MKN "," ",0,0,{"$error":"#VALUE!"},{"$error":"#VALUE!"},0,null,0,0," ",null," ",0,{"$f":"IF(AND(ISBLANK(#REF!)=FALSE,ISBLANK(L81)=FALSE),IF(H$18=\"ja\",1-IF(AND(H$18=\"ja\",AC81>IF(ISBLANK(AD81)=TRUE,1,AD81)),1-+BG81,1),0),0)","v":0}," ",0,0,null,null,{"$f":"IF(AND(ISBLANK(#REF!)=FALSE,ISBLANK(L81)=FALSE),1/(1+C81*Z$27/1000*0.000001),\" \")","v":" "},null,0,null,"nee",null,{"$f":"IF(AND(ISBLANK(A81)=FALSE,A81<>\" \"),IF('beschrijving lozing'!I$13=\"indirecte lozing\",1/(1+'resultaten immissietoets'!C81*60*0.000001)*(1-G81),1)*+'resultaten immissietoets'!H81,\" \")","v":" "}," "," "," "," ",{"$f":"MAX(IF(ISBLANK($H81)=FALSE,IF('beschrijving lozing'!I$13=\"indirecte lozing\",+$H$16*8760*3600*$H81/1000000*$BZ81*(BV$25-G81-BR81),+$H$16*8760*3600*$H81/1000000*$BZ81*(BV$25))),0)","v":0},null,{"$f":"IF(ISBLANK(A81)=FALSE,IF(ISBLANK($H81)=TRUE,0,+$H$16*8760*3600*$H81/1000000*$BZ81*10*AO81)*IF('beschrijving lozing'!I$13=\"indirecte lozing\",(1-'resultaten immissietoets'!BT81),1),0)","v":0},null,0,null,null,0,null,0,null,null,null,0,null,0,null,null,1]
[null,null,null,{"$f":"+D81","v":0},0,{"$error":"#DIV/0!"},null,null,null,null,null,null,0,0," ",0.1," "," ",null,null,null," ",0," "," "," ",false,null,0,null,"voldoet"," "," "," "," ",null,"VOLDOET NIET?",0,0,0,"n.t.b.","  ","Raadpleeg RIVM (via BG) voor (noodzaak) afleiding  i-MKN "," ",0,0,{"$error":"#VALUE!"},{"$error":"#VALUE!"},0,null,0,0," ",null," ",0,{"$f":"IF(AND(ISBLANK(#REF!)=FALSE,ISBLANK(L82)=FALSE),IF(H$18=\"ja\",1-IF(AND(H$18=\"ja\",AC82>IF(ISBLANK(AD82)=TRUE,1,AD82)),1-+BG82,1),0),0)","v":0}," ",0,0,null,null,{"$f":"IF(AND(ISBLANK(#REF!)=FALSE,ISBLANK(L82)=FALSE),1/(1+C82*Z$27/1000*0.000001),\" \")","v":" "},null,0,null,"nee",null,{"$f":"IF(AND(ISBLANK(A82)=FALSE,A82<>\" \"),IF('beschrijving lozing'!I$13=\"indirecte lozing\",1/(1+'resultaten immissietoets'!C82*60*0.000001)*(1-G82),1)*+'resultaten immissietoets'!H82,\" \")","v":" "}," "," "," "," ",{"$f":"MAX(IF(ISBLANK($H82)=FALSE,IF('beschrijving lozing'!I$13=\"indirecte lozing\",+$H$16*8760*3600*$H82/1000000*$BZ82*(BV$25-G82-BR82),+$H$16*8760*3600*$H82/1000000*$BZ82*(BV$25))),0)","v":0},null,{"$f":"IF(ISBLANK(A82)=FALSE,IF(ISBLANK($H82)=TRUE,0,+$H$16*8760*3600*$H82/1000000*$BZ82*10*AO82)*IF('beschrijving lozing'!I$13=\"indirecte lozing\",(1-'resultaten immissietoets'!BT82),1),0)","v":0},null,0,null,null,0,null,0,null,null,null,0,null,0,null,null,1]
[null,null,null,{"$f":"+D82","v":0},0,{"$error":"#DIV/0!"},null,null,null,null,null,null,0,0," ",0.1," "," ",null,null,null," ",0," "," "," ",false,null,0,null,"voldoet"," "," "," "," ",null,"VOLDOET NIET?",0,0,0,"n.t.b.","  ","Raadpleeg RIVM (via BG) voor (noodzaak) afleiding  i-MKN "," ",0,0,{"$error":"#VALUE!"},{"$error":"#VALUE!"},0,null,0,0," ",null," ",0,{"$f":"IF(AND(ISBLANK(#REF!)=FALSE,ISBLANK(L83)=FALSE),IF(H$18=\"ja\",1-IF(AND(H$18=\"ja\",AC83>IF(ISBLANK(AD83)=TRUE,1,AD83)),1-+BG83,1),0),0)","v":0}," ",0,0,null,null,{"$f":"IF(AND(ISBLANK(#REF!)=FALSE,ISBLANK(L83)=FALSE),1/(1+C83*Z$27/1000*0.000001),\" \")","v":" "},null,0,null,"nee",null,{"$f":"IF(AND(ISBLANK(A83)=FALSE,A83<>\" \"),IF('beschrijving lozing'!I$13=\"indirecte lozing\",1/(1+'resultaten immissietoets'!C83*60*0.000001)*(1-G83),1)*+'resultaten immissietoets'!H83,\" \")","v":" "}," "," "," "," ",{"$f":"MAX(IF(ISBLANK($H83)=FALSE,IF('beschrijving lozing'!I$13=\"indirecte lozing\",+$H$16*8760*3600*$H83/1000000*$BZ83*(BV$25-G83-BR83),+$H$16*8760*3600*$H83/1000000*$BZ83*(BV$25))),0)","v":0},null,{"$f":"IF(ISBLANK(A83)=FALSE,IF(ISBLANK($H83)=TRUE,0,+$H$16*8760*3600*$H83/1000000*$BZ83*10*AO83)*IF('beschrijving lozing'!I$13=\"indirecte lozing\",(1-'resultaten immissietoets'!BT83),1),0)","v":0},null,0,null,null,0,null,0,null,null,null,0,null,0,null,null,1]
[null,null,null,{"$f":"+D83","v":0},0,{"$error":"#DIV/0!"},null,null,null,null,null,null,0,0," ",0.1," "," ",null,null,null," ",0," "," "," ",false,null,0,null,"voldoet"," "," "," "," ",null,"VOLDOET NIET?",0,0,0,"n.t.b.","  ","Raadpleeg RIVM (via BG) voor (noodzaak) afleiding  i-MKN "," ",0,0,{"$error":"#VALUE!"},{"$error":"#VALUE!"},0,null,0,0," ",null," ",0,{"$f":"IF(AND(ISBLANK(#REF!)=FALSE,ISBLANK(L84)=FALSE),IF(H$18=\"ja\",1-IF(AND(H$18=\"ja\",AC84>IF(ISBLANK(AD84)=TRUE,1,AD84)),1-+BG84,1),0),0)","v":0}," ",0,0,null,null,{"$f":"IF(AND(ISBLANK(#REF!)=FALSE,ISBLANK(L84)=FALSE),1/(1+C84*Z$27/1000*0.000001),\" \")","v":" "},null,0,null,"nee",null,{"$f":"IF(AND(ISBLANK(A84)=FALSE,A84<>\" \"),IF('beschrijving lozing'!I$13=\"indirecte lozing\",1/(1+'resultaten immissietoets'!C84*60*0.000001)*(1-G84),1)*+'resultaten immissietoets'!H84,\" \")","v":" "}," "," "," "," ",{"$f":"MAX(IF(ISBLANK($H84)=FALSE,IF('beschrijving lozing'!I$13=\"indirecte lozing\",+$H$16*8760*3600*$H84/1000000*$BZ84*(BV$25-G84-BR84),+$H$16*8760*3600*$H84/1000000*$BZ84*(BV$25))),0)","v":0},null,{"$f":"IF(ISBLANK(A84)=FALSE,IF(ISBLANK($H84)=TRUE,0,+$H$16*8760*3600*$H84/1000000*$BZ84*10*AO84)*IF('beschrijving lozing'!I$13=\"indirecte lozing\",(1-'resultaten immissietoets'!BT84),1),0)","v":0},null,0,null,null,0,null,0,null,null,null,0,null,0,null,null,1]
[null,null,null,{"$f":"IF(ISBLANK(A85)=TRUE,\" \",IF($AH$25=\"nee\",$M$40,(G85+H$34)/(H$33+H$34)*J$40))","v":" "},{"$f":"IF(ISBLANK(A85)=TRUE,\" \",IF($AH$25=\"nee\",$M$41,(G85+H$34)/(H$33+H$34)*J$41))","v":" "},{"$f":"IF(ISBLANK(A85)=TRUE,\" \",IF(AF$25=\"ja\",(H$34+G85)/H$34,(H$34+#REF!)/H$34))","v":" "},null,"gemiddelde lozing",null,null,null,null,null,null,null,null,null,null,null,null,null,null,null,null,null,null,null,null,null,null,null,null,null,null,null,null,{"$f":"IF(ISBLANK(A85)=FALSE,IF(AND(OR(ISBLANK(L85)=TRUE,AND(ISBLANK(AD85)=TRUE,AC85>1)),OR(AA85=\"VODOET\",AA85=\" \")),\"VOLDOET NIET?\",IF(ISBLANK(A85)=FALSE,IF(J85<L85,IF(OR(AA85=\"voldoet niet!\",AI85=\"voldoet niet!\"),\"VOLDOET NIET!\",\"VOLDOET\"),IF(AND(X85<=0.1,AI85=\"VOLDOET\"),\"VOLDOET\",\"VOLDOET NIET!\")),\" \")),\" \")","v":" "},null,null,null,null,{"$f":"CONCATENATE(IF(X85>0.1,\"sign.-toets; \",\"\"),IF(AND(J85<N85,Z85>N85),\"normtoets; \",\"\"),IF(AND(J85>N85,AF85-J85>O85),\"KRW-toets; \",\"\"),IF(AND(J85<N85,AF85>N85),\"KRW-toets; \",IF(AND(AC85>AD85,H$18=\"ja\"),IF(ISBLANK(AD85)=FALSE,\"drinkwatertoets\",IF(AC85>1,\"drinkwatertoets\",\"\")))))","v":"ONWAAR"},null,null,{"$f":"IF(AND(ISBLANK(A85)=FALSE,ISBLANK(L85)=FALSE),IF(X85<0.1,0,IF(J85>=N85,IF(AF85-N85>R85,1-(J85+J$24*R85/H85),0),IF(X85>0.1,1-0.1/X85,0)))*(H85-J85)/H85,0)","v":0},{"$f":"IF(AND(ISBLANK(A85)=FALSE,ISBLANK(L85)=FALSE),IF(+J85>N85,+BC85,0),\" \")","v":" "},{"$f":"IF(AND(ISBLANK(C85)=FALSE,ISBLANK(L85)=FALSE),IF(AND(AF85>N85,+J85<N85),1-O85/(AF85-J85),0)*(H85-J85)/H85,\" \")","v":" "},null,{"$f":"IF(AND(ISBLANK(A85)=FALSE,ISBLANK(L85)=FALSE),IF(+H$18=\"ja\",IF(ISBLANK(AD85)=TRUE,IF(AC85>1,+BG85,0),IF(AND(AC85>AD85,H85>AB85),1-AB85/H85,0)),0),0)","v":0},null,{"$f":"IF(AND(ISBLANK(A85)=FALSE,ISBLANK(L85)=FALSE),IF(AND(Z85>N85,J85<N85),(+Z85-+N85)/N85,0),\" \")","v":" "},{"$f":"IF(AND(ISBLANK(A85)=FALSE,ISBLANK(L85)=FALSE),IF(+Z85>N85,IF(J85>N85,1-(AF85-J85-O85)/(AF85-J85),(J85+(N85-J85)*J$22/BK85)/(H85)),0),\" \")","v":" "},{"$f":"IF(AND(ISBLANK(A85)=FALSE,ISBLANK(L85)=FALSE),IF(J85<N85,+AZ85*(H85),AZ85*(H85-J85)+J85),\" \")","v":" "},null,{"$f":"IF(AND(ISBLANK(A85)=FALSE,ISBLANK(L85)=FALSE),IF(AF85>N85,IF(AND(J85>N85,AF85-J85<=R85),0,1-BA85/+H85),0),\" \")","v":" "},{"$f":"IF(AND(ISBLANK(A85)=FALSE,ISBLANK(L85)=FALSE),IF(AND(BE85>1,ISBLANK(AD85)=TRUE,AO85=1),1,0),\" \")","v":" "},{"$f":"IF(AND(ISBLANK(A85)=FALSE,ISBLANK(L85)=FALSE),1-IF(AC85>IF(ISBLANK(AD85)=TRUE,1,AD85),(1-AB85)/(AC85-AB85),1),\" \")","v":" "}," ",{"$f":"1-((1-BE85)*H85+BE85*J85)/H85","v":{"$error":"#VALUE!"}},{"$f":"IF(AND(ISBLANK(A85)=FALSE,ISBLANK(L85)=FALSE),IF(AD85>AC85,0,(AC85-IF(ISBLANK(AD85)=TRUE,1,AD85))/IF(ISBLANK(AD85)=TRUE,1,AD85)-1),\" \")","v":" "},null,null,{"$f":"IF(AND(ISBLANK(A85)=FALSE,ISBLANK(L85)=FALSE),1/(1+C85*Z$27*0.000001),\" \")","v":" "}]
[null,null,null," "," ",{"$f":"IF(ISBLANK(A86)=TRUE,\" \",IF(AF$25=\"ja\",(H$34+G86)/H$34,(H$34+#REF!)/H$34))","v":" "},null,null,null,null,null,null,{"$f":"IF(AG$8=\"ja\",L86+I86,L86)","v":0},{"$f":"+M86","v":0},{"$f":"IF(AND($D86<>\"\",ISBLANK(L86)<>TRUE),IF(ROUNDDOWN($N86,4)-ROUNDDOWN($N86,3)>0,0.0001,IF(ROUNDDOWN($N86,3)-ROUNDDOWN($N86,2)>0,0.001,IF(ROUNDDOWN($N86,2)-ROUNDDOWN($N86,1)>0,0.01,IF(ROUNDDOWN($N86,1)-ROUNDDOWN(L86,0)>0,0.1,1)))),\"\")","v":""},null,null,null,null,null,null,{"$f":"IF(AND(+H86<>\" \",ISBLANK(T86)<>TRUE),IF(+J86+(H86-J86)/E86*IF(+X$41=\"ja\",1/(1+C86*(AG$30+W$46*D86/E86)*0.000001),1)>U86,\"JA\",\"NEE\"),\" \")","v":" "},{"$f":"IF(+H86<>\" \",IF(AND(+H86>0,L86>0),(H86-J86)/D86,\" \"),\" \")*IF(+X$41=\"ja\",1/(1+C86*(AG$30+W$46)*0.000001),1)","v":{"$error":"#VALUE!"}},{"$f":"IF(AND(L86>0,H86>0),+W86/M86,\" \")","v":" "},{"$f":"IF(+H86<>\" \",IF(AND(+H86>0,L86>0),W86/L86,\" \"),\" \")","v":" "},{"$f":"IF(H86<>\" \",IF(AND(H86>0,L86>0),+J86+W86,\" \"),\" \")","v":" "},{"$f":"IF(ISBLANK(A86)<>TRUE,IF(AND(H86>0,L86>0),IF(IF(H$35=\"nieuw\",AND(Z86<N86,+X86<=0.1),X86<=0.1),\"VOLDOET\",\"VOLDOET NIET!\"),\" \"),\" \")","v":" "},null,{"$f":"IF(ISBLANK(A86)=FALSE,(H86-J86)/+H$38+J86,\" \")","v":" "},null,null,{"$f":"IF(ISBLANK(A86)<>TRUE,IF(AND(H86>0,L86>0),(H86-J86)/F86,\" \"),\" \")*IF(X$41=\"ja\",1/(1+C86*(AG$30+W$46)*0.000001),1)+J86","v":{"$error":"#VALUE!"}},{"$f":"IF(+ISBLANK($D86)<>TRUE,IF(AND(+$J86>0,$O86>0),IF(+AF86>M86,\"JA\",\"NEE\"),\" \"),\" \")","v":" "},{"$f":"IF(+ISBLANK($D86)<>TRUE,IF(AND(+$J86>0,$N86>0),IF(+AF86-J86>O86,\"JA\",\"NEE\"),\" \"),\" \")","v":" "},{"$f":"IF(ISBLANK(A86)<>TRUE,IF(AND(H86>0,M86>0),IF(AND(AG86=\"NEE\",J86<M86),\"VOLDOET\",IF(AND(+J86>=M86,(AF86-J86)<=O86),\"VOLDOET\",\"VOLDOET NIET!\")),\" \"),\" \")","v":" "},null," ",null,null,null,null,{"$error":"#VALUE!"},null,null,0," "," ",null,0,null," ",{"$f":"IF(AND(ISBLANK(A86)=FALSE,ISBLANK(L86)=FALSE),IF(+Z86>N86,IF(J86>N86,1-(AF86-J86-O86)/(AF86-J86),(J86+(N86-J86)*J$22/BK86)/(H86)),0),\" \")","v":" "}," ",null," ",{"$f":"IF(AND(ISBLANK(A86)=FALSE,ISBLANK(L86)=FALSE),IF(AND(BE86>1,ISBLANK(AD86)=TRUE,AO86=1),1,0),\" \")","v":" "},{"$f":"IF(AND(ISBLANK(A86)=FALSE,ISBLANK(L86)=FALSE),1-IF(AC86>IF(ISBLANK(AD86)=TRUE,1,AD86),(1-AB86)/(AC86-AB86),1),\" \")","v":" "}," ",{"$f":"1-((1-BE86)*H86+BE86*J86)/H86","v":{"$error":"#VALUE!"}}," ",null,null," "]
[null,null,null," "," ",{"$f":"IF(ISBLANK(A87)=TRUE,\" \",IF(AF$25=\"ja\",(H$34+G87)/H$34,(H$34+#REF!)/H$34))","v":" "},null,null,null,null,null,null,0,0,"",null,null,null,null,null,null,{"$f":"IF(AND(+H87<>\" \",ISBLANK(T87)<>TRUE),IF(+J87+(H87-J87)/E87*IF(+X$41=\"ja\",1/(1+C87*(AG$30+W$46*D87/E87)*0.000001),1)>U87,\"JA\",\"NEE\"),\" \")","v":" "},{"$f":"IF(+H87<>\" \",IF(AND(+H87>0,L87>0),(H87-J87)/D87,\" \"),\" \")*IF(+X$41=\"ja\",1/(1+C87*(AG$30+W$46)*0.000001),1)","v":{"$error":"#VALUE!"}}," "," "," ",{"$f":"IF(ISBLANK(A87)<>TRUE,IF(AND(H87>0,L87>0),IF(IF(H$35=\"nieuw\",AND(Z87<N87,+X87<=0.1),X87<=0.1),\"VOLDOET\",\"VOLDOET NIET!\"),\" \"),\" \")","v":" "},null," ",null,null,{"$f":"IF(ISBLANK(A87)<>TRUE,IF(AND(H87>0,L87>0),(H87-J87)/F87,\" \"),\" \")*IF(X$41=\"ja\",1/(1+C87*(AG$30+W$46)*0.000001),1)+J87","v":{"$error":"#VALUE!"}}," "," "," ",null," ",null,null,null,null,{"$error":"#VALUE!"},null,null,0," "," ",null,0,null," ",{"$f":"IF(AND(ISBLANK(A87)=FALSE,ISBLANK(L87)=FALSE),IF(+Z87>N87,IF(J87>N87,1-(AF87-J87-O87)/(AF87-J87),(J87+(N87-J87)*J$22/BK87)/(H87)),0),\" \")","v":" "}," ",null," ",{"$f":"IF(AND(ISBLANK(A87)=FALSE,ISBLANK(L87)=FALSE),IF(AND(BE87>1,ISBLANK(AD87)=TRUE,AO87=1),1,0),\" \")","v":" "},{"$f":"IF(AND(ISBLANK(A87)=FALSE,ISBLANK(L87)=FALSE),1-IF(AC87>IF(ISBLANK(AD87)=TRUE,1,AD87),(1-AB87)/(AC87-AB87),1),\" \")","v":" "}," ",{"$f":"1-((1-BE87)*H87+BE87*J87)/H87","v":{"$error":"#VALUE!"}}," ",null,null," "]
[null,null,null," "," ",{"$f":"IF(ISBLANK(A88)=TRUE,\" \",IF(AF$25=\"ja\",(H$34+G88)/H$34,(H$34+#REF!)/H$34))","v":" "},null,null,null,null,null,null,0,0,"",null,null,null,null,null,null,{"$f":"IF(AND(+H88<>\" \",ISBLANK(T88)<>TRUE),IF(+J88+(H88-J88)/E88*IF(+X$41=\"ja\",1/(1+C88*(AG$30+W$46*D88/E88)*0.000001),1)>U88,\"JA\",\"NEE\"),\" \")","v":" "},{"$f":"IF(+H88<>\" \",IF(AND(+H88>0,L88>0),(H88-J88)/D88,\" \"),\" \")*IF(+X$41=\"ja\",1/(1+C88*(AG$30+W$46)*0.000001),1)","v":{"$error":"#VALUE!"}}," "," "," ",{"$f":"IF(ISBLANK(A88)<>TRUE,IF(AND(H88>0,L88>0),IF(IF(H$35=\"nieuw\",AND(Z88<N88,+X88<=0.1),X88<=0.1),\"VOLDOET\",\"VOLDOET NIET!\"),\" \"),\" \")","v":" "},null," ",null,null,{"$f":"IF(ISBLANK(A88)<>TRUE,IF(AND(H88>0,L88>0),(H88-J88)/F88,\" \"),\" \")*IF(X$41=\"ja\",1/(1+C88*(AG$30+W$46)*0.000001),1)+J88","v":{"$error":"#VALUE!"}}," "," "," ",null,{"$f":"IF(J88<L88,IF(OR(AA88=\"voldoet niet!\",AI88=\"voldoet niet!\"),\"VOLDOET NIET!\",\"VOLDOET\"),IF(AND(X88<=0.1,AI88=\"VOLDOET\"),\"VOLDOET\",\"VOLDOET NIET!\"))","v":"VOLDOET NIET!"},null,null,null,null,null,null,null,0," "," ",null,0,null," ",{"$f":"IF(AND(ISBLANK(A88)=FALSE,ISBLANK(L88)=FALSE),IF(+Z88>N88,IF(J88>N88,1-(AF88-J88-O88)/(AF88-J88),(J88+(N88-J88)*J$22/BK88)/(H88)),0),\" \")","v":" "}," ",null," ",{"$f":"IF(AND(ISBLANK(A88)=FALSE,ISBLANK(L88)=FALSE),IF(AND(BE88>1,ISBLANK(AD88)=TRUE,AO88=1),1,0),\" \")","v":" "},{"$f":"IF(AND(ISBLANK(A88)=FALSE,ISBLANK(L88)=FALSE),1-IF(AC88>IF(ISBLANK(AD88)=TRUE,1,AD88),(1-AB88)/(AC88-AB88),1),\" \")","v":" "}," ",{"$f":"1-((1-BE88)*H88+BE88*J88)/H88","v":{"$error":"#VALUE!"}}," ",null,null," "]
[null,null,null," "," ",{"$f":"IF(ISBLANK(A89)=TRUE,\" \",IF(AF$25=\"ja\",(H$34+G89)/H$34,(H$34+#REF!)/H$34))","v":" "},null,null,null,null,null,null,0,0,"",null,null,null,null,null,null,{"$f":"IF(AND(+H89<>\" \",ISBLANK(T89)<>TRUE),IF(+J89+(H89-J89)/E89*IF(+X$41=\"ja\",1/(1+C89*(AG$30+W$46*D89/E89)*0.000001),1)>U89,\"JA\",\"NEE\"),\" \")","v":" "},{"$f":"IF(+H89<>\" \",IF(AND(+H89>0,L89>0),(H89-J89)/D89,\" \"),\" \")*IF(+X$41=\"ja\",1/(1+C89*(AG$30+W$46)*0.000001),1)","v":{"$error":"#VALUE!"}}," "," "," ",{"$f":"IF(ISBLANK(A89)<>TRUE,IF(AND(H89>0,L89>0),IF(IF(H$35=\"nieuw\",AND(Z89<N89,+X89<=0.1),X89<=0.1),\"VOLDOET\",\"VOLDOET NIET!\"),\" \"),\" \")","v":" "},null," ",null,null,{"$f":"IF(ISBLANK(A89)<>TRUE,IF(AND(H89>0,L89>0),(H89-J89)/F89,\" \"),\" \")*IF(X$41=\"ja\",1/(1+C89*(AG$30+W$46)*0.000001),1)+J89","v":{"$error":"#VALUE!"}}," "," "," ",null,"VOLDOET NIET!",null,null,null,null,null,null,null,0," "," ",null,0,null," ",{"$f":"IF(AND(ISBLANK(A89)=FALSE,ISBLANK(L89)=FALSE),IF(+Z89>N89,IF(J89>N89,1-(AF89-J89-O89)/(AF89-J89),(J89+(N89-J89)*J$22/BK89)/(H89)),0),\" \")","v":" "}," ",null," ",{"$f":"IF(AND(ISBLANK(A89)=FALSE,ISBLANK(L89)=FALSE),IF(AND(BE89>1,ISBLANK(AD89)=TRUE,AO89=1),1,0),\" \")","v":" "},{"$f":"IF(AND(ISBLANK(A89)=FALSE,ISBLANK(L89)=FALSE),1-IF(AC89>IF(ISBLANK(AD89)=TRUE,1,AD89),(1-AB89)/(AC89-AB89),1),\" \")","v":" "}," ",{"$f":"1-((1-BE89)*H89+BE89*J89)/H89","v":{"$error":"#VALUE!"}}," ",null,null," "]
[null,null,null," "," ",{"$f":"IF(ISBLANK(A90)=TRUE,\" \",IF(AF$25=\"ja\",(H$34+G90)/H$34,(H$34+#REF!)/H$34))","v":" "},null,null,null,null,null,null,0,0,"",null,null,null,null,null,null,{"$f":"IF(AND(+H90<>\" \",ISBLANK(T90)<>TRUE),IF(+J90+(H90-J90)/E90*IF(+X$41=\"ja\",1/(1+C90*(AG$30+W$46*D90/E90)*0.000001),1)>U90,\"JA\",\"NEE\"),\" \")","v":" "},{"$f":"IF(+H90<>\" \",IF(AND(+H90>0,L90>0),(H90-J90)/D90,\" \"),\" \")*IF(+X$41=\"ja\",1/(1+C90*(AG$30+W$46)*0.000001),1)","v":{"$error":"#VALUE!"}}," "," "," ",{"$f":"IF(ISBLANK(A90)<>TRUE,IF(AND(H90>0,L90>0),IF(IF(H$35=\"nieuw\",AND(Z90<N90,+X90<=0.1),X90<=0.1),\"VOLDOET\",\"VOLDOET NIET!\"),\" \"),\" \")","v":" "},null," ",null,null,{"$f":"IF(ISBLANK(A90)<>TRUE,IF(AND(H90>0,L90>0),(H90-J90)/F90,\" \"),\" \")*IF(X$41=\"ja\",1/(1+C90*(AG$30+W$46)*0.000001),1)+J90","v":{"$error":"#VALUE!"}}," "," "," ",null,"VOLDOET NIET!",null,null,null,null,null,null,null,0,null,null,null,0]
[null,null,null,null,null,null,null,null,null,null,null,null,null,null,null,null,null,null,null,null,null,null,null,null,null,null,null,null,null,null,null,null,null,null,null,null,null,null,null,null,null,null,null,null,{"$f":"IF(AND(ISBLANK(A91)=FALSE,ISBLANK(L91)=FALSE),IF(X91<0.1,0,IF(J91>=N91,IF(AF91-N91>R91,1-(J91+J$24*R91/H91),0),IF(X91>0.1,1-0.1/X91,0)))*(H91-J91)/H91,0)","v":0},null,null,null,{"$f":"IF(AND(ISBLANK(A91)=FALSE,ISBLANK(L91)=FALSE),IF(+H$18=\"ja\",IF(ISBLANK(AD91)=TRUE,IF(AC91>1,+BG91,0),IF(AND(AC91>AD91,H91>AB91),1-AB91/H91,0)),0),0)","v":0}]
["*) meetnauwkeurigheid is waarde van de laatste decimaal waarin de norm in uitgedrukt. Bijvoorbeeld als de norm een waarde heeft van 0.01 ug/l dan is de meetnauwkeurigheid 0.01. Als de norm een waarde heeft van 0.7 dan is de      meetnauwkeurigheid 0.1.",null,null,null,null,null,null,null,null,null,null,null,null,null,null,null,null,null,null,null,null,null,null,null,null,null,null,null,null,null,null,null,null,null,null,null,null,null,null,null,{"$f":"COUNTIF(AO28:AO84,\">0\")","v":0}]
[]
["**) norm gebruik bij normtoets en beoordeling geen achteruitgang"]
["***) bij biologie ondersteunende stiffen zoals N-tot, P-totaal, Temperatuur etc. gelden meerdere kwaliteitsklassen: slecht; ontoereikend, matig en goed. Bij beoordeling van een bestaande activiteit wordt de bovengrens van de huidige klassegrens als norm aangehouden. "]
["      Bij nieuwe activiteiten de waarde die hoort bij het GEP."]

{"sheet":"beoordeling maatregel","index":12,"n_rows":87,"n_cols":79,"rows_kept":87,"cut":false,"hidden":false,"merged":[[70,34,70,35],[71,34,71,35],[69,34,69,35],[64,34,64,35],[65,34,65,35],[66,34,66,35],[67,34,67,35],[68,34,68,35],[59,34,59,35],[60,34,60,35],[61,34,61,35],[62,34,62,35],[63,34,63,35],[54,34,54,35],[55,34,55,35],[56,34,56,35],[57,34,57,35],[58,34,58,35],[49,34,49,35],[50,34,50,35],[51,34,51,35],[52,34,52,35],[53,34,53,35],[44,34,44,35],[45,34,45,35],[46,34,46,35],[47,34,47,35],[48,34,48,35],[39,34,39,35],[40,34,40,35],[41,34,41,35],[42,34,42,35],[43,34,43,35],[34,34,34,35],[35,34,35,35],[36,34,36,35],[37,34,37,35],[38,34,38,35],[29,34,29,35],[30,34,30,35],[31,34,31,35],[32,34,32,35],[33,34,33,35],[23,1,23,12],[16,25,21,30],[8,25,9,30],[6,18,6,22],[1,1,1,32],[16,32,21,32],[19,17,20,22],[8,18,9,23],[13,1,14,11]]}
[]
[null,"BEOORDELING KOSTENEFFECTIVITEIT VAN MAATREGELEN BIJ LOZING VAN ÉÉN OF MEERDERE STOFFEN"]
[]
[]
[null,"Lozing: bestaand of nieuw?",null,null,null,null,null,null,null,null,null,null,null,{"$f":"IF(ISBLANK('beschrijving lozing'!I4)=FALSE,+'beschrijving lozing'!I4,\" \")","v":" "},null,null,null,null,"ja",null,null,null,null,null,null,null,null,null,null,null,null,null,null,"bestaand"]
[null,null,null,null,null,null,null,null,null,null,null,null,null,null,null,null,null,null,"nee",null,null,null,null,null,null,null,{"$f":"IF('beschrijving lozing'!I19=\"nee\",\"BBT\",IF('resultaten immissietoets'!AO21>0,\"BBT+\",\" \"))","v":" "},null,null,null,null,null,null,"nieuw"]
[null,"Is BBT voor de activiteit vastgelegd in een BREF-document?",null,null,null,null,null,null,null,null,null,null,null,{"$f":"IF(ISBLANK(+'beschrijving lozing'!I16)=TRUE,\" \",+'beschrijving lozing'!I16)","v":" "},null,null,null,null,{"$f":"IF(AND(N7=\"ja\",N5=\"nieuw\"),\"Wordt voldaan aan BBT?\",\" \")","v":" "},null,null,null,null,null,null,null,{"$f":"IF(ISBLANK('beschrijving lozing'!I19)=FALSE,IF(+'beschrijving lozing'!I4=\"nieuw\",+'beschrijving lozing'!I19,\"ja\"),\"onbekend\")","v":"onbekend"}]
[]
[null,{"$f":"CONCATENATE(\"Voldoet de \",IF(N5=\"bestaand\",\"huidige \",\"voorgenomen \"),\"lozing aan immissietoets?\")","v":"Voldoet de voorgenomen lozing aan immissietoets?"},null,null,null,null,null,null,null,null,null,null,null,{"$f":"IF(ISBLANK('resultaten immissietoets'!A28)=TRUE,\" \",IF('resultaten immissietoets'!AO21>0,\"nee\",\"ja\"))","v":" "},null,null,null,null,{"$f":"IF(ISBLANK($N9)=TRUE,\" \",IF($N9=\"nee\",IF(OR(ISBLANK($N22)=TRUE,$N22=\"nee\"),\"aanvullende maatregelen zijn noodzakelijk!\",\" \"),IF('beschrijving lozing'!$I16=\"nee\",\"Ga na of genomen maatregelen qua kosten overeenkomen met de in rede te verlangen BBT-inspanning (KE)\",\"Aanvullende maatregelen zijn op grond van immissietoets NIET noodzakelijk \")))","v":"Aanvullende maatregelen zijn op grond van immissietoets NIET noodzakelijk "},null,null,null,null,null,null,{"$f":"IF(N5<>\" \",IF(AND(N7=\"ja\",AA7=\"nee\"),IF(N9=\"ja\",\"verken BBT-maatregelen voor de lozing o.b.v. KE met onderstaande methodiek\",IF(ISBLANK(N22)=FALSE,\"Verken BBT+-maatregelen voor de lozing o.b.v. KE met onderstaande methodiek\",\"Verken BBT-maatrgelen voor de lozing o.b.v. KE met onderstaande methodiek\")),IF(ISBLANK(N9)=TRUE,\" \",IF(AND(N$5=\"bestaand\",N$7=\"ja\"),\" \",IF(+N$5=\"bestaand\",IF(N9=\"ja\",\"Verken BBT-maatregelen voor de lozing o.b.v. KE met onderstaande methodiek\",IF(ISBLANK(N22)=FALSE,\"Verken BBT+-maatregelen voor de lozing o.b.v. KE met onderstaande methodiek\",\"Verken BBT-maatregelen voor de lozing o.b.v. KE met onderstaande methodiek\")),IF(N5=\"nieuw\",IF(AND(N7=\"nee\",N9=\"ja\"),\"Verken BBT-maatregelen voor de lozing o.b.v. KE met onderstaande methodiek\",IF(AND(N7=\"ja\",N9=\"ja\"),\"maatregelen moeten voldoen aan BBT conform BREF\",IF(N9=\"nee\",\"Verken BBT+-maatregelen voor de lozing o.b.v. KE met onderstaande methodiek\",\" \")))))))),\" \")","v":" "}]
[]
[]
[]
[]
[null,{"$f":"CONCATENATE(\"BEOORDELING \",IF(N9=\"nee\",\"BBT+\",+AA6),\" MAATREGELEN\")","v":"BEOORDELING   MAATREGELEN"}]
[]
[]
[null,{"$f":"IF(N9=\" \",\" \",IF(AND(N7=\"ja\",AA7=\"ja\",N9=\"ja\"),IF('beschrijving lozing'!I19=\"nee\",\"maatregel\",IF(AND(AA7=\"ja\",N7=\"ja\",N9=\"ja\",N27>0),\"maatregel nodig\",\"maatregel niet nodig\")),IF(AND(N7=\"ja\",AA7=\"ja\",N9=\"nee\"),\"aanvullende BBT+-maatregel\",IF(AND(N7=\"ja\",AA7=\"nee\",N9=\"ja\"),\"aanvullende BBT-maatregel\",IF(AND(N7=\"ja\",AA7=\"nee\",N9=\"nee\"),\"aanvullende BBT/BBT+-maatregel\",IF(AND(N7=\"nee\",N9=\"ja\"),\"Voorgenomen maatregel\",IF(AND(N7=\"nee\",N9=\"nee\"),\"aanvullende BBT+-maatregel\",IF(N9=\"nee\",\"aanvullende BBT+-maatregel \",\"aanvullende BBT-maatregel \"))))))))","v":" "},null,null,null,null,null,null,null,null,null,null,"verdunningsfactoren:",null,null,null,null,null,null,null,"Totale jaarlijkse kosten maatregel [€/j]",null,null,null,null,{"$f":"CONCATENATE(IF(B17=\"maatregel niet nodig\",\"Maatregel is niet nodig!\",CONCATENATE(IF(AND(AF18>=1,AE25>=U18),CONCATENATE(IF(AND(N25=\"ja\",AE25>U18),\"Totale kosten van maatregel < maximaal toelaatbare kosten; \",\"KE-stof < KE-max-stof; \"),IF(N5=\"nieuw\",IF(U18>0.75*AE25,\" en komen overeen met gangbare kosten voor\",\" voor\"),\" \"),IF(N5=\"nieuw\",IF(+N9=\"nee\",\" BBT+-maatregelen\",\" BBT-maatregelen\"),\" \"),IF(AND(AF20>=1,+N22=\"nee\"),CONCATENATE(\" maar, \",+B17,\" voldoet nog niet aan immissietoets \"),\" \")),CONCATENATE(\"Voorgestelde \",+B17,IF(AE25<U18,IF(AA24=\"nee\",\" is niet- kosteneffectief\",\" : totale kosten zijn groter dan in rede te verlangen kosten!\"),CONCATENATE(\"kosten zijn lager dan in rede te verlangen kosten \")))),IF(AND(N22=\"ja\",AF18>1,S27=\"ja\"),\", maar verken verdergaande maatregelen om invulling te geven aan minimalisatieverplichting voor ZZS-stof(fen) in lozing!\",\" \"))),IF(OR(AND(N5=\"nieuw\",BC28=0,BD29=BC28),AND(AH24=\"nee\",N5=\"bestaand\",OR(BC28=0,BC28<>BD28))),IF(N5=\"nieuw\",IF(+N$22=\"ja\",\" \",\"..........MAAR kosten spelen in beginsel in deze situatie GÉÉN ROL bij de beoordeling van maatregelen\"),\" \"),\" \"))","v":"KE-stof < KE-max-stof;      "},null,null,null,null,null,null,{"$f":"IF(N9=\"nee\",CONCATENATE(IF(N22=\"ja\",\"Er wordt voldaan immissietoets:                                                                                              \",\"Er wordt niet voldaan aan immissietoets;  \"),IF(Y28>=1,IF(N5=\"nieuw\",IF(N22=\"ja\",CONCATENATE(IF(AND('beschrijving lozing'!I7=\"algemene regels\",V$28=1),\"Neem aanvullende maatregelen om te voldoen aan algemene regels\",IF('beschrijving lozing'!I7=\"algemene regels\",\"Kosten mogen worden betrokken bij de beoordeling van de redelijkheid van maatregelen\",IF(N22=\"ja\",IF(T28>=1,\"Ga na of verdere minimalisatie van de emissie van ZZS stof(en) mogelijk is binnen de in rede te verlangen kosten \",+AI17),\"voor de voorgestelde BBT+-maatregelen spelen kosten in deze situatie in beginsel geen rol !\")))),CONCATENATE(IF(BC28=1,IF(U18>AE25,\"Alleen de siginificantie-toets wordt overschreden: Ga in overleg met BG of kosten mogen worden betrokken bij de beoordeling van de redelijkheid van maatregelen\",IF(N$22=\"nee\",IF(T28>=1,\"Neem verdergaande maatregelen om te voldoen aan minimalistatieverplichting voor ZZS\",\"Neem verdergaande maatregelen \"),\" \")),\"Kosten voor BBT+-maatregelen spelen in deze situatie in beginsel geen rol !\"),IF(AND(N22=\"nee\",BC28<>1),\": NEEM VERDERGAANDE AANVULLENDE MAATREGELEN!\",\" \"))),IF(U18>AE25,IF(AH24=\"ja\",CONCATENATE(IF(BC28=1,\"Alleen de significantietoets wordt overschreden: \",\" \"),IF(N22=\"nee\",CONCATENATE(IF(AH24=\"ja\",\"Aanscherping norm: \",\" \"),\"Redelijkheid van kosten kan worden betrokken bij de beoordeling van maatregelen\"),\"optimaliseer naar kosten: zijn maatregelen beschikbaar tegen lagere kosten die toch voldoen aan immisssietoets?\")),IF(AND(AE25<U18,Z28=1,N22=\"ja\"),\"optimaliseer naar kosten: zijn maatregelen beschikbaar tegen lagere kosten die toch voldoen aan immisssietoets?\",IF(AND(BC28<>BD28,N$22=\"nee\"),\" neem VERDERGAANDE aanvullende maatregelen \",IF(AND(AA6<>\"BBT\",BC$28=BD$28,BC$28>0),\"Alleen de significantietoets wordt overschreden; Redelijkheid van kosten kan worden betrokken bij de beoordeling van maatregelen\",IF(AH28>0,\"Neem VERDERGAANDE aanvullende maatregelen\",\" \"))))),IF(N$22=\"nee\",\"Verken verdergaande BBT+-maatregelen!\",\" \"))),IF(IF(N5=\"nieuw\",BC28>=1,U18>AE25),IF(OR(AH24=\"ja\",BH29=0),IF(AE$25>$U18,\"Aanscherping van norm: Redelijkheid van kosten kan worden betrokken bij de beoordeling van maatregelen\",\"Neem VERDERGAANDE aanvullende maatregelen\"),IF(N$22=\"nee\",\"Neem VERDERGAANDE aanvullende maatregelen\",IF(AE25>U18,\"Redelijkheid van kosten kan worden betrokken bij de beoordeling van maatregelen\",\" \"))),IF(+N5=\"nieuw\",CONCATENATE(\"Het betreft een nieuwe lozing waarbij kosten voor BBT+-maatregelen in deze situatie in beginsel geen rol spelen !\",IF(N22=\"nee\",\" Neem VERDERGAANDE aanvullende maatregelen!\",\" \")),IF(N$22=\"nee\",\"Neem VERDERGAANDE aanvullende maatregelen!\",\" \"))))),IF(OR(N7=\"nee\",AA7=\"nee\"),IF(U18<=AE25,\"BBT-maatregel is kosteneffectief\",\"BBT-maatregel is niet kosteneffectief\"),\" \"))","v":" "},null,{"$f":"IF(N22=\"ja\",IF(U18<AE25,IF(S25>=1,\"Verken verdergaande maatregelen om aan minimalisatieverplichting te voldoen\",\" \"),\"Verken of tegen lagere kosten ook kan worden voldaan aan immissietoets\"),\"Neem verdergaande maatregelen\")","v":"Verken of tegen lagere kosten ook kan worden voldaan aan immissietoets"}]
[null,null,null,null,null,null,null,null,null,null,null,null,null,null,null,null,null,null,null,null,null,null,null,null,null,null,null,null,null,null,null,{"$f":"COUNTIF(AF30:AF50,\"ja\")","v":1},null,null,{"$f":"IF(U18<=AE25,\"; de maatregel is kosteneffectief!\",IF(+N5=\"bestaand\",\"; de maatregel is niet kosteneffectief\",\" \"))","v":"; de maatregel is kosteneffectief!"}]
[null,"Lozingsdebiet [m3/s]",null,"Q-afvoer [m3/s]",null,null,null,null,null,null,null,"F25","FL","Fmon",null,null,"Fdrinkwater"]
[null,{"$f":"IF(ISBLANK(+'resultaten immissietoets'!H16)=TRUE,\" \",+'resultaten immissietoets'!H16*IF('beschrijving lozing'!I$13=\"indirecte lozing\",'resultaten immissietoets'!L$18,1))","v":" "},null,null,null,null,null,null,null,null,null,{"$f":"IF(ISBLANK(+'resultaten immissietoets'!J23)=FALSE,+'resultaten immissietoets'!J23,\" \")","v":" "},{"$f":"IF(ISBLANK(+'resultaten immissietoets'!J22)=FALSE,+'resultaten immissietoets'!J22,\" \")","v":" "},{"$f":"+'resultaten immissietoets'!J24","v":" "},null,null,{"$f":"IF(ISBLANK(+'resultaten immissietoets'!H20)=FALSE,+'resultaten immissietoets'!H20,\" \")","v":" "},null,null,null,null,null,null,null,null,null,null,null,null,null,null,{"$f":"COUNTIF(O30:O49,\"ja\")","v":20}]
[]
[null,"Voldoet de lozing na maatregelen aan immissietoets?",null,null,null,null,null,null,null,null,null,null,null,{"$f":"IF(ISBLANK(B30)=FALSE,IF(ISNA(AB28)=TRUE,\"ja\",\"nee\"),\" \")","v":"ja"},null,null,null,null,null,null,{"$f":"+'resultaten immissietoets'!AG4","v":"nee"}]
[null,null,null,null,null,null,null,null,null,null,null,null,null,null,null,null,null,null,null,null,null,null,null,null,null," "]
[null,{"$f":"IF(N9=\"nee\",\"Omschrijving lozing:\",IF(N7=\"nee\",\"Beoordeel genomen maatregelen o.b.v. KE in onderstaande tabel\",\" \"))","v":" "},null,null,null,null,null,null,null,null,null,null,null,null,null,null,null,null,null,null,{"$f":"IF($U22=\"ja\",\"Geef zwevend stof gehalte van oppervlaktewater [mg/l\",\" \")","v":" "},null,null,null,null,null,"% stroom behandeld",null,"verwijderde vracht [kg/j]",null,"toelaatbare kosten [€/j]",null,{"$f":"IF(AND(N5=\"bestaand\",U18>AE25),IF(N27=1,\"Is er sprake van aanscherping van de norm?\",IF(N27>1,\"Is de maatregel nodig door aanscherping van een van de waterkwaliteitsnormen?\",\" \")),\" \")","v":" "},null,null,null,null,null,null,null,null,null,null,null,null,null,null,null,null,null,null,null,"drinkwater-innamepunt beneden-strooms?"]
[null,{"$f":"IF(OR(N9=\"nee\",N9=\" \"),\"Is sprake van lozing van meerdere stoffen die niet voldoen aan immissietoets?\",IF(AND(+AA7=\"ja\",N7=\"ja\",N9=\"ja\"),\"Worden ZZS geloosd? \",\"Is sprake van lozing van meerdere stoffen?\"))","v":"Is sprake van lozing van meerdere stoffen die niet voldoen aan immissietoets?"},null,null,null,null,null,null,null,null,null,null,null,null,null,null,null,null,{"$f":"COUNTIF(S30:S70,\"ja\")","v":0},null,{"$f":"+'resultaten immissietoets'!Z$27","v":{"$error":"#DIV/0!"}},null,null,null,null,null,null,null,{"$f":"IF(ISBLANK(B30)=TRUE,\" \",+AC74)","v":0},null,{"$f":"IF(ISBLANK(B30)=TRUE,\" \",+BY74)","v":0},null,{"$f":"IF(AE25<U18,\"Totale jaarlijkse kosten vallen hoger uit dan maximaal 'in rede te verlangen kosten' gebaseerd op waterbezwaarlijkheid van de lozing!\",\" \")","v":" "},"ja","in rede te verlangen' kosten BBT+ voor alle stoffen [€/j]","in rede te verlangen' kosten BBT+ voor ZZS [€/j]","in rede te verlangen' kosten BBT+ voor PFAS [€/j]",null,null,null,null,null,null,null,null,null,null,{"$f":"SUM(AV30:AV71)","v":13},null,null,null,null,{"$f":"+'resultaten immissietoets'!H18","v":0}]
[null,null,null,null,null,null,null,null,null,null,null,null,null,{"$f":"+O26","v":1},{"$f":"IF(N25=\"ja\",N27,1)","v":1},null,null,null,null,null,null,null,null,null,null,null,null,null,null,null,null,null,"nee","nee",null,null,null,null,null,null,null,null,null,null,null,null,null,null,null,null,null,null,{"$f":"IF(G$18=\"ja\",H30+((1-AA30/100)*Y30-H30)/Q20,1)","v":1}]
[null,{"$f":"IF(AND(N$9=\"nee\",N$25=\"ja\"),\"Hoeveel stoffen van de lozing voldoen NIET aan immissietoets?\",IF(OR(N7=\"nee\",'beschrijving lozing'!I16=\"nee\"),IF(AND(N9<>\" \",N9<>\"nee\"),\"Hoeveel stoffen worden geloosd?\",\" \"),\" \"))","v":" "},null,null,null,null,null,null,null,null,null,null,null,null,null,null,{"$f":"IF(AV$25>0,\"Vul CAS-nr. in !\",\" \")","v":"Vul CAS-nr. in !"},null,{"$f":"IF(S25>0,VLOOKUP(\"ja\",S30:S50,1,FALSE),0)","v":0},null,null,null,null,null,null,null,null,null,"kostentoe-deling o.b.v. vracht",null,"nee",null,{"$f":"CONCATENATE(IF(AA6=\"BBT\",IF(OR(AND('beschrijving lozing'!I7=\"algemene regels\",'beschrijving lozing'!I19=\"nee\"),AND('beschrijving lozing'!I7=\"vergunning\",'beschrijving lozing'!I19=\"nee\")),IF('beoordeling maatregel'!N22=\"nee\",\"Verken verdergaande BBT+-maatregelen, inclusief  'in rede te verlangen' kosten voor BBT+;\",\" \")),\" \"),IF(U18>AE25,IF(AK27=0,\"Maar maatregel is wel kosteneffectief voor verwijdering van individuele stoffen: optimaliseer naar schaal en kosten of type maatregel!\",\"maatregel is niet kosteneffectief voor de verwijdering van individuele stoffen\"),IF(AK27=1,\"maatregel is niet kosteneffectief voor de verwijdering van individuele componenten\",\" \")))","v":"  "},"nee",{"$f":"+BY74","v":0},{"$f":"+BZ74","v":0},{"$f":"+CA74","v":0},null,null,null,null,null,null,null,null,null,null,null,null,null,null,{"$f":"IF(G$18=\"ja\",((1-AA31/100)*Y31-D31)/'resultaten immissietoets'!J$24*IF(U$22=\"ja\",1/(1+U$25*0.000001*10^G31),1),1)","v":1},{"$f":"IF(G$18=\"ja\",H31+((1-AA31/100)*Y31-D31)/Q$20*IF(U$22=\"ja\",1/(1+U$25*0.000001*10^G31),1),1)","v":1},null,null,null,null,null,null,{"$f":"IF(BH29>0,CONCATENATE(\"\",VLOOKUP(1,BH30:BI31,2,FALSE),\"; \",IF(BH29>1,VLOOKUP(2,BG30:BI31,3,FALSE),\" \"),IF(BH29>2,VLOOKUP(3,BG30:BI32,3,FALSE),\" \")),\" \")","v":" "}]
[null,{"$f":"IF(OR(N$26>0,N25=\"ja\"),CONCATENATE(IF(N25=\"nee\",\"Naam van stoffen die NIET voldoet aan immissietoets \",\"Namen van stoffen die NIET voldoen aan immissietoets\"),IF('beschrijving lozing'!I$7=\"algemene regels\",\"of waarvan de lozing niet voldoet aan algemene regels\",\" \")),\" \")","v":"Namen van stoffen die NIET voldoen aan immissietoets "},"∆CL/ MKE   [%]","Ca [ug/l]","CL [ug/l]","Cmon [ug/l]",{"$f":"IF(U22=\"ja\",\"log Kd\",\" \")","v":" "},"Ca inname-punt [ug/l]","meet-nauw-keurig-heid","drink-water-norm [ug/l]",null,"te verwij-deren vracht om aan immissie-toets te voldoen [kg/jr]",{"$f":"IF(VLOOKUP(\"nee\",M30:M50,1,FALSE)=\"nee\",1,0)","v":{"$error":"#N/A"}},{"$f":"IF(N9=\"ja\",\" \",CONCATENATE(\"Benodigde reductie [%] om aan immissie-toets \",IF('beschrijving lozing'!I7=\"algemene regels\",\"of algemene regels\",\" \"),\" te voldoen\"))","v":"Benodigde reductie [%] om aan immissie-toets   te voldoen"},null,{"$f":"IF(OR(AND(N7=\"nee\",N9=\"ja\"),'beschrijving lozing'!I19=\"nee\",AND(AA7=\"ja\",N7=\"ja\",N9=\"ja\")),\"Verwijde-ringsrende-ment per stof van genomen maatregel(en) [%]\",\" \")","v":" "},"Voer Cas-nummer van de stof of aanduiding \"ZZS\" in, indien het zeker een ZZS betreft!",{"$f":"IF(ISNA(VLOOKUP(\"ja\",R30:R50,1,FALSE)=FALSE),1,0)","v":1},"Gaat het om een ZZS stof?",{"$f":"SUM(T30:T71)","v":0},{"$f":"IF(N26>0,CONCATENATE(\"Geef maximale kosten (KE) per stof voor\",IF(+N9=\"ja\",\" BBT \",\" BBT+ \"),\"    [euro/kg-verw]\"),\" \")","v":"Geef maximale kosten (KE) per stof voor BBT+     [euro/kg-verw]"},{"$f":"IF(ISNA(VLOOKUP(\"nee\",V30:V70,1,FALSE))=FALSE,1,0)","v":1},{"$f":"IF(N26>0,\"MKE [ug/l]\",\" \")","v":"MKE [ug/l]"},null,{"$f":"IF(N26>0,\"Influent-concen-tratie voor maat-regel [ug/l]\",\" \")","v":"Influent-concen-tratie voor maat-regel [ug/l]"},{"$f":"IF(ISNA(VLOOKUP(1,Z30:Z70,1,FALSE))=FALSE,VLOOKUP(1,Z30:Z70,1,FALSE),0)","v":0},{"$f":"IF(N26>0,CONCATENATE(\"Geef ver-wijde-rings-rende-ment van beoogde maatregel [%]\",IF(AA25<1,\" voor deelstroom\",\" \")),\" \")","v":"Geef ver-wijde-rings-rende-ment van beoogde maatregel [%] voor deelstroom"},{"$f":"VLOOKUP(\"nee\",AB30:AB70,1,FALSE)","v":{"$error":"#N/A"}},{"$f":"IF(N26>0,\"verwij-derde vracht [kg/j]\",\" \")","v":"verwij-derde vracht [kg/j]"},null,{"$f":"IF(N26>1,\"KE-stof bij verwijdering meerdere stoffen\",\"KE-stof bij verwijdering van een enkele stof \")","v":"KE-stof bij verwijdering van een enkele stof "},null,null,{"$f":"SUM(AH30:AH70)","v":0},null,null,"maatregel","noodzakelijke aanvullende reductie [%] na maatregel",null,null,null,null,null,null,null,null,"pot ZZS checker","check niet ingevul-de velden",{"$f":"COUNTIF(AW30:AW70,\"1\")","v":0},"Resultaten immissietoets na maatregel   BEPERKINGEN?",null,null,null,null,{"$f":"COUNTIF(BC30:BC70,\"ja\")","v":0},{"$f":"COUNTIF(BD30:BD70,\"1\")","v":0},null,null,null,"KE>KE-max en sign.toets niet alleen oorzaak",null,null,"nodige rendement o.b.v. immissie-toets",null,null,null,null,null,null,null,null,null,null,null,null,null,"in rede te verlangen' kosten BBT+ per stof [€/j]","in rede te verlangen' kosten BBT + voor ZZS [€/j]","in rede te verlangen' kosten BBT + voor PFAS [€/j]"]
[null,null,null,null,null,null,null,null,null,null,null,null,null,null,null,null,null,null,null,null,null,null,null,null,null,null,null,null,null,null,null,null,null,null,null,null,"kosteneffectief?",null,"correctiefactor ads",null,"kosten-X","KE","conc/norm","tot kosten",null,"tot kosten-2",null,null,null,"singn.","CL","KRW","drinkwater",null,"significantietoets alleen oorzaak?",null,null,"toets moet voldoen","nr",{"$f":"COUNTIF(BH30:BH70,\"1\")","v":0},"stof",null,{"$f":"IF(ISNA(VLOOKUP(B29,'resultaten immissietoets'!A$28:AO$84,39,FALSE))=FALSE,VLOOKUP(B29,'resultaten immissietoets'!A$28:AO$84,39,FALSE),0)","v":0}]
[1,{"$f":"IF(A30<=N$27,VLOOKUP(1,'resultaten immissietoets'!AM$28:AN$84,2,FALSE),\" \")","v":" "},{"$f":"VLOOKUP(+$B30,'resultaten immissietoets'!$A$27:$AA$84,24,FALSE)","v":{"$error":"#N/A"}},{"$f":"IF(ISBLANK($B30)=FALSE,VLOOKUP(+$B30,'resultaten immissietoets'!$A$27:$AA$84,10,FALSE),\" \")","v":{"$error":"#N/A"}},{"$f":"VLOOKUP(+$B30,'resultaten immissietoets'!$A$27:$AA$84,26,FALSE)","v":{"$error":"#N/A"}},{"$f":"IF(ISBLANK($B30)=FALSE,VLOOKUP(+$B30,'resultaten immissietoets'!$A$27:$AI$84,35,FALSE),\" \")","v":{"$error":"#N/A"}},{"$f":"LOG(IF(ISNUMBER(VLOOKUP(+$B30,'resultaten immissietoets'!$A$27:$AE$84,2,FALSE))=TRUE,VLOOKUP(+$B30,'resultaten immissietoets'!$A$27:$AE$84,2,FALSE),1))","v":0},{"$f":"IF(ISBLANK(B30)=FALSE,VLOOKUP(+$B30,'resultaten immissietoets'!$A$27:$AE$84,31,FALSE),\" \")","v":{"$error":"#N/A"}},{"$f":"VLOOKUP(+$B30,'resultaten immissietoets'!$A$27:$AE$84,15,FALSE)","v":{"$error":"#N/A"}},{"$f":"IF(ISBLANK($B30)=FALSE,IF(K30>0,K30,\" \"),\" \")","v":{"$error":"#N/A"}},{"$f":"IF(ISBLANK($B30)=FALSE,VLOOKUP(+$B30,'resultaten immissietoets'!$A$27:$AI$84,30,FALSE),\" \")","v":{"$error":"#N/A"}},{"$f":"IF(AND(ISBLANK(B30)=FALSE,B30<>\" \"),N30*Y30*'resultaten immissietoets'!H$16*8760*3600/1000000,0)","v":0},{"$f":"IF(((1-AA30*AA$25)*Y30-D30)/+M$20/W30*+AM30<=0.1,\"ja\",\"nee\")","v":{"$error":"#VALUE!"}},{"$f":"IF(B30<>\" \",IF(N$9=\"nee\",IF(ISBLANK($B30)=FALSE,IF(AND('beschrijving lozing'!I$7=\"algemene regels\",+'beschrijving lozing'!I$19=\"nee\",ISNA(VLOOKUP(+$B30,'beschrijving lozing'!B$27:Q$78,15,FALSE))=FALSE),MAX(VLOOKUP(+B30,'beschrijving lozing'!B$27:Q$78,15,FALSE),VLOOKUP(+$B30,'resultaten immissietoets'!$A$27:$AO$84,41,FALSE)),VLOOKUP(+$B30,'resultaten immissietoets'!$A$27:$AO$84,41,FALSE)),\" \"),+P30),\" \")","v":" "},{"$f":"IF(AA30/100<N30,\"ja\",\"nee\")","v":"ja"},null,null,{"$f":"IF(AE30>U30,IF(M30=\"ja\",\"ja\",\"nee\"),\"nee\")","v":"nee"},{"$f":"IF(Q30=\"ZZS\",\"ja\",IF('ZZS-checker'!B30=1,\"ja\",\"nee\"))","v":"nee"},{"$f":"IF(AND(S30=\"ja\",AA30<N30),1,0)","v":0},{"$f":"IF(AND(ISBLANK(B30)=FALSE,B30<>\" \"),IF(OR(B30=\"Zink\",B30=\"Zn\",B30=\"Nikkel\",B30=\"Ni\",B30=\"Koper\",B30=\"Cu\"),450,IF(OR(B30=\"P-tot\",B30=\"Tot-P\",B30=\"totaal-P\",B30=\"P-totaal\"),20,IF(OR(B30=\"N-tot\",B30=\"tot-N\",B30=\"totaal-N\",B30=\"N-totaal\",B30=\"totaal-stikstof\",B30=\"stikstof-totaal\"),6,IF(1/W30<0.01,200000*(1/W30)^1.15,660*LN(1/W30)+3950))))*IF(N$9=\"nee\",10,1),0)","v":0},{"$f":"IF(ISBLANK($B30)=FALSE,IF($AA30/100>=N30,\"ja\",\"nee\"),\" \")","v":"nee"},{"$f":"IF(ISBLANK($B30)=FALSE,IF(ISNA(VLOOKUP(+$B30,'resultaten immissietoets'!$A$27:$AO$84,14,FALSE))=FALSE,VLOOKUP(+$B30,'resultaten immissietoets'!$A$27:$AO$84,14,FALSE),\" \"),\" \")","v":" "},0.01,{"$f":"IF(AND(ISBLANK($B30)=FALSE,$B30<>\" \"),VLOOKUP(+$B30,'resultaten immissietoets'!$A$27:$BU$84,73,FALSE),\" \")","v":" "},{"$f":"IF(AND(AA30>N30,AE30>U30),1,0)","v":0},null,{"$f":"IF(ISBLANK($B30)=FALSE,IF($AA30>=$BK30,\"ja\",\"nee\"),\" \")","v":"ja"},{"$f":"IF(B30<>\" \",IF(ISBLANK($B30)=FALSE,IF(AND(N$5=\"nieuw\",N$7=\"nee\",N$9=\"ja\"),P30,AA30*AA$25)*Y30/1000000*B$20*8760*3600,0),\" \")","v":" "},{"$f":"IF(AND(ISBLANK(B30)=FALSE,B30<>\" \"),IF(AE$27=\"nee\",IF(AC30>0,AC30*U30,0),AC30/W30),0)","v":0},{"$f":"IF(AND(ISBLANK(B30)=FALSE,B30<>\" \"),IF(ISBLANK(N$25)=FALSE,IF(AE$27=\"ja\",+AD30/AD$71*U$18/AC30,U$18*AD30/AD$71/AC30),\" \"),0)","v":0},{"$f":"IF(AND(AE30<=U30,A30<=N$26),\"ja\",\"nee\")","v":"ja"},{"$f":"IF(ISBLANK(B30)=FALSE,IF(S30=\"ja\",CONCATENATE(IF(AND(N$22=\"nee\",AA30*AA$25<BK30),\"Er wordt NIET voldaan aan immissietoets-; \",\" \"),IF(U$18<AE$25,\"Het gaat om een ZZS-stof, verken verdergaande maatregelen om invulling te geven aan minimalisatieverplichting!\",\" \")),CONCATENATE(IF(AU30=\"ja\",\"het gaat om een potentiële ZZS-stof; \",\" \"),IF(AND(N$22=\"nee\",AA30*AA$25<BK30),\"Er wordt NIET voldaan aan immissietoets; \",\" \"),IF(AND(S30=\"nee\",N$22=\"ja\"),\" \",IF(N$22=\"ja\",IF(AW30=0,\" \",\"verken verdergaande maatregelen om lozing te beperken\"),\" \")))),\" \")","v":"   "},{"$f":"IF(OR(AX30=\"ja\",AY30=\"ja\",AZ30=\"ja\",BA30=\"ja\"),1,0)","v":0},{"$f":"IF(AA30*AA$25<BK30,IF(AND(ISBLANK(B30)=FALSE,B30<>\" \"),IF(BC30=\"ja\",\"alleen sign-toets voldoet niet\",CONCATENATE(IF(AX30=\"ja\",\"sign-toets; \",\" \"),IF(AY30=\"ja\",\"normtoets; \",\" \"),IF(AZ30=\"ja\",\"KRW-toets; \",\" \"),IF(BA30=\"ja\",\"drinkwatertoets\",\" \"),IF(AND(AX30=\"nee\",AY30=\"nee\",AZ30=\"nee\",BA30=\"nee\"),\" \",IF(BD30>1,\" voldoen niet\",\" voldoet niet\")))),\" \"),\" \")","v":" "},null,{"$f":"IF(AND(ISBLANK(B30)=FALSE,B30<>\" \"),IF(AE30<U30,\"ja\",\"nee\"),\" \")","v":" "},{"$f":"IF(B30<> \" \",IF(AA30*AA$25>=N30,0,(N30-AA$25*AA30)),\" \")","v":" "},{"$f":"IF(AND(ISBLANK(B30)=FALSE,B30<>\" \"),VLOOKUP(+$B30,'resultaten immissietoets'!$A$27:$BK$84,63,FALSE),\" \")","v":" "},null,{"$f":"IF(ISBLANK(B30)=FALSE,AC30/W30/(AC30/W30+IF(+N27>1,AC31/W31,0))*U$18,\" \")","v":{"$error":"#VALUE!"}},{"$f":"AO30/AC30","v":{"$error":"#VALUE!"}},{"$f":"IF(OR(N$27>=1,N25=\"nee\"),AC30/W30,0)","v":0},{"$f":"AC30*AE30+AC31*AE31","v":{"$error":"#VALUE!"}},null,{"$f":"AP30*AC30+AP31*AC31","v":{"$error":"#VALUE!"}},{"$f":"IF('pot-ZZS-checker'!B15>0,\"ja\",\"nee\")","v":"nee"},{"$f":"IF(AND(ISBLANK(B30)=FALSE,ISBLANK(Q30)=TRUE),1,0)","v":1},{"$f":"IF(OR(AX30=\"ja\",AY30=\"ja\",AZ30=\"ja\",BA30=\"ja\"),1,0)","v":0},{"$f":"IF(AND(ISBLANK(B30)=FALSE,B30<>\" \"),IF(+M30=\"ja\",\"nee\",\"ja\"),\" \")","v":" "},{"$f":"IF(AND(ISBLANK(B30)=FALSE,B30<>\" \"),IF(D30<W30,IF(+D30+IF(U$22=\"ja\",1/(1+U$25*0.000001*10^G30),1)*((1-AA30*AA$25)*Y30-D30)/+M$20<=W30,\"nee\",\"ja\"),\"nee\"),\" \")","v":" "},{"$f":"IF(AND(ISBLANK(B30)=FALSE,B30<>\" \"),IF(D30<W30,IF(D30+((1-AA30/100)*Y30-D30)/'resultaten immissietoets'!J$24*IF(U$22=\"ja\",1/(1+U$25*0.000001*10^G30),1)<W30,\"nee\",\"ja\"),IF(((1-AA30)*Y30-D30)/'resultaten immissietoets'!J$24*IF(U$22=\"ja\",1/(1+U$25*0.000001*10^G30),1)<=I30,\"nee\",\"ja\")),\" \")","v":" "},{"$f":"IF(ISBLANK(B30)=FALSE,IF(BA$25=\"ja\",IF(J30=\" \",IF(D30+((1-AA30/100)*Y30-D30)/Q$20*IF(U$22=\"ja\",1/(1+U$25*0.000001*10^G30),1)<=1,\"nee\",\"ja\"),IF(D30+((1-AA30/100)*Y30-D30)/Q$20*IF(U$22=\"ja\",1/(1+U$25*0.000001*10^G30),1)<='resultaten immissietoets'!AD28,\"nee\",\"ja\")),\"nee\"),\" \")","v":"nee"},null,{"$f":"IF(ISBLANK(B30)=FALSE,IF(AND(AX30=\"ja\",AY30=\"nee\",AZ30=\"nee\",BA30=\"nee\"),\"ja\",\"nee\"),\" \")","v":"nee"},{"$f":"COUNTIF(AX30:BA30,\"ja\")","v":0},null,{"$f":"IF(AND(+BD30=AW30,BD30=0),0,1)","v":0},{"$f":"IF(+BH30=1,1,0)","v":0},{"$f":"IF(+AE$25<U$18,IF(AND(BC30=\"nee\",BD30=1),1,0),IF(BC30=\"ja\",1,0))","v":0},{"$f":"+B30","v":" "},null,{"$f":"IF(ISNA(VLOOKUP(B30,'resultaten immissietoets'!A$28:AO$84,41,FALSE))=FALSE,VLOOKUP(B30,'resultaten immissietoets'!A$28:AO$84,41,FALSE),0)","v":0},null,null,null,null,null,null,null,null,null,null,null,null,null,{"$f":"IF(B30<>\" \",U30*L30,0)","v":0},{"$f":"IF(AND(B30<>\" \",OR(+'beoordeling maatregel'!Q30=\"ZZS\",S30=\"ja\")),U30*L30,0)","v":0},{"$f":"IF(AND(B30<>\" \",OR(B30=\"PFOS\",B30=\"PFOA\",B30=\"GENX\",B30=\"overige PFAS\",B30=\"6:2 FTS\")),+'beoordeling maatregel'!L30*'beoordeling maatregel'!U30,0)","v":0}]
[2,{"$f":"IF(A31<=N$27,VLOOKUP(2,'resultaten immissietoets'!AM$28:AN$84,2,FALSE),\" \")","v":" "},{"$f":"VLOOKUP(+$B31,'resultaten immissietoets'!$A$27:$AA$84,24,FALSE)","v":{"$error":"#N/A"}},{"$f":"IF(ISBLANK($B31)=FALSE,VLOOKUP(+$B31,'resultaten immissietoets'!$A$27:$AA$84,10,FALSE),\" \")","v":{"$error":"#N/A"}},{"$f":"VLOOKUP(+$B31,'resultaten immissietoets'!$A$27:$AA$84,26,FALSE)","v":{"$error":"#N/A"}},{"$f":"IF(ISBLANK($B31)=FALSE,VLOOKUP(+$B31,'resultaten immissietoets'!$A$27:$AI$84,35,FALSE),\" \")","v":{"$error":"#N/A"}},{"$f":"LOG(IF(ISNUMBER(VLOOKUP(+$B31,'resultaten immissietoets'!$A$27:$AE$84,2,FALSE))=TRUE,VLOOKUP(+$B31,'resultaten immissietoets'!$A$27:$AE$84,2,FALSE),1))","v":0},{"$f":"IF(ISBLANK(B31)=FALSE,VLOOKUP(+$B31,'resultaten immissietoets'!$A$27:$AE$84,31,FALSE),\" \")","v":{"$error":"#N/A"}},{"$f":"VLOOKUP(+$B31,'resultaten immissietoets'!$A$27:$AE$84,15,FALSE)","v":{"$error":"#N/A"}},{"$f":"IF(ISBLANK($B31)=FALSE,IF(K31>0,K31,\" \"),\" \")","v":{"$error":"#N/A"}},{"$f":"IF(ISBLANK($B31)=FALSE,VLOOKUP(+$B31,'resultaten immissietoets'!$A$27:$AI$84,29,FALSE),\" \")","v":{"$error":"#N/A"}},{"$f":"IF(AND(ISBLANK(B31)=FALSE,B31<>\" \"),N31*Y31*'resultaten immissietoets'!H$16*8760*3600/1000000,0)","v":0},{"$f":"IF(((1-AA31*AA$25)*Y31-D31)/+M$20/W31*+AM31<=0.1,\"ja\",\"nee\")","v":{"$error":"#VALUE!"}},{"$f":"IF(B31<>\" \",IF(N$9=\"nee\",IF(ISBLANK($B31)=FALSE,IF(AND('beschrijving lozing'!I$7=\"algemene regels\",+'beschrijving lozing'!I$19=\"nee\",ISNA(VLOOKUP(+$B31,'beschrijving lozing'!B$27:Q$78,15,FALSE))=FALSE),MAX(VLOOKUP(+B31,'beschrijving lozing'!B$27:Q$78,15,FALSE),VLOOKUP(+$B31,'resultaten immissietoets'!$A$27:$AO$84,41,FALSE)),VLOOKUP(+$B31,'resultaten immissietoets'!$A$27:$AO$84,41,FALSE)),\" \"),+P31),\" \")","v":" "},{"$f":"IF(AA31/100<N31,\"ja\",\"nee\")","v":"ja"},null,null,{"$f":"IF(AE31>U31,IF(M31=\"ja\",\"ja\",\"nee\"),\"nee\")","v":"nee"},{"$f":"IF(Q31=\"ZZS\",\"ja\",IF('ZZS-checker'!B31=1,\"ja\",\"nee\"))","v":"nee"},{"$f":"IF(AND(S31=\"ja\",AA31<N31),1,0)","v":0},0,{"$f":"IF(ISBLANK($B31)=FALSE,IF($AA31/100>=N31,\"ja\",\"nee\"),\" \")","v":"nee"},{"$f":"IF(ISBLANK($B31)=FALSE,IF(ISNA(VLOOKUP(+$B31,'resultaten immissietoets'!$A$27:$AO$84,14,FALSE))=FALSE,VLOOKUP(+$B31,'resultaten immissietoets'!$A$27:$AO$84,14,FALSE),\" \"),\" \")","v":" "},0.1,{"$f":"IF(AND(ISBLANK($B31)=FALSE,$B31<>\" \"),VLOOKUP(+$B31,'resultaten immissietoets'!$A$27:$BU$84,73,FALSE),\" \")","v":" "},{"$f":"IF(AND(AA31>N31,AE31>U31),1,0)","v":0},null,{"$f":"IF(ISBLANK(B31)=FALSE,IF(AA31>=BK31,\"ja\",\"nee\"),\" \")","v":"ja"},{"$f":"IF(B31<>\" \",IF(ISBLANK($B31)=FALSE,IF(AND(N$5=\"nieuw\",N$7=\"nee\",N$9=\"ja\"),P31,AA31*AA$25)*Y31/1000000*B$20*8760*3600,0),\" \")","v":" "},0,{"$f":"IF(AND(ISBLANK(B31)=FALSE,B31<>\" \"),IF(ISBLANK(N$25)=FALSE,IF(AE$27=\"ja\",+AD31/AD$71*U$18/AC31,U$18*AD31/AD$71/AC31),\" \"),0)","v":0},{"$f":"IF(ISBLANK(C31)=FALSE,IF(O31=\"ja\",IF(AE$27=\"ja\",Y31/AD$71*U$18,AQ31/AQ$72*U$18),U$18/AD31),\" \")","v":{"$error":"#DIV/0!"}},{"$f":"IF(ISBLANK(B31)=FALSE,IF(S31=\"ja\",CONCATENATE(IF(AND(N$22=\"nee\",AA31*AA$25<BK31),\"Er wordt NIET voldaan aan immissietoets-; \",\" \"),IF(U$18<AE$25,\"Het gaat om een ZZS-stof, verken verdergaande maatregelen om invulling te geven aan minimalisatieverplichting!\",\" \")),CONCATENATE(IF(AU31=\"ja\",\"het gaat om een potentiële ZZS-stof; \",\" \"),IF(AND(N$22=\"nee\",AA31*AA$25<BK31),\"Er wordt NIET voldaan aan immissietoets; \",\" \"),IF(AND(S31=\"nee\",N$22=\"ja\"),\" \",IF(N$22=\"ja\",IF(AW31=0,\" \",\"verken verdergaande maatregelen om lozing te beperken\"),\" \")))),\" \")","v":"   "},0,{"$f":"IF(AA31*AA$25<BK31,IF(AND(ISBLANK(B31)=FALSE,B31<>\" \"),IF(BC31=\"ja\",\"alleen sign-toets voldoet niet\",CONCATENATE(IF(AX31=\"ja\",\"sign-toets; \",\" \"),IF(AY31=\"ja\",\"normtoets; \",\" \"),IF(AZ31=\"ja\",\"KRW-toets; \",\" \"),IF(BA31=\"ja\",\"drinkwatertoets\",\" \"),IF(AND(AX31=\"nee\",AY31=\"nee\",AZ31=\"nee\",BA31=\"nee\"),\" \",IF(BD31>1,\" voldoen niet\",\" voldoet niet\")))),\" \"),\" \")","v":" "},null," ",{"$f":"IF(B31<> \" \",IF(AA31*AA$25>=N31,0,(N31-AA$25*AA31)),\" \")","v":" "},{"$f":"IF(AND(ISBLANK(B31)=FALSE,B31<>\" \"),VLOOKUP(+$B31,'resultaten immissietoets'!$A$27:$BK$84,63,FALSE),\" \")","v":" "},1,{"$f":"AC31/W31/(AC31/W31+AC30/W30)*U$18","v":{"$error":"#VALUE!"}},{"$f":"AO31/AC31","v":{"$error":"#VALUE!"}},{"$f":"IF(N$27>=2,AC31/W31,0)","v":0},null,null,null,{"$f":"IF('pot-ZZS-checker'!B16>0,\"ja\",\"nee\")","v":"nee"},1,0," ",{"$f":"IF(AND(ISBLANK(B31)=FALSE,B31<>\" \"),IF(D31<W31,IF(+D31+IF(U$22=\"ja\",1/(1+U$25*0.000001*10^G31),1)*((1-AA31*AA$25)*Y31-D31)/+M$20<=W31,\"nee\",\"ja\"),\"nee\"),\" \")","v":" "},{"$f":"IF(AND(ISBLANK(B31)=FALSE,B31<>\" \"),IF(D31<W31,IF(D31+((1-AA31/100)*Y31-D31)/'resultaten immissietoets'!J$24*IF(U$22=\"ja\",1/(1+U$25*0.000001*10^G31),1)<W31,\"nee\",\"ja\"),IF(((1-AA31)*Y31-D31)/'resultaten immissietoets'!J$24*IF(U$22=\"ja\",1/(1+U$25*0.000001*10^G31),1)<=I31,\"nee\",\"ja\")),\" \")","v":" "},{"$f":"IF(ISBLANK(B31)=FALSE,IF(BA$25=\"ja\",IF(J31=\" \",IF(D31+((1-AA31/100)*Y31-D31)/Q$20*IF(U$22=\"ja\",1/(1+U$25*0.000001*10^G31),1)<=1,\"nee\",\"ja\"),IF(D31+((1-AA31/100)*Y31-D31)/Q$20*IF(U$22=\"ja\",1/(1+U$25*0.000001*10^G31),1)<='resultaten immissietoets'!AD29,\"nee\",\"ja\")),\"nee\"),\" \")","v":"nee"},null,"nee",0,null,{"$f":"IF(AND(+BD31=AW31,BD31=0),0,1)","v":0},{"$f":"IF(AND(BH29>BG30,BH31=1),BG30+1,0)","v":0},0," ",null,{"$f":"IF(ISNA(VLOOKUP(B31,'resultaten immissietoets'!A$28:AO$84,41,FALSE))=FALSE,VLOOKUP(B31,'resultaten immissietoets'!A$28:AO$84,41,FALSE),0)","v":0},null,null,null,null,null,null,null,null,null,null,null,null,null,0,{"$f":"IF(AND(B31<>\" \",OR(+'beoordeling maatregel'!Q31=\"ZZS\",S31=\"ja\")),U31*L31,0)","v":0},{"$f":"IF(AND(B31<>\" \",OR(B31=\"PFOS\",B31=\"PFOA\",B31=\"GENX\",B31=\"overige PFAS\",B31=\"6:2 FTS\")),+'beoordeling maatregel'!L31*'beoordeling maatregel'!U31,0)","v":0}]
[3,{"$f":"IF(A32<=N$27,VLOOKUP(3,'resultaten immissietoets'!AM$28:AN$84,2,FALSE),\" \")","v":" "},{"$f":"VLOOKUP(+$B32,'resultaten immissietoets'!$A$27:$AA$84,24,FALSE)","v":{"$error":"#N/A"}},{"$f":"IF(ISBLANK($B32)=FALSE,VLOOKUP(+$B32,'resultaten immissietoets'!$A$27:$AA$84,10,FALSE),\" \")","v":{"$error":"#N/A"}},{"$f":"VLOOKUP(+$B32,'resultaten immissietoets'!$A$27:$AA$84,26,FALSE)","v":{"$error":"#N/A"}},{"$f":"IF(ISBLANK($B32)=FALSE,VLOOKUP(+$B32,'resultaten immissietoets'!$A$27:$AI$84,35,FALSE),\" \")","v":{"$error":"#N/A"}},{"$f":"LOG(IF(ISNUMBER(VLOOKUP(+$B32,'resultaten immissietoets'!$A$27:$AE$84,2,FALSE))=TRUE,VLOOKUP(+$B32,'resultaten immissietoets'!$A$27:$AE$84,2,FALSE),1))","v":0},{"$f":"IF(ISBLANK(B32)=FALSE,VLOOKUP(+$B32,'resultaten immissietoets'!$A$27:$AE$84,31,FALSE),\" \")","v":{"$error":"#N/A"}},{"$f":"VLOOKUP(+$B32,'resultaten immissietoets'!$A$27:$AE$84,15,FALSE)","v":{"$error":"#N/A"}},{"$error":"#N/A"},{"$f":"IF(ISBLANK($B32)=FALSE,VLOOKUP(+$B32,'resultaten immissietoets'!$A$27:$AI$84,29,FALSE),\" \")","v":{"$error":"#N/A"}},{"$f":"IF(AND(ISBLANK(B32)=FALSE,B32<>\" \"),N32*Y32*'resultaten immissietoets'!H$16*8760*3600/1000000,0)","v":0},{"$error":"#VALUE!"},{"$f":"IF(B32<>\" \",IF(N$9=\"nee\",IF(ISBLANK($B32)=FALSE,IF(AND('beschrijving lozing'!I$7=\"algemene regels\",+'beschrijving lozing'!I$19=\"nee\",ISNA(VLOOKUP(+$B32,'beschrijving lozing'!B$27:Q$78,15,FALSE))=FALSE),MAX(VLOOKUP(+B32,'beschrijving lozing'!B$27:Q$78,15,FALSE),VLOOKUP(+$B32,'resultaten immissietoets'!$A$27:$AO$84,41,FALSE)),VLOOKUP(+$B32,'resultaten immissietoets'!$A$27:$AO$84,41,FALSE)),\" \"),+P32),\" \")","v":" "},{"$f":"IF(AA32/100<N32,\"ja\",\"nee\")","v":"ja"},null,null,"nee",{"$f":"IF(Q32=\"ZZS\",\"ja\",IF('ZZS-checker'!B32=1,\"ja\",\"nee\"))","v":"nee"},{"$f":"IF(AND(S32=\"ja\",AA32<N32),1,0)","v":0},0,{"$f":"IF(ISBLANK($B32)=FALSE,IF($AA32/100>=N32,\"ja\",\"nee\"),\" \")","v":"nee"},{"$f":"IF(ISBLANK($B32)=FALSE,IF(ISNA(VLOOKUP(+$B32,'resultaten immissietoets'!$A$27:$AO$84,14,FALSE))=FALSE,VLOOKUP(+$B32,'resultaten immissietoets'!$A$27:$AO$84,14,FALSE),\" \"),\" \")","v":" "},null,{"$f":"IF(AND(ISBLANK($B32)=FALSE,$B32<>\" \"),VLOOKUP(+$B32,'resultaten immissietoets'!$A$27:$BU$84,73,FALSE),\" \")","v":" "},{"$f":"IF(AND(AA32>N32,AE32>U32),1,0)","v":0},null,"ja"," ",0,0,{"$f":"IF(ISBLANK(C32)=FALSE,IF(O27=\"ja\",IF(AF$27=\"ja\",Z32/AE$71*V$18,AR32/AR$72*V$18),V$18/AD32),\" \")","v":{"$error":"#DIV/0!"}},"   ",0," ",null," "," ",{"$f":"IF(AND(ISBLANK(B32)=FALSE,B32<>\" \"),VLOOKUP(+$B32,'resultaten immissietoets'!$A$27:$BK$84,63,FALSE),\" \")","v":" "},2,null,null,{"$f":"IF(N$27>=3,AC32/W32,0)","v":0},null,null,null,{"$f":"IF('pot-ZZS-checker'!B17>0,\"ja\",\"nee\")","v":"nee"},1,0," "," ",{"$f":"IF(AND(ISBLANK(B32)=FALSE,B32<>\" \"),IF(D32<W32,IF(D32+((1-AA32/100)*Y32-D32)/'resultaten immissietoets'!J$24*IF(U$22=\"ja\",1/(1+U$25*0.000001*10^G32),1)<W32,\"nee\",\"ja\"),IF(((1-AA32)*Y32-D32)/'resultaten immissietoets'!J$24*IF(U$22=\"ja\",1/(1+U$25*0.000001*10^G32),1)<=I32,\"nee\",\"ja\")),\" \")","v":" "},{"$f":"IF(ISBLANK(B32)=FALSE,IF(BA$25=\"ja\",IF(J32=\" \",IF(D32+((1-AA32/100)*Y32-D32)/Q$20*IF(U$22=\"ja\",1/(1+U$25*0.000001*10^G32),1)<=1,\"nee\",\"ja\"),IF(D32+((1-AA32/100)*Y32-D32)/Q$20*IF(U$22=\"ja\",1/(1+U$25*0.000001*10^G32),1)<='resultaten immissietoets'!AD30,\"nee\",\"ja\")),\"nee\"),\" \")","v":"nee"},null,"nee",0,null,0,null,0," ",null,{"$f":"IF(ISNA(VLOOKUP(B32,'resultaten immissietoets'!A$28:AO$84,41,FALSE))=FALSE,VLOOKUP(B32,'resultaten immissietoets'!A$28:AO$84,41,FALSE),0)","v":0},null,null,null,null,null,null,null,null,null,null,null,null,null,0,{"$f":"IF(AND(B32<>\" \",OR(+'beoordeling maatregel'!Q32=\"ZZS\",S32=\"ja\")),U32*L32,0)","v":0},{"$f":"IF(AND(B32<>\" \",OR(B32=\"PFOS\",B32=\"PFOA\",B32=\"GENX\",B32=\"overige PFAS\",B32=\"6:2 FTS\")),+'beoordeling maatregel'!L32*'beoordeling maatregel'!U32,0)","v":0}]
[4,{"$f":"IF(A33<=N$27,VLOOKUP(A32+1,'resultaten immissietoets'!AM$28:AN$84,2,FALSE),\" \")","v":" "},{"$f":"VLOOKUP(+$B33,'resultaten immissietoets'!$A$27:$AA$84,24,FALSE)","v":{"$error":"#N/A"}},{"$f":"IF(ISBLANK($B33)=FALSE,VLOOKUP(+$B33,'resultaten immissietoets'!$A$27:$AA$84,10,FALSE),\" \")","v":{"$error":"#N/A"}},{"$f":"VLOOKUP(+$B33,'resultaten immissietoets'!$A$27:$AA$84,26,FALSE)","v":{"$error":"#N/A"}},{"$f":"IF(ISBLANK($B33)=FALSE,VLOOKUP(+$B33,'resultaten immissietoets'!$A$27:$AI$84,35,FALSE),\" \")","v":{"$error":"#N/A"}},{"$f":"LOG(IF(ISNUMBER(VLOOKUP(+$B33,'resultaten immissietoets'!$A$27:$AE$84,2,FALSE))=TRUE,VLOOKUP(+$B33,'resultaten immissietoets'!$A$27:$AE$84,2,FALSE),1))","v":0},{"$f":"IF(ISBLANK(B33)=FALSE,VLOOKUP(+$B33,'resultaten immissietoets'!$A$27:$AE$84,31,FALSE),\" \")","v":{"$error":"#N/A"}},{"$f":"VLOOKUP(+$B33,'resultaten immissietoets'!$A$27:$AE$84,15,FALSE)","v":{"$error":"#N/A"}},{"$error":"#N/A"},{"$f":"IF(ISBLANK($B33)=FALSE,VLOOKUP(+$B33,'resultaten immissietoets'!$A$27:$AI$84,29,FALSE),\" \")","v":{"$error":"#N/A"}},{"$f":"IF(AND(ISBLANK(B33)=FALSE,B33<>\" \"),N33*Y33*'resultaten immissietoets'!H$16*8760*3600/1000000,0)","v":0},{"$error":"#VALUE!"},{"$f":"IF(B33<>\" \",IF(N$9=\"nee\",IF(ISBLANK($B33)=FALSE,IF(AND('beschrijving lozing'!I$7=\"algemene regels\",+'beschrijving lozing'!I$19=\"nee\",ISNA(VLOOKUP(+$B33,'beschrijving lozing'!B$27:Q$78,15,FALSE))=FALSE),MAX(VLOOKUP(+B33,'beschrijving lozing'!B$27:Q$78,15,FALSE),VLOOKUP(+$B33,'resultaten immissietoets'!$A$27:$AO$84,41,FALSE)),VLOOKUP(+$B33,'resultaten immissietoets'!$A$27:$AO$84,41,FALSE)),\" \"),+P33),\" \")","v":" "},"ja",null,null,"nee",{"$f":"IF(Q33=\"ZZS\",\"ja\",IF('ZZS-checker'!B33=1,\"ja\",\"nee\"))","v":"nee"},0,0,"nee",{"$f":"IF(ISBLANK($B33)=FALSE,IF(ISNA(VLOOKUP(+$B33,'resultaten immissietoets'!$A$27:$AO$84,14,FALSE))=FALSE,VLOOKUP(+$B33,'resultaten immissietoets'!$A$27:$AO$84,14,FALSE),\" \"),\" \")","v":" "},null,{"$f":"IF(AND(ISBLANK($B33)=FALSE,$B33<>\" \"),VLOOKUP(+$B33,'resultaten immissietoets'!$A$27:$BU$84,73,FALSE),\" \")","v":" "},0,null,"ja"," ",0,0,{"$error":"#DIV/0!"},"   ",0," ",null," "," ",{"$f":"IF(AND(ISBLANK(B33)=FALSE,B33<>\" \"),VLOOKUP(+$B33,'resultaten immissietoets'!$A$27:$BK$84,63,FALSE),\" \")","v":" "},3,null,null,{"$f":"IF(N$27>=4,AC33/W33,0)","v":0},null,null,null,{"$f":"IF('pot-ZZS-checker'!B18>0,\"ja\",\"nee\")","v":"nee"},1,0," "," ",{"$f":"IF(AND(ISBLANK(B33)=FALSE,B33<>\" \"),IF(D33<W33,IF(D33+((1-AA33/100)*Y33-D33)/'resultaten immissietoets'!J$24*IF(U$22=\"ja\",1/(1+U$25*0.000001*10^G33),1)<W33,\"nee\",\"ja\"),IF(((1-AA33)*Y33-D33)/'resultaten immissietoets'!J$24*IF(U$22=\"ja\",1/(1+U$25*0.000001*10^G33),1)<=I33,\"nee\",\"ja\")),\" \")","v":" "},{"$f":"IF(ISBLANK(B33)=FALSE,IF(BA$25=\"ja\",IF(J33=\" \",IF(D33+((1-AA33/100)*Y33-D33)/Q$20*IF(U$22=\"ja\",1/(1+U$25*0.000001*10^G33),1)<=1,\"nee\",\"ja\"),IF(D33+((1-AA33/100)*Y33-D33)/Q$20*IF(U$22=\"ja\",1/(1+U$25*0.000001*10^G33),1)<='resultaten immissietoets'!AD31,\"nee\",\"ja\")),\"nee\"),\" \")","v":"nee"},null,"nee",0,null,0,null,0," ",null,{"$f":"IF(ISNA(VLOOKUP(B33,'resultaten immissietoets'!A$28:AO$84,41,FALSE))=FALSE,VLOOKUP(B33,'resultaten immissietoets'!A$28:AO$84,41,FALSE),0)","v":0},null,null,null,null,null,null,null,null,null,null,null,null,null,0,{"$f":"IF(AND(B33<>\" \",OR(+'beoordeling maatregel'!Q33=\"ZZS\",S33=\"ja\")),U33*L33,0)","v":0},{"$f":"IF(AND(B33<>\" \",OR(B33=\"PFOS\",B33=\"PFOA\",B33=\"GENX\",B33=\"overige PFAS\",B33=\"6:2 FTS\")),+'beoordeling maatregel'!L33*'beoordeling maatregel'!U33,0)","v":0}]
[5,{"$f":"IF(A34<=N$27,VLOOKUP(A33+1,'resultaten immissietoets'!AM$28:AN$84,2,FALSE),\" \")","v":" "},{"$f":"VLOOKUP(+$B34,'resultaten immissietoets'!$A$27:$AA$84,24,FALSE)","v":{"$error":"#N/A"}},{"$f":"IF(ISBLANK($B34)=FALSE,VLOOKUP(+$B34,'resultaten immissietoets'!$A$27:$AA$84,10,FALSE),\" \")","v":{"$error":"#N/A"}},{"$f":"VLOOKUP(+$B34,'resultaten immissietoets'!$A$27:$AA$84,26,FALSE)","v":{"$error":"#N/A"}},{"$f":"IF(ISBLANK($B34)=FALSE,VLOOKUP(+$B34,'resultaten immissietoets'!$A$27:$AI$84,35,FALSE),\" \")","v":{"$error":"#N/A"}},{"$f":"LOG(IF(ISNUMBER(VLOOKUP(+$B34,'resultaten immissietoets'!$A$27:$AE$84,2,FALSE))=TRUE,VLOOKUP(+$B34,'resultaten immissietoets'!$A$27:$AE$84,2,FALSE),1))","v":0},{"$f":"IF(ISBLANK(B34)=FALSE,VLOOKUP(+$B34,'resultaten immissietoets'!$A$27:$AE$84,31,FALSE),\" \")","v":{"$error":"#N/A"}},{"$f":"VLOOKUP(+$B34,'resultaten immissietoets'!$A$27:$AE$84,15,FALSE)","v":{"$error":"#N/A"}},{"$error":"#N/A"},{"$f":"IF(ISBLANK($B34)=FALSE,VLOOKUP(+$B34,'resultaten immissietoets'!$A$27:$AI$84,29,FALSE),\" \")","v":{"$error":"#N/A"}},{"$f":"IF(AND(ISBLANK(B34)=FALSE,B34<>\" \"),N34*Y34*'resultaten immissietoets'!H$16*8760*3600/1000000,0)","v":0},{"$error":"#VALUE!"},{"$f":"IF(B34<>\" \",IF(N$9=\"nee\",IF(ISBLANK($B34)=FALSE,IF(AND('beschrijving lozing'!I$7=\"algemene regels\",+'beschrijving lozing'!I$19=\"nee\",ISNA(VLOOKUP(+$B34,'beschrijving lozing'!B$27:Q$78,15,FALSE))=FALSE),MAX(VLOOKUP(+B34,'beschrijving lozing'!B$27:Q$78,15,FALSE),VLOOKUP(+$B34,'resultaten immissietoets'!$A$27:$AO$84,41,FALSE)),VLOOKUP(+$B34,'resultaten immissietoets'!$A$27:$AO$84,41,FALSE)),\" \"),+P34),\" \")","v":" "},"ja",null,null,"nee",{"$f":"IF(Q34=\"ZZS\",\"ja\",IF('ZZS-checker'!B34=1,\"ja\",\"nee\"))","v":"nee"},0,0,"nee",{"$f":"IF(ISBLANK($B34)=FALSE,IF(ISNA(VLOOKUP(+$B34,'resultaten immissietoets'!$A$27:$AO$84,14,FALSE))=FALSE,VLOOKUP(+$B34,'resultaten immissietoets'!$A$27:$AO$84,14,FALSE),\" \"),\" \")","v":" "},null,{"$f":"IF(AND(ISBLANK($B34)=FALSE,$B34<>\" \"),VLOOKUP(+$B34,'resultaten immissietoets'!$A$27:$BU$84,73,FALSE),\" \")","v":" "},0,null,"ja"," ",0,0,{"$error":"#DIV/0!"},"   ",0," ",null," "," ",{"$f":"IF(AND(ISBLANK(B34)=FALSE,B34<>\" \"),VLOOKUP(+$B34,'resultaten immissietoets'!$A$27:$BK$84,63,FALSE),\" \")","v":" "},4,null,null,{"$f":"IF(N$27>=5,AC34/W34,0)","v":0},null,null,null,{"$f":"IF('pot-ZZS-checker'!B19>0,\"ja\",\"nee\")","v":"nee"},1,0," "," ",{"$f":"IF(AND(ISBLANK(B34)=FALSE,B34<>\" \"),IF(D34<W34,IF(D34+((1-AA34/100)*Y34-D34)/'resultaten immissietoets'!J$24*IF(U$22=\"ja\",1/(1+U$25*0.000001*10^G34),1)<W34,\"nee\",\"ja\"),IF(((1-AA34)*Y34-D34)/'resultaten immissietoets'!J$24*IF(U$22=\"ja\",1/(1+U$25*0.000001*10^G34),1)<=I34,\"nee\",\"ja\")),\" \")","v":" "},{"$f":"IF(ISBLANK(B34)=FALSE,IF(BA$25=\"ja\",IF(J34=\" \",IF(D34+((1-AA34/100)*Y34-D34)/Q$20*IF(U$22=\"ja\",1/(1+U$25*0.000001*10^G34),1)<=1,\"nee\",\"ja\"),IF(D34+((1-AA34/100)*Y34-D34)/Q$20*IF(U$22=\"ja\",1/(1+U$25*0.000001*10^G34),1)<='resultaten immissietoets'!AD32,\"nee\",\"ja\")),\"nee\"),\" \")","v":"nee"},null,"nee",0,null,null,null,0," ",null,{"$f":"IF(ISNA(VLOOKUP(B34,'resultaten immissietoets'!A$28:AO$84,41,FALSE))=FALSE,VLOOKUP(B34,'resultaten immissietoets'!A$28:AO$84,41,FALSE),0)","v":0},null,null,null,null,null,null,null,null,null,null,null,null,null,0,{"$f":"IF(AND(B34<>\" \",OR(+'beoordeling maatregel'!Q34=\"ZZS\",S34=\"ja\")),U34*L34,0)","v":0},{"$f":"IF(AND(B34<>\" \",OR(B34=\"PFOS\",B34=\"PFOA\",B34=\"GENX\",B34=\"overige PFAS\",B34=\"6:2 FTS\")),+'beoordeling maatregel'!L34*'beoordeling maatregel'!U34,0)","v":0}]
[6,{"$f":"IF(A35<=N$27,VLOOKUP(A34+1,'resultaten immissietoets'!AM$28:AN$84,2,FALSE),\" \")","v":" "},{"$f":"VLOOKUP(+$B35,'resultaten immissietoets'!$A$27:$AA$84,24,FALSE)","v":{"$error":"#N/A"}},{"$f":"IF(ISBLANK($B35)=FALSE,VLOOKUP(+$B35,'resultaten immissietoets'!$A$27:$AA$84,10,FALSE),\" \")","v":{"$error":"#N/A"}},{"$f":"VLOOKUP(+$B35,'resultaten immissietoets'!$A$27:$AA$84,26,FALSE)","v":{"$error":"#N/A"}},{"$f":"IF(ISBLANK($B35)=FALSE,VLOOKUP(+$B35,'resultaten immissietoets'!$A$27:$AI$84,35,FALSE),\" \")","v":{"$error":"#N/A"}},{"$f":"LOG(IF(ISNUMBER(VLOOKUP(+$B35,'resultaten immissietoets'!$A$27:$AE$84,2,FALSE))=TRUE,VLOOKUP(+$B35,'resultaten immissietoets'!$A$27:$AE$84,2,FALSE),1))","v":0},{"$f":"IF(ISBLANK(B35)=FALSE,VLOOKUP(+$B35,'resultaten immissietoets'!$A$27:$AE$84,31,FALSE),\" \")","v":{"$error":"#N/A"}},{"$f":"VLOOKUP(+$B35,'resultaten immissietoets'!$A$27:$AE$84,15,FALSE)","v":{"$error":"#N/A"}},{"$error":"#N/A"},{"$f":"IF(ISBLANK($B35)=FALSE,VLOOKUP(+$B35,'resultaten immissietoets'!$A$27:$AI$84,29,FALSE),\" \")","v":{"$error":"#N/A"}},{"$f":"IF(AND(ISBLANK(B35)=FALSE,B35<>\" \"),N35*Y35*'resultaten immissietoets'!H$16*8760*3600/1000000,0)","v":0},{"$error":"#VALUE!"},{"$f":"IF(B35<>\" \",IF(N$9=\"nee\",IF(ISBLANK($B35)=FALSE,IF(AND('beschrijving lozing'!I$7=\"algemene regels\",+'beschrijving lozing'!I$19=\"nee\",ISNA(VLOOKUP(+$B35,'beschrijving lozing'!B$27:Q$78,15,FALSE))=FALSE),MAX(VLOOKUP(+B35,'beschrijving lozing'!B$27:Q$78,15,FALSE),VLOOKUP(+$B35,'resultaten immissietoets'!$A$27:$AO$84,41,FALSE)),VLOOKUP(+$B35,'resultaten immissietoets'!$A$27:$AO$84,41,FALSE)),\" \"),+P35),\" \")","v":" "},"ja",null,null,"nee",{"$f":"IF(Q35=\"ZZS\",\"ja\",IF('ZZS-checker'!B35=1,\"ja\",\"nee\"))","v":"nee"},0,0,"nee",{"$f":"IF(ISBLANK($B35)=FALSE,IF(ISNA(VLOOKUP(+$B35,'resultaten immissietoets'!$A$27:$AO$84,14,FALSE))=FALSE,VLOOKUP(+$B35,'resultaten immissietoets'!$A$27:$AO$84,14,FALSE),\" \"),\" \")","v":" "},null,{"$f":"IF(AND(ISBLANK($B35)=FALSE,$B35<>\" \"),VLOOKUP(+$B35,'resultaten immissietoets'!$A$27:$BU$84,73,FALSE),\" \")","v":" "},0,null,"ja"," ",0,0,{"$error":"#DIV/0!"},"   ",0," ",null," ",{"$f":"IF(AND(ISBLANK(B38)=FALSE,B38<>\" \"),IF(AE38<U38,\"ja\",\"nee\"),\" \")","v":" "},{"$f":"IF(AND(ISBLANK(B35)=FALSE,B35<>\" \"),VLOOKUP(+$B35,'resultaten immissietoets'!$A$27:$BK$84,63,FALSE),\" \")","v":" "},5,null,null,{"$f":"IF(N$27>=6,AC35/W35,0)","v":0},null,null,null,{"$f":"IF('pot-ZZS-checker'!B20>0,\"ja\",\"nee\")","v":"nee"},1,0," "," ",{"$f":"IF(AND(ISBLANK(B35)=FALSE,B35<>\" \"),IF(D35<W35,IF(D35+((1-AA35/100)*Y35-D35)/'resultaten immissietoets'!J$24*IF(U$22=\"ja\",1/(1+U$25*0.000001*10^G35),1)<W35,\"nee\",\"ja\"),IF(((1-AA35)*Y35-D35)/'resultaten immissietoets'!J$24*IF(U$22=\"ja\",1/(1+U$25*0.000001*10^G35),1)<=I35,\"nee\",\"ja\")),\" \")","v":" "},{"$f":"IF(ISBLANK(B35)=FALSE,IF(BA$25=\"ja\",IF(J35=\" \",IF(D35+((1-AA35/100)*Y35-D35)/Q$20*IF(U$22=\"ja\",1/(1+U$25*0.000001*10^G35),1)<=1,\"nee\",\"ja\"),IF(D35+((1-AA35/100)*Y35-D35)/Q$20*IF(U$22=\"ja\",1/(1+U$25*0.000001*10^G35),1)<='resultaten immissietoets'!AD33,\"nee\",\"ja\")),\"nee\"),\" \")","v":"nee"},null,"nee",0,null,null,null,0," ",null,{"$f":"IF(ISNA(VLOOKUP(B35,'resultaten immissietoets'!A$28:AO$84,41,FALSE))=FALSE,VLOOKUP(B35,'resultaten immissietoets'!A$28:AO$84,41,FALSE),0)","v":0},null,null,null,null,null,null,null,null,null,null,null,null,null,0,{"$f":"IF(AND(B35<>\" \",OR(+'beoordeling maatregel'!Q35=\"ZZS\",S35=\"ja\")),U35*L35,0)","v":0},{"$f":"IF(AND(B35<>\" \",OR(B35=\"PFOS\",B35=\"PFOA\",B35=\"GENX\",B35=\"overige PFAS\",B35=\"6:2 FTS\")),+'beoordeling maatregel'!L35*'beoordeling maatregel'!U35,0)","v":0}]
[7,{"$f":"IF(A36<=N$27,VLOOKUP(A35+1,'resultaten immissietoets'!AM$28:AN$84,2,FALSE),\" \")","v":" "},{"$f":"VLOOKUP(+$B36,'resultaten immissietoets'!$A$27:$AA$84,24,FALSE)","v":{"$error":"#N/A"}},{"$f":"IF(ISBLANK($B36)=FALSE,VLOOKUP(+$B36,'resultaten immissietoets'!$A$27:$AA$84,10,FALSE),\" \")","v":{"$error":"#N/A"}},{"$f":"VLOOKUP(+$B36,'resultaten immissietoets'!$A$27:$AA$84,26,FALSE)","v":{"$error":"#N/A"}},{"$f":"IF(ISBLANK($B36)=FALSE,VLOOKUP(+$B36,'resultaten immissietoets'!$A$27:$AI$84,35,FALSE),\" \")","v":{"$error":"#N/A"}},{"$f":"LOG(IF(ISNUMBER(VLOOKUP(+$B36,'resultaten immissietoets'!$A$27:$AE$84,2,FALSE))=TRUE,VLOOKUP(+$B36,'resultaten immissietoets'!$A$27:$AE$84,2,FALSE),1))","v":0},{"$f":"IF(ISBLANK(B36)=FALSE,VLOOKUP(+$B36,'resultaten immissietoets'!$A$27:$AE$84,31,FALSE),\" \")","v":{"$error":"#N/A"}},{"$f":"VLOOKUP(+$B36,'resultaten immissietoets'!$A$27:$AE$84,15,FALSE)","v":{"$error":"#N/A"}},{"$error":"#N/A"},{"$f":"IF(ISBLANK($B36)=FALSE,VLOOKUP(+$B36,'resultaten immissietoets'!$A$27:$AI$84,29,FALSE),\" \")","v":{"$error":"#N/A"}},{"$f":"IF(AND(ISBLANK(B36)=FALSE,B36<>\" \"),N36*Y36*'resultaten immissietoets'!H$16*8760*3600/1000000,0)","v":0},{"$error":"#VALUE!"},{"$f":"IF(B36<>\" \",IF(N$9=\"nee\",IF(ISBLANK($B36)=FALSE,IF(AND('beschrijving lozing'!I$7=\"algemene regels\",+'beschrijving lozing'!I$19=\"nee\",ISNA(VLOOKUP(+$B36,'beschrijving lozing'!B$27:Q$78,15,FALSE))=FALSE),MAX(VLOOKUP(+B36,'beschrijving lozing'!B$27:Q$78,15,FALSE),VLOOKUP(+$B36,'resultaten immissietoets'!$A$27:$AO$84,41,FALSE)),VLOOKUP(+$B36,'resultaten immissietoets'!$A$27:$AO$84,41,FALSE)),\" \"),+P36),\" \")","v":" "},"ja",null,null,"nee",{"$f":"IF(Q36=\"ZZS\",\"ja\",IF('ZZS-checker'!B36=1,\"ja\",\"nee\"))","v":"nee"},0,0,"nee",{"$f":"IF(ISBLANK($B36)=FALSE,IF(ISNA(VLOOKUP(+$B36,'resultaten immissietoets'!$A$27:$AO$84,14,FALSE))=FALSE,VLOOKUP(+$B36,'resultaten immissietoets'!$A$27:$AO$84,14,FALSE),\" \"),\" \")","v":" "},null,{"$f":"IF(AND(ISBLANK($B36)=FALSE,$B36<>\" \"),VLOOKUP(+$B36,'resultaten immissietoets'!$A$27:$BU$84,73,FALSE),\" \")","v":" "},0,null,"ja"," ",0,0,{"$error":"#DIV/0!"},"   ",0," ",null," "," ",{"$f":"IF(AND(ISBLANK(B36)=FALSE,B36<>\" \"),VLOOKUP(+$B36,'resultaten immissietoets'!$A$27:$BK$84,63,FALSE),\" \")","v":" "},6,null,null,{"$f":"IF(N$27>=7,AC36/W36,0)","v":0},null,null,null,{"$f":"IF('pot-ZZS-checker'!B21>0,\"ja\",\"nee\")","v":"nee"},1,0," "," ",{"$f":"IF(AND(ISBLANK(B36)=FALSE,B36<>\" \"),IF(D36<W36,IF(D36+((1-AA36/100)*Y36-D36)/'resultaten immissietoets'!J$24*IF(U$22=\"ja\",1/(1+U$25*0.000001*10^G36),1)<W36,\"nee\",\"ja\"),IF(((1-AA36)*Y36-D36)/'resultaten immissietoets'!J$24*IF(U$22=\"ja\",1/(1+U$25*0.000001*10^G36),1)<=I36,\"nee\",\"ja\")),\" \")","v":" "},{"$f":"IF(ISBLANK(B36)=FALSE,IF(BA$25=\"ja\",IF(J36=\" \",IF(D36+((1-AA36/100)*Y36-D36)/Q$20*IF(U$22=\"ja\",1/(1+U$25*0.000001*10^G36),1)<=1,\"nee\",\"ja\"),IF(D36+((1-AA36/100)*Y36-D36)/Q$20*IF(U$22=\"ja\",1/(1+U$25*0.000001*10^G36),1)<='resultaten immissietoets'!AD34,\"nee\",\"ja\")),\"nee\"),\" \")","v":"nee"},null,"nee",0,null,null,null,0," ",null,{"$f":"IF(ISNA(VLOOKUP(B36,'resultaten immissietoets'!A$28:AO$84,41,FALSE))=FALSE,VLOOKUP(B36,'resultaten immissietoets'!A$28:AO$84,41,FALSE),0)","v":0},null,null,null,null,null,null,null,null,null,null,null,null,null,0,{"$f":"IF(AND(B36<>\" \",OR(+'beoordeling maatregel'!Q36=\"ZZS\",S36=\"ja\")),U36*L36,0)","v":0},{"$f":"IF(AND(B36<>\" \",OR(B36=\"PFOS\",B36=\"PFOA\",B36=\"GENX\",B36=\"overige PFAS\",B36=\"6:2 FTS\")),+'beoordeling maatregel'!L36*'beoordeling maatregel'!U36,0)","v":0}]
[8,{"$f":"IF(A37<=N$27,VLOOKUP(A36+1,'resultaten immissietoets'!AM$28:AN$84,2,FALSE),\" \")","v":" "},{"$f":"VLOOKUP(+$B37,'resultaten immissietoets'!$A$27:$AA$84,24,FALSE)","v":{"$error":"#N/A"}},{"$f":"IF(ISBLANK($B37)=FALSE,VLOOKUP(+$B37,'resultaten immissietoets'!$A$27:$AA$84,10,FALSE),\" \")","v":{"$error":"#N/A"}},{"$f":"VLOOKUP(+$B37,'resultaten immissietoets'!$A$27:$AA$84,26,FALSE)","v":{"$error":"#N/A"}},{"$f":"IF(ISBLANK($B37)=FALSE,VLOOKUP(+$B37,'resultaten immissietoets'!$A$27:$AI$84,35,FALSE),\" \")","v":{"$error":"#N/A"}},{"$f":"LOG(IF(ISNUMBER(VLOOKUP(+$B37,'resultaten immissietoets'!$A$27:$AE$84,2,FALSE))=TRUE,VLOOKUP(+$B37,'resultaten immissietoets'!$A$27:$AE$84,2,FALSE),1))","v":0},{"$f":"IF(ISBLANK(B37)=FALSE,VLOOKUP(+$B37,'resultaten immissietoets'!$A$27:$AE$84,31,FALSE),\" \")","v":{"$error":"#N/A"}},{"$f":"VLOOKUP(+$B37,'resultaten immissietoets'!$A$27:$AE$84,15,FALSE)","v":{"$error":"#N/A"}},{"$error":"#N/A"},{"$f":"IF(ISBLANK($B37)=FALSE,VLOOKUP(+$B37,'resultaten immissietoets'!$A$27:$AI$84,29,FALSE),\" \")","v":{"$error":"#N/A"}},{"$f":"IF(AND(ISBLANK(B37)=FALSE,B37<>\" \"),N37*Y37*'resultaten immissietoets'!H$16*8760*3600/1000000,0)","v":0},{"$error":"#VALUE!"},{"$f":"IF(B37<>\" \",IF(N$9=\"nee\",IF(ISBLANK($B37)=FALSE,IF(AND('beschrijving lozing'!I$7=\"algemene regels\",+'beschrijving lozing'!I$19=\"nee\",ISNA(VLOOKUP(+$B37,'beschrijving lozing'!B$27:Q$78,15,FALSE))=FALSE),MAX(VLOOKUP(+B37,'beschrijving lozing'!B$27:Q$78,15,FALSE),VLOOKUP(+$B37,'resultaten immissietoets'!$A$27:$AO$84,41,FALSE)),VLOOKUP(+$B37,'resultaten immissietoets'!$A$27:$AO$84,41,FALSE)),\" \"),+P37),\" \")","v":" "},"ja",null,null,"nee",{"$f":"IF(Q37=\"ZZS\",\"ja\",IF('ZZS-checker'!B37=1,\"ja\",\"nee\"))","v":"nee"},0,0,"nee",{"$f":"IF(ISBLANK($B37)=FALSE,IF(ISNA(VLOOKUP(+$B37,'resultaten immissietoets'!$A$27:$AO$84,14,FALSE))=FALSE,VLOOKUP(+$B37,'resultaten immissietoets'!$A$27:$AO$84,14,FALSE),\" \"),\" \")","v":" "},null,{"$f":"IF(AND(ISBLANK($B37)=FALSE,$B37<>\" \"),VLOOKUP(+$B37,'resultaten immissietoets'!$A$27:$BU$84,73,FALSE),\" \")","v":" "},0,null,"ja"," ",0,0,{"$error":"#DIV/0!"},"   ",0," ",null," "," ",{"$f":"IF(AND(ISBLANK(B37)=FALSE,B37<>\" \"),VLOOKUP(+$B37,'resultaten immissietoets'!$A$27:$BK$84,63,FALSE),\" \")","v":" "},7,null,null,{"$f":"IF(N$27>=8,AC37/W37,0)","v":0},null,null,null,{"$f":"IF('pot-ZZS-checker'!B22>0,\"ja\",\"nee\")","v":"nee"},1,0," "," ",{"$f":"IF(AND(ISBLANK(B37)=FALSE,B37<>\" \"),IF(D37<W37,IF(D37+((1-AA37/100)*Y37-D37)/'resultaten immissietoets'!J$24*IF(U$22=\"ja\",1/(1+U$25*0.000001*10^G37),1)<W37,\"nee\",\"ja\"),IF(((1-AA37)*Y37-D37)/'resultaten immissietoets'!J$24*IF(U$22=\"ja\",1/(1+U$25*0.000001*10^G37),1)<=I37,\"nee\",\"ja\")),\" \")","v":" "},{"$f":"IF(ISBLANK(B37)=FALSE,IF(BA$25=\"ja\",IF(J37=\" \",IF(D37+((1-AA37/100)*Y37-D37)/Q$20*IF(U$22=\"ja\",1/(1+U$25*0.000001*10^G37),1)<=1,\"nee\",\"ja\"),IF(D37+((1-AA37/100)*Y37-D37)/Q$20*IF(U$22=\"ja\",1/(1+U$25*0.000001*10^G37),1)<='resultaten immissietoets'!AD35,\"nee\",\"ja\")),\"nee\"),\" \")","v":"nee"},null,"nee",0,null,null,null,0," ",null,{"$f":"IF(ISNA(VLOOKUP(B37,'resultaten immissietoets'!A$28:AO$84,41,FALSE))=FALSE,VLOOKUP(B37,'resultaten immissietoets'!A$28:AO$84,41,FALSE),0)","v":0},null,null,null,null,null,null,null,null,null,null,null,null,null,0,{"$f":"IF(AND(B37<>\" \",OR(+'beoordeling maatregel'!Q37=\"ZZS\",S37=\"ja\")),U37*L37,0)","v":0},{"$f":"IF(AND(B37<>\" \",OR(B37=\"PFOS\",B37=\"PFOA\",B37=\"GENX\",B37=\"overige PFAS\",B37=\"6:2 FTS\")),+'beoordeling maatregel'!L37*'beoordeling maatregel'!U37,0)","v":0}]
[9,{"$f":"IF(A38<=N$27,VLOOKUP(A37+1,'resultaten immissietoets'!AM$28:AN$84,2,FALSE),\" \")","v":" "},{"$f":"VLOOKUP(+$B38,'resultaten immissietoets'!$A$27:$AA$84,24,FALSE)","v":{"$error":"#N/A"}},{"$f":"IF(ISBLANK($B38)=FALSE,VLOOKUP(+$B38,'resultaten immissietoets'!$A$27:$AA$84,10,FALSE),\" \")","v":{"$error":"#N/A"}},{"$f":"VLOOKUP(+$B38,'resultaten immissietoets'!$A$27:$AA$84,26,FALSE)","v":{"$error":"#N/A"}},{"$f":"IF(ISBLANK($B38)=FALSE,VLOOKUP(+$B38,'resultaten immissietoets'!$A$27:$AI$84,35,FALSE),\" \")","v":{"$error":"#N/A"}},{"$f":"LOG(IF(ISNUMBER(VLOOKUP(+$B38,'resultaten immissietoets'!$A$27:$AE$84,2,FALSE))=TRUE,VLOOKUP(+$B38,'resultaten immissietoets'!$A$27:$AE$84,2,FALSE),1))","v":0},{"$f":"IF(ISBLANK(B38)=FALSE,VLOOKUP(+$B38,'resultaten immissietoets'!$A$27:$AE$84,31,FALSE),\" \")","v":{"$error":"#N/A"}},{"$f":"VLOOKUP(+$B38,'resultaten immissietoets'!$A$27:$AE$84,15,FALSE)","v":{"$error":"#N/A"}},{"$error":"#N/A"},{"$f":"IF(ISBLANK($B38)=FALSE,VLOOKUP(+$B38,'resultaten immissietoets'!$A$27:$AI$84,29,FALSE),\" \")","v":{"$error":"#N/A"}},{"$f":"IF(AND(ISBLANK(B38)=FALSE,B38<>\" \"),N38*Y38*'resultaten immissietoets'!H$16*8760*3600/1000000,0)","v":0},{"$error":"#VALUE!"},{"$f":"IF(B38<>\" \",IF(N$9=\"nee\",IF(ISBLANK($B38)=FALSE,IF(AND('beschrijving lozing'!I$7=\"algemene regels\",+'beschrijving lozing'!I$19=\"nee\",ISNA(VLOOKUP(+$B38,'beschrijving lozing'!B$27:Q$78,15,FALSE))=FALSE),MAX(VLOOKUP(+B38,'beschrijving lozing'!B$27:Q$78,15,FALSE),VLOOKUP(+$B38,'resultaten immissietoets'!$A$27:$AO$84,41,FALSE)),VLOOKUP(+$B38,'resultaten immissietoets'!$A$27:$AO$84,41,FALSE)),\" \"),+P38),\" \")","v":" "},"ja",null,null,"nee",{"$f":"IF(Q38=\"ZZS\",\"ja\",IF('ZZS-checker'!B38=1,\"ja\",\"nee\"))","v":"nee"},0,0,"nee",{"$f":"IF(ISBLANK($B38)=FALSE,IF(ISNA(VLOOKUP(+$B38,'resultaten immissietoets'!$A$27:$AO$84,14,FALSE))=FALSE,VLOOKUP(+$B38,'resultaten immissietoets'!$A$27:$AO$84,14,FALSE),\" \"),\" \")","v":" "},null,{"$f":"IF(AND(ISBLANK($B38)=FALSE,$B38<>\" \"),VLOOKUP(+$B38,'resultaten immissietoets'!$A$27:$BU$84,73,FALSE),\" \")","v":" "},0,null,"ja"," ",0,0,{"$error":"#DIV/0!"},"   ",0," ",null," "," ",{"$f":"IF(AND(ISBLANK(B38)=FALSE,B38<>\" \"),VLOOKUP(+$B38,'resultaten immissietoets'!$A$27:$BK$84,63,FALSE),\" \")","v":" "},8,null,null,{"$f":"IF(N$27>=9,AC38/W38,0)","v":0},null,null,null,{"$f":"IF('pot-ZZS-checker'!B23>0,\"ja\",\"nee\")","v":"nee"},1,0," "," ",{"$f":"IF(AND(ISBLANK(B38)=FALSE,B38<>\" \"),IF(D38<W38,IF(D38+((1-AA38/100)*Y38-D38)/'resultaten immissietoets'!J$24*IF(U$22=\"ja\",1/(1+U$25*0.000001*10^G38),1)<W38,\"nee\",\"ja\"),IF(((1-AA38)*Y38-D38)/'resultaten immissietoets'!J$24*IF(U$22=\"ja\",1/(1+U$25*0.000001*10^G38),1)<=I38,\"nee\",\"ja\")),\" \")","v":" "},{"$f":"IF(ISBLANK(B38)=FALSE,IF(BA$25=\"ja\",IF(J38=\" \",IF(D38+((1-AA38/100)*Y38-D38)/Q$20*IF(U$22=\"ja\",1/(1+U$25*0.000001*10^G38),1)<=1,\"nee\",\"ja\"),IF(D38+((1-AA38/100)*Y38-D38)/Q$20*IF(U$22=\"ja\",1/(1+U$25*0.000001*10^G38),1)<='resultaten immissietoets'!AD36,\"nee\",\"ja\")),\"nee\"),\" \")","v":"nee"},null,"nee",0,null,null,null,0," ",null,{"$f":"IF(ISNA(VLOOKUP(B38,'resultaten immissietoets'!A$28:AO$84,41,FALSE))=FALSE,VLOOKUP(B38,'resultaten immissietoets'!A$28:AO$84,41,FALSE),0)","v":0},null,null,null,null,null,null,null,null,null,null,null,null,null,0,{"$f":"IF(AND(B38<>\" \",OR(+'beoordeling maatregel'!Q38=\"ZZS\",S38=\"ja\")),U38*L38,0)","v":0},{"$f":"IF(AND(B38<>\" \",OR(B38=\"PFOS\",B38=\"PFOA\",B38=\"GENX\",B38=\"overige PFAS\",B38=\"6:2 FTS\")),+'beoordeling maatregel'!L38*'beoordeling maatregel'!U38,0)","v":0}]
[10,{"$f":"IF(A39<=N$27,VLOOKUP(A38+1,'resultaten immissietoets'!AM$28:AN$84,2,FALSE),\" \")","v":" "},{"$f":"VLOOKUP(+$B39,'resultaten immissietoets'!$A$27:$AA$84,24,FALSE)","v":{"$error":"#N/A"}},{"$f":"IF(ISBLANK($B39)=FALSE,VLOOKUP(+$B39,'resultaten immissietoets'!$A$27:$AA$84,10,FALSE),\" \")","v":{"$error":"#N/A"}},{"$f":"VLOOKUP(+$B39,'resultaten immissietoets'!$A$27:$AA$84,26,FALSE)","v":{"$error":"#N/A"}},{"$f":"IF(ISBLANK($B39)=FALSE,VLOOKUP(+$B39,'resultaten immissietoets'!$A$27:$AI$84,35,FALSE),\" \")","v":{"$error":"#N/A"}},{"$f":"LOG(IF(ISNUMBER(VLOOKUP(+$B39,'resultaten immissietoets'!$A$27:$AE$84,2,FALSE))=TRUE,VLOOKUP(+$B39,'resultaten immissietoets'!$A$27:$AE$84,2,FALSE),1))","v":0},{"$f":"IF(ISBLANK(B39)=FALSE,VLOOKUP(+$B39,'resultaten immissietoets'!$A$27:$AE$84,31,FALSE),\" \")","v":{"$error":"#N/A"}},{"$f":"VLOOKUP(+$B39,'resultaten immissietoets'!$A$27:$AE$84,15,FALSE)","v":{"$error":"#N/A"}},{"$error":"#N/A"},{"$f":"IF(ISBLANK($B39)=FALSE,VLOOKUP(+$B39,'resultaten immissietoets'!$A$27:$AI$84,29,FALSE),\" \")","v":{"$error":"#N/A"}},{"$f":"IF(AND(ISBLANK(B39)=FALSE,B39<>\" \"),N39*Y39*'resultaten immissietoets'!H$16*8760*3600/1000000,0)","v":0},{"$error":"#VALUE!"},{"$f":"IF(B39<>\" \",IF(N$9=\"nee\",IF(ISBLANK($B39)=FALSE,IF(AND('beschrijving lozing'!I$7=\"algemene regels\",+'beschrijving lozing'!I$19=\"nee\",ISNA(VLOOKUP(+$B39,'beschrijving lozing'!B$27:Q$78,15,FALSE))=FALSE),MAX(VLOOKUP(+B39,'beschrijving lozing'!B$27:Q$78,15,FALSE),VLOOKUP(+$B39,'resultaten immissietoets'!$A$27:$AO$84,41,FALSE)),VLOOKUP(+$B39,'resultaten immissietoets'!$A$27:$AO$84,41,FALSE)),\" \"),+P39),\" \")","v":" "},"ja",null,null,"nee",{"$f":"IF(Q39=\"ZZS\",\"ja\",IF('ZZS-checker'!B39=1,\"ja\",\"nee\"))","v":"nee"},0,0,"nee",{"$f":"IF(ISBLANK($B39)=FALSE,IF(ISNA(VLOOKUP(+$B39,'resultaten immissietoets'!$A$27:$AO$84,14,FALSE))=FALSE,VLOOKUP(+$B39,'resultaten immissietoets'!$A$27:$AO$84,14,FALSE),\" \"),\" \")","v":" "},null,{"$f":"IF(AND(ISBLANK($B39)=FALSE,$B39<>\" \"),VLOOKUP(+$B39,'resultaten immissietoets'!$A$27:$BU$84,73,FALSE),\" \")","v":" "},0,null,"ja"," ",0,0,{"$error":"#DIV/0!"},{"$f":"IF(ISBLANK(B39)=FALSE,IF(S39=\"ja\",CONCATENATE(IF(AND(N$22=\"nee\",AA39<BK39),\"Er wordt NIET voldaan aan immissietoets-; \",\" \"),IF(U$18<AE$25,\"Het gaat om een ZZS-stof, verken verdergaande maatregelen om invulling te geven aan minimalisatieverplichting!\",\" \")),CONCATENATE(IF(AU39=\"ja\",\"het gaat om een potentiële ZZS-stof; \",\" \"),IF(AND(N$22=\"nee\",AA39<BK39),\"Er wordt NIET voldaan aan immissietoets; \",\" \"),IF(AND(S39=\"nee\",N$22=\"ja\"),\" \",IF(N$22=\"ja\",IF(AW39=0,\" \",\"verken verdergaande maatregelen om lozing te beperken\"),\" \")))),\" \")","v":"   "},0,{"$f":"IF(AA39<BK39,IF(AND(ISBLANK(B39)=FALSE,B39<>\" \"),IF(BC39=\"ja\",\"alleen sign-toets voldoet niet\",CONCATENATE(IF(AX39=\"ja\",\"sign-toets; \",\" \"),IF(AY39=\"ja\",\"normtoets; \",\" \"),IF(AZ39=\"ja\",\"KRW-toets; \",\" \"),IF(BA39=\"ja\",\"drinkwatertoets\",\" \"),IF(AND(AX39=\"nee\",AY39=\"nee\",AZ39=\"nee\",BA39=\"nee\"),\" \",IF(BD39>1,\" voldoen niet\",\" voldoet niet\")))),\" \"),\" \")","v":" "},null," "," ",{"$f":"IF(AND(ISBLANK(B39)=FALSE,B39<>\" \"),VLOOKUP(+$B39,'resultaten immissietoets'!$A$27:$BK$84,63,FALSE),\" \")","v":" "},9,null,null,{"$f":"IF(N$27>=10,AC39/W39,0)","v":0},null,null,null,{"$f":"IF('pot-ZZS-checker'!B24>0,\"ja\",\"nee\")","v":"nee"},1,0," "," ",{"$f":"IF(AND(ISBLANK(B39)=FALSE,B39<>\" \"),IF(D39<W39,IF(D39+((1-AA39/100)*Y39-D39)/'resultaten immissietoets'!J$24*IF(U$22=\"ja\",1/(1+U$25*0.000001*10^G39),1)<W39,\"nee\",\"ja\"),IF(((1-AA39)*Y39-D39)/'resultaten immissietoets'!J$24*IF(U$22=\"ja\",1/(1+U$25*0.000001*10^G39),1)<=I39,\"nee\",\"ja\")),\" \")","v":" "},{"$f":"IF(ISBLANK(B39)=FALSE,IF(BA$25=\"ja\",IF(J39=\" \",IF(D39+((1-AA39/100)*Y39-D39)/Q$20*IF(U$22=\"ja\",1/(1+U$25*0.000001*10^G39),1)<=1,\"nee\",\"ja\"),IF(D39+((1-AA39/100)*Y39-D39)/Q$20*IF(U$22=\"ja\",1/(1+U$25*0.000001*10^G39),1)<='resultaten immissietoets'!AD37,\"nee\",\"ja\")),\"nee\"),\" \")","v":"nee"},null,"nee",0,null,null,null,0," ",null,{"$f":"IF(ISNA(VLOOKUP(B39,'resultaten immissietoets'!A$28:AO$84,41,FALSE))=FALSE,VLOOKUP(B39,'resultaten immissietoets'!A$28:AO$84,41,FALSE),0)","v":0},null,null,null,null,null,null,null,null,null,null,null,null,null,0,{"$f":"IF(AND(B39<>\" \",OR(+'beoordeling maatregel'!Q39=\"ZZS\",S39=\"ja\")),U39*L39,0)","v":0},{"$f":"IF(AND(B39<>\" \",OR(B39=\"PFOS\",B39=\"PFOA\",B39=\"GENX\",B39=\"overige PFAS\",B39=\"6:2 FTS\")),+'beoordeling maatregel'!L39*'beoordeling maatregel'!U39,0)","v":0}]
[11,{"$f":"IF(A40<=N$27,VLOOKUP(A39+1,'resultaten immissietoets'!AM$28:AN$84,2,FALSE),\" \")","v":" "},{"$f":"VLOOKUP(+$B40,'resultaten immissietoets'!$A$27:$AA$84,24,FALSE)","v":{"$error":"#N/A"}},{"$f":"IF(ISBLANK($B40)=FALSE,VLOOKUP(+$B40,'resultaten immissietoets'!$A$27:$AA$84,10,FALSE),\" \")","v":{"$error":"#N/A"}},{"$f":"VLOOKUP(+$B40,'resultaten immissietoets'!$A$27:$AA$84,26,FALSE)","v":{"$error":"#N/A"}},{"$f":"IF(ISBLANK($B40)=FALSE,VLOOKUP(+$B40,'resultaten immissietoets'!$A$27:$AI$84,35,FALSE),\" \")","v":{"$error":"#N/A"}},{"$f":"LOG(IF(ISNUMBER(VLOOKUP(+$B40,'resultaten immissietoets'!$A$27:$AE$84,2,FALSE))=TRUE,VLOOKUP(+$B40,'resultaten immissietoets'!$A$27:$AE$84,2,FALSE),1))","v":0},{"$f":"IF(ISBLANK(B40)=FALSE,VLOOKUP(+$B40,'resultaten immissietoets'!$A$27:$AE$84,31,FALSE),\" \")","v":{"$error":"#N/A"}},{"$f":"VLOOKUP(+$B40,'resultaten immissietoets'!$A$27:$AE$84,15,FALSE)","v":{"$error":"#N/A"}},{"$error":"#N/A"},{"$f":"IF(ISBLANK($B40)=FALSE,VLOOKUP(+$B40,'resultaten immissietoets'!$A$27:$AI$84,29,FALSE),\" \")","v":{"$error":"#N/A"}},{"$f":"IF(AND(ISBLANK(B40)=FALSE,B40<>\" \"),N40*Y40*'resultaten immissietoets'!H$16*8760*3600/1000000,0)","v":0},{"$error":"#VALUE!"},{"$f":"IF(B40<>\" \",IF(N$9=\"nee\",IF(ISBLANK($B40)=FALSE,IF(AND('beschrijving lozing'!I$7=\"algemene regels\",+'beschrijving lozing'!I$19=\"nee\",ISNA(VLOOKUP(+$B40,'beschrijving lozing'!B$27:Q$78,15,FALSE))=FALSE),MAX(VLOOKUP(+B40,'beschrijving lozing'!B$27:Q$78,15,FALSE),VLOOKUP(+$B40,'resultaten immissietoets'!$A$27:$AO$84,41,FALSE)),VLOOKUP(+$B40,'resultaten immissietoets'!$A$27:$AO$84,41,FALSE)),\" \"),+P40),\" \")","v":" "},"ja",null,null,"nee",{"$f":"IF(Q40=\"ZZS\",\"ja\",IF('ZZS-checker'!B40=1,\"ja\",\"nee\"))","v":"nee"},0,0,"nee",{"$f":"IF(ISBLANK($B40)=FALSE,IF(ISNA(VLOOKUP(+$B40,'resultaten immissietoets'!$A$27:$AO$84,14,FALSE))=FALSE,VLOOKUP(+$B40,'resultaten immissietoets'!$A$27:$AO$84,14,FALSE),\" \"),\" \")","v":" "},null,{"$f":"IF(AND(ISBLANK($B40)=FALSE,$B40<>\" \"),VLOOKUP(+$B40,'resultaten immissietoets'!$A$27:$BU$84,73,FALSE),\" \")","v":" "},0,null,"ja"," ",0,0,{"$error":"#DIV/0!"},"   ",0," ",null," "," ",{"$f":"IF(AND(ISBLANK(B40)=FALSE,B40<>\" \"),VLOOKUP(+$B40,'resultaten immissietoets'!$A$27:$BK$84,63,FALSE),\" \")","v":" "},10,null,null,{"$f":"IF(N$27>=11,AC40/W40,0)","v":0},null,null,null,{"$f":"IF('pot-ZZS-checker'!B25>0,\"ja\",\"nee\")","v":"nee"},1,0," "," ",{"$f":"IF(AND(ISBLANK(B40)=FALSE,B40<>\" \"),IF(D40<W40,IF(D40+((1-AA40/100)*Y40-D40)/'resultaten immissietoets'!J$24*IF(U$22=\"ja\",1/(1+U$25*0.000001*10^G40),1)<W40,\"nee\",\"ja\"),IF(((1-AA40)*Y40-D40)/'resultaten immissietoets'!J$24*IF(U$22=\"ja\",1/(1+U$25*0.000001*10^G40),1)<=I40,\"nee\",\"ja\")),\" \")","v":" "},{"$f":"IF(ISBLANK(B40)=FALSE,IF(BA$25=\"ja\",IF(J40=\" \",IF(D40+((1-AA40/100)*Y40-D40)/Q$20*IF(U$22=\"ja\",1/(1+U$25*0.000001*10^G40),1)<=1,\"nee\",\"ja\"),IF(D40+((1-AA40/100)*Y40-D40)/Q$20*IF(U$22=\"ja\",1/(1+U$25*0.000001*10^G40),1)<='resultaten immissietoets'!AD38,\"nee\",\"ja\")),\"nee\"),\" \")","v":"nee"},null,"nee",0,null,null,null,0," ",null,{"$f":"IF(ISNA(VLOOKUP(B40,'resultaten immissietoets'!A$28:AO$84,41,FALSE))=FALSE,VLOOKUP(B40,'resultaten immissietoets'!A$28:AO$84,41,FALSE),0)","v":0},null,null,null,null,null,null,null,null,null,null,null,null,null,0,{"$f":"IF(AND(B40<>\" \",OR(+'beoordeling maatregel'!Q40=\"ZZS\",S40=\"ja\")),U40*L40,0)","v":0},{"$f":"IF(AND(B40<>\" \",OR(B40=\"PFOS\",B40=\"PFOA\",B40=\"GENX\",B40=\"overige PFAS\",B40=\"6:2 FTS\")),+'beoordeling maatregel'!L40*'beoordeling maatregel'!U40,0)","v":0}]
[12,{"$f":"IF(A41<=N$27,VLOOKUP(A40+1,'resultaten immissietoets'!AM$28:AN$84,2,FALSE),\" \")","v":" "},{"$f":"VLOOKUP(+$B41,'resultaten immissietoets'!$A$27:$AA$84,24,FALSE)","v":{"$error":"#N/A"}},{"$f":"IF(ISBLANK($B41)=FALSE,VLOOKUP(+$B41,'resultaten immissietoets'!$A$27:$AA$84,10,FALSE),\" \")","v":{"$error":"#N/A"}},{"$f":"VLOOKUP(+$B41,'resultaten immissietoets'!$A$27:$AA$84,26,FALSE)","v":{"$error":"#N/A"}},{"$f":"IF(ISBLANK($B41)=FALSE,VLOOKUP(+$B41,'resultaten immissietoets'!$A$27:$AI$84,35,FALSE),\" \")","v":{"$error":"#N/A"}},{"$f":"LOG(IF(ISNUMBER(VLOOKUP(+$B41,'resultaten immissietoets'!$A$27:$AE$84,2,FALSE))=TRUE,VLOOKUP(+$B41,'resultaten immissietoets'!$A$27:$AE$84,2,FALSE),1))","v":0},{"$f":"IF(ISBLANK(B41)=FALSE,VLOOKUP(+$B41,'resultaten immissietoets'!$A$27:$AE$84,31,FALSE),\" \")","v":{"$error":"#N/A"}},{"$f":"VLOOKUP(+$B41,'resultaten immissietoets'!$A$27:$AE$84,15,FALSE)","v":{"$error":"#N/A"}},{"$error":"#N/A"},{"$f":"IF(ISBLANK($B41)=FALSE,VLOOKUP(+$B41,'resultaten immissietoets'!$A$27:$AI$84,29,FALSE),\" \")","v":{"$error":"#N/A"}},{"$f":"IF(AND(ISBLANK(B41)=FALSE,B41<>\" \"),N41*Y41*'resultaten immissietoets'!H$16*8760*3600/1000000,0)","v":0},{"$error":"#VALUE!"},{"$f":"IF(B41<>\" \",IF(N$9=\"nee\",IF(ISBLANK($B41)=FALSE,IF(AND('beschrijving lozing'!I$7=\"algemene regels\",+'beschrijving lozing'!I$19=\"nee\",ISNA(VLOOKUP(+$B41,'beschrijving lozing'!B$27:Q$78,15,FALSE))=FALSE),MAX(VLOOKUP(+B41,'beschrijving lozing'!B$27:Q$78,15,FALSE),VLOOKUP(+$B41,'resultaten immissietoets'!$A$27:$AO$84,41,FALSE)),VLOOKUP(+$B41,'resultaten immissietoets'!$A$27:$AO$84,41,FALSE)),\" \"),+P41),\" \")","v":" "},"ja",null,null,"nee",{"$f":"IF(Q41=\"ZZS\",\"ja\",IF('ZZS-checker'!B41=1,\"ja\",\"nee\"))","v":"nee"},0,0,"nee",{"$f":"IF(ISBLANK($B41)=FALSE,IF(ISNA(VLOOKUP(+$B41,'resultaten immissietoets'!$A$27:$AO$84,14,FALSE))=FALSE,VLOOKUP(+$B41,'resultaten immissietoets'!$A$27:$AO$84,14,FALSE),\" \"),\" \")","v":" "},null,{"$f":"IF(AND(ISBLANK($B41)=FALSE,$B41<>\" \"),VLOOKUP(+$B41,'resultaten immissietoets'!$A$27:$BU$84,73,FALSE),\" \")","v":" "},0,null,"ja"," ",0,0,{"$error":"#DIV/0!"},"   ",0," ",null," "," ",{"$f":"IF(AND(ISBLANK(B41)=FALSE,B41<>\" \"),VLOOKUP(+$B41,'resultaten immissietoets'!$A$27:$BK$84,63,FALSE),\" \")","v":" "},11,null,null,{"$f":"IF(N$27>=12,AC41/W41,0)","v":0},null,null,null,{"$f":"IF('pot-ZZS-checker'!B26>0,\"ja\",\"nee\")","v":"nee"},1,0," "," ",{"$f":"IF(AND(ISBLANK(B41)=FALSE,B41<>\" \"),IF(D41<W41,IF(D41+((1-AA41/100)*Y41-D41)/'resultaten immissietoets'!J$24*IF(U$22=\"ja\",1/(1+U$25*0.000001*10^G41),1)<W41,\"nee\",\"ja\"),IF(((1-AA41)*Y41-D41)/'resultaten immissietoets'!J$24*IF(U$22=\"ja\",1/(1+U$25*0.000001*10^G41),1)<=I41,\"nee\",\"ja\")),\" \")","v":" "},{"$f":"IF(ISBLANK(B41)=FALSE,IF(BA$25=\"ja\",IF(J41=\" \",IF(D41+((1-AA41/100)*Y41-D41)/Q$20*IF(U$22=\"ja\",1/(1+U$25*0.000001*10^G41),1)<=1,\"nee\",\"ja\"),IF(D41+((1-AA41/100)*Y41-D41)/Q$20*IF(U$22=\"ja\",1/(1+U$25*0.000001*10^G41),1)<='resultaten immissietoets'!AD39,\"nee\",\"ja\")),\"nee\"),\" \")","v":"nee"},null,"nee",0,null,null,null,0," ",null,{"$f":"IF(ISNA(VLOOKUP(B41,'resultaten immissietoets'!A$28:AO$84,41,FALSE))=FALSE,VLOOKUP(B41,'resultaten immissietoets'!A$28:AO$84,41,FALSE),0)","v":0},null,null,null,null,null,null,null,null,null,null,null,null,null,0,{"$f":"IF(AND(B41<>\" \",OR(+'beoordeling maatregel'!Q41=\"ZZS\",S41=\"ja\")),U41*L41,0)","v":0},{"$f":"IF(AND(B41<>\" \",OR(B41=\"PFOS\",B41=\"PFOA\",B41=\"GENX\",B41=\"overige PFAS\",B41=\"6:2 FTS\")),+'beoordeling maatregel'!L41*'beoordeling maatregel'!U41,0)","v":0}]
[13,{"$f":"IF(A42<=N$27,VLOOKUP(A41+1,'resultaten immissietoets'!AM$28:AN$84,2,FALSE),\" \")","v":" "},{"$f":"VLOOKUP(+$B42,'resultaten immissietoets'!$A$27:$AA$84,24,FALSE)","v":{"$error":"#N/A"}},{"$f":"IF(ISBLANK($B42)=FALSE,VLOOKUP(+$B42,'resultaten immissietoets'!$A$27:$AA$84,10,FALSE),\" \")","v":{"$error":"#N/A"}},{"$f":"VLOOKUP(+$B42,'resultaten immissietoets'!$A$27:$AA$84,26,FALSE)","v":{"$error":"#N/A"}},{"$f":"IF(ISBLANK($B42)=FALSE,VLOOKUP(+$B42,'resultaten immissietoets'!$A$27:$AI$84,35,FALSE),\" \")","v":{"$error":"#N/A"}},{"$f":"LOG(IF(ISNUMBER(VLOOKUP(+$B42,'resultaten immissietoets'!$A$27:$AE$84,2,FALSE))=TRUE,VLOOKUP(+$B42,'resultaten immissietoets'!$A$27:$AE$84,2,FALSE),1))","v":0},{"$f":"IF(ISBLANK(B42)=FALSE,VLOOKUP(+$B42,'resultaten immissietoets'!$A$27:$AE$84,31,FALSE),\" \")","v":{"$error":"#N/A"}},{"$f":"VLOOKUP(+$B42,'resultaten immissietoets'!$A$27:$AE$84,15,FALSE)","v":{"$error":"#N/A"}},{"$error":"#N/A"},{"$f":"IF(ISBLANK($B42)=FALSE,VLOOKUP(+$B42,'resultaten immissietoets'!$A$27:$AI$84,29,FALSE),\" \")","v":{"$error":"#N/A"}},{"$f":"IF(AND(ISBLANK(B42)=FALSE,B42<>\" \"),N42*Y42*'resultaten immissietoets'!H$16*8760*3600/1000000,0)","v":0},{"$error":"#VALUE!"},{"$f":"IF(B42<>\" \",IF(N$9=\"nee\",IF(ISBLANK($B42)=FALSE,IF(AND('beschrijving lozing'!I$7=\"algemene regels\",+'beschrijving lozing'!I$19=\"nee\",ISNA(VLOOKUP(+$B42,'beschrijving lozing'!B$27:Q$78,15,FALSE))=FALSE),MAX(VLOOKUP(+B42,'beschrijving lozing'!B$27:Q$78,15,FALSE),VLOOKUP(+$B42,'resultaten immissietoets'!$A$27:$AO$84,41,FALSE)),VLOOKUP(+$B42,'resultaten immissietoets'!$A$27:$AO$84,41,FALSE)),\" \"),+P42),\" \")","v":" "},"ja",null,null,"nee",{"$f":"IF(Q42=\"ZZS\",\"ja\",IF('ZZS-checker'!B42=1,\"ja\",\"nee\"))","v":"nee"},0,0,"nee",{"$f":"IF(ISBLANK($B42)=FALSE,IF(ISNA(VLOOKUP(+$B42,'resultaten immissietoets'!$A$27:$AO$84,14,FALSE))=FALSE,VLOOKUP(+$B42,'resultaten immissietoets'!$A$27:$AO$84,14,FALSE),\" \"),\" \")","v":" "},null,{"$f":"IF(AND(ISBLANK($B42)=FALSE,$B42<>\" \"),VLOOKUP(+$B42,'resultaten immissietoets'!$A$27:$BU$84,73,FALSE),\" \")","v":" "},0,null,"ja"," ",0,0,{"$error":"#DIV/0!"},{"$f":"IF(ISBLANK(B42)=FALSE,IF(S42=\"ja\",CONCATENATE(IF(AND(N$22=\"nee\",AA42<BK42),\"Er wordt NIET voldaan aan immissietoets; \",\" \"),IF(U$18<AE$25,\"Het gaat om een ZZS-stof, verken verdergaande maatregelen om invulling te geven aan minimalisatieverplichting!\",\" \")),CONCATENATE(IF(AU42=\"ja\",\"het gaat om een potentiële ZZS-stof; \",\" \"),IF(AND(N$22=\"nee\",AA42<BK42),\"Er wordt NIET voldaan aan immissietoets-; \",\" \"),IF(AND(S42=\"nee\",N$22=\"ja\"),\" \",IF(N$22=\"ja\",IF(AW42=0,\" \",\"verken verdergaande maatregelen om lozing te beperken\"),\" \")))),\" \")","v":"   "},0," ",null," "," ",{"$f":"IF(AND(ISBLANK(B42)=FALSE,B42<>\" \"),VLOOKUP(+$B42,'resultaten immissietoets'!$A$27:$BK$84,63,FALSE),\" \")","v":" "},12,null,null,{"$f":"IF(N$27>=13,AC42/W42,0)","v":0},null,null,null,{"$f":"IF('pot-ZZS-checker'!B27>0,\"ja\",\"nee\")","v":"nee"},1,0," "," ",{"$f":"IF(AND(ISBLANK(B42)=FALSE,B42<>\" \"),IF(D42<W42,IF(D42+((1-AA42/100)*Y42-D42)/'resultaten immissietoets'!J$24*IF(U$22=\"ja\",1/(1+U$25*0.000001*10^G42),1)<W42,\"nee\",\"ja\"),IF(((1-AA42)*Y42-D42)/'resultaten immissietoets'!J$24*IF(U$22=\"ja\",1/(1+U$25*0.000001*10^G42),1)<=I42,\"nee\",\"ja\")),\" \")","v":" "},{"$f":"IF(ISBLANK(B42)=FALSE,IF(BA$25=\"ja\",IF(J42=\" \",IF(D42+((1-AA42/100)*Y42-D42)/Q$20*IF(U$22=\"ja\",1/(1+U$25*0.000001*10^G42),1)<=1,\"nee\",\"ja\"),IF(D42+((1-AA42/100)*Y42-D42)/Q$20*IF(U$22=\"ja\",1/(1+U$25*0.000001*10^G42),1)<='resultaten immissietoets'!AD40,\"nee\",\"ja\")),\"nee\"),\" \")","v":"nee"},null,"nee",0,null,null,null,0," ",null,{"$f":"IF(ISNA(VLOOKUP(B42,'resultaten immissietoets'!A$28:AO$84,41,FALSE))=FALSE,VLOOKUP(B42,'resultaten immissietoets'!A$28:AO$84,41,FALSE),0)","v":0},null,null,null,null,null,null,null,null,null,null,null,null,null,0,{"$f":"IF(AND(B42<>\" \",OR(+'beoordeling maatregel'!Q42=\"ZZS\",S42=\"ja\")),U42*L42,0)","v":0},{"$f":"IF(AND(B42<>\" \",OR(B42=\"PFOS\",B42=\"PFOA\",B42=\"GENX\",B42=\"overige PFAS\",B42=\"6:2 FTS\")),+'beoordeling maatregel'!L42*'beoordeling maatregel'!U42,0)","v":0}]
[14,{"$f":"IF(A43<=N$27,VLOOKUP(A42+1,'resultaten immissietoets'!AM$28:AN$84,2,FALSE),\" \")","v":" "},{"$f":"VLOOKUP(+$B43,'resultaten immissietoets'!$A$27:$AA$84,24,FALSE)","v":{"$error":"#N/A"}},{"$f":"IF(ISBLANK($B43)=FALSE,VLOOKUP(+$B43,'resultaten immissietoets'!$A$27:$AA$84,10,FALSE),\" \")","v":{"$error":"#N/A"}},{"$f":"VLOOKUP(+$B43,'resultaten immissietoets'!$A$27:$AA$84,26,FALSE)","v":{"$error":"#N/A"}},{"$f":"IF(ISBLANK($B43)=FALSE,VLOOKUP(+$B43,'resultaten immissietoets'!$A$27:$AI$84,35,FALSE),\" \")","v":{"$error":"#N/A"}},{"$f":"LOG(IF(ISNUMBER(VLOOKUP(+$B43,'resultaten immissietoets'!$A$27:$AE$84,2,FALSE))=TRUE,VLOOKUP(+$B43,'resultaten immissietoets'!$A$27:$AE$84,2,FALSE),1))","v":0},{"$f":"IF(ISBLANK(B43)=FALSE,VLOOKUP(+$B43,'resultaten immissietoets'!$A$27:$AE$84,31,FALSE),\" \")","v":{"$error":"#N/A"}},{"$f":"VLOOKUP(+$B43,'resultaten immissietoets'!$A$27:$AE$84,15,FALSE)","v":{"$error":"#N/A"}},{"$error":"#N/A"},{"$f":"IF(ISBLANK($B43)=FALSE,VLOOKUP(+$B43,'resultaten immissietoets'!$A$27:$AI$84,29,FALSE),\" \")","v":{"$error":"#N/A"}},{"$f":"IF(AND(ISBLANK(B43)=FALSE,B43<>\" \"),N43*Y43*'resultaten immissietoets'!H$16*8760*3600/1000000,0)","v":0},{"$error":"#VALUE!"},{"$f":"IF(B43<>\" \",IF(N$9=\"nee\",IF(ISBLANK($B43)=FALSE,IF(AND('beschrijving lozing'!I$7=\"algemene regels\",+'beschrijving lozing'!I$19=\"nee\",ISNA(VLOOKUP(+$B43,'beschrijving lozing'!B$27:Q$78,15,FALSE))=FALSE),MAX(VLOOKUP(+B43,'beschrijving lozing'!B$27:Q$78,15,FALSE),VLOOKUP(+$B43,'resultaten immissietoets'!$A$27:$AO$84,41,FALSE)),VLOOKUP(+$B43,'resultaten immissietoets'!$A$27:$AO$84,41,FALSE)),\" \"),+P43),\" \")","v":" "},"ja",null,null,"nee",{"$f":"IF(Q43=\"ZZS\",\"ja\",IF('ZZS-checker'!B43=1,\"ja\",\"nee\"))","v":"nee"},0,0,"nee",{"$f":"IF(ISBLANK($B43)=FALSE,IF(ISNA(VLOOKUP(+$B43,'resultaten immissietoets'!$A$27:$AO$84,14,FALSE))=FALSE,VLOOKUP(+$B43,'resultaten immissietoets'!$A$27:$AO$84,14,FALSE),\" \"),\" \")","v":" "},null,{"$f":"IF(AND(ISBLANK($B43)=FALSE,$B43<>\" \"),VLOOKUP(+$B43,'resultaten immissietoets'!$A$27:$BU$84,73,FALSE),\" \")","v":" "},0,null,"ja"," ",0,0,{"$error":"#DIV/0!"},{"$f":"IF(ISBLANK(B43)=FALSE,IF(S43=\"ja\",CONCATENATE(IF(AND(N$22=\"nee\",AA43<BK43),\"Er wordt NIET voldaan aan immissietoets-; \",\" \"),IF(U$18<AE$25,\"Het gaat om een ZZS-stof, verken verdergaande maatregelen om invulling te geven aan minimalisatieverplichting!\",\" \")),CONCATENATE(IF(AU43=\"ja\",\"het gaat om een potentiële ZZS-stof; \",\" \"),IF(AND(N$22=\"nee\",AA43<BK43),\"Er wordt NIET voldaan aan immissietoets; \",\" \"),IF(AND(S43=\"nee\",N$22=\"ja\"),\" \",IF(N$22=\"ja\",IF(AW43=0,\" \",\"verken verdergaande maatregelen om lozing te beperken\"),\" \")))),\" \")","v":"   "},0," ",null," "," ",{"$f":"IF(AND(ISBLANK(B43)=FALSE,B43<>\" \"),VLOOKUP(+$B43,'resultaten immissietoets'!$A$27:$BK$84,63,FALSE),\" \")","v":" "},13,null,null,{"$f":"IF(N$27>=14,AC43/W43,0)","v":0},null,null,null,{"$f":"IF('pot-ZZS-checker'!B28>0,\"ja\",\"nee\")","v":"nee"},{"$f":"IF(AND(ISBLANK(B43)=FALSE,ISBLANK(Q43)=TRUE,B43<>\" \"),1,0)","v":0},{"$f":"IF(OR(AX43=\"ja\",AY43=\"ja\",AZ43=\"ja\",BA43=\"ja\"),1,0)","v":0}," "," ",{"$f":"IF(AND(ISBLANK(B43)=FALSE,B43<>\" \"),IF(D43<W43,IF(D43+((1-AA43/100)*Y43-D43)/'resultaten immissietoets'!J$24*IF(U$22=\"ja\",1/(1+U$25*0.000001*10^G43),1)<W43,\"nee\",\"ja\"),IF(((1-AA43)*Y43-D43)/'resultaten immissietoets'!J$24*IF(U$22=\"ja\",1/(1+U$25*0.000001*10^G43),1)<=I43,\"nee\",\"ja\")),\" \")","v":" "},{"$f":"IF(ISBLANK(B43)=FALSE,IF(BA$25=\"ja\",IF(J43=\" \",IF(D43+((1-AA43/100)*Y43-D43)/Q$20*IF(U$22=\"ja\",1/(1+U$25*0.000001*10^G43),1)<=1,\"nee\",\"ja\"),IF(D43+((1-AA43/100)*Y43-D43)/Q$20*IF(U$22=\"ja\",1/(1+U$25*0.000001*10^G43),1)<='resultaten immissietoets'!AD41,\"nee\",\"ja\")),\"nee\"),\" \")","v":"nee"},null,"nee",{"$f":"COUNTIF(AX43:BA43,\"ja\")","v":0},null,null,null,0," ",null,{"$f":"IF(ISNA(VLOOKUP(B43,'resultaten immissietoets'!A$28:AO$84,41,FALSE))=FALSE,VLOOKUP(B43,'resultaten immissietoets'!A$28:AO$84,41,FALSE),0)","v":0},null,null,null,null,null,null,null,null,null,null,null,null,null,0,{"$f":"IF(AND(B43<>\" \",OR(+'beoordeling maatregel'!Q43=\"ZZS\",S43=\"ja\")),U43*L43,0)","v":0},{"$f":"IF(AND(B43<>\" \",OR(B43=\"PFOS\",B43=\"PFOA\",B43=\"GENX\",B43=\"overige PFAS\",B43=\"6:2 FTS\")),+'beoordeling maatregel'!L43*'beoordeling maatregel'!U43,0)","v":0}]
[15,{"$f":"IF(A44<=N$27,VLOOKUP(A43+1,'resultaten immissietoets'!AM$28:AN$84,2,FALSE),\" \")","v":" "},{"$f":"VLOOKUP(+$B44,'resultaten immissietoets'!$A$27:$AA$84,24,FALSE)","v":{"$error":"#N/A"}},{"$f":"IF(ISBLANK($B44)=FALSE,VLOOKUP(+$B44,'resultaten immissietoets'!$A$27:$AA$84,10,FALSE),\" \")","v":{"$error":"#N/A"}},{"$f":"VLOOKUP(+$B44,'resultaten immissietoets'!$A$27:$AA$84,26,FALSE)","v":{"$error":"#N/A"}},{"$f":"IF(ISBLANK($B44)=FALSE,VLOOKUP(+$B44,'resultaten immissietoets'!$A$27:$AI$84,35,FALSE),\" \")","v":{"$error":"#N/A"}},{"$f":"LOG(IF(ISNUMBER(VLOOKUP(+$B44,'resultaten immissietoets'!$A$27:$AE$84,2,FALSE))=TRUE,VLOOKUP(+$B44,'resultaten immissietoets'!$A$27:$AE$84,2,FALSE),1))","v":0},{"$f":"IF(ISBLANK(B44)=FALSE,VLOOKUP(+$B44,'resultaten immissietoets'!$A$27:$AE$84,31,FALSE),\" \")","v":{"$error":"#N/A"}},{"$f":"VLOOKUP(+$B44,'resultaten immissietoets'!$A$27:$AE$84,15,FALSE)","v":{"$error":"#N/A"}},{"$error":"#N/A"},{"$f":"IF(ISBLANK($B44)=FALSE,VLOOKUP(+$B44,'resultaten immissietoets'!$A$27:$AI$84,29,FALSE),\" \")","v":{"$error":"#N/A"}},{"$f":"IF(AND(ISBLANK(B44)=FALSE,B44<>\" \"),N44*Y44*'resultaten immissietoets'!H$16*8760*3600/1000000,0)","v":0},{"$error":"#VALUE!"},{"$f":"IF(B44<>\" \",IF(N$9=\"nee\",IF(ISBLANK($B44)=FALSE,IF(AND('beschrijving lozing'!I$7=\"algemene regels\",+'beschrijving lozing'!I$19=\"nee\",ISNA(VLOOKUP(+$B44,'beschrijving lozing'!B$27:Q$78,15,FALSE))=FALSE),MAX(VLOOKUP(+B44,'beschrijving lozing'!B$27:Q$78,15,FALSE),VLOOKUP(+$B44,'resultaten immissietoets'!$A$27:$AO$84,41,FALSE)),VLOOKUP(+$B44,'resultaten immissietoets'!$A$27:$AO$84,41,FALSE)),\" \"),+P44),\" \")","v":" "},"ja",null,null,"nee",{"$f":"IF(Q44=\"ZZS\",\"ja\",IF('ZZS-checker'!B44=1,\"ja\",\"nee\"))","v":"nee"},0,0,"nee",{"$f":"IF(ISBLANK($B44)=FALSE,IF(ISNA(VLOOKUP(+$B44,'resultaten immissietoets'!$A$27:$AO$84,14,FALSE))=FALSE,VLOOKUP(+$B44,'resultaten immissietoets'!$A$27:$AO$84,14,FALSE),\" \"),\" \")","v":" "},null,{"$f":"IF(AND(ISBLANK($B44)=FALSE,$B44<>\" \"),VLOOKUP(+$B44,'resultaten immissietoets'!$A$27:$BU$84,73,FALSE),\" \")","v":" "},0,null,"ja"," ",0,0,{"$error":"#DIV/0!"},"   ",0," ",null," "," ",{"$f":"IF(AND(ISBLANK(B44)=FALSE,B44<>\" \"),VLOOKUP(+$B44,'resultaten immissietoets'!$A$27:$BK$84,63,FALSE),\" \")","v":" "},14,null,null,{"$f":"IF(N$27>=15,AC44/W44,0)","v":0},null,null,null,{"$f":"IF('pot-ZZS-checker'!B29>0,\"ja\",\"nee\")","v":"nee"},0,{"$f":"IF(OR(AX44=\"ja\",AY44=\"ja\",AZ44=\"ja\",BA44=\"ja\"),1,0)","v":0}," "," ",{"$f":"IF(AND(ISBLANK(B44)=FALSE,B44<>\" \"),IF(D44<W44,IF(D44+((1-AA44/100)*Y44-D44)/'resultaten immissietoets'!J$24*IF(U$22=\"ja\",1/(1+U$25*0.000001*10^G44),1)<W44,\"nee\",\"ja\"),IF(((1-AA44)*Y44-D44)/'resultaten immissietoets'!J$24*IF(U$22=\"ja\",1/(1+U$25*0.000001*10^G44),1)<=I44,\"nee\",\"ja\")),\" \")","v":" "},{"$f":"IF(ISBLANK(B44)=FALSE,IF(BA$25=\"ja\",IF(J44=\" \",IF(D44+((1-AA44/100)*Y44-D44)/Q$20*IF(U$22=\"ja\",1/(1+U$25*0.000001*10^G44),1)<=1,\"nee\",\"ja\"),IF(D44+((1-AA44/100)*Y44-D44)/Q$20*IF(U$22=\"ja\",1/(1+U$25*0.000001*10^G44),1)<='resultaten immissietoets'!AD42,\"nee\",\"ja\")),\"nee\"),\" \")","v":"nee"},null,"nee",{"$f":"COUNTIF(AX44:BA44,\"ja\")","v":0},null,null,null,0," ",null,{"$f":"IF(ISNA(VLOOKUP(B44,'resultaten immissietoets'!A$28:AO$84,41,FALSE))=FALSE,VLOOKUP(B44,'resultaten immissietoets'!A$28:AO$84,41,FALSE),0)","v":0},null,null,null,null,null,null,null,null,null,null,null,null,null,0,{"$f":"IF(AND(B44<>\" \",OR(+'beoordeling maatregel'!Q44=\"ZZS\",S44=\"ja\")),U44*L44,0)","v":0},{"$f":"IF(AND(B44<>\" \",OR(B44=\"PFOS\",B44=\"PFOA\",B44=\"GENX\",B44=\"overige PFAS\",B44=\"6:2 FTS\")),+'beoordeling maatregel'!L44*'beoordeling maatregel'!U44,0)","v":0}]
[16,{"$f":"IF(A45<=N$27,VLOOKUP(A44+1,'resultaten immissietoets'!AM$28:AN$84,2,FALSE),\" \")","v":" "},{"$f":"VLOOKUP(+$B45,'resultaten immissietoets'!$A$27:$AA$84,24,FALSE)","v":{"$error":"#N/A"}},{"$f":"IF(ISBLANK($B45)=FALSE,VLOOKUP(+$B45,'resultaten immissietoets'!$A$27:$AA$84,10,FALSE),\" \")","v":{"$error":"#N/A"}},{"$f":"VLOOKUP(+$B45,'resultaten immissietoets'!$A$27:$AA$84,26,FALSE)","v":{"$error":"#N/A"}},{"$f":"IF(ISBLANK($B45)=FALSE,VLOOKUP(+$B45,'resultaten immissietoets'!$A$27:$AI$84,35,FALSE),\" \")","v":{"$error":"#N/A"}},{"$f":"LOG(IF(ISNUMBER(VLOOKUP(+$B45,'resultaten immissietoets'!$A$27:$AE$84,2,FALSE))=TRUE,VLOOKUP(+$B45,'resultaten immissietoets'!$A$27:$AE$84,2,FALSE),1))","v":0},{"$f":"IF(ISBLANK(B45)=FALSE,VLOOKUP(+$B45,'resultaten immissietoets'!$A$27:$AE$84,31,FALSE),\" \")","v":{"$error":"#N/A"}},{"$f":"VLOOKUP(+$B45,'resultaten immissietoets'!$A$27:$AE$84,15,FALSE)","v":{"$error":"#N/A"}},{"$error":"#N/A"},{"$f":"IF(ISBLANK($B45)=FALSE,VLOOKUP(+$B45,'resultaten immissietoets'!$A$27:$AI$84,29,FALSE),\" \")","v":{"$error":"#N/A"}},{"$f":"IF(AND(ISBLANK(B45)=FALSE,B45<>\" \"),N45*Y45*'resultaten immissietoets'!H$16*8760*3600/1000000,0)","v":0},{"$error":"#VALUE!"},{"$f":"IF(B45<>\" \",IF(N$9=\"nee\",IF(ISBLANK($B45)=FALSE,IF(AND('beschrijving lozing'!I$7=\"algemene regels\",+'beschrijving lozing'!I$19=\"nee\",ISNA(VLOOKUP(+$B45,'beschrijving lozing'!B$27:Q$78,15,FALSE))=FALSE),MAX(VLOOKUP(+B45,'beschrijving lozing'!B$27:Q$78,15,FALSE),VLOOKUP(+$B45,'resultaten immissietoets'!$A$27:$AO$84,41,FALSE)),VLOOKUP(+$B45,'resultaten immissietoets'!$A$27:$AO$84,41,FALSE)),\" \"),+P45),\" \")","v":" "},"ja",null,null,"nee",{"$f":"IF(Q45=\"ZZS\",\"ja\",IF('ZZS-checker'!B45=1,\"ja\",\"nee\"))","v":"nee"},0,0,"nee",{"$f":"IF(ISBLANK($B45)=FALSE,IF(ISNA(VLOOKUP(+$B45,'resultaten immissietoets'!$A$27:$AO$84,14,FALSE))=FALSE,VLOOKUP(+$B45,'resultaten immissietoets'!$A$27:$AO$84,14,FALSE),\" \"),\" \")","v":" "},null,{"$f":"IF(AND(ISBLANK($B45)=FALSE,$B45<>\" \"),VLOOKUP(+$B45,'resultaten immissietoets'!$A$27:$BU$84,73,FALSE),\" \")","v":" "},0,null,"ja"," ",0,0,{"$error":"#DIV/0!"},"   ",0," ",null," "," ",{"$f":"IF(AND(ISBLANK(B45)=FALSE,B45<>\" \"),VLOOKUP(+$B45,'resultaten immissietoets'!$A$27:$BK$84,63,FALSE),\" \")","v":" "},15,null,null,{"$f":"IF(N$27>=16,AC45/W45,0)","v":0},null,null,null,{"$f":"IF('pot-ZZS-checker'!B30>0,\"ja\",\"nee\")","v":"nee"},0,0," "," ",{"$f":"IF(AND(ISBLANK(B45)=FALSE,B45<>\" \"),IF(D45<W45,IF(D45+((1-AA45/100)*Y45-D45)/'resultaten immissietoets'!J$24*IF(U$22=\"ja\",1/(1+U$25*0.000001*10^G45),1)<W45,\"nee\",\"ja\"),IF(((1-AA45)*Y45-D45)/'resultaten immissietoets'!J$24*IF(U$22=\"ja\",1/(1+U$25*0.000001*10^G45),1)<=I45,\"nee\",\"ja\")),\" \")","v":" "},{"$f":"IF(ISBLANK(B45)=FALSE,IF(BA$25=\"ja\",IF(J45=\" \",IF(D45+((1-AA45/100)*Y45-D45)/Q$20*IF(U$22=\"ja\",1/(1+U$25*0.000001*10^G45),1)<=1,\"nee\",\"ja\"),IF(D45+((1-AA45/100)*Y45-D45)/Q$20*IF(U$22=\"ja\",1/(1+U$25*0.000001*10^G45),1)<='resultaten immissietoets'!AD43,\"nee\",\"ja\")),\"nee\"),\" \")","v":"nee"},null,"nee",0,null,null,null,0," ",null,{"$f":"IF(ISNA(VLOOKUP(B45,'resultaten immissietoets'!A$28:AO$84,41,FALSE))=FALSE,VLOOKUP(B45,'resultaten immissietoets'!A$28:AO$84,41,FALSE),0)","v":0},null,null,null,null,null,null,null,null,null,null,null,null,null,0,{"$f":"IF(AND(B45<>\" \",OR(+'beoordeling maatregel'!Q45=\"ZZS\",S45=\"ja\")),U45*L45,0)","v":0},{"$f":"IF(AND(B45<>\" \",OR(B45=\"PFOS\",B45=\"PFOA\",B45=\"GENX\",B45=\"overige PFAS\",B45=\"6:2 FTS\")),+'beoordeling maatregel'!L45*'beoordeling maatregel'!U45,0)","v":0}]
[17,{"$f":"IF(A46<=N$27,VLOOKUP(A45+1,'resultaten immissietoets'!AM$28:AN$84,2,FALSE),\" \")","v":" "},{"$f":"VLOOKUP(+$B46,'resultaten immissietoets'!$A$27:$AA$84,24,FALSE)","v":{"$error":"#N/A"}},{"$f":"IF(ISBLANK($B46)=FALSE,VLOOKUP(+$B46,'resultaten immissietoets'!$A$27:$AA$84,10,FALSE),\" \")","v":{"$error":"#N/A"}},{"$f":"VLOOKUP(+$B46,'resultaten immissietoets'!$A$27:$AA$84,26,FALSE)","v":{"$error":"#N/A"}},{"$f":"IF(ISBLANK($B46)=FALSE,VLOOKUP(+$B46,'resultaten immissietoets'!$A$27:$AI$84,35,FALSE),\" \")","v":{"$error":"#N/A"}},{"$f":"LOG(IF(ISNUMBER(VLOOKUP(+$B46,'resultaten immissietoets'!$A$27:$AE$84,2,FALSE))=TRUE,VLOOKUP(+$B46,'resultaten immissietoets'!$A$27:$AE$84,2,FALSE),1))","v":0},{"$f":"IF(ISBLANK(B46)=FALSE,VLOOKUP(+$B46,'resultaten immissietoets'!$A$27:$AE$84,31,FALSE),\" \")","v":{"$error":"#N/A"}},{"$f":"VLOOKUP(+$B46,'resultaten immissietoets'!$A$27:$AE$84,15,FALSE)","v":{"$error":"#N/A"}},{"$error":"#N/A"},{"$f":"IF(ISBLANK($B46)=FALSE,VLOOKUP(+$B46,'resultaten immissietoets'!$A$27:$AI$84,29,FALSE),\" \")","v":{"$error":"#N/A"}},{"$f":"IF(AND(ISBLANK(B46)=FALSE,B46<>\" \"),N46*Y46*'resultaten immissietoets'!H$16*8760*3600/1000000,0)","v":0},{"$error":"#VALUE!"},{"$f":"IF(B46<>\" \",IF(N$9=\"nee\",IF(ISBLANK($B46)=FALSE,IF(AND('beschrijving lozing'!I$7=\"algemene regels\",+'beschrijving lozing'!I$19=\"nee\",ISNA(VLOOKUP(+$B46,'beschrijving lozing'!B$27:Q$78,15,FALSE))=FALSE),MAX(VLOOKUP(+B46,'beschrijving lozing'!B$27:Q$78,15,FALSE),VLOOKUP(+$B46,'resultaten immissietoets'!$A$27:$AO$84,41,FALSE)),VLOOKUP(+$B46,'resultaten immissietoets'!$A$27:$AO$84,41,FALSE)),\" \"),+P46),\" \")","v":" "},"ja",null,null,"nee",{"$f":"IF(Q46=\"ZZS\",\"ja\",IF('ZZS-checker'!B46=1,\"ja\",\"nee\"))","v":"nee"},0,0,"nee",{"$f":"IF(ISBLANK($B46)=FALSE,IF(ISNA(VLOOKUP(+$B46,'resultaten immissietoets'!$A$27:$AO$84,14,FALSE))=FALSE,VLOOKUP(+$B46,'resultaten immissietoets'!$A$27:$AO$84,14,FALSE),\" \"),\" \")","v":" "},null,{"$f":"IF(AND(ISBLANK($B46)=FALSE,$B46<>\" \"),VLOOKUP(+$B46,'resultaten immissietoets'!$A$27:$BU$84,73,FALSE),\" \")","v":" "},0,null,"ja"," ",0,0,{"$error":"#DIV/0!"},"   ",0," ",null," "," ",{"$f":"IF(AND(ISBLANK(B46)=FALSE,B46<>\" \"),VLOOKUP(+$B46,'resultaten immissietoets'!$A$27:$BK$84,63,FALSE),\" \")","v":" "},16,null,null,{"$f":"IF(N$27>=17,AC46/W46,0)","v":0},null,null,null,{"$f":"IF('pot-ZZS-checker'!B31>0,\"ja\",\"nee\")","v":"nee"},0,0," "," ",{"$f":"IF(AND(ISBLANK(B46)=FALSE,B46<>\" \"),IF(D46<W46,IF(D46+((1-AA46/100)*Y46-D46)/'resultaten immissietoets'!J$24*IF(U$22=\"ja\",1/(1+U$25*0.000001*10^G46),1)<W46,\"nee\",\"ja\"),IF(((1-AA46)*Y46-D46)/'resultaten immissietoets'!J$24*IF(U$22=\"ja\",1/(1+U$25*0.000001*10^G46),1)<=I46,\"nee\",\"ja\")),\" \")","v":" "},{"$f":"IF(ISBLANK(B46)=FALSE,IF(BA$25=\"ja\",IF(J46=\" \",IF(D46+((1-AA46/100)*Y46-D46)/Q$20*IF(U$22=\"ja\",1/(1+U$25*0.000001*10^G46),1)<=1,\"nee\",\"ja\"),IF(D46+((1-AA46/100)*Y46-D46)/Q$20*IF(U$22=\"ja\",1/(1+U$25*0.000001*10^G46),1)<='resultaten immissietoets'!AD44,\"nee\",\"ja\")),\"nee\"),\" \")","v":"nee"},null,"nee",0,null,null,null,0," ",null,{"$f":"IF(ISNA(VLOOKUP(B46,'resultaten immissietoets'!A$28:AO$84,41,FALSE))=FALSE,VLOOKUP(B46,'resultaten immissietoets'!A$28:AO$84,41,FALSE),0)","v":0},null,null,null,null,null,null,null,null,null,null,null,null,null,0,{"$f":"IF(AND(B46<>\" \",OR(+'beoordeling maatregel'!Q46=\"ZZS\",S46=\"ja\")),U46*L46,0)","v":0},{"$f":"IF(AND(B46<>\" \",OR(B46=\"PFOS\",B46=\"PFOA\",B46=\"GENX\",B46=\"overige PFAS\",B46=\"6:2 FTS\")),+'beoordeling maatregel'!L46*'beoordeling maatregel'!U46,0)","v":0}]
[18,{"$f":"IF(A47<=N$27,VLOOKUP(A46+1,'resultaten immissietoets'!AM$28:AN$84,2,FALSE),\" \")","v":" "},{"$f":"VLOOKUP(+$B47,'resultaten immissietoets'!$A$27:$AA$84,24,FALSE)","v":{"$error":"#N/A"}},{"$f":"IF(ISBLANK($B47)=FALSE,VLOOKUP(+$B47,'resultaten immissietoets'!$A$27:$AA$84,10,FALSE),\" \")","v":{"$error":"#N/A"}},{"$f":"VLOOKUP(+$B47,'resultaten immissietoets'!$A$27:$AA$84,26,FALSE)","v":{"$error":"#N/A"}},{"$f":"IF(ISBLANK($B47)=FALSE,VLOOKUP(+$B47,'resultaten immissietoets'!$A$27:$AI$84,35,FALSE),\" \")","v":{"$error":"#N/A"}},{"$f":"LOG(IF(ISNUMBER(VLOOKUP(+$B47,'resultaten immissietoets'!$A$27:$AE$84,2,FALSE))=TRUE,VLOOKUP(+$B47,'resultaten immissietoets'!$A$27:$AE$84,2,FALSE),1))","v":0},{"$f":"IF(ISBLANK(B47)=FALSE,VLOOKUP(+$B47,'resultaten immissietoets'!$A$27:$AE$84,31,FALSE),\" \")","v":{"$error":"#N/A"}},{"$f":"VLOOKUP(+$B47,'resultaten immissietoets'!$A$27:$AE$84,15,FALSE)","v":{"$error":"#N/A"}},{"$error":"#N/A"},{"$f":"IF(ISBLANK($B47)=FALSE,VLOOKUP(+$B47,'resultaten immissietoets'!$A$27:$AI$84,29,FALSE),\" \")","v":{"$error":"#N/A"}},{"$f":"IF(AND(ISBLANK(B47)=FALSE,B47<>\" \"),N47*Y47*'resultaten immissietoets'!H$16*8760*3600/1000000,0)","v":0},{"$error":"#VALUE!"},{"$f":"IF(B47<>\" \",IF(N$9=\"nee\",IF(ISBLANK($B47)=FALSE,IF(AND('beschrijving lozing'!I$7=\"algemene regels\",+'beschrijving lozing'!I$19=\"nee\",ISNA(VLOOKUP(+$B47,'beschrijving lozing'!B$27:Q$78,15,FALSE))=FALSE),MAX(VLOOKUP(+B47,'beschrijving lozing'!B$27:Q$78,15,FALSE),VLOOKUP(+$B47,'resultaten immissietoets'!$A$27:$AO$84,41,FALSE)),VLOOKUP(+$B47,'resultaten immissietoets'!$A$27:$AO$84,41,FALSE)),\" \"),+P47),\" \")","v":" "},"ja",null,null,"nee",{"$f":"IF(Q47=\"ZZS\",\"ja\",IF('ZZS-checker'!B47=1,\"ja\",\"nee\"))","v":"nee"},0,0,"nee",{"$f":"IF(ISBLANK($B47)=FALSE,IF(ISNA(VLOOKUP(+$B47,'resultaten immissietoets'!$A$27:$AO$84,14,FALSE))=FALSE,VLOOKUP(+$B47,'resultaten immissietoets'!$A$27:$AO$84,14,FALSE),\" \"),\" \")","v":" "},null,{"$f":"IF(AND(ISBLANK($B47)=FALSE,$B47<>\" \"),VLOOKUP(+$B47,'resultaten immissietoets'!$A$27:$BU$84,73,FALSE),\" \")","v":" "},0,null,"ja"," ",0,0,{"$error":"#DIV/0!"},"   ",0," ",null," "," ",{"$f":"IF(AND(ISBLANK(B47)=FALSE,B47<>\" \"),VLOOKUP(+$B47,'resultaten immissietoets'!$A$27:$BK$84,63,FALSE),\" \")","v":" "},17,null,null,{"$f":"IF(N$27>=18,AC47/W47,0)","v":0},null,null,null,{"$f":"IF('pot-ZZS-checker'!B32>0,\"ja\",\"nee\")","v":"nee"},0,0," "," ",{"$f":"IF(AND(ISBLANK(B47)=FALSE,B47<>\" \"),IF(D47<W47,IF(D47+((1-AA47/100)*Y47-D47)/'resultaten immissietoets'!J$24*IF(U$22=\"ja\",1/(1+U$25*0.000001*10^G47),1)<W47,\"nee\",\"ja\"),IF(((1-AA47)*Y47-D47)/'resultaten immissietoets'!J$24*IF(U$22=\"ja\",1/(1+U$25*0.000001*10^G47),1)<=I47,\"nee\",\"ja\")),\" \")","v":" "},{"$f":"IF(ISBLANK(B47)=FALSE,IF(BA$25=\"ja\",IF(J47=\" \",IF(D47+((1-AA47/100)*Y47-D47)/Q$20*IF(U$22=\"ja\",1/(1+U$25*0.000001*10^G47),1)<=1,\"nee\",\"ja\"),IF(D47+((1-AA47/100)*Y47-D47)/Q$20*IF(U$22=\"ja\",1/(1+U$25*0.000001*10^G47),1)<='resultaten immissietoets'!AD45,\"nee\",\"ja\")),\"nee\"),\" \")","v":"nee"},null,"nee",0,null,null,null,0," ",null,{"$f":"IF(ISNA(VLOOKUP(B47,'resultaten immissietoets'!A$28:AO$84,41,FALSE))=FALSE,VLOOKUP(B47,'resultaten immissietoets'!A$28:AO$84,41,FALSE),0)","v":0},null,null,null,null,null,null,null,null,null,null,null,null,null,0,{"$f":"IF(AND(B47<>\" \",OR(+'beoordeling maatregel'!Q47=\"ZZS\",S47=\"ja\")),U47*L47,0)","v":0},{"$f":"IF(AND(B47<>\" \",OR(B47=\"PFOS\",B47=\"PFOA\",B47=\"GENX\",B47=\"overige PFAS\",B47=\"6:2 FTS\")),+'beoordeling maatregel'!L47*'beoordeling maatregel'!U47,0)","v":0}]
[19,{"$f":"IF(A48<=N$27,VLOOKUP(A47+1,'resultaten immissietoets'!AM$28:AN$84,2,FALSE),\" \")","v":" "},{"$f":"VLOOKUP(+$B48,'resultaten immissietoets'!$A$27:$AA$84,24,FALSE)","v":{"$error":"#N/A"}},{"$f":"IF(ISBLANK($B48)=FALSE,VLOOKUP(+$B48,'resultaten immissietoets'!$A$27:$AA$84,10,FALSE),\" \")","v":{"$error":"#N/A"}},{"$f":"VLOOKUP(+$B48,'resultaten immissietoets'!$A$27:$AA$84,26,FALSE)","v":{"$error":"#N/A"}},{"$f":"IF(ISBLANK($B48)=FALSE,VLOOKUP(+$B48,'resultaten immissietoets'!$A$27:$AI$84,35,FALSE),\" \")","v":{"$error":"#N/A"}},{"$f":"LOG(IF(ISNUMBER(VLOOKUP(+$B48,'resultaten immissietoets'!$A$27:$AE$84,2,FALSE))=TRUE,VLOOKUP(+$B48,'resultaten immissietoets'!$A$27:$AE$84,2,FALSE),1))","v":0},{"$f":"IF(ISBLANK(B48)=FALSE,VLOOKUP(+$B48,'resultaten immissietoets'!$A$27:$AE$84,31,FALSE),\" \")","v":{"$error":"#N/A"}},{"$f":"VLOOKUP(+$B48,'resultaten immissietoets'!$A$27:$AE$84,15,FALSE)","v":{"$error":"#N/A"}},{"$error":"#N/A"},{"$f":"IF(ISBLANK($B48)=FALSE,VLOOKUP(+$B48,'resultaten immissietoets'!$A$27:$AI$84,29,FALSE),\" \")","v":{"$error":"#N/A"}},{"$f":"IF(AND(ISBLANK(B48)=FALSE,B48<>\" \"),N48*Y48*'resultaten immissietoets'!H$16*8760*3600/1000000,0)","v":0},{"$error":"#VALUE!"},{"$f":"IF(B48<>\" \",IF(N$9=\"nee\",IF(ISBLANK($B48)=FALSE,IF(AND('beschrijving lozing'!I$7=\"algemene regels\",+'beschrijving lozing'!I$19=\"nee\",ISNA(VLOOKUP(+$B48,'beschrijving lozing'!B$27:Q$78,15,FALSE))=FALSE),MAX(VLOOKUP(+B48,'beschrijving lozing'!B$27:Q$78,15,FALSE),VLOOKUP(+$B48,'resultaten immissietoets'!$A$27:$AO$84,41,FALSE)),VLOOKUP(+$B48,'resultaten immissietoets'!$A$27:$AO$84,41,FALSE)),\" \"),+P48),\" \")","v":" "},"ja",null,null,"nee",{"$f":"IF(Q48=\"ZZS\",\"ja\",IF('ZZS-checker'!B48=1,\"ja\",\"nee\"))","v":"nee"},0,0,"nee",{"$f":"IF(ISBLANK($B48)=FALSE,IF(ISNA(VLOOKUP(+$B48,'resultaten immissietoets'!$A$27:$AO$84,14,FALSE))=FALSE,VLOOKUP(+$B48,'resultaten immissietoets'!$A$27:$AO$84,14,FALSE),\" \"),\" \")","v":" "},null,{"$f":"IF(AND(ISBLANK($B48)=FALSE,$B48<>\" \"),VLOOKUP(+$B48,'resultaten immissietoets'!$A$27:$BU$84,73,FALSE),\" \")","v":" "},0,null,"ja"," ",0,0,{"$error":"#DIV/0!"},"   ",0," ",null," "," ",{"$f":"IF(AND(ISBLANK(B48)=FALSE,B48<>\" \"),VLOOKUP(+$B48,'resultaten immissietoets'!$A$27:$BK$84,63,FALSE),\" \")","v":" "},18,null,null,{"$f":"IF(N$27>=19,AC48/W48,0)","v":0},null,null,null,{"$f":"IF('pot-ZZS-checker'!B33>0,\"ja\",\"nee\")","v":"nee"},0,0," "," ",{"$f":"IF(AND(ISBLANK(B48)=FALSE,B48<>\" \"),IF(D48<W48,IF(D48+((1-AA48/100)*Y48-D48)/'resultaten immissietoets'!J$24*IF(U$22=\"ja\",1/(1+U$25*0.000001*10^G48),1)<W48,\"nee\",\"ja\"),IF(((1-AA48)*Y48-D48)/'resultaten immissietoets'!J$24*IF(U$22=\"ja\",1/(1+U$25*0.000001*10^G48),1)<=I48,\"nee\",\"ja\")),\" \")","v":" "},{"$f":"IF(ISBLANK(B48)=FALSE,IF(BA$25=\"ja\",IF(J48=\" \",IF(D48+((1-AA48/100)*Y48-D48)/Q$20*IF(U$22=\"ja\",1/(1+U$25*0.000001*10^G48),1)<=1,\"nee\",\"ja\"),IF(D48+((1-AA48/100)*Y48-D48)/Q$20*IF(U$22=\"ja\",1/(1+U$25*0.000001*10^G48),1)<='resultaten immissietoets'!AD46,\"nee\",\"ja\")),\"nee\"),\" \")","v":"nee"},null,"nee",0,null,null,null,0," ",null,{"$f":"IF(ISNA(VLOOKUP(B48,'resultaten immissietoets'!A$28:AO$84,41,FALSE))=FALSE,VLOOKUP(B48,'resultaten immissietoets'!A$28:AO$84,41,FALSE),0)","v":0},null,null,null,null,null,null,null,null,null,null,null,null,null,0,{"$f":"IF(AND(B48<>\" \",OR(+'beoordeling maatregel'!Q48=\"ZZS\",S48=\"ja\")),U48*L48,0)","v":0},{"$f":"IF(AND(B48<>\" \",OR(B48=\"PFOS\",B48=\"PFOA\",B48=\"GENX\",B48=\"overige PFAS\",B48=\"6:2 FTS\")),+'beoordeling maatregel'!L48*'beoordeling maatregel'!U48,0)","v":0}]
[20,{"$f":"IF(A49<=N$27,VLOOKUP(A48+1,'resultaten immissietoets'!AM$28:AN$84,2,FALSE),\" \")","v":" "},{"$f":"VLOOKUP(+$B49,'resultaten immissietoets'!$A$27:$AA$84,24,FALSE)","v":{"$error":"#N/A"}},{"$f":"IF(ISBLANK($B49)=FALSE,VLOOKUP(+$B49,'resultaten immissietoets'!$A$27:$AA$84,10,FALSE),\" \")","v":{"$error":"#N/A"}},{"$f":"VLOOKUP(+$B49,'resultaten immissietoets'!$A$27:$AA$84,26,FALSE)","v":{"$error":"#N/A"}},{"$f":"IF(ISBLANK($B49)=FALSE,VLOOKUP(+$B49,'resultaten immissietoets'!$A$27:$AI$84,35,FALSE),\" \")","v":{"$error":"#N/A"}},{"$f":"LOG(IF(ISNUMBER(VLOOKUP(+$B49,'resultaten immissietoets'!$A$27:$AE$84,2,FALSE))=TRUE,VLOOKUP(+$B49,'resultaten immissietoets'!$A$27:$AE$84,2,FALSE),1))","v":0},{"$f":"IF(ISBLANK(B49)=FALSE,VLOOKUP(+$B49,'resultaten immissietoets'!$A$27:$AE$84,31,FALSE),\" \")","v":{"$error":"#N/A"}},{"$f":"VLOOKUP(+$B49,'resultaten immissietoets'!$A$27:$AE$84,15,FALSE)","v":{"$error":"#N/A"}},{"$error":"#N/A"},{"$f":"IF(ISBLANK($B49)=FALSE,VLOOKUP(+$B49,'resultaten immissietoets'!$A$27:$AI$84,29,FALSE),\" \")","v":{"$error":"#N/A"}},{"$f":"IF(AND(ISBLANK(B49)=FALSE,B49<>\" \"),N49*Y49*'resultaten immissietoets'!H$16*8760*3600/1000000,0)","v":0},{"$error":"#VALUE!"},{"$f":"IF(B49<>\" \",IF(N$9=\"nee\",IF(ISBLANK($B49)=FALSE,IF(AND('beschrijving lozing'!I$7=\"algemene regels\",+'beschrijving lozing'!I$19=\"nee\",ISNA(VLOOKUP(+$B49,'beschrijving lozing'!B$27:Q$78,15,FALSE))=FALSE),MAX(VLOOKUP(+B49,'beschrijving lozing'!B$27:Q$78,15,FALSE),VLOOKUP(+$B49,'resultaten immissietoets'!$A$27:$AO$84,41,FALSE)),VLOOKUP(+$B49,'resultaten immissietoets'!$A$27:$AO$84,41,FALSE)),\" \"),+P49),\" \")","v":" "},"ja",null,null,"nee",{"$f":"IF(Q49=\"ZZS\",\"ja\",IF('ZZS-checker'!B49=1,\"ja\",\"nee\"))","v":"nee"},0,0,"nee",{"$f":"IF(ISBLANK($B49)=FALSE,IF(ISNA(VLOOKUP(+$B49,'resultaten immissietoets'!$A$27:$AO$84,14,FALSE))=FALSE,VLOOKUP(+$B49,'resultaten immissietoets'!$A$27:$AO$84,14,FALSE),\" \"),\" \")","v":" "},null,{"$f":"IF(AND(ISBLANK($B49)=FALSE,$B49<>\" \"),VLOOKUP(+$B49,'resultaten immissietoets'!$A$27:$BU$84,73,FALSE),\" \")","v":" "},0,null,"ja"," ",0,0,{"$error":"#DIV/0!"},"   ",0," ",null," "," ",{"$f":"IF(AND(ISBLANK(B49)=FALSE,B49<>\" \"),VLOOKUP(+$B49,'resultaten immissietoets'!$A$27:$BK$84,63,FALSE),\" \")","v":" "},19,null,null,{"$f":"IF(N$27>=20,AC49/W49,0)","v":0},null,null,null,{"$f":"IF('pot-ZZS-checker'!B34>0,\"ja\",\"nee\")","v":"nee"},0,0," "," ",{"$f":"IF(AND(ISBLANK(B49)=FALSE,B49<>\" \"),IF(D49<W49,IF(D49+((1-AA49/100)*Y49-D49)/'resultaten immissietoets'!J$24*IF(U$22=\"ja\",1/(1+U$25*0.000001*10^G49),1)<W49,\"nee\",\"ja\"),IF(((1-AA49)*Y49-D49)/'resultaten immissietoets'!J$24*IF(U$22=\"ja\",1/(1+U$25*0.000001*10^G49),1)<=I49,\"nee\",\"ja\")),\" \")","v":" "},{"$f":"IF(ISBLANK(B49)=FALSE,IF(BA$25=\"ja\",IF(J49=\" \",IF(D49+((1-AA49/100)*Y49-D49)/Q$20*IF(U$22=\"ja\",1/(1+U$25*0.000001*10^G49),1)<=1,\"nee\",\"ja\"),IF(D49+((1-AA49/100)*Y49-D49)/Q$20*IF(U$22=\"ja\",1/(1+U$25*0.000001*10^G49),1)<='resultaten immissietoets'!AD47,\"nee\",\"ja\")),\"nee\"),\" \")","v":"nee"},null,"nee",0,null,null,null,0," ",null,{"$f":"IF(ISNA(VLOOKUP(B49,'resultaten immissietoets'!A$28:AO$84,41,FALSE))=FALSE,VLOOKUP(B49,'resultaten immissietoets'!A$28:AO$84,41,FALSE),0)","v":0},null,null,null,null,null,null,null,null,null,null,null,null,null,0,{"$f":"IF(AND(B49<>\" \",OR(+'beoordeling maatregel'!Q49=\"ZZS\",S49=\"ja\")),U49*L49,0)","v":0},{"$f":"IF(AND(B49<>\" \",OR(B49=\"PFOS\",B49=\"PFOA\",B49=\"GENX\",B49=\"overige PFAS\",B49=\"6:2 FTS\")),+'beoordeling maatregel'!L49*'beoordeling maatregel'!U49,0)","v":0}]
[21,{"$f":"IF(A50<=N$27,VLOOKUP(A49+1,'resultaten immissietoets'!AM$28:AN$84,2,FALSE),\" \")","v":" "},{"$f":"VLOOKUP(+$B50,'resultaten immissietoets'!$A$27:$AA$84,24,FALSE)","v":{"$error":"#N/A"}},{"$f":"IF(ISBLANK($B50)=FALSE,VLOOKUP(+$B50,'resultaten immissietoets'!$A$27:$AA$84,10,FALSE),\" \")","v":{"$error":"#N/A"}},{"$f":"VLOOKUP(+$B50,'resultaten immissietoets'!$A$27:$AA$84,26,FALSE)","v":{"$error":"#N/A"}},{"$f":"IF(ISBLANK($B50)=FALSE,VLOOKUP(+$B50,'resultaten immissietoets'!$A$27:$AI$84,35,FALSE),\" \")","v":{"$error":"#N/A"}},{"$f":"LOG(IF(ISNUMBER(VLOOKUP(+$B50,'resultaten immissietoets'!$A$27:$AE$84,2,FALSE))=TRUE,VLOOKUP(+$B50,'resultaten immissietoets'!$A$27:$AE$84,2,FALSE),1))","v":0},{"$f":"IF(ISBLANK(B50)=FALSE,VLOOKUP(+$B50,'resultaten immissietoets'!$A$27:$AE$84,31,FALSE),\" \")","v":{"$error":"#N/A"}},{"$f":"VLOOKUP(+$B50,'resultaten immissietoets'!$A$27:$AE$84,15,FALSE)","v":{"$error":"#N/A"}},{"$error":"#N/A"},{"$f":"IF(ISBLANK($B50)=FALSE,VLOOKUP(+$B50,'resultaten immissietoets'!$A$27:$AI$84,29,FALSE),\" \")","v":{"$error":"#N/A"}},{"$f":"IF(AND(ISBLANK(B50)=FALSE,B50<>\" \"),N50*Y50*'resultaten immissietoets'!H$16*8760*3600/1000000,0)","v":0},{"$error":"#VALUE!"},{"$f":"IF(B50<>\" \",IF(N$9=\"nee\",IF(ISBLANK($B50)=FALSE,IF(AND('beschrijving lozing'!I$7=\"algemene regels\",+'beschrijving lozing'!I$19=\"nee\",ISNA(VLOOKUP(+$B50,'beschrijving lozing'!B$27:Q$78,15,FALSE))=FALSE),MAX(VLOOKUP(+B50,'beschrijving lozing'!B$27:Q$78,15,FALSE),VLOOKUP(+$B50,'resultaten immissietoets'!$A$27:$AO$84,41,FALSE)),VLOOKUP(+$B50,'resultaten immissietoets'!$A$27:$AO$84,41,FALSE)),\" \"),+P50),\" \")","v":" "},"ja",null,null,"nee",{"$f":"IF(Q50=\"ZZS\",\"ja\",IF('ZZS-checker'!B50=1,\"ja\",\"nee\"))","v":"nee"},0,0,"nee",{"$f":"IF(ISBLANK($B50)=FALSE,IF(ISNA(VLOOKUP(+$B50,'resultaten immissietoets'!$A$27:$AO$84,14,FALSE))=FALSE,VLOOKUP(+$B50,'resultaten immissietoets'!$A$27:$AO$84,14,FALSE),\" \"),\" \")","v":" "},null,{"$f":"IF(AND(ISBLANK($B50)=FALSE,$B50<>\" \"),VLOOKUP(+$B50,'resultaten immissietoets'!$A$27:$BU$84,73,FALSE),\" \")","v":" "},0,null,"ja"," ",0,0,{"$error":"#DIV/0!"},"   ",0," ",null," "," ",{"$f":"IF(AND(ISBLANK(B50)=FALSE,B50<>\" \"),VLOOKUP(+$B50,'resultaten immissietoets'!$A$27:$BK$84,63,FALSE),\" \")","v":" "},20,null,null,{"$f":"IF(N$27>=21,AC50/W50,0)","v":0},null,null,null,{"$f":"IF('pot-ZZS-checker'!B35>0,\"ja\",\"nee\")","v":"nee"},0,0," "," ",{"$f":"IF(AND(ISBLANK(B50)=FALSE,B50<>\" \"),IF(D50<W50,IF(D50+((1-AA50/100)*Y50-D50)/'resultaten immissietoets'!J$24*IF(U$22=\"ja\",1/(1+U$25*0.000001*10^G50),1)<W50,\"nee\",\"ja\"),IF(((1-AA50)*Y50-D50)/'resultaten immissietoets'!J$24*IF(U$22=\"ja\",1/(1+U$25*0.000001*10^G50),1)<=I50,\"nee\",\"ja\")),\" \")","v":" "},{"$f":"IF(ISBLANK(B50)=FALSE,IF(BA$25=\"ja\",IF(J50=\" \",IF(D50+((1-AA50/100)*Y50-D50)/Q$20*IF(U$22=\"ja\",1/(1+U$25*0.000001*10^G50),1)<=1,\"nee\",\"ja\"),IF(D50+((1-AA50/100)*Y50-D50)/Q$20*IF(U$22=\"ja\",1/(1+U$25*0.000001*10^G50),1)<='resultaten immissietoets'!AD48,\"nee\",\"ja\")),\"nee\"),\" \")","v":"nee"},null,"nee",0,null,null,null,0," ",null,{"$f":"IF(ISNA(VLOOKUP(B50,'resultaten immissietoets'!A$28:AO$84,41,FALSE))=FALSE,VLOOKUP(B50,'resultaten immissietoets'!A$28:AO$84,41,FALSE),0)","v":0},null,null,null,null,null,null,null,null,null,null,null,null,null,0,{"$f":"IF(AND(B50<>\" \",OR(+'beoordeling maatregel'!Q50=\"ZZS\",S50=\"ja\")),U50*L50,0)","v":0},{"$f":"IF(AND(B50<>\" \",OR(B50=\"PFOS\",B50=\"PFOA\",B50=\"GENX\",B50=\"overige PFAS\",B50=\"6:2 FTS\")),+'beoordeling maatregel'!L50*'beoordeling maatregel'!U50,0)","v":0}]
[{"$f":"+A50+1","v":22},{"$f":"IF(A51<=N$27,VLOOKUP(A50+1,'resultaten immissietoets'!AM$28:AN$84,2,FALSE),\" \")","v":" "},{"$f":"VLOOKUP(+$B51,'resultaten immissietoets'!$A$27:$AA$84,24,FALSE)","v":{"$error":"#N/A"}},{"$f":"IF(ISBLANK($B51)=FALSE,VLOOKUP(+$B51,'resultaten immissietoets'!$A$27:$AA$84,10,FALSE),\" \")","v":{"$error":"#N/A"}},{"$f":"VLOOKUP(+$B51,'resultaten immissietoets'!$A$27:$AA$84,26,FALSE)","v":{"$error":"#N/A"}},{"$f":"IF(ISBLANK($B51)=FALSE,VLOOKUP(+$B51,'resultaten immissietoets'!$A$27:$AI$84,35,FALSE),\" \")","v":{"$error":"#N/A"}},{"$f":"LOG(IF(ISNUMBER(VLOOKUP(+$B51,'resultaten immissietoets'!$A$27:$AE$84,2,FALSE))=TRUE,VLOOKUP(+$B51,'resultaten immissietoets'!$A$27:$AE$84,2,FALSE),1))","v":0},{"$f":"IF(ISBLANK(B51)=FALSE,VLOOKUP(+$B51,'resultaten immissietoets'!$A$27:$AE$84,31,FALSE),\" \")","v":{"$error":"#N/A"}},{"$f":"VLOOKUP(+$B51,'resultaten immissietoets'!$A$27:$AE$84,15,FALSE)","v":{"$error":"#N/A"}},{"$error":"#N/A"},{"$f":"IF(ISBLANK($B51)=FALSE,VLOOKUP(+$B51,'resultaten immissietoets'!$A$27:$AI$84,29,FALSE),\" \")","v":{"$error":"#N/A"}},{"$f":"IF(AND(ISBLANK(B51)=FALSE,B51<>\" \"),N51*Y51*'resultaten immissietoets'!H$16*8760*3600/1000000,0)","v":0},{"$error":"#VALUE!"},{"$f":"IF(B51<>\" \",IF(N$9=\"nee\",IF(ISBLANK($B51)=FALSE,IF(AND('beschrijving lozing'!I$7=\"algemene regels\",+'beschrijving lozing'!I$19=\"nee\",ISNA(VLOOKUP(+$B51,'beschrijving lozing'!B$27:Q$78,15,FALSE))=FALSE),MAX(VLOOKUP(+B51,'beschrijving lozing'!B$27:Q$78,15,FALSE),VLOOKUP(+$B51,'resultaten immissietoets'!$A$27:$AO$84,41,FALSE)),VLOOKUP(+$B51,'resultaten immissietoets'!$A$27:$AO$84,41,FALSE)),\" \"),+P51),\" \")","v":" "},"ja",null,null,"nee",{"$f":"IF(Q51=\"ZZS\",\"ja\",IF('ZZS-checker'!B51=1,\"ja\",\"nee\"))","v":"nee"},0,0,"nee",{"$f":"IF(ISBLANK($B51)=FALSE,IF(ISNA(VLOOKUP(+$B51,'resultaten immissietoets'!$A$27:$AO$84,14,FALSE))=FALSE,VLOOKUP(+$B51,'resultaten immissietoets'!$A$27:$AO$84,14,FALSE),\" \"),\" \")","v":" "},null,{"$f":"IF(AND(ISBLANK($B51)=FALSE,$B51<>\" \"),VLOOKUP(+$B51,'resultaten immissietoets'!$A$27:$BU$84,73,FALSE),\" \")","v":" "},0,null,"ja"," ",0,0,{"$error":"#DIV/0!"},"   ",0," ",null," "," ",{"$f":"IF(AND(ISBLANK(B51)=FALSE,B51<>\" \"),VLOOKUP(+$B51,'resultaten immissietoets'!$A$27:$BK$84,63,FALSE),\" \")","v":" "},21,null,null,0,null,null,null,{"$f":"IF('pot-ZZS-checker'!B36>0,\"ja\",\"nee\")","v":"nee"},0,0," "," ",{"$f":"IF(AND(ISBLANK(B51)=FALSE,B51<>\" \"),IF(D51<W51,IF(D51+((1-AA51/100)*Y51-D51)/'resultaten immissietoets'!J$24*IF(U$22=\"ja\",1/(1+U$25*0.000001*10^G51),1)<W51,\"nee\",\"ja\"),IF(((1-AA51)*Y51-D51)/'resultaten immissietoets'!J$24*IF(U$22=\"ja\",1/(1+U$25*0.000001*10^G51),1)<=I51,\"nee\",\"ja\")),\" \")","v":" "},{"$f":"IF(ISBLANK(B51)=FALSE,IF(BA$25=\"ja\",IF(J51=\" \",IF(D51+((1-AA51/100)*Y51-D51)/Q$20*IF(U$22=\"ja\",1/(1+U$25*0.000001*10^G51),1)<=1,\"nee\",\"ja\"),IF(D51+((1-AA51/100)*Y51-D51)/Q$20*IF(U$22=\"ja\",1/(1+U$25*0.000001*10^G51),1)<='resultaten immissietoets'!AD49,\"nee\",\"ja\")),\"nee\"),\" \")","v":"nee"},null,"nee",0,null,null,null,0," ",null,{"$f":"IF(ISNA(VLOOKUP(B51,'resultaten immissietoets'!A$28:AO$84,41,FALSE))=FALSE,VLOOKUP(B51,'resultaten immissietoets'!A$28:AO$84,41,FALSE),0)","v":0},null,null,null,null,null,null,null,null,null,null,null,null,null,0,{"$f":"IF(AND(B51<>\" \",OR(+'beoordeling maatregel'!Q51=\"ZZS\",S51=\"ja\")),U51*L51,0)","v":0},{"$f":"IF(AND(B51<>\" \",OR(B51=\"PFOS\",B51=\"PFOA\",B51=\"GENX\",B51=\"overige PFAS\",B51=\"6:2 FTS\")),+'beoordeling maatregel'!L51*'beoordeling maatregel'!U51,0)","v":0}]
[{"$f":"+A51+1","v":23},{"$f":"IF(A52<=N$27,VLOOKUP(A51+1,'resultaten immissietoets'!AM$28:AN$84,2,FALSE),\" \")","v":" "},{"$f":"VLOOKUP(+$B52,'resultaten immissietoets'!$A$27:$AA$84,24,FALSE)","v":{"$error":"#N/A"}},{"$f":"IF(ISBLANK($B52)=FALSE,VLOOKUP(+$B52,'resultaten immissietoets'!$A$27:$AA$84,10,FALSE),\" \")","v":{"$error":"#N/A"}},{"$f":"VLOOKUP(+$B52,'resultaten immissietoets'!$A$27:$AA$84,26,FALSE)","v":{"$error":"#N/A"}},{"$f":"IF(ISBLANK($B52)=FALSE,VLOOKUP(+$B52,'resultaten immissietoets'!$A$27:$AI$84,35,FALSE),\" \")","v":{"$error":"#N/A"}},{"$f":"LOG(IF(ISNUMBER(VLOOKUP(+$B52,'resultaten immissietoets'!$A$27:$AE$84,2,FALSE))=TRUE,VLOOKUP(+$B52,'resultaten immissietoets'!$A$27:$AE$84,2,FALSE),1))","v":0},{"$f":"IF(ISBLANK(B52)=FALSE,VLOOKUP(+$B52,'resultaten immissietoets'!$A$27:$AE$84,31,FALSE),\" \")","v":{"$error":"#N/A"}},{"$f":"VLOOKUP(+$B52,'resultaten immissietoets'!$A$27:$AE$84,15,FALSE)","v":{"$error":"#N/A"}},{"$error":"#N/A"},{"$f":"IF(ISBLANK($B52)=FALSE,VLOOKUP(+$B52,'resultaten immissietoets'!$A$27:$AI$84,29,FALSE),\" \")","v":{"$error":"#N/A"}},{"$f":"IF(AND(ISBLANK(B52)=FALSE,B52<>\" \"),N52*Y52*'resultaten immissietoets'!H$16*8760*3600/1000000,0)","v":0},{"$error":"#VALUE!"},{"$f":"IF(B52<>\" \",IF(N$9=\"nee\",IF(ISBLANK($B52)=FALSE,IF(AND('beschrijving lozing'!I$7=\"algemene regels\",+'beschrijving lozing'!I$19=\"nee\",ISNA(VLOOKUP(+$B52,'beschrijving lozing'!B$27:Q$78,15,FALSE))=FALSE),MAX(VLOOKUP(+B52,'beschrijving lozing'!B$27:Q$78,15,FALSE),VLOOKUP(+$B52,'resultaten immissietoets'!$A$27:$AO$84,41,FALSE)),VLOOKUP(+$B52,'resultaten immissietoets'!$A$27:$AO$84,41,FALSE)),\" \"),+P52),\" \")","v":" "},"ja",null,null,"nee",{"$f":"IF(Q52=\"ZZS\",\"ja\",IF('ZZS-checker'!B52=1,\"ja\",\"nee\"))","v":"nee"},0,{"$f":"IF(AND(ISBLANK(B52)=FALSE,B52<>\" \"),IF(OR(B52=\"Zink\",B52=\"Zn\",B52=\"Nikkel\",B52=\"Ni\",B52=\"Koper\",B52=\"Cu\"),450,IF(OR(B52=\"P-tot\",B52=\"Tot-P\",B52=\"totaal-P\",B52=\"P-totaal\"),20,IF(OR(B52=\"N-tot\",B52=\"tot-N\",B52=\"totaal-N\",B52=\"N-totaal\",B52=\"totaal-stikstof\",B52=\"stikstof-totaal\"),6,IF(1/W52<0.01,200000*(1/W52)^1.15,660*LN(1/W52)+3950))))*IF(N$9=\"nee\",10,1),0)","v":0},"nee",{"$f":"IF(ISBLANK($B52)=FALSE,IF(ISNA(VLOOKUP(+$B52,'resultaten immissietoets'!$A$27:$AO$84,14,FALSE))=FALSE,VLOOKUP(+$B52,'resultaten immissietoets'!$A$27:$AO$84,14,FALSE),\" \"),\" \")","v":" "},null,{"$f":"IF(AND(ISBLANK($B52)=FALSE,$B52<>\" \"),VLOOKUP(+$B52,'resultaten immissietoets'!$A$27:$BU$84,73,FALSE),\" \")","v":" "},0,null,"ja"," ",{"$f":"IF(AND(ISBLANK(B52)=FALSE,B52<>\" \"),IF(AE$27=\"nee\",IF(AC52>0,AC52*U52,0),AC52/W52),0)","v":0},{"$f":"IF(AND(ISBLANK(B52)=FALSE,B52<>\" \"),IF(ISBLANK(N$25)=FALSE,IF(AE$27=\"ja\",+AD52/AD$71*U$18/AC52,U$18*AD52/AD$71/AC52),\" \"),0)","v":0},{"$error":"#DIV/0!"},"   ",0," ",null," "," ",{"$f":"IF(AND(ISBLANK(B52)=FALSE,B52<>\" \"),VLOOKUP(+$B52,'resultaten immissietoets'!$A$27:$BK$84,63,FALSE),\" \")","v":" "},22,null,null,0,null,null,null,{"$f":"IF('pot-ZZS-checker'!B37>0,\"ja\",\"nee\")","v":"nee"},0,0," "," ",{"$f":"IF(AND(ISBLANK(B52)=FALSE,B52<>\" \"),IF(D52<W52,IF(D52+((1-AA52/100)*Y52-D52)/'resultaten immissietoets'!J$24*IF(U$22=\"ja\",1/(1+U$25*0.000001*10^G52),1)<W52,\"nee\",\"ja\"),IF(((1-AA52)*Y52-D52)/'resultaten immissietoets'!J$24*IF(U$22=\"ja\",1/(1+U$25*0.000001*10^G52),1)<=I52,\"nee\",\"ja\")),\" \")","v":" "},{"$f":"IF(ISBLANK(B52)=FALSE,IF(BA$25=\"ja\",IF(J52=\" \",IF(D52+((1-AA52/100)*Y52-D52)/Q$20*IF(U$22=\"ja\",1/(1+U$25*0.000001*10^G52),1)<=1,\"nee\",\"ja\"),IF(D52+((1-AA52/100)*Y52-D52)/Q$20*IF(U$22=\"ja\",1/(1+U$25*0.000001*10^G52),1)<='resultaten immissietoets'!AD50,\"nee\",\"ja\")),\"nee\"),\" \")","v":"nee"},null,"nee",0,null,null,null,0," ",null,{"$f":"IF(ISNA(VLOOKUP(B52,'resultaten immissietoets'!A$28:AO$84,41,FALSE))=FALSE,VLOOKUP(B52,'resultaten immissietoets'!A$28:AO$84,41,FALSE),0)","v":0},null,null,null,null,null,null,null,null,null,null,null,null,null,0,{"$f":"IF(AND(B52<>\" \",OR(+'beoordeling maatregel'!Q52=\"ZZS\",S52=\"ja\")),U52*L52,0)","v":0},{"$f":"IF(AND(B52<>\" \",OR(B52=\"PFOS\",B52=\"PFOA\",B52=\"GENX\",B52=\"overige PFAS\",B52=\"6:2 FTS\")),+'beoordeling maatregel'!L52*'beoordeling maatregel'!U52,0)","v":0}]
[24,{"$f":"IF(A53<=N$27,VLOOKUP(A52+1,'resultaten immissietoets'!AM$28:AN$84,2,FALSE),\" \")","v":" "},{"$f":"VLOOKUP(+$B53,'resultaten immissietoets'!$A$27:$AA$84,24,FALSE)","v":{"$error":"#N/A"}},{"$f":"IF(ISBLANK($B53)=FALSE,VLOOKUP(+$B53,'resultaten immissietoets'!$A$27:$AA$84,10,FALSE),\" \")","v":{"$error":"#N/A"}},{"$f":"VLOOKUP(+$B53,'resultaten immissietoets'!$A$27:$AA$84,26,FALSE)","v":{"$error":"#N/A"}},{"$f":"IF(ISBLANK($B53)=FALSE,VLOOKUP(+$B53,'resultaten immissietoets'!$A$27:$AI$84,35,FALSE),\" \")","v":{"$error":"#N/A"}},{"$f":"LOG(IF(ISNUMBER(VLOOKUP(+$B53,'resultaten immissietoets'!$A$27:$AE$84,2,FALSE))=TRUE,VLOOKUP(+$B53,'resultaten immissietoets'!$A$27:$AE$84,2,FALSE),1))","v":0},{"$f":"IF(ISBLANK(B53)=FALSE,VLOOKUP(+$B53,'resultaten immissietoets'!$A$27:$AE$84,31,FALSE),\" \")","v":{"$error":"#N/A"}},{"$f":"VLOOKUP(+$B53,'resultaten immissietoets'!$A$27:$AE$84,15,FALSE)","v":{"$error":"#N/A"}},{"$error":"#N/A"},{"$f":"IF(ISBLANK($B53)=FALSE,VLOOKUP(+$B53,'resultaten immissietoets'!$A$27:$AI$84,29,FALSE),\" \")","v":{"$error":"#N/A"}},{"$f":"IF(AND(ISBLANK(B53)=FALSE,B53<>\" \"),N53*Y53*'resultaten immissietoets'!H$16*8760*3600/1000000,0)","v":0},{"$error":"#VALUE!"},{"$f":"IF(B53<>\" \",IF(N$9=\"nee\",IF(ISBLANK($B53)=FALSE,IF(AND('beschrijving lozing'!I$7=\"algemene regels\",+'beschrijving lozing'!I$19=\"nee\",ISNA(VLOOKUP(+$B53,'beschrijving lozing'!B$27:Q$78,15,FALSE))=FALSE),MAX(VLOOKUP(+B53,'beschrijving lozing'!B$27:Q$78,15,FALSE),VLOOKUP(+$B53,'resultaten immissietoets'!$A$27:$AO$84,41,FALSE)),VLOOKUP(+$B53,'resultaten immissietoets'!$A$27:$AO$84,41,FALSE)),\" \"),+P53),\" \")","v":" "},"ja",null,null,"nee",{"$f":"IF(Q53=\"ZZS\",\"ja\",IF('ZZS-checker'!B53=1,\"ja\",\"nee\"))","v":"nee"},0,{"$f":"IF(AND(ISBLANK(B53)=FALSE,B53<>\" \"),IF(OR(B53=\"Zink\",B53=\"Zn\",B53=\"Nikkel\",B53=\"Ni\",B53=\"Koper\",B53=\"Cu\"),450,IF(OR(B53=\"P-tot\",B53=\"Tot-P\",B53=\"totaal-P\",B53=\"P-totaal\"),20,IF(OR(B53=\"N-tot\",B53=\"tot-N\",B53=\"totaal-N\",B53=\"N-totaal\",B53=\"totaal-stikstof\",B53=\"stikstof-totaal\"),6,IF(1/W53<0.01,200000*(1/W53)^1.15,660*LN(1/W53)+3950))))*IF(N$9=\"nee\",10,1),0)","v":0},"nee",{"$f":"IF(ISBLANK($B53)=FALSE,IF(ISNA(VLOOKUP(+$B53,'resultaten immissietoets'!$A$27:$AO$84,14,FALSE))=FALSE,VLOOKUP(+$B53,'resultaten immissietoets'!$A$27:$AO$84,14,FALSE),\" \"),\" \")","v":" "},null,{"$f":"IF(AND(ISBLANK($B53)=FALSE,$B53<>\" \"),VLOOKUP(+$B53,'resultaten immissietoets'!$A$27:$BU$84,73,FALSE),\" \")","v":" "},0,null,"ja"," ",{"$f":"IF(AND(ISBLANK(B53)=FALSE,B53<>\" \"),IF(AE$27=\"nee\",IF(AC53>0,AC53*U53,0),AC53/W53),0)","v":0},{"$f":"IF(AND(ISBLANK(B53)=FALSE,B53<>\" \"),IF(ISBLANK(N$25)=FALSE,IF(AE$27=\"ja\",+AD53/AD$71*U$18/AC53,U$18*AD53/AD$71/AC53),\" \"),0)","v":0},{"$error":"#DIV/0!"},"   ",0," ",null," "," ",{"$f":"IF(AND(ISBLANK(B53)=FALSE,B53<>\" \"),VLOOKUP(+$B53,'resultaten immissietoets'!$A$27:$BK$84,63,FALSE),\" \")","v":" "},23,null,null,0,null,null,null,{"$f":"IF('pot-ZZS-checker'!B38>0,\"ja\",\"nee\")","v":"nee"},0,0," "," ",{"$f":"IF(AND(ISBLANK(B53)=FALSE,B53<>\" \"),IF(D53<W53,IF(D53+((1-AA53/100)*Y53-D53)/'resultaten immissietoets'!J$24*IF(U$22=\"ja\",1/(1+U$25*0.000001*10^G53),1)<W53,\"nee\",\"ja\"),IF(((1-AA53)*Y53-D53)/'resultaten immissietoets'!J$24*IF(U$22=\"ja\",1/(1+U$25*0.000001*10^G53),1)<=I53,\"nee\",\"ja\")),\" \")","v":" "},{"$f":"IF(ISBLANK(B53)=FALSE,IF(BA$25=\"ja\",IF(J53=\" \",IF(D53+((1-AA53/100)*Y53-D53)/Q$20*IF(U$22=\"ja\",1/(1+U$25*0.000001*10^G53),1)<=1,\"nee\",\"ja\"),IF(D53+((1-AA53/100)*Y53-D53)/Q$20*IF(U$22=\"ja\",1/(1+U$25*0.000001*10^G53),1)<='resultaten immissietoets'!AD51,\"nee\",\"ja\")),\"nee\"),\" \")","v":"nee"},null,"nee",0,null,null,null,0," ",null,{"$f":"IF(ISNA(VLOOKUP(B53,'resultaten immissietoets'!A$28:AO$84,41,FALSE))=FALSE,VLOOKUP(B53,'resultaten immissietoets'!A$28:AO$84,41,FALSE),0)","v":0},null,null,null,null,null,null,null,null,null,null,null,null,null,0,{"$f":"IF(AND(B53<>\" \",OR(+'beoordeling maatregel'!Q53=\"ZZS\",S53=\"ja\")),U53*L53,0)","v":0},{"$f":"IF(AND(B53<>\" \",OR(B53=\"PFOS\",B53=\"PFOA\",B53=\"GENX\",B53=\"overige PFAS\",B53=\"6:2 FTS\")),+'beoordeling maatregel'!L53*'beoordeling maatregel'!U53,0)","v":0}]
[25,{"$f":"IF(A54<=N$27,VLOOKUP(A53+1,'resultaten immissietoets'!AM$28:AN$84,2,FALSE),\" \")","v":" "},{"$f":"VLOOKUP(+$B54,'resultaten immissietoets'!$A$27:$AA$84,24,FALSE)","v":{"$error":"#N/A"}},{"$f":"IF(ISBLANK($B54)=FALSE,VLOOKUP(+$B54,'resultaten immissietoets'!$A$27:$AA$84,10,FALSE),\" \")","v":{"$error":"#N/A"}},{"$f":"VLOOKUP(+$B54,'resultaten immissietoets'!$A$27:$AA$84,26,FALSE)","v":{"$error":"#N/A"}},{"$f":"IF(ISBLANK($B54)=FALSE,VLOOKUP(+$B54,'resultaten immissietoets'!$A$27:$AI$84,35,FALSE),\" \")","v":{"$error":"#N/A"}},{"$f":"LOG(IF(ISNUMBER(VLOOKUP(+$B54,'resultaten immissietoets'!$A$27:$AE$84,2,FALSE))=TRUE,VLOOKUP(+$B54,'resultaten immissietoets'!$A$27:$AE$84,2,FALSE),1))","v":0},{"$f":"IF(ISBLANK(B54)=FALSE,VLOOKUP(+$B54,'resultaten immissietoets'!$A$27:$AE$84,31,FALSE),\" \")","v":{"$error":"#N/A"}},{"$f":"VLOOKUP(+$B54,'resultaten immissietoets'!$A$27:$AE$84,15,FALSE)","v":{"$error":"#N/A"}},{"$error":"#N/A"},{"$f":"IF(ISBLANK($B54)=FALSE,VLOOKUP(+$B54,'resultaten immissietoets'!$A$27:$AI$84,29,FALSE),\" \")","v":{"$error":"#N/A"}},{"$f":"IF(AND(ISBLANK(B54)=FALSE,B54<>\" \"),N54*Y54*'resultaten immissietoets'!H$16*8760*3600/1000000,0)","v":0},{"$error":"#VALUE!"},{"$f":"IF(B54<>\" \",IF(N$9=\"nee\",IF(ISBLANK($B54)=FALSE,IF(AND('beschrijving lozing'!I$7=\"algemene regels\",+'beschrijving lozing'!I$19=\"nee\",ISNA(VLOOKUP(+$B54,'beschrijving lozing'!B$27:Q$78,15,FALSE))=FALSE),MAX(VLOOKUP(+B54,'beschrijving lozing'!B$27:Q$78,15,FALSE),VLOOKUP(+$B54,'resultaten immissietoets'!$A$27:$AO$84,41,FALSE)),VLOOKUP(+$B54,'resultaten immissietoets'!$A$27:$AO$84,41,FALSE)),\" \"),+P54),\" \")","v":" "},"ja",null,null,"nee",{"$f":"IF(Q54=\"ZZS\",\"ja\",IF('ZZS-checker'!B54=1,\"ja\",\"nee\"))","v":"nee"},0,0,"nee",{"$f":"IF(ISBLANK($B54)=FALSE,IF(ISNA(VLOOKUP(+$B54,'resultaten immissietoets'!$A$27:$AO$84,14,FALSE))=FALSE,VLOOKUP(+$B54,'resultaten immissietoets'!$A$27:$AO$84,14,FALSE),\" \"),\" \")","v":" "},null,{"$f":"IF(AND(ISBLANK($B54)=FALSE,$B54<>\" \"),VLOOKUP(+$B54,'resultaten immissietoets'!$A$27:$BU$84,73,FALSE),\" \")","v":" "},0,null,"ja"," ",0,0,{"$error":"#DIV/0!"},"   ",0," ",null," "," ",{"$f":"IF(AND(ISBLANK(B54)=FALSE,B54<>\" \"),VLOOKUP(+$B54,'resultaten immissietoets'!$A$27:$BK$84,63,FALSE),\" \")","v":" "},24,null,null,0,null,null,null,{"$f":"IF('pot-ZZS-checker'!B39>0,\"ja\",\"nee\")","v":"nee"},0,0," "," ",{"$f":"IF(AND(ISBLANK(B54)=FALSE,B54<>\" \"),IF(D54<W54,IF(D54+((1-AA54/100)*Y54-D54)/'resultaten immissietoets'!J$24*IF(U$22=\"ja\",1/(1+U$25*0.000001*10^G54),1)<W54,\"nee\",\"ja\"),IF(((1-AA54)*Y54-D54)/'resultaten immissietoets'!J$24*IF(U$22=\"ja\",1/(1+U$25*0.000001*10^G54),1)<=I54,\"nee\",\"ja\")),\" \")","v":" "},{"$f":"IF(ISBLANK(B54)=FALSE,IF(BA$25=\"ja\",IF(J54=\" \",IF(D54+((1-AA54/100)*Y54-D54)/Q$20*IF(U$22=\"ja\",1/(1+U$25*0.000001*10^G54),1)<=1,\"nee\",\"ja\"),IF(D54+((1-AA54/100)*Y54-D54)/Q$20*IF(U$22=\"ja\",1/(1+U$25*0.000001*10^G54),1)<='resultaten immissietoets'!AD52,\"nee\",\"ja\")),\"nee\"),\" \")","v":"nee"},null,"nee",0,null,null,null,0," ",null,{"$f":"IF(ISNA(VLOOKUP(B54,'resultaten immissietoets'!A$28:AO$84,41,FALSE))=FALSE,VLOOKUP(B54,'resultaten immissietoets'!A$28:AO$84,41,FALSE),0)","v":0},null,null,null,null,null,null,null,null,null,null,null,null,null,0,{"$f":"IF(AND(B54<>\" \",OR(+'beoordeling maatregel'!Q54=\"ZZS\",S54=\"ja\")),U54*L54,0)","v":0},{"$f":"IF(AND(B54<>\" \",OR(B54=\"PFOS\",B54=\"PFOA\",B54=\"GENX\",B54=\"overige PFAS\",B54=\"6:2 FTS\")),+'beoordeling maatregel'!L54*'beoordeling maatregel'!U54,0)","v":0}]
[26,{"$f":"IF(A55<=N$27,VLOOKUP(A54+1,'resultaten immissietoets'!AM$28:AN$84,2,FALSE),\" \")","v":" "},{"$f":"VLOOKUP(+$B55,'resultaten immissietoets'!$A$27:$AA$84,24,FALSE)","v":{"$error":"#N/A"}},{"$f":"IF(ISBLANK($B55)=FALSE,VLOOKUP(+$B55,'resultaten immissietoets'!$A$27:$AA$84,10,FALSE),\" \")","v":{"$error":"#N/A"}},{"$f":"VLOOKUP(+$B55,'resultaten immissietoets'!$A$27:$AA$84,26,FALSE)","v":{"$error":"#N/A"}},{"$f":"IF(ISBLANK($B55)=FALSE,VLOOKUP(+$B55,'resultaten immissietoets'!$A$27:$AI$84,35,FALSE),\" \")","v":{"$error":"#N/A"}},{"$f":"LOG(IF(ISNUMBER(VLOOKUP(+$B55,'resultaten immissietoets'!$A$27:$AE$84,2,FALSE))=TRUE,VLOOKUP(+$B55,'resultaten immissietoets'!$A$27:$AE$84,2,FALSE),1))","v":0},{"$f":"IF(ISBLANK(B55)=FALSE,VLOOKUP(+$B55,'resultaten immissietoets'!$A$27:$AE$84,31,FALSE),\" \")","v":{"$error":"#N/A"}},{"$f":"VLOOKUP(+$B55,'resultaten immissietoets'!$A$27:$AE$84,15,FALSE)","v":{"$error":"#N/A"}},{"$error":"#N/A"},{"$f":"IF(ISBLANK($B55)=FALSE,VLOOKUP(+$B55,'resultaten immissietoets'!$A$27:$AI$84,29,FALSE),\" \")","v":{"$error":"#N/A"}},{"$f":"IF(AND(ISBLANK(B55)=FALSE,B55<>\" \"),N55*Y55*'resultaten immissietoets'!H$16*8760*3600/1000000,0)","v":0},{"$error":"#VALUE!"},{"$f":"IF(B55<>\" \",IF(N$9=\"nee\",IF(ISBLANK($B55)=FALSE,IF(AND('beschrijving lozing'!I$7=\"algemene regels\",+'beschrijving lozing'!I$19=\"nee\",ISNA(VLOOKUP(+$B55,'beschrijving lozing'!B$27:Q$78,15,FALSE))=FALSE),MAX(VLOOKUP(+B55,'beschrijving lozing'!B$27:Q$78,15,FALSE),VLOOKUP(+$B55,'resultaten immissietoets'!$A$27:$AO$84,41,FALSE)),VLOOKUP(+$B55,'resultaten immissietoets'!$A$27:$AO$84,41,FALSE)),\" \"),+P55),\" \")","v":" "},"ja",null,null,"nee",{"$f":"IF(Q55=\"ZZS\",\"ja\",IF('ZZS-checker'!B55=1,\"ja\",\"nee\"))","v":"nee"},0,0,"nee",{"$f":"IF(ISBLANK($B55)=FALSE,IF(ISNA(VLOOKUP(+$B55,'resultaten immissietoets'!$A$27:$AO$84,14,FALSE))=FALSE,VLOOKUP(+$B55,'resultaten immissietoets'!$A$27:$AO$84,14,FALSE),\" \"),\" \")","v":" "},null,{"$f":"IF(AND(ISBLANK($B55)=FALSE,$B55<>\" \"),VLOOKUP(+$B55,'resultaten immissietoets'!$A$27:$BU$84,73,FALSE),\" \")","v":" "},0,null,"ja"," ",0,0,{"$error":"#DIV/0!"},"   ",0," ",null," "," ",{"$f":"IF(AND(ISBLANK(B55)=FALSE,B55<>\" \"),VLOOKUP(+$B55,'resultaten immissietoets'!$A$27:$BK$84,63,FALSE),\" \")","v":" "},25,null,null,0,null,null,null,{"$f":"IF('pot-ZZS-checker'!B40>0,\"ja\",\"nee\")","v":"nee"},0,0," "," ",{"$f":"IF(AND(ISBLANK(B55)=FALSE,B55<>\" \"),IF(D55<W55,IF(D55+((1-AA55/100)*Y55-D55)/'resultaten immissietoets'!J$24*IF(U$22=\"ja\",1/(1+U$25*0.000001*10^G55),1)<W55,\"nee\",\"ja\"),IF(((1-AA55)*Y55-D55)/'resultaten immissietoets'!J$24*IF(U$22=\"ja\",1/(1+U$25*0.000001*10^G55),1)<=I55,\"nee\",\"ja\")),\" \")","v":" "},{"$f":"IF(ISBLANK(B55)=FALSE,IF(BA$25=\"ja\",IF(J55=\" \",IF(D55+((1-AA55/100)*Y55-D55)/Q$20*IF(U$22=\"ja\",1/(1+U$25*0.000001*10^G55),1)<=1,\"nee\",\"ja\"),IF(D55+((1-AA55/100)*Y55-D55)/Q$20*IF(U$22=\"ja\",1/(1+U$25*0.000001*10^G55),1)<='resultaten immissietoets'!AD53,\"nee\",\"ja\")),\"nee\"),\" \")","v":"nee"},null,"nee",0,null,null,null,0," ",null,{"$f":"IF(ISNA(VLOOKUP(B55,'resultaten immissietoets'!A$28:AO$84,41,FALSE))=FALSE,VLOOKUP(B55,'resultaten immissietoets'!A$28:AO$84,41,FALSE),0)","v":0},null,null,null,null,null,null,null,null,null,null,null,null,null,0,{"$f":"IF(AND(B55<>\" \",OR(+'beoordeling maatregel'!Q55=\"ZZS\",S55=\"ja\")),U55*L55,0)","v":0},{"$f":"IF(AND(B55<>\" \",OR(B55=\"PFOS\",B55=\"PFOA\",B55=\"GENX\",B55=\"overige PFAS\",B55=\"6:2 FTS\")),+'beoordeling maatregel'!L55*'beoordeling maatregel'!U55,0)","v":0}]
[27,{"$f":"IF(A56<=N$27,VLOOKUP(A55+1,'resultaten immissietoets'!AM$28:AN$84,2,FALSE),\" \")","v":" "},{"$f":"VLOOKUP(+$B56,'resultaten immissietoets'!$A$27:$AA$84,24,FALSE)","v":{"$error":"#N/A"}},{"$f":"IF(ISBLANK($B56)=FALSE,VLOOKUP(+$B56,'resultaten immissietoets'!$A$27:$AA$84,10,FALSE),\" \")","v":{"$error":"#N/A"}},{"$f":"VLOOKUP(+$B56,'resultaten immissietoets'!$A$27:$AA$84,26,FALSE)","v":{"$error":"#N/A"}},{"$f":"IF(ISBLANK($B56)=FALSE,VLOOKUP(+$B56,'resultaten immissietoets'!$A$27:$AI$84,35,FALSE),\" \")","v":{"$error":"#N/A"}},{"$f":"LOG(IF(ISNUMBER(VLOOKUP(+$B56,'resultaten immissietoets'!$A$27:$AE$84,2,FALSE))=TRUE,VLOOKUP(+$B56,'resultaten immissietoets'!$A$27:$AE$84,2,FALSE),1))","v":0},{"$f":"IF(ISBLANK(B56)=FALSE,VLOOKUP(+$B56,'resultaten immissietoets'!$A$27:$AE$84,31,FALSE),\" \")","v":{"$error":"#N/A"}},{"$f":"VLOOKUP(+$B56,'resultaten immissietoets'!$A$27:$AE$84,15,FALSE)","v":{"$error":"#N/A"}},{"$error":"#N/A"},{"$f":"IF(ISBLANK($B56)=FALSE,VLOOKUP(+$B56,'resultaten immissietoets'!$A$27:$AI$84,29,FALSE),\" \")","v":{"$error":"#N/A"}},{"$f":"IF(AND(ISBLANK(B56)=FALSE,B56<>\" \"),N56*Y56*'resultaten immissietoets'!H$16*8760*3600/1000000,0)","v":0},{"$error":"#VALUE!"},{"$f":"IF(B56<>\" \",IF(N$9=\"nee\",IF(ISBLANK($B56)=FALSE,IF(AND('beschrijving lozing'!I$7=\"algemene regels\",+'beschrijving lozing'!I$19=\"nee\",ISNA(VLOOKUP(+$B56,'beschrijving lozing'!B$27:Q$78,15,FALSE))=FALSE),MAX(VLOOKUP(+B56,'beschrijving lozing'!B$27:Q$78,15,FALSE),VLOOKUP(+$B56,'resultaten immissietoets'!$A$27:$AO$84,41,FALSE)),VLOOKUP(+$B56,'resultaten immissietoets'!$A$27:$AO$84,41,FALSE)),\" \"),+P56),\" \")","v":" "},"ja",null,null,"nee",{"$f":"IF(Q56=\"ZZS\",\"ja\",IF('ZZS-checker'!B56=1,\"ja\",\"nee\"))","v":"nee"},0,0,"nee",{"$f":"IF(ISBLANK($B56)=FALSE,IF(ISNA(VLOOKUP(+$B56,'resultaten immissietoets'!$A$27:$AO$84,14,FALSE))=FALSE,VLOOKUP(+$B56,'resultaten immissietoets'!$A$27:$AO$84,14,FALSE),\" \"),\" \")","v":" "},null,{"$f":"IF(AND(ISBLANK($B56)=FALSE,$B56<>\" \"),VLOOKUP(+$B56,'resultaten immissietoets'!$A$27:$BU$84,73,FALSE),\" \")","v":" "},0,null,"ja"," ",0,0,{"$error":"#DIV/0!"},"   ",0," ",null," "," ",{"$f":"IF(AND(ISBLANK(B56)=FALSE,B56<>\" \"),VLOOKUP(+$B56,'resultaten immissietoets'!$A$27:$BK$84,63,FALSE),\" \")","v":" "},26,null,null,0,null,null,null,{"$f":"IF('pot-ZZS-checker'!B41>0,\"ja\",\"nee\")","v":"nee"},0,0," "," ",{"$f":"IF(AND(ISBLANK(B56)=FALSE,B56<>\" \"),IF(D56<W56,IF(D56+((1-AA56/100)*Y56-D56)/'resultaten immissietoets'!J$24*IF(U$22=\"ja\",1/(1+U$25*0.000001*10^G56),1)<W56,\"nee\",\"ja\"),IF(((1-AA56)*Y56-D56)/'resultaten immissietoets'!J$24*IF(U$22=\"ja\",1/(1+U$25*0.000001*10^G56),1)<=I56,\"nee\",\"ja\")),\" \")","v":" "},{"$f":"IF(ISBLANK(B56)=FALSE,IF(BA$25=\"ja\",IF(J56=\" \",IF(D56+((1-AA56/100)*Y56-D56)/Q$20*IF(U$22=\"ja\",1/(1+U$25*0.000001*10^G56),1)<=1,\"nee\",\"ja\"),IF(D56+((1-AA56/100)*Y56-D56)/Q$20*IF(U$22=\"ja\",1/(1+U$25*0.000001*10^G56),1)<='resultaten immissietoets'!AD54,\"nee\",\"ja\")),\"nee\"),\" \")","v":"nee"},null,"nee",0,null,null,null,0," ",null,{"$f":"IF(ISNA(VLOOKUP(B56,'resultaten immissietoets'!A$28:AO$84,41,FALSE))=FALSE,VLOOKUP(B56,'resultaten immissietoets'!A$28:AO$84,41,FALSE),0)","v":0},null,null,null,null,null,null,null,null,null,null,null,null,null,0,{"$f":"IF(AND(B56<>\" \",OR(+'beoordeling maatregel'!Q56=\"ZZS\",S56=\"ja\")),U56*L56,0)","v":0},{"$f":"IF(AND(B56<>\" \",OR(B56=\"PFOS\",B56=\"PFOA\",B56=\"GENX\",B56=\"overige PFAS\",B56=\"6:2 FTS\")),+'beoordeling maatregel'!L56*'beoordeling maatregel'!U56,0)","v":0}]
[28,{"$f":"IF(A57<=N$27,VLOOKUP(A56+1,'resultaten immissietoets'!AM$28:AN$84,2,FALSE),\" \")","v":" "},{"$f":"VLOOKUP(+$B57,'resultaten immissietoets'!$A$27:$AA$84,24,FALSE)","v":{"$error":"#N/A"}},{"$f":"IF(ISBLANK($B57)=FALSE,VLOOKUP(+$B57,'resultaten immissietoets'!$A$27:$AA$84,10,FALSE),\" \")","v":{"$error":"#N/A"}},{"$f":"VLOOKUP(+$B57,'resultaten immissietoets'!$A$27:$AA$84,26,FALSE)","v":{"$error":"#N/A"}},{"$f":"IF(ISBLANK($B57)=FALSE,VLOOKUP(+$B57,'resultaten immissietoets'!$A$27:$AI$84,35,FALSE),\" \")","v":{"$error":"#N/A"}},{"$f":"LOG(IF(ISNUMBER(VLOOKUP(+$B57,'resultaten immissietoets'!$A$27:$AE$84,2,FALSE))=TRUE,VLOOKUP(+$B57,'resultaten immissietoets'!$A$27:$AE$84,2,FALSE),1))","v":0},{"$f":"IF(ISBLANK(B57)=FALSE,VLOOKUP(+$B57,'resultaten immissietoets'!$A$27:$AE$84,31,FALSE),\" \")","v":{"$error":"#N/A"}},{"$f":"VLOOKUP(+$B57,'resultaten immissietoets'!$A$27:$AE$84,15,FALSE)","v":{"$error":"#N/A"}},{"$error":"#N/A"},{"$f":"IF(ISBLANK($B57)=FALSE,VLOOKUP(+$B57,'resultaten immissietoets'!$A$27:$AI$84,29,FALSE),\" \")","v":{"$error":"#N/A"}},{"$f":"IF(AND(ISBLANK(B57)=FALSE,B57<>\" \"),N57*Y57*'resultaten immissietoets'!H$16*8760*3600/1000000,0)","v":0},{"$error":"#VALUE!"},{"$f":"IF(B57<>\" \",IF(N$9=\"nee\",IF(ISBLANK($B57)=FALSE,IF(AND('beschrijving lozing'!I$7=\"algemene regels\",+'beschrijving lozing'!I$19=\"nee\",ISNA(VLOOKUP(+$B57,'beschrijving lozing'!B$27:Q$78,15,FALSE))=FALSE),MAX(VLOOKUP(+B57,'beschrijving lozing'!B$27:Q$78,15,FALSE),VLOOKUP(+$B57,'resultaten immissietoets'!$A$27:$AO$84,41,FALSE)),VLOOKUP(+$B57,'resultaten immissietoets'!$A$27:$AO$84,41,FALSE)),\" \"),+P57),\" \")","v":" "},"ja",null,null,"nee",{"$f":"IF(Q57=\"ZZS\",\"ja\",IF('ZZS-checker'!B57=1,\"ja\",\"nee\"))","v":"nee"},0,0,"nee",{"$f":"IF(ISBLANK($B57)=FALSE,IF(ISNA(VLOOKUP(+$B57,'resultaten immissietoets'!$A$27:$AO$84,14,FALSE))=FALSE,VLOOKUP(+$B57,'resultaten immissietoets'!$A$27:$AO$84,14,FALSE),\" \"),\" \")","v":" "},null,{"$f":"IF(AND(ISBLANK($B57)=FALSE,$B57<>\" \"),VLOOKUP(+$B57,'resultaten immissietoets'!$A$27:$BU$84,73,FALSE),\" \")","v":" "},0,null,"ja"," ",0,0,{"$error":"#DIV/0!"},"   ",0," ",null," "," ",{"$f":"IF(AND(ISBLANK(B57)=FALSE,B57<>\" \"),VLOOKUP(+$B57,'resultaten immissietoets'!$A$27:$BK$84,63,FALSE),\" \")","v":" "},27,null,null,0,null,null,null,{"$f":"IF('pot-ZZS-checker'!B42>0,\"ja\",\"nee\")","v":"nee"},0,0," "," ",{"$f":"IF(AND(ISBLANK(B57)=FALSE,B57<>\" \"),IF(D57<W57,IF(D57+((1-AA57/100)*Y57-D57)/'resultaten immissietoets'!J$24*IF(U$22=\"ja\",1/(1+U$25*0.000001*10^G57),1)<W57,\"nee\",\"ja\"),IF(((1-AA57)*Y57-D57)/'resultaten immissietoets'!J$24*IF(U$22=\"ja\",1/(1+U$25*0.000001*10^G57),1)<=I57,\"nee\",\"ja\")),\" \")","v":" "},{"$f":"IF(ISBLANK(B57)=FALSE,IF(BA$25=\"ja\",IF(J57=\" \",IF(D57+((1-AA57/100)*Y57-D57)/Q$20*IF(U$22=\"ja\",1/(1+U$25*0.000001*10^G57),1)<=1,\"nee\",\"ja\"),IF(D57+((1-AA57/100)*Y57-D57)/Q$20*IF(U$22=\"ja\",1/(1+U$25*0.000001*10^G57),1)<='resultaten immissietoets'!AD55,\"nee\",\"ja\")),\"nee\"),\" \")","v":"nee"},null,"nee",0,null,null,null,0," ",null,{"$f":"IF(ISNA(VLOOKUP(B57,'resultaten immissietoets'!A$28:AO$84,41,FALSE))=FALSE,VLOOKUP(B57,'resultaten immissietoets'!A$28:AO$84,41,FALSE),0)","v":0},null,null,null,null,null,null,null,null,null,null,null,null,null,0,{"$f":"IF(AND(B57<>\" \",OR(+'beoordeling maatregel'!Q57=\"ZZS\",S57=\"ja\")),U57*L57,0)","v":0},{"$f":"IF(AND(B57<>\" \",OR(B57=\"PFOS\",B57=\"PFOA\",B57=\"GENX\",B57=\"overige PFAS\",B57=\"6:2 FTS\")),+'beoordeling maatregel'!L57*'beoordeling maatregel'!U57,0)","v":0}]
[29,{"$f":"IF(A58<=N$27,VLOOKUP(A57+1,'resultaten immissietoets'!AM$28:AN$84,2,FALSE),\" \")","v":" "},{"$f":"VLOOKUP(+$B58,'resultaten immissietoets'!$A$27:$AA$84,24,FALSE)","v":{"$error":"#N/A"}},{"$f":"IF(ISBLANK($B58)=FALSE,VLOOKUP(+$B58,'resultaten immissietoets'!$A$27:$AA$84,10,FALSE),\" \")","v":{"$error":"#N/A"}},{"$f":"VLOOKUP(+$B58,'resultaten immissietoets'!$A$27:$AA$84,26,FALSE)","v":{"$error":"#N/A"}},{"$f":"IF(ISBLANK($B58)=FALSE,VLOOKUP(+$B58,'resultaten immissietoets'!$A$27:$AI$84,35,FALSE),\" \")","v":{"$error":"#N/A"}},{"$f":"LOG(IF(ISNUMBER(VLOOKUP(+$B58,'resultaten immissietoets'!$A$27:$AE$84,2,FALSE))=TRUE,VLOOKUP(+$B58,'resultaten immissietoets'!$A$27:$AE$84,2,FALSE),1))","v":0},{"$f":"IF(ISBLANK(B58)=FALSE,VLOOKUP(+$B58,'resultaten immissietoets'!$A$27:$AE$84,31,FALSE),\" \")","v":{"$error":"#N/A"}},{"$f":"VLOOKUP(+$B58,'resultaten immissietoets'!$A$27:$AE$84,15,FALSE)","v":{"$error":"#N/A"}},{"$error":"#N/A"},{"$f":"IF(ISBLANK($B58)=FALSE,VLOOKUP(+$B58,'resultaten immissietoets'!$A$27:$AI$84,29,FALSE),\" \")","v":{"$error":"#N/A"}},{"$f":"IF(AND(ISBLANK(B58)=FALSE,B58<>\" \"),N58*Y58*'resultaten immissietoets'!H$16*8760*3600/1000000,0)","v":0},{"$error":"#VALUE!"},{"$f":"IF(B58<>\" \",IF(N$9=\"nee\",IF(ISBLANK($B58)=FALSE,IF(AND('beschrijving lozing'!I$7=\"algemene regels\",+'beschrijving lozing'!I$19=\"nee\",ISNA(VLOOKUP(+$B58,'beschrijving lozing'!B$27:Q$78,15,FALSE))=FALSE),MAX(VLOOKUP(+B58,'beschrijving lozing'!B$27:Q$78,15,FALSE),VLOOKUP(+$B58,'resultaten immissietoets'!$A$27:$AO$84,41,FALSE)),VLOOKUP(+$B58,'resultaten immissietoets'!$A$27:$AO$84,41,FALSE)),\" \"),+P58),\" \")","v":" "},"ja",null,null,"nee",{"$f":"IF(Q58=\"ZZS\",\"ja\",IF('ZZS-checker'!B58=1,\"ja\",\"nee\"))","v":"nee"},0,0,"nee",{"$f":"IF(ISBLANK($B58)=FALSE,IF(ISNA(VLOOKUP(+$B58,'resultaten immissietoets'!$A$27:$AO$84,14,FALSE))=FALSE,VLOOKUP(+$B58,'resultaten immissietoets'!$A$27:$AO$84,14,FALSE),\" \"),\" \")","v":" "},null,{"$f":"IF(AND(ISBLANK($B58)=FALSE,$B58<>\" \"),VLOOKUP(+$B58,'resultaten immissietoets'!$A$27:$BU$84,73,FALSE),\" \")","v":" "},0,null,"ja"," ",0,0,{"$error":"#DIV/0!"},"   ",0," ",null," "," ",{"$f":"IF(AND(ISBLANK(B58)=FALSE,B58<>\" \"),VLOOKUP(+$B58,'resultaten immissietoets'!$A$27:$BK$84,63,FALSE),\" \")","v":" "},28,null,null,0,null,null,null,{"$f":"IF('pot-ZZS-checker'!B43>0,\"ja\",\"nee\")","v":"nee"},0,0," "," ",{"$f":"IF(AND(ISBLANK(B58)=FALSE,B58<>\" \"),IF(D58<W58,IF(D58+((1-AA58/100)*Y58-D58)/'resultaten immissietoets'!J$24*IF(U$22=\"ja\",1/(1+U$25*0.000001*10^G58),1)<W58,\"nee\",\"ja\"),IF(((1-AA58)*Y58-D58)/'resultaten immissietoets'!J$24*IF(U$22=\"ja\",1/(1+U$25*0.000001*10^G58),1)<=I58,\"nee\",\"ja\")),\" \")","v":" "},{"$f":"IF(ISBLANK(B58)=FALSE,IF(BA$25=\"ja\",IF(J58=\" \",IF(D58+((1-AA58/100)*Y58-D58)/Q$20*IF(U$22=\"ja\",1/(1+U$25*0.000001*10^G58),1)<=1,\"nee\",\"ja\"),IF(D58+((1-AA58/100)*Y58-D58)/Q$20*IF(U$22=\"ja\",1/(1+U$25*0.000001*10^G58),1)<='resultaten immissietoets'!AD56,\"nee\",\"ja\")),\"nee\"),\" \")","v":"nee"},null,"nee",0,null,null,null,0," ",null,{"$f":"IF(ISNA(VLOOKUP(B58,'resultaten immissietoets'!A$28:AO$84,41,FALSE))=FALSE,VLOOKUP(B58,'resultaten immissietoets'!A$28:AO$84,41,FALSE),0)","v":0},null,null,null,null,null,null,null,null,null,null,null,null,null,0,{"$f":"IF(AND(B58<>\" \",OR(+'beoordeling maatregel'!Q58=\"ZZS\",S58=\"ja\")),U58*L58,0)","v":0},{"$f":"IF(AND(B58<>\" \",OR(B58=\"PFOS\",B58=\"PFOA\",B58=\"GENX\",B58=\"overige PFAS\",B58=\"6:2 FTS\")),+'beoordeling maatregel'!L58*'beoordeling maatregel'!U58,0)","v":0}]
[30,{"$f":"IF(A59<=N$27,VLOOKUP(A58+1,'resultaten immissietoets'!AM$28:AN$84,2,FALSE),\" \")","v":" "},{"$f":"VLOOKUP(+$B59,'resultaten immissietoets'!$A$27:$AA$84,24,FALSE)","v":{"$error":"#N/A"}},{"$f":"IF(ISBLANK($B59)=FALSE,VLOOKUP(+$B59,'resultaten immissietoets'!$A$27:$AA$84,10,FALSE),\" \")","v":{"$error":"#N/A"}},{"$f":"VLOOKUP(+$B59,'resultaten immissietoets'!$A$27:$AA$84,26,FALSE)","v":{"$error":"#N/A"}},{"$f":"IF(ISBLANK($B59)=FALSE,VLOOKUP(+$B59,'resultaten immissietoets'!$A$27:$AI$84,35,FALSE),\" \")","v":{"$error":"#N/A"}},{"$f":"LOG(IF(ISNUMBER(VLOOKUP(+$B59,'resultaten immissietoets'!$A$27:$AE$84,2,FALSE))=TRUE,VLOOKUP(+$B59,'resultaten immissietoets'!$A$27:$AE$84,2,FALSE),1))","v":0},{"$f":"IF(ISBLANK(B59)=FALSE,VLOOKUP(+$B59,'resultaten immissietoets'!$A$27:$AE$84,31,FALSE),\" \")","v":{"$error":"#N/A"}},{"$f":"VLOOKUP(+$B59,'resultaten immissietoets'!$A$27:$AE$84,15,FALSE)","v":{"$error":"#N/A"}},{"$error":"#N/A"},{"$f":"IF(ISBLANK($B59)=FALSE,VLOOKUP(+$B59,'resultaten immissietoets'!$A$27:$AI$84,29,FALSE),\" \")","v":{"$error":"#N/A"}},{"$f":"IF(AND(ISBLANK(B59)=FALSE,B59<>\" \"),N59*Y59*'resultaten immissietoets'!H$16*8760*3600/1000000,0)","v":0},{"$error":"#VALUE!"},{"$f":"IF(B59<>\" \",IF(N$9=\"nee\",IF(ISBLANK($B59)=FALSE,IF(AND('beschrijving lozing'!I$7=\"algemene regels\",+'beschrijving lozing'!I$19=\"nee\",ISNA(VLOOKUP(+$B59,'beschrijving lozing'!B$27:Q$78,15,FALSE))=FALSE),MAX(VLOOKUP(+B59,'beschrijving lozing'!B$27:Q$78,15,FALSE),VLOOKUP(+$B59,'resultaten immissietoets'!$A$27:$AO$84,41,FALSE)),VLOOKUP(+$B59,'resultaten immissietoets'!$A$27:$AO$84,41,FALSE)),\" \"),+P59),\" \")","v":" "},"ja",null,null,"nee",{"$f":"IF(Q59=\"ZZS\",\"ja\",IF('ZZS-checker'!B59=1,\"ja\",\"nee\"))","v":"nee"},0,0,"nee",{"$f":"IF(ISBLANK($B59)=FALSE,IF(ISNA(VLOOKUP(+$B59,'resultaten immissietoets'!$A$27:$AO$84,14,FALSE))=FALSE,VLOOKUP(+$B59,'resultaten immissietoets'!$A$27:$AO$84,14,FALSE),\" \"),\" \")","v":" "},null,{"$f":"IF(AND(ISBLANK($B59)=FALSE,$B59<>\" \"),VLOOKUP(+$B59,'resultaten immissietoets'!$A$27:$BU$84,73,FALSE),\" \")","v":" "},0,null,"ja"," ",0,0,{"$error":"#DIV/0!"},"   ",0," ",null," "," ",{"$f":"IF(AND(ISBLANK(B59)=FALSE,B59<>\" \"),VLOOKUP(+$B59,'resultaten immissietoets'!$A$27:$BK$84,63,FALSE),\" \")","v":" "},29,null,null,0,null,null,null,{"$f":"IF('pot-ZZS-checker'!B44>0,\"ja\",\"nee\")","v":"nee"},0,0," "," ",{"$f":"IF(AND(ISBLANK(B59)=FALSE,B59<>\" \"),IF(D59<W59,IF(D59+((1-AA59/100)*Y59-D59)/'resultaten immissietoets'!J$24*IF(U$22=\"ja\",1/(1+U$25*0.000001*10^G59),1)<W59,\"nee\",\"ja\"),IF(((1-AA59)*Y59-D59)/'resultaten immissietoets'!J$24*IF(U$22=\"ja\",1/(1+U$25*0.000001*10^G59),1)<=I59,\"nee\",\"ja\")),\" \")","v":" "},{"$f":"IF(ISBLANK(B59)=FALSE,IF(BA$25=\"ja\",IF(J59=\" \",IF(D59+((1-AA59/100)*Y59-D59)/Q$20*IF(U$22=\"ja\",1/(1+U$25*0.000001*10^G59),1)<=1,\"nee\",\"ja\"),IF(D59+((1-AA59/100)*Y59-D59)/Q$20*IF(U$22=\"ja\",1/(1+U$25*0.000001*10^G59),1)<='resultaten immissietoets'!AD57,\"nee\",\"ja\")),\"nee\"),\" \")","v":"nee"},null,"nee",0,null,null,null,0," ",null,{"$f":"IF(ISNA(VLOOKUP(B59,'resultaten immissietoets'!A$28:AO$84,41,FALSE))=FALSE,VLOOKUP(B59,'resultaten immissietoets'!A$28:AO$84,41,FALSE),0)","v":0},null,null,null,null,null,null,null,null,null,null,null,null,null,0,{"$f":"IF(AND(B59<>\" \",OR(+'beoordeling maatregel'!Q59=\"ZZS\",S59=\"ja\")),U59*L59,0)","v":0},{"$f":"IF(AND(B59<>\" \",OR(B59=\"PFOS\",B59=\"PFOA\",B59=\"GENX\",B59=\"overige PFAS\",B59=\"6:2 FTS\")),+'beoordeling maatregel'!L59*'beoordeling maatregel'!U59,0)","v":0}]
[31,{"$f":"IF(A60<=N$27,VLOOKUP(A59+1,'resultaten immissietoets'!AM$28:AN$84,2,FALSE),\" \")","v":" "},{"$f":"VLOOKUP(+$B60,'resultaten immissietoets'!$A$27:$AA$84,24,FALSE)","v":{"$error":"#N/A"}},{"$f":"IF(ISBLANK($B60)=FALSE,VLOOKUP(+$B60,'resultaten immissietoets'!$A$27:$AA$84,10,FALSE),\" \")","v":{"$error":"#N/A"}},{"$f":"VLOOKUP(+$B60,'resultaten immissietoets'!$A$27:$AA$84,26,FALSE)","v":{"$error":"#N/A"}},{"$f":"IF(ISBLANK($B60)=FALSE,VLOOKUP(+$B60,'resultaten immissietoets'!$A$27:$AI$84,35,FALSE),\" \")","v":{"$error":"#N/A"}},{"$f":"LOG(IF(ISNUMBER(VLOOKUP(+$B60,'resultaten immissietoets'!$A$27:$AE$84,2,FALSE))=TRUE,VLOOKUP(+$B60,'resultaten immissietoets'!$A$27:$AE$84,2,FALSE),1))","v":0},{"$f":"IF(ISBLANK(B60)=FALSE,VLOOKUP(+$B60,'resultaten immissietoets'!$A$27:$AE$84,31,FALSE),\" \")","v":{"$error":"#N/A"}},{"$f":"VLOOKUP(+$B60,'resultaten immissietoets'!$A$27:$AE$84,15,FALSE)","v":{"$error":"#N/A"}},{"$error":"#N/A"},{"$f":"IF(ISBLANK($B60)=FALSE,VLOOKUP(+$B60,'resultaten immissietoets'!$A$27:$AI$84,29,FALSE),\" \")","v":{"$error":"#N/A"}},{"$f":"IF(AND(ISBLANK(B60)=FALSE,B60<>\" \"),N60*Y60*'resultaten immissietoets'!H$16*8760*3600/1000000,0)","v":0},{"$error":"#VALUE!"},{"$f":"IF(B60<>\" \",IF(N$9=\"nee\",IF(ISBLANK($B60)=FALSE,IF(AND('beschrijving lozing'!I$7=\"algemene regels\",+'beschrijving lozing'!I$19=\"nee\",ISNA(VLOOKUP(+$B60,'beschrijving lozing'!B$27:Q$78,15,FALSE))=FALSE),MAX(VLOOKUP(+B60,'beschrijving lozing'!B$27:Q$78,15,FALSE),VLOOKUP(+$B60,'resultaten immissietoets'!$A$27:$AO$84,41,FALSE)),VLOOKUP(+$B60,'resultaten immissietoets'!$A$27:$AO$84,41,FALSE)),\" \"),+P60),\" \")","v":" "},"ja",null,null,"nee",{"$f":"IF(Q60=\"ZZS\",\"ja\",IF('ZZS-checker'!B60=1,\"ja\",\"nee\"))","v":"nee"},0,0,"nee",{"$f":"IF(ISBLANK($B60)=FALSE,IF(ISNA(VLOOKUP(+$B60,'resultaten immissietoets'!$A$27:$AO$84,14,FALSE))=FALSE,VLOOKUP(+$B60,'resultaten immissietoets'!$A$27:$AO$84,14,FALSE),\" \"),\" \")","v":" "},null,{"$f":"IF(AND(ISBLANK($B60)=FALSE,$B60<>\" \"),VLOOKUP(+$B60,'resultaten immissietoets'!$A$27:$BU$84,73,FALSE),\" \")","v":" "},0,null,"ja"," ",0,0,{"$error":"#DIV/0!"},"   ",0," ",null," "," ",{"$f":"IF(AND(ISBLANK(B60)=FALSE,B60<>\" \"),VLOOKUP(+$B60,'resultaten immissietoets'!$A$27:$BK$84,63,FALSE),\" \")","v":" "},30,null,null,0,null,null,null,{"$f":"IF('pot-ZZS-checker'!B45>0,\"ja\",\"nee\")","v":"nee"},0,0," "," ",{"$f":"IF(AND(ISBLANK(B60)=FALSE,B60<>\" \"),IF(D60<W60,IF(D60+((1-AA60/100)*Y60-D60)/'resultaten immissietoets'!J$24*IF(U$22=\"ja\",1/(1+U$25*0.000001*10^G60),1)<W60,\"nee\",\"ja\"),IF(((1-AA60)*Y60-D60)/'resultaten immissietoets'!J$24*IF(U$22=\"ja\",1/(1+U$25*0.000001*10^G60),1)<=I60,\"nee\",\"ja\")),\" \")","v":" "},{"$f":"IF(ISBLANK(B60)=FALSE,IF(BA$25=\"ja\",IF(J60=\" \",IF(D60+((1-AA60/100)*Y60-D60)/Q$20*IF(U$22=\"ja\",1/(1+U$25*0.000001*10^G60),1)<=1,\"nee\",\"ja\"),IF(D60+((1-AA60/100)*Y60-D60)/Q$20*IF(U$22=\"ja\",1/(1+U$25*0.000001*10^G60),1)<='resultaten immissietoets'!AD58,\"nee\",\"ja\")),\"nee\"),\" \")","v":"nee"},null,"nee",0,null,null,null,0," ",null,{"$f":"IF(ISNA(VLOOKUP(B60,'resultaten immissietoets'!A$28:AO$84,41,FALSE))=FALSE,VLOOKUP(B60,'resultaten immissietoets'!A$28:AO$84,41,FALSE),0)","v":0},null,null,null,null,null,null,null,null,null,null,null,null,null,0,{"$f":"IF(AND(B60<>\" \",OR(+'beoordeling maatregel'!Q60=\"ZZS\",S60=\"ja\")),U60*L60,0)","v":0},{"$f":"IF(AND(B60<>\" \",OR(B60=\"PFOS\",B60=\"PFOA\",B60=\"GENX\",B60=\"overige PFAS\",B60=\"6:2 FTS\")),+'beoordeling maatregel'!L60*'beoordeling maatregel'!U60,0)","v":0}]
[32,{"$f":"IF(A61<=N$27,VLOOKUP(A60+1,'resultaten immissietoets'!AM$28:AN$84,2,FALSE),\" \")","v":" "},{"$f":"VLOOKUP(+$B61,'resultaten immissietoets'!$A$27:$AA$84,24,FALSE)","v":{"$error":"#N/A"}},{"$f":"IF(ISBLANK($B61)=FALSE,VLOOKUP(+$B61,'resultaten immissietoets'!$A$27:$AA$84,10,FALSE),\" \")","v":{"$error":"#N/A"}},{"$f":"VLOOKUP(+$B61,'resultaten immissietoets'!$A$27:$AA$84,26,FALSE)","v":{"$error":"#N/A"}},{"$f":"IF(ISBLANK($B61)=FALSE,VLOOKUP(+$B61,'resultaten immissietoets'!$A$27:$AI$84,35,FALSE),\" \")","v":{"$error":"#N/A"}},{"$f":"LOG(IF(ISNUMBER(VLOOKUP(+$B61,'resultaten immissietoets'!$A$27:$AE$84,2,FALSE))=TRUE,VLOOKUP(+$B61,'resultaten immissietoets'!$A$27:$AE$84,2,FALSE),1))","v":0},{"$f":"IF(ISBLANK(B61)=FALSE,VLOOKUP(+$B61,'resultaten immissietoets'!$A$27:$AE$84,31,FALSE),\" \")","v":{"$error":"#N/A"}},{"$f":"VLOOKUP(+$B61,'resultaten immissietoets'!$A$27:$AE$84,15,FALSE)","v":{"$error":"#N/A"}},{"$error":"#N/A"},{"$f":"IF(ISBLANK($B61)=FALSE,VLOOKUP(+$B61,'resultaten immissietoets'!$A$27:$AI$84,29,FALSE),\" \")","v":{"$error":"#N/A"}},{"$f":"IF(AND(ISBLANK(B61)=FALSE,B61<>\" \"),N61*Y61*'resultaten immissietoets'!H$16*8760*3600/1000000,0)","v":0},{"$error":"#VALUE!"},{"$f":"IF(B61<>\" \",IF(N$9=\"nee\",IF(ISBLANK($B61)=FALSE,IF(AND('beschrijving lozing'!I$7=\"algemene regels\",+'beschrijving lozing'!I$19=\"nee\",ISNA(VLOOKUP(+$B61,'beschrijving lozing'!B$27:Q$78,15,FALSE))=FALSE),MAX(VLOOKUP(+B61,'beschrijving lozing'!B$27:Q$78,15,FALSE),VLOOKUP(+$B61,'resultaten immissietoets'!$A$27:$AO$84,41,FALSE)),VLOOKUP(+$B61,'resultaten immissietoets'!$A$27:$AO$84,41,FALSE)),\" \"),+P61),\" \")","v":" "},"ja",null,null,"nee",{"$f":"IF(Q61=\"ZZS\",\"ja\",IF('ZZS-checker'!B61=1,\"ja\",\"nee\"))","v":"nee"},0,0,"nee",{"$f":"IF(ISBLANK($B61)=FALSE,IF(ISNA(VLOOKUP(+$B61,'resultaten immissietoets'!$A$27:$AO$84,14,FALSE))=FALSE,VLOOKUP(+$B61,'resultaten immissietoets'!$A$27:$AO$84,14,FALSE),\" \"),\" \")","v":" "},null,{"$f":"IF(AND(ISBLANK($B61)=FALSE,$B61<>\" \"),VLOOKUP(+$B61,'resultaten immissietoets'!$A$27:$BU$84,73,FALSE),\" \")","v":" "},0,null,"ja"," ",0,0,{"$error":"#DIV/0!"},"   ",0," ",null," "," ",{"$f":"IF(AND(ISBLANK(B61)=FALSE,B61<>\" \"),VLOOKUP(+$B61,'resultaten immissietoets'!$A$27:$BK$84,63,FALSE),\" \")","v":" "},31,null,null,0,null,null,null,{"$f":"IF('pot-ZZS-checker'!B46>0,\"ja\",\"nee\")","v":"nee"},0,0," "," ",{"$f":"IF(AND(ISBLANK(B61)=FALSE,B61<>\" \"),IF(D61<W61,IF(D61+((1-AA61/100)*Y61-D61)/'resultaten immissietoets'!J$24*IF(U$22=\"ja\",1/(1+U$25*0.000001*10^G61),1)<W61,\"nee\",\"ja\"),IF(((1-AA61)*Y61-D61)/'resultaten immissietoets'!J$24*IF(U$22=\"ja\",1/(1+U$25*0.000001*10^G61),1)<=I61,\"nee\",\"ja\")),\" \")","v":" "},{"$f":"IF(ISBLANK(B61)=FALSE,IF(BA$25=\"ja\",IF(J61=\" \",IF(D61+((1-AA61/100)*Y61-D61)/Q$20*IF(U$22=\"ja\",1/(1+U$25*0.000001*10^G61),1)<=1,\"nee\",\"ja\"),IF(D61+((1-AA61/100)*Y61-D61)/Q$20*IF(U$22=\"ja\",1/(1+U$25*0.000001*10^G61),1)<='resultaten immissietoets'!AD59,\"nee\",\"ja\")),\"nee\"),\" \")","v":"nee"},null,"nee",0,null,null,null,0," ",null,{"$f":"IF(ISNA(VLOOKUP(B61,'resultaten immissietoets'!A$28:AO$84,41,FALSE))=FALSE,VLOOKUP(B61,'resultaten immissietoets'!A$28:AO$84,41,FALSE),0)","v":0},null,null,null,null,null,null,null,null,null,null,null,null,null,0,{"$f":"IF(AND(B61<>\" \",OR(+'beoordeling maatregel'!Q61=\"ZZS\",S61=\"ja\")),U61*L61,0)","v":0},{"$f":"IF(AND(B61<>\" \",OR(B61=\"PFOS\",B61=\"PFOA\",B61=\"GENX\",B61=\"overige PFAS\",B61=\"6:2 FTS\")),+'beoordeling maatregel'!L61*'beoordeling maatregel'!U61,0)","v":0}]
[33,{"$f":"IF(A62<=N$27,VLOOKUP(A61+1,'resultaten immissietoets'!AM$28:AN$84,2,FALSE),\" \")","v":" "},{"$f":"VLOOKUP(+$B62,'resultaten immissietoets'!$A$27:$AA$84,24,FALSE)","v":{"$error":"#N/A"}},{"$f":"IF(ISBLANK($B62)=FALSE,VLOOKUP(+$B62,'resultaten immissietoets'!$A$27:$AA$84,10,FALSE),\" \")","v":{"$error":"#N/A"}},{"$f":"VLOOKUP(+$B62,'resultaten immissietoets'!$A$27:$AA$84,26,FALSE)","v":{"$error":"#N/A"}},{"$f":"IF(ISBLANK($B62)=FALSE,VLOOKUP(+$B62,'resultaten immissietoets'!$A$27:$AI$84,35,FALSE),\" \")","v":{"$error":"#N/A"}},{"$f":"LOG(IF(ISNUMBER(VLOOKUP(+$B62,'resultaten immissietoets'!$A$27:$AE$84,2,FALSE))=TRUE,VLOOKUP(+$B62,'resultaten immissietoets'!$A$27:$AE$84,2,FALSE),1))","v":0},{"$f":"IF(ISBLANK(B62)=FALSE,VLOOKUP(+$B62,'resultaten immissietoets'!$A$27:$AE$84,31,FALSE),\" \")","v":{"$error":"#N/A"}},{"$f":"VLOOKUP(+$B62,'resultaten immissietoets'!$A$27:$AE$84,15,FALSE)","v":{"$error":"#N/A"}},{"$error":"#N/A"},{"$f":"IF(ISBLANK($B62)=FALSE,VLOOKUP(+$B62,'resultaten immissietoets'!$A$27:$AI$84,29,FALSE),\" \")","v":{"$error":"#N/A"}},{"$f":"IF(AND(ISBLANK(B62)=FALSE,B62<>\" \"),N62*Y62*'resultaten immissietoets'!H$16*8760*3600/1000000,0)","v":0},{"$error":"#VALUE!"},{"$f":"IF(B62<>\" \",IF(N$9=\"nee\",IF(ISBLANK($B62)=FALSE,IF(AND('beschrijving lozing'!I$7=\"algemene regels\",+'beschrijving lozing'!I$19=\"nee\",ISNA(VLOOKUP(+$B62,'beschrijving lozing'!B$27:Q$78,15,FALSE))=FALSE),MAX(VLOOKUP(+B62,'beschrijving lozing'!B$27:Q$78,15,FALSE),VLOOKUP(+$B62,'resultaten immissietoets'!$A$27:$AO$84,41,FALSE)),VLOOKUP(+$B62,'resultaten immissietoets'!$A$27:$AO$84,41,FALSE)),\" \"),+P62),\" \")","v":" "},"ja",null,null,"nee",{"$f":"IF(Q62=\"ZZS\",\"ja\",IF('ZZS-checker'!B62=1,\"ja\",\"nee\"))","v":"nee"},0,0,"nee",{"$f":"IF(ISBLANK($B62)=FALSE,IF(ISNA(VLOOKUP(+$B62,'resultaten immissietoets'!$A$27:$AO$84,14,FALSE))=FALSE,VLOOKUP(+$B62,'resultaten immissietoets'!$A$27:$AO$84,14,FALSE),\" \"),\" \")","v":" "},null,{"$f":"IF(AND(ISBLANK($B62)=FALSE,$B62<>\" \"),VLOOKUP(+$B62,'resultaten immissietoets'!$A$27:$BU$84,73,FALSE),\" \")","v":" "},0,null,"ja"," ",0,0,{"$error":"#DIV/0!"},"   ",0," ",null," "," ",{"$f":"IF(AND(ISBLANK(B62)=FALSE,B62<>\" \"),VLOOKUP(+$B62,'resultaten immissietoets'!$A$27:$BK$84,63,FALSE),\" \")","v":" "},32,null,null,0,null,null,null,{"$f":"IF('pot-ZZS-checker'!B47>0,\"ja\",\"nee\")","v":"nee"},0,0," "," ",{"$f":"IF(AND(ISBLANK(B62)=FALSE,B62<>\" \"),IF(D62<W62,IF(D62+((1-AA62/100)*Y62-D62)/'resultaten immissietoets'!J$24*IF(U$22=\"ja\",1/(1+U$25*0.000001*10^G62),1)<W62,\"nee\",\"ja\"),IF(((1-AA62)*Y62-D62)/'resultaten immissietoets'!J$24*IF(U$22=\"ja\",1/(1+U$25*0.000001*10^G62),1)<=I62,\"nee\",\"ja\")),\" \")","v":" "},{"$f":"IF(ISBLANK(B62)=FALSE,IF(BA$25=\"ja\",IF(J62=\" \",IF(D62+((1-AA62/100)*Y62-D62)/Q$20*IF(U$22=\"ja\",1/(1+U$25*0.000001*10^G62),1)<=1,\"nee\",\"ja\"),IF(D62+((1-AA62/100)*Y62-D62)/Q$20*IF(U$22=\"ja\",1/(1+U$25*0.000001*10^G62),1)<='resultaten immissietoets'!AD60,\"nee\",\"ja\")),\"nee\"),\" \")","v":"nee"},null,"nee",0,null,null,null,0," ",null,{"$f":"IF(ISNA(VLOOKUP(B62,'resultaten immissietoets'!A$28:AO$84,41,FALSE))=FALSE,VLOOKUP(B62,'resultaten immissietoets'!A$28:AO$84,41,FALSE),0)","v":0},null,null,null,null,null,null,null,null,null,null,null,null,null,0,{"$f":"IF(AND(B62<>\" \",OR(+'beoordeling maatregel'!Q62=\"ZZS\",S62=\"ja\")),U62*L62,0)","v":0},{"$f":"IF(AND(B62<>\" \",OR(B62=\"PFOS\",B62=\"PFOA\",B62=\"GENX\",B62=\"overige PFAS\",B62=\"6:2 FTS\")),+'beoordeling maatregel'!L62*'beoordeling maatregel'!U62,0)","v":0}]
[34,{"$f":"IF(A63<=N$27,VLOOKUP(A62+1,'resultaten immissietoets'!AM$28:AN$84,2,FALSE),\" \")","v":" "},{"$f":"VLOOKUP(+$B63,'resultaten immissietoets'!$A$27:$AA$84,24,FALSE)","v":{"$error":"#N/A"}},{"$f":"IF(ISBLANK($B63)=FALSE,VLOOKUP(+$B63,'resultaten immissietoets'!$A$27:$AA$84,10,FALSE),\" \")","v":{"$error":"#N/A"}},{"$f":"VLOOKUP(+$B63,'resultaten immissietoets'!$A$27:$AA$84,26,FALSE)","v":{"$error":"#N/A"}},{"$f":"IF(ISBLANK($B63)=FALSE,VLOOKUP(+$B63,'resultaten immissietoets'!$A$27:$AI$84,35,FALSE),\" \")","v":{"$error":"#N/A"}},{"$f":"LOG(IF(ISNUMBER(VLOOKUP(+$B63,'resultaten immissietoets'!$A$27:$AE$84,2,FALSE))=TRUE,VLOOKUP(+$B63,'resultaten immissietoets'!$A$27:$AE$84,2,FALSE),1))","v":0},{"$f":"IF(ISBLANK(B63)=FALSE,VLOOKUP(+$B63,'resultaten immissietoets'!$A$27:$AE$84,31,FALSE),\" \")","v":{"$error":"#N/A"}},{"$f":"VLOOKUP(+$B63,'resultaten immissietoets'!$A$27:$AE$84,15,FALSE)","v":{"$error":"#N/A"}},{"$error":"#N/A"},{"$f":"IF(ISBLANK($B63)=FALSE,VLOOKUP(+$B63,'resultaten immissietoets'!$A$27:$AI$84,29,FALSE),\" \")","v":{"$error":"#N/A"}},{"$f":"IF(AND(ISBLANK(B63)=FALSE,B63<>\" \"),N63*Y63*'resultaten immissietoets'!H$16*8760*3600/1000000,0)","v":0},{"$error":"#VALUE!"},{"$f":"IF(B63<>\" \",IF(N$9=\"nee\",IF(ISBLANK($B63)=FALSE,IF(AND('beschrijving lozing'!I$7=\"algemene regels\",+'beschrijving lozing'!I$19=\"nee\",ISNA(VLOOKUP(+$B63,'beschrijving lozing'!B$27:Q$78,15,FALSE))=FALSE),MAX(VLOOKUP(+B63,'beschrijving lozing'!B$27:Q$78,15,FALSE),VLOOKUP(+$B63,'resultaten immissietoets'!$A$27:$AO$84,41,FALSE)),VLOOKUP(+$B63,'resultaten immissietoets'!$A$27:$AO$84,41,FALSE)),\" \"),+P63),\" \")","v":" "},"ja",null,null,"nee",{"$f":"IF(Q63=\"ZZS\",\"ja\",IF('ZZS-checker'!B63=1,\"ja\",\"nee\"))","v":"nee"},0,0,"nee",{"$f":"IF(ISBLANK($B63)=FALSE,IF(ISNA(VLOOKUP(+$B63,'resultaten immissietoets'!$A$27:$AO$84,14,FALSE))=FALSE,VLOOKUP(+$B63,'resultaten immissietoets'!$A$27:$AO$84,14,FALSE),\" \"),\" \")","v":" "},null,{"$f":"IF(AND(ISBLANK($B63)=FALSE,$B63<>\" \"),VLOOKUP(+$B63,'resultaten immissietoets'!$A$27:$BU$84,73,FALSE),\" \")","v":" "},0,null,"ja"," ",0,0,{"$error":"#DIV/0!"},"   ",0," ",null," "," ",{"$f":"IF(AND(ISBLANK(B63)=FALSE,B63<>\" \"),VLOOKUP(+$B63,'resultaten immissietoets'!$A$27:$BK$84,63,FALSE),\" \")","v":" "},33,null,null,0,null,null,null,{"$f":"IF('pot-ZZS-checker'!B48>0,\"ja\",\"nee\")","v":"nee"},0,0," "," ",{"$f":"IF(AND(ISBLANK(B63)=FALSE,B63<>\" \"),IF(D63<W63,IF(D63+((1-AA63/100)*Y63-D63)/'resultaten immissietoets'!J$24*IF(U$22=\"ja\",1/(1+U$25*0.000001*10^G63),1)<W63,\"nee\",\"ja\"),IF(((1-AA63)*Y63-D63)/'resultaten immissietoets'!J$24*IF(U$22=\"ja\",1/(1+U$25*0.000001*10^G63),1)<=I63,\"nee\",\"ja\")),\" \")","v":" "},{"$f":"IF(ISBLANK(B63)=FALSE,IF(BA$25=\"ja\",IF(J63=\" \",IF(D63+((1-AA63/100)*Y63-D63)/Q$20*IF(U$22=\"ja\",1/(1+U$25*0.000001*10^G63),1)<=1,\"nee\",\"ja\"),IF(D63+((1-AA63/100)*Y63-D63)/Q$20*IF(U$22=\"ja\",1/(1+U$25*0.000001*10^G63),1)<='resultaten immissietoets'!AD61,\"nee\",\"ja\")),\"nee\"),\" \")","v":"nee"},null,"nee",0,null,null,null,0," ",null,{"$f":"IF(ISNA(VLOOKUP(B63,'resultaten immissietoets'!A$28:AO$84,41,FALSE))=FALSE,VLOOKUP(B63,'resultaten immissietoets'!A$28:AO$84,41,FALSE),0)","v":0},null,null,null,null,null,null,null,null,null,null,null,null,null,0,{"$f":"IF(AND(B63<>\" \",OR(+'beoordeling maatregel'!Q63=\"ZZS\",S63=\"ja\")),U63*L63,0)","v":0},{"$f":"IF(AND(B63<>\" \",OR(B63=\"PFOS\",B63=\"PFOA\",B63=\"GENX\",B63=\"overige PFAS\",B63=\"6:2 FTS\")),+'beoordeling maatregel'!L63*'beoordeling maatregel'!U63,0)","v":0}]
[35,{"$f":"IF(A64<=N$27,VLOOKUP(A63+1,'resultaten immissietoets'!AM$28:AN$84,2,FALSE),\" \")","v":" "},{"$f":"VLOOKUP(+$B64,'resultaten immissietoets'!$A$27:$AA$84,24,FALSE)","v":{"$error":"#N/A"}},{"$f":"IF(ISBLANK($B64)=FALSE,VLOOKUP(+$B64,'resultaten immissietoets'!$A$27:$AA$84,10,FALSE),\" \")","v":{"$error":"#N/A"}},{"$f":"VLOOKUP(+$B64,'resultaten immissietoets'!$A$27:$AA$84,26,FALSE)","v":{"$error":"#N/A"}},{"$f":"IF(ISBLANK($B64)=FALSE,VLOOKUP(+$B64,'resultaten immissietoets'!$A$27:$AI$84,35,FALSE),\" \")","v":{"$error":"#N/A"}},{"$f":"LOG(IF(ISNUMBER(VLOOKUP(+$B64,'resultaten immissietoets'!$A$27:$AE$84,2,FALSE))=TRUE,VLOOKUP(+$B64,'resultaten immissietoets'!$A$27:$AE$84,2,FALSE),1))","v":0},{"$f":"IF(ISBLANK(B64)=FALSE,VLOOKUP(+$B64,'resultaten immissietoets'!$A$27:$AE$84,31,FALSE),\" \")","v":{"$error":"#N/A"}},{"$f":"VLOOKUP(+$B64,'resultaten immissietoets'!$A$27:$AE$84,15,FALSE)","v":{"$error":"#N/A"}},{"$error":"#N/A"},{"$f":"IF(ISBLANK($B64)=FALSE,VLOOKUP(+$B64,'resultaten immissietoets'!$A$27:$AI$84,29,FALSE),\" \")","v":{"$error":"#N/A"}},{"$f":"IF(AND(ISBLANK(B64)=FALSE,B64<>\" \"),N64*Y64*'resultaten immissietoets'!H$16*8760*3600/1000000,0)","v":0},{"$error":"#VALUE!"},{"$f":"IF(B64<>\" \",IF(N$9=\"nee\",IF(ISBLANK($B64)=FALSE,IF(AND('beschrijving lozing'!I$7=\"algemene regels\",+'beschrijving lozing'!I$19=\"nee\",ISNA(VLOOKUP(+$B64,'beschrijving lozing'!B$27:Q$78,15,FALSE))=FALSE),MAX(VLOOKUP(+B64,'beschrijving lozing'!B$27:Q$78,15,FALSE),VLOOKUP(+$B64,'resultaten immissietoets'!$A$27:$AO$84,41,FALSE)),VLOOKUP(+$B64,'resultaten immissietoets'!$A$27:$AO$84,41,FALSE)),\" \"),+P64),\" \")","v":" "},"ja",null,null,"nee",{"$f":"IF(Q64=\"ZZS\",\"ja\",IF('ZZS-checker'!B64=1,\"ja\",\"nee\"))","v":"nee"},0,0,"nee",{"$f":"IF(ISBLANK($B64)=FALSE,IF(ISNA(VLOOKUP(+$B64,'resultaten immissietoets'!$A$27:$AO$84,14,FALSE))=FALSE,VLOOKUP(+$B64,'resultaten immissietoets'!$A$27:$AO$84,14,FALSE),\" \"),\" \")","v":" "},null,{"$f":"IF(AND(ISBLANK($B64)=FALSE,$B64<>\" \"),VLOOKUP(+$B64,'resultaten immissietoets'!$A$27:$BU$84,73,FALSE),\" \")","v":" "},0,null,"ja"," ",0,0,{"$error":"#DIV/0!"},"   ",0," ",null," "," ",{"$f":"IF(AND(ISBLANK(B64)=FALSE,B64<>\" \"),VLOOKUP(+$B64,'resultaten immissietoets'!$A$27:$BK$84,63,FALSE),\" \")","v":" "},34,null,null,0,null,null,null,{"$f":"IF('pot-ZZS-checker'!B49>0,\"ja\",\"nee\")","v":"nee"},0,0," "," ",{"$f":"IF(AND(ISBLANK(B64)=FALSE,B64<>\" \"),IF(D64<W64,IF(D64+((1-AA64/100)*Y64-D64)/'resultaten immissietoets'!J$24*IF(U$22=\"ja\",1/(1+U$25*0.000001*10^G64),1)<W64,\"nee\",\"ja\"),IF(((1-AA64)*Y64-D64)/'resultaten immissietoets'!J$24*IF(U$22=\"ja\",1/(1+U$25*0.000001*10^G64),1)<=I64,\"nee\",\"ja\")),\" \")","v":" "},{"$f":"IF(ISBLANK(B64)=FALSE,IF(BA$25=\"ja\",IF(J64=\" \",IF(D64+((1-AA64/100)*Y64-D64)/Q$20*IF(U$22=\"ja\",1/(1+U$25*0.000001*10^G64),1)<=1,\"nee\",\"ja\"),IF(D64+((1-AA64/100)*Y64-D64)/Q$20*IF(U$22=\"ja\",1/(1+U$25*0.000001*10^G64),1)<='resultaten immissietoets'!AD62,\"nee\",\"ja\")),\"nee\"),\" \")","v":"nee"},null,"nee",0,null,null,null,0," ",null,{"$f":"IF(ISNA(VLOOKUP(B64,'resultaten immissietoets'!A$28:AO$84,41,FALSE))=FALSE,VLOOKUP(B64,'resultaten immissietoets'!A$28:AO$84,41,FALSE),0)","v":0},null,null,null,null,null,null,null,null,null,null,null,null,null,0,{"$f":"IF(AND(B64<>\" \",OR(+'beoordeling maatregel'!Q64=\"ZZS\",S64=\"ja\")),U64*L64,0)","v":0},{"$f":"IF(AND(B64<>\" \",OR(B64=\"PFOS\",B64=\"PFOA\",B64=\"GENX\",B64=\"overige PFAS\",B64=\"6:2 FTS\")),+'beoordeling maatregel'!L64*'beoordeling maatregel'!U64,0)","v":0}]
[36,{"$f":"IF(A65<=N$27,VLOOKUP(A64+1,'resultaten immissietoets'!AM$28:AN$84,2,FALSE),\" \")","v":" "},{"$f":"VLOOKUP(+$B65,'resultaten immissietoets'!$A$27:$AA$84,24,FALSE)","v":{"$error":"#N/A"}},{"$f":"IF(ISBLANK($B65)=FALSE,VLOOKUP(+$B65,'resultaten immissietoets'!$A$27:$AA$84,10,FALSE),\" \")","v":{"$error":"#N/A"}},{"$f":"VLOOKUP(+$B65,'resultaten immissietoets'!$A$27:$AA$84,26,FALSE)","v":{"$error":"#N/A"}},{"$f":"IF(ISBLANK($B65)=FALSE,VLOOKUP(+$B65,'resultaten immissietoets'!$A$27:$AI$84,35,FALSE),\" \")","v":{"$error":"#N/A"}},{"$f":"LOG(IF(ISNUMBER(VLOOKUP(+$B65,'resultaten immissietoets'!$A$27:$AE$84,2,FALSE))=TRUE,VLOOKUP(+$B65,'resultaten immissietoets'!$A$27:$AE$84,2,FALSE),1))","v":0},{"$f":"IF(ISBLANK(B65)=FALSE,VLOOKUP(+$B65,'resultaten immissietoets'!$A$27:$AE$84,31,FALSE),\" \")","v":{"$error":"#N/A"}},{"$f":"VLOOKUP(+$B65,'resultaten immissietoets'!$A$27:$AE$84,15,FALSE)","v":{"$error":"#N/A"}},{"$error":"#N/A"},{"$f":"IF(ISBLANK($B65)=FALSE,VLOOKUP(+$B65,'resultaten immissietoets'!$A$27:$AI$84,29,FALSE),\" \")","v":{"$error":"#N/A"}},{"$f":"IF(AND(ISBLANK(B65)=FALSE,B65<>\" \"),N65*Y65*'resultaten immissietoets'!H$16*8760*3600/1000000,0)","v":0},{"$error":"#VALUE!"},{"$f":"IF(B65<>\" \",IF(N$9=\"nee\",IF(ISBLANK($B65)=FALSE,IF(AND('beschrijving lozing'!I$7=\"algemene regels\",+'beschrijving lozing'!I$19=\"nee\",ISNA(VLOOKUP(+$B65,'beschrijving lozing'!B$27:Q$78,15,FALSE))=FALSE),MAX(VLOOKUP(+B65,'beschrijving lozing'!B$27:Q$78,15,FALSE),VLOOKUP(+$B65,'resultaten immissietoets'!$A$27:$AO$84,41,FALSE)),VLOOKUP(+$B65,'resultaten immissietoets'!$A$27:$AO$84,41,FALSE)),\" \"),+P65),\" \")","v":" "},"ja",null,null,"nee",{"$f":"IF(Q65=\"ZZS\",\"ja\",IF('ZZS-checker'!B65=1,\"ja\",\"nee\"))","v":"nee"},0,0,"nee",{"$f":"IF(ISBLANK($B65)=FALSE,IF(ISNA(VLOOKUP(+$B65,'resultaten immissietoets'!$A$27:$AO$84,14,FALSE))=FALSE,VLOOKUP(+$B65,'resultaten immissietoets'!$A$27:$AO$84,14,FALSE),\" \"),\" \")","v":" "},null,{"$f":"IF(AND(ISBLANK($B65)=FALSE,$B65<>\" \"),VLOOKUP(+$B65,'resultaten immissietoets'!$A$27:$BU$84,73,FALSE),\" \")","v":" "},0,null,"ja"," ",0,0,{"$error":"#DIV/0!"},"   ",0," ",null," "," ",{"$f":"IF(AND(ISBLANK(B65)=FALSE,B65<>\" \"),VLOOKUP(+$B65,'resultaten immissietoets'!$A$27:$BK$84,63,FALSE),\" \")","v":" "},35,null,null,0,null,null,null,{"$f":"IF('pot-ZZS-checker'!B50>0,\"ja\",\"nee\")","v":"nee"},0,0," "," ",{"$f":"IF(AND(ISBLANK(B65)=FALSE,B65<>\" \"),IF(D65<W65,IF(D65+((1-AA65/100)*Y65-D65)/'resultaten immissietoets'!J$24*IF(U$22=\"ja\",1/(1+U$25*0.000001*10^G65),1)<W65,\"nee\",\"ja\"),IF(((1-AA65)*Y65-D65)/'resultaten immissietoets'!J$24*IF(U$22=\"ja\",1/(1+U$25*0.000001*10^G65),1)<=I65,\"nee\",\"ja\")),\" \")","v":" "},{"$f":"IF(ISBLANK(B65)=FALSE,IF(BA$25=\"ja\",IF(J65=\" \",IF(D65+((1-AA65/100)*Y65-D65)/Q$20*IF(U$22=\"ja\",1/(1+U$25*0.000001*10^G65),1)<=1,\"nee\",\"ja\"),IF(D65+((1-AA65/100)*Y65-D65)/Q$20*IF(U$22=\"ja\",1/(1+U$25*0.000001*10^G65),1)<='resultaten immissietoets'!AD63,\"nee\",\"ja\")),\"nee\"),\" \")","v":"nee"},null,"nee",0,null,null,null,0," ",null,{"$f":"IF(ISNA(VLOOKUP(B65,'resultaten immissietoets'!A$28:AO$84,41,FALSE))=FALSE,VLOOKUP(B65,'resultaten immissietoets'!A$28:AO$84,41,FALSE),0)","v":0},null,null,null,null,null,null,null,null,null,null,null,null,null,0,{"$f":"IF(AND(B65<>\" \",OR(+'beoordeling maatregel'!Q65=\"ZZS\",S65=\"ja\")),U65*L65,0)","v":0},{"$f":"IF(AND(B65<>\" \",OR(B65=\"PFOS\",B65=\"PFOA\",B65=\"GENX\",B65=\"overige PFAS\",B65=\"6:2 FTS\")),+'beoordeling maatregel'!L65*'beoordeling maatregel'!U65,0)","v":0}]
[37,{"$f":"IF(A66<=N$27,VLOOKUP(A65+1,'resultaten immissietoets'!AM$28:AN$84,2,FALSE),\" \")","v":" "},{"$f":"VLOOKUP(+$B66,'resultaten immissietoets'!$A$27:$AA$84,24,FALSE)","v":{"$error":"#N/A"}},{"$f":"IF(ISBLANK($B66)=FALSE,VLOOKUP(+$B66,'resultaten immissietoets'!$A$27:$AA$84,10,FALSE),\" \")","v":{"$error":"#N/A"}},{"$f":"VLOOKUP(+$B66,'resultaten immissietoets'!$A$27:$AA$84,26,FALSE)","v":{"$error":"#N/A"}},{"$f":"IF(ISBLANK($B66)=FALSE,VLOOKUP(+$B66,'resultaten immissietoets'!$A$27:$AI$84,35,FALSE),\" \")","v":{"$error":"#N/A"}},{"$f":"LOG(IF(ISNUMBER(VLOOKUP(+$B66,'resultaten immissietoets'!$A$27:$AE$84,2,FALSE))=TRUE,VLOOKUP(+$B66,'resultaten immissietoets'!$A$27:$AE$84,2,FALSE),1))","v":0},{"$f":"IF(ISBLANK(B66)=FALSE,VLOOKUP(+$B66,'resultaten immissietoets'!$A$27:$AE$84,31,FALSE),\" \")","v":{"$error":"#N/A"}},{"$f":"VLOOKUP(+$B66,'resultaten immissietoets'!$A$27:$AE$84,15,FALSE)","v":{"$error":"#N/A"}},{"$error":"#N/A"},{"$f":"IF(ISBLANK($B66)=FALSE,VLOOKUP(+$B66,'resultaten immissietoets'!$A$27:$AI$84,29,FALSE),\" \")","v":{"$error":"#N/A"}},{"$f":"IF(AND(ISBLANK(B66)=FALSE,B66<>\" \"),N66*Y66*'resultaten immissietoets'!H$16*8760*3600/1000000,0)","v":0},{"$error":"#VALUE!"},{"$f":"IF(B66<>\" \",IF(N$9=\"nee\",IF(ISBLANK($B66)=FALSE,IF(AND('beschrijving lozing'!I$7=\"algemene regels\",+'beschrijving lozing'!I$19=\"nee\",ISNA(VLOOKUP(+$B66,'beschrijving lozing'!B$27:Q$78,15,FALSE))=FALSE),MAX(VLOOKUP(+B66,'beschrijving lozing'!B$27:Q$78,15,FALSE),VLOOKUP(+$B66,'resultaten immissietoets'!$A$27:$AO$84,41,FALSE)),VLOOKUP(+$B66,'resultaten immissietoets'!$A$27:$AO$84,41,FALSE)),\" \"),+P66),\" \")","v":" "},"ja",null,null,"nee",{"$f":"IF(Q66=\"ZZS\",\"ja\",IF('ZZS-checker'!B66=1,\"ja\",\"nee\"))","v":"nee"},0,0,"nee",{"$f":"IF(ISBLANK($B66)=FALSE,IF(ISNA(VLOOKUP(+$B66,'resultaten immissietoets'!$A$27:$AO$84,14,FALSE))=FALSE,VLOOKUP(+$B66,'resultaten immissietoets'!$A$27:$AO$84,14,FALSE),\" \"),\" \")","v":" "},null,{"$f":"IF(AND(ISBLANK($B66)=FALSE,$B66<>\" \"),VLOOKUP(+$B66,'resultaten immissietoets'!$A$27:$BU$84,73,FALSE),\" \")","v":" "},0,null,"ja"," ",0,0,{"$error":"#DIV/0!"},"   ",0," ",null," "," ",{"$f":"IF(AND(ISBLANK(B66)=FALSE,B66<>\" \"),VLOOKUP(+$B66,'resultaten immissietoets'!$A$27:$BK$84,63,FALSE),\" \")","v":" "},36,null,null,0,null,null,null,{"$f":"IF('pot-ZZS-checker'!B51>0,\"ja\",\"nee\")","v":"nee"},0,0," "," ",{"$f":"IF(AND(ISBLANK(B66)=FALSE,B66<>\" \"),IF(D66<W66,IF(D66+((1-AA66/100)*Y66-D66)/'resultaten immissietoets'!J$24*IF(U$22=\"ja\",1/(1+U$25*0.000001*10^G66),1)<W66,\"nee\",\"ja\"),IF(((1-AA66)*Y66-D66)/'resultaten immissietoets'!J$24*IF(U$22=\"ja\",1/(1+U$25*0.000001*10^G66),1)<=I66,\"nee\",\"ja\")),\" \")","v":" "},{"$f":"IF(ISBLANK(B66)=FALSE,IF(BA$25=\"ja\",IF(J66=\" \",IF(D66+((1-AA66/100)*Y66-D66)/Q$20*IF(U$22=\"ja\",1/(1+U$25*0.000001*10^G66),1)<=1,\"nee\",\"ja\"),IF(D66+((1-AA66/100)*Y66-D66)/Q$20*IF(U$22=\"ja\",1/(1+U$25*0.000001*10^G66),1)<='resultaten immissietoets'!AD64,\"nee\",\"ja\")),\"nee\"),\" \")","v":"nee"},null,"nee",0,null,null,null,0," ",null,{"$f":"IF(ISNA(VLOOKUP(B66,'resultaten immissietoets'!A$28:AO$84,41,FALSE))=FALSE,VLOOKUP(B66,'resultaten immissietoets'!A$28:AO$84,41,FALSE),0)","v":0},null,null,null,null,null,null,null,null,null,null,null,null,null,0,{"$f":"IF(AND(B66<>\" \",OR(+'beoordeling maatregel'!Q66=\"ZZS\",S66=\"ja\")),U66*L66,0)","v":0},{"$f":"IF(AND(B66<>\" \",OR(B66=\"PFOS\",B66=\"PFOA\",B66=\"GENX\",B66=\"overige PFAS\",B66=\"6:2 FTS\")),+'beoordeling maatregel'!L66*'beoordeling maatregel'!U66,0)","v":0}]
[38,{"$f":"IF(A67<=N$27,VLOOKUP(A66+1,'resultaten immissietoets'!AM$28:AN$84,2,FALSE),\" \")","v":" "},{"$f":"VLOOKUP(+$B67,'resultaten immissietoets'!$A$27:$AA$84,24,FALSE)","v":{"$error":"#N/A"}},{"$f":"IF(ISBLANK($B67)=FALSE,VLOOKUP(+$B67,'resultaten immissietoets'!$A$27:$AA$84,10,FALSE),\" \")","v":{"$error":"#N/A"}},{"$f":"VLOOKUP(+$B67,'resultaten immissietoets'!$A$27:$AA$84,26,FALSE)","v":{"$error":"#N/A"}},{"$f":"IF(ISBLANK($B67)=FALSE,VLOOKUP(+$B67,'resultaten immissietoets'!$A$27:$AI$84,35,FALSE),\" \")","v":{"$error":"#N/A"}},{"$f":"LOG(IF(ISNUMBER(VLOOKUP(+$B67,'resultaten immissietoets'!$A$27:$AE$84,2,FALSE))=TRUE,VLOOKUP(+$B67,'resultaten immissietoets'!$A$27:$AE$84,2,FALSE),1))","v":0},{"$f":"IF(ISBLANK(B67)=FALSE,VLOOKUP(+$B67,'resultaten immissietoets'!$A$27:$AE$84,31,FALSE),\" \")","v":{"$error":"#N/A"}},{"$f":"VLOOKUP(+$B67,'resultaten immissietoets'!$A$27:$AE$84,15,FALSE)","v":{"$error":"#N/A"}},{"$error":"#N/A"},{"$f":"IF(ISBLANK($B67)=FALSE,VLOOKUP(+$B67,'resultaten immissietoets'!$A$27:$AI$84,29,FALSE),\" \")","v":{"$error":"#N/A"}},{"$f":"IF(AND(ISBLANK(B67)=FALSE,B67<>\" \"),N67*Y67*'resultaten immissietoets'!H$16*8760*3600/1000000,0)","v":0},{"$error":"#VALUE!"},{"$f":"IF(B67<>\" \",IF(N$9=\"nee\",IF(ISBLANK($B67)=FALSE,IF(AND('beschrijving lozing'!I$7=\"algemene regels\",+'beschrijving lozing'!I$19=\"nee\",ISNA(VLOOKUP(+$B67,'beschrijving lozing'!B$27:Q$78,15,FALSE))=FALSE),MAX(VLOOKUP(+B67,'beschrijving lozing'!B$27:Q$78,15,FALSE),VLOOKUP(+$B67,'resultaten immissietoets'!$A$27:$AO$84,41,FALSE)),VLOOKUP(+$B67,'resultaten immissietoets'!$A$27:$AO$84,41,FALSE)),\" \"),+P67),\" \")","v":" "},"ja",null,null,"nee",{"$f":"IF(Q67=\"ZZS\",\"ja\",IF('ZZS-checker'!B67=1,\"ja\",\"nee\"))","v":"nee"},0,0,"nee",{"$f":"IF(ISBLANK($B67)=FALSE,IF(ISNA(VLOOKUP(+$B67,'resultaten immissietoets'!$A$27:$AO$84,14,FALSE))=FALSE,VLOOKUP(+$B67,'resultaten immissietoets'!$A$27:$AO$84,14,FALSE),\" \"),\" \")","v":" "},null,{"$f":"IF(AND(ISBLANK($B67)=FALSE,$B67<>\" \"),VLOOKUP(+$B67,'resultaten immissietoets'!$A$27:$BU$84,73,FALSE),\" \")","v":" "},0,null,"ja"," ",0,0,{"$error":"#DIV/0!"},"   ",0," ",null," "," ",{"$f":"IF(AND(ISBLANK(B67)=FALSE,B67<>\" \"),VLOOKUP(+$B67,'resultaten immissietoets'!$A$27:$BK$84,63,FALSE),\" \")","v":" "},37,null,null,0,null,null,null,{"$f":"IF('pot-ZZS-checker'!B52>0,\"ja\",\"nee\")","v":"nee"},0,0," "," ",{"$f":"IF(AND(ISBLANK(B67)=FALSE,B67<>\" \"),IF(D67<W67,IF(D67+((1-AA67/100)*Y67-D67)/'resultaten immissietoets'!J$24*IF(U$22=\"ja\",1/(1+U$25*0.000001*10^G67),1)<W67,\"nee\",\"ja\"),IF(((1-AA67)*Y67-D67)/'resultaten immissietoets'!J$24*IF(U$22=\"ja\",1/(1+U$25*0.000001*10^G67),1)<=I67,\"nee\",\"ja\")),\" \")","v":" "},{"$f":"IF(ISBLANK(B67)=FALSE,IF(BA$25=\"ja\",IF(J67=\" \",IF(D67+((1-AA67/100)*Y67-D67)/Q$20*IF(U$22=\"ja\",1/(1+U$25*0.000001*10^G67),1)<=1,\"nee\",\"ja\"),IF(D67+((1-AA67/100)*Y67-D67)/Q$20*IF(U$22=\"ja\",1/(1+U$25*0.000001*10^G67),1)<='resultaten immissietoets'!AD65,\"nee\",\"ja\")),\"nee\"),\" \")","v":"nee"},null,"nee",0,null,null,null,0," ",null,{"$f":"IF(ISNA(VLOOKUP(B67,'resultaten immissietoets'!A$28:AO$84,41,FALSE))=FALSE,VLOOKUP(B67,'resultaten immissietoets'!A$28:AO$84,41,FALSE),0)","v":0},null,null,null,null,null,null,null,null,null,null,null,null,null,0,{"$f":"IF(AND(B67<>\" \",OR(+'beoordeling maatregel'!Q67=\"ZZS\",S67=\"ja\")),U67*L67,0)","v":0},{"$f":"IF(AND(B67<>\" \",OR(B67=\"PFOS\",B67=\"PFOA\",B67=\"GENX\",B67=\"overige PFAS\",B67=\"6:2 FTS\")),+'beoordeling maatregel'!L67*'beoordeling maatregel'!U67,0)","v":0}]
[39,{"$f":"IF(A68<=N$27,VLOOKUP(A67+1,'resultaten immissietoets'!AM$28:AN$84,2,FALSE),\" \")","v":" "},{"$f":"VLOOKUP(+$B68,'resultaten immissietoets'!$A$27:$AA$84,24,FALSE)","v":{"$error":"#N/A"}},{"$f":"IF(ISBLANK($B68)=FALSE,VLOOKUP(+$B68,'resultaten immissietoets'!$A$27:$AA$84,10,FALSE),\" \")","v":{"$error":"#N/A"}},{"$f":"VLOOKUP(+$B68,'resultaten immissietoets'!$A$27:$AA$84,26,FALSE)","v":{"$error":"#N/A"}},{"$f":"IF(ISBLANK($B68)=FALSE,VLOOKUP(+$B68,'resultaten immissietoets'!$A$27:$AI$84,35,FALSE),\" \")","v":{"$error":"#N/A"}},{"$f":"LOG(IF(ISNUMBER(VLOOKUP(+$B68,'resultaten immissietoets'!$A$27:$AE$84,2,FALSE))=TRUE,VLOOKUP(+$B68,'resultaten immissietoets'!$A$27:$AE$84,2,FALSE),1))","v":0},{"$f":"IF(ISBLANK(B68)=FALSE,VLOOKUP(+$B68,'resultaten immissietoets'!$A$27:$AE$84,31,FALSE),\" \")","v":{"$error":"#N/A"}},{"$f":"VLOOKUP(+$B68,'resultaten immissietoets'!$A$27:$AE$84,15,FALSE)","v":{"$error":"#N/A"}},{"$error":"#N/A"},{"$f":"IF(ISBLANK($B68)=FALSE,VLOOKUP(+$B68,'resultaten immissietoets'!$A$27:$AI$84,29,FALSE),\" \")","v":{"$error":"#N/A"}},{"$f":"IF(AND(ISBLANK(B68)=FALSE,B68<>\" \"),N68*Y68*'resultaten immissietoets'!H$16*8760*3600/1000000,0)","v":0},{"$error":"#VALUE!"},{"$f":"IF(B68<>\" \",IF(N$9=\"nee\",IF(ISBLANK($B68)=FALSE,IF(AND('beschrijving lozing'!I$7=\"algemene regels\",+'beschrijving lozing'!I$19=\"nee\",ISNA(VLOOKUP(+$B68,'beschrijving lozing'!B$27:Q$78,15,FALSE))=FALSE),MAX(VLOOKUP(+B68,'beschrijving lozing'!B$27:Q$78,15,FALSE),VLOOKUP(+$B68,'resultaten immissietoets'!$A$27:$AO$84,41,FALSE)),VLOOKUP(+$B68,'resultaten immissietoets'!$A$27:$AO$84,41,FALSE)),\" \"),+P68),\" \")","v":" "},"ja",null,null,"nee",{"$f":"IF(Q68=\"ZZS\",\"ja\",IF('ZZS-checker'!B68=1,\"ja\",\"nee\"))","v":"nee"},0,0,"nee",{"$f":"IF(ISBLANK($B68)=FALSE,IF(ISNA(VLOOKUP(+$B68,'resultaten immissietoets'!$A$27:$AO$84,14,FALSE))=FALSE,VLOOKUP(+$B68,'resultaten immissietoets'!$A$27:$AO$84,14,FALSE),\" \"),\" \")","v":" "},null,{"$f":"IF(AND(ISBLANK($B68)=FALSE,$B68<>\" \"),VLOOKUP(+$B68,'resultaten immissietoets'!$A$27:$BU$84,73,FALSE),\" \")","v":" "},0,null,"ja"," ",0,0,{"$error":"#DIV/0!"},"   ",0," ",null," "," ",{"$f":"IF(AND(ISBLANK(B68)=FALSE,B68<>\" \"),VLOOKUP(+$B68,'resultaten immissietoets'!$A$27:$BK$84,63,FALSE),\" \")","v":" "},38,null,null,0,null,null,null,{"$f":"IF('pot-ZZS-checker'!B53>0,\"ja\",\"nee\")","v":"nee"},0,0," "," ",{"$f":"IF(AND(ISBLANK(B68)=FALSE,B68<>\" \"),IF(D68<W68,IF(D68+((1-AA68/100)*Y68-D68)/'resultaten immissietoets'!J$24*IF(U$22=\"ja\",1/(1+U$25*0.000001*10^G68),1)<W68,\"nee\",\"ja\"),IF(((1-AA68)*Y68-D68)/'resultaten immissietoets'!J$24*IF(U$22=\"ja\",1/(1+U$25*0.000001*10^G68),1)<=I68,\"nee\",\"ja\")),\" \")","v":" "},{"$f":"IF(ISBLANK(B68)=FALSE,IF(BA$25=\"ja\",IF(J68=\" \",IF(D68+((1-AA68/100)*Y68-D68)/Q$20*IF(U$22=\"ja\",1/(1+U$25*0.000001*10^G68),1)<=1,\"nee\",\"ja\"),IF(D68+((1-AA68/100)*Y68-D68)/Q$20*IF(U$22=\"ja\",1/(1+U$25*0.000001*10^G68),1)<='resultaten immissietoets'!AD66,\"nee\",\"ja\")),\"nee\"),\" \")","v":"nee"},null,"nee",0,null,null,null,0," ",null,{"$f":"IF(ISNA(VLOOKUP(B68,'resultaten immissietoets'!A$28:AO$84,41,FALSE))=FALSE,VLOOKUP(B68,'resultaten immissietoets'!A$28:AO$84,41,FALSE),0)","v":0},null,null,null,null,null,null,null,null,null,null,null,null,null,0,{"$f":"IF(AND(B68<>\" \",OR(+'beoordeling maatregel'!Q68=\"ZZS\",S68=\"ja\")),U68*L68,0)","v":0},{"$f":"IF(AND(B68<>\" \",OR(B68=\"PFOS\",B68=\"PFOA\",B68=\"GENX\",B68=\"overige PFAS\",B68=\"6:2 FTS\")),+'beoordeling maatregel'!L68*'beoordeling maatregel'!U68,0)","v":0}]
[40,{"$f":"IF(A69<=N$27,VLOOKUP(A68+1,'resultaten immissietoets'!AM$28:AN$84,2,FALSE),\" \")","v":" "},{"$f":"VLOOKUP(+$B69,'resultaten immissietoets'!$A$27:$AA$84,24,FALSE)","v":{"$error":"#N/A"}},{"$f":"IF(ISBLANK($B69)=FALSE,VLOOKUP(+$B69,'resultaten immissietoets'!$A$27:$AA$84,10,FALSE),\" \")","v":{"$error":"#N/A"}},{"$f":"VLOOKUP(+$B69,'resultaten immissietoets'!$A$27:$AA$84,26,FALSE)","v":{"$error":"#N/A"}},{"$f":"IF(ISBLANK($B69)=FALSE,VLOOKUP(+$B69,'resultaten immissietoets'!$A$27:$AI$84,35,FALSE),\" \")","v":{"$error":"#N/A"}},{"$f":"LOG(IF(ISNUMBER(VLOOKUP(+$B69,'resultaten immissietoets'!$A$27:$AE$84,2,FALSE))=TRUE,VLOOKUP(+$B69,'resultaten immissietoets'!$A$27:$AE$84,2,FALSE),1))","v":0},{"$f":"IF(ISBLANK(B69)=FALSE,VLOOKUP(+$B69,'resultaten immissietoets'!$A$27:$AE$84,31,FALSE),\" \")","v":{"$error":"#N/A"}},{"$f":"VLOOKUP(+$B69,'resultaten immissietoets'!$A$27:$AE$84,15,FALSE)","v":{"$error":"#N/A"}},{"$error":"#N/A"},{"$f":"IF(ISBLANK($B69)=FALSE,VLOOKUP(+$B69,'resultaten immissietoets'!$A$27:$AI$84,29,FALSE),\" \")","v":{"$error":"#N/A"}},{"$f":"IF(AND(ISBLANK(B69)=FALSE,B69<>\" \"),N69*Y69*'resultaten immissietoets'!H$16*8760*3600/1000000,0)","v":0},{"$error":"#VALUE!"},{"$f":"IF(B69<>\" \",IF(N$9=\"nee\",IF(ISBLANK($B69)=FALSE,IF(AND('beschrijving lozing'!I$7=\"algemene regels\",+'beschrijving lozing'!I$19=\"nee\",ISNA(VLOOKUP(+$B69,'beschrijving lozing'!B$27:Q$78,15,FALSE))=FALSE),MAX(VLOOKUP(+B69,'beschrijving lozing'!B$27:Q$78,15,FALSE),VLOOKUP(+$B69,'resultaten immissietoets'!$A$27:$AO$84,41,FALSE)),VLOOKUP(+$B69,'resultaten immissietoets'!$A$27:$AO$84,41,FALSE)),\" \"),+P69),\" \")","v":" "},"ja",null,null,"nee",{"$f":"IF(Q69=\"ZZS\",\"ja\",IF('ZZS-checker'!B69=1,\"ja\",\"nee\"))","v":"nee"},0,0,"nee",{"$f":"IF(ISBLANK($B69)=FALSE,IF(ISNA(VLOOKUP(+$B69,'resultaten immissietoets'!$A$27:$AO$84,14,FALSE))=FALSE,VLOOKUP(+$B69,'resultaten immissietoets'!$A$27:$AO$84,14,FALSE),\" \"),\" \")","v":" "},null,{"$f":"IF(AND(ISBLANK($B69)=FALSE,$B69<>\" \"),VLOOKUP(+$B69,'resultaten immissietoets'!$A$27:$BU$84,73,FALSE),\" \")","v":" "},0,null,"ja"," ",0,0,{"$error":"#DIV/0!"},"   ",0," ",null," "," ",{"$f":"IF(AND(ISBLANK(B69)=FALSE,B69<>\" \"),VLOOKUP(+$B69,'resultaten immissietoets'!$A$27:$BK$84,63,FALSE),\" \")","v":" "},39,null,null,0,null,null,null,{"$f":"IF('pot-ZZS-checker'!B54>0,\"ja\",\"nee\")","v":"nee"},0,0," "," ",{"$f":"IF(AND(ISBLANK(B69)=FALSE,B69<>\" \"),IF(D69<W69,IF(D69+((1-AA69/100)*Y69-D69)/'resultaten immissietoets'!J$24*IF(U$22=\"ja\",1/(1+U$25*0.000001*10^G69),1)<W69,\"nee\",\"ja\"),IF(((1-AA69)*Y69-D69)/'resultaten immissietoets'!J$24*IF(U$22=\"ja\",1/(1+U$25*0.000001*10^G69),1)<=I69,\"nee\",\"ja\")),\" \")","v":" "},{"$f":"IF(ISBLANK(B69)=FALSE,IF(BA$25=\"ja\",IF(J69=\" \",IF(D69+((1-AA69/100)*Y69-D69)/Q$20*IF(U$22=\"ja\",1/(1+U$25*0.000001*10^G69),1)<=1,\"nee\",\"ja\"),IF(D69+((1-AA69/100)*Y69-D69)/Q$20*IF(U$22=\"ja\",1/(1+U$25*0.000001*10^G69),1)<='resultaten immissietoets'!AD67,\"nee\",\"ja\")),\"nee\"),\" \")","v":"nee"},null,"nee",0,null,null,null,0," ",null,{"$f":"IF(ISNA(VLOOKUP(B69,'resultaten immissietoets'!A$28:AO$84,41,FALSE))=FALSE,VLOOKUP(B69,'resultaten immissietoets'!A$28:AO$84,41,FALSE),0)","v":0},null,null,null,null,null,null,null,null,null,null,null,null,null,0,{"$f":"IF(AND(B69<>\" \",OR(+'beoordeling maatregel'!Q69=\"ZZS\",S69=\"ja\")),U69*L69,0)","v":0},{"$f":"IF(AND(B69<>\" \",OR(B69=\"PFOS\",B69=\"PFOA\",B69=\"GENX\",B69=\"overige PFAS\",B69=\"6:2 FTS\")),+'beoordeling maatregel'!L69*'beoordeling maatregel'!U69,0)","v":0}]
[41,{"$f":"IF(A70<=N$27,VLOOKUP(A69+1,'resultaten immissietoets'!AM$28:AN$84,2,FALSE),\" \")","v":" "},{"$f":"VLOOKUP(+$B70,'resultaten immissietoets'!$A$27:$AA$84,24,FALSE)","v":{"$error":"#N/A"}},{"$f":"IF(ISBLANK($B70)=FALSE,VLOOKUP(+$B70,'resultaten immissietoets'!$A$27:$AA$84,10,FALSE),\" \")","v":{"$error":"#N/A"}},{"$f":"VLOOKUP(+$B70,'resultaten immissietoets'!$A$27:$AA$84,26,FALSE)","v":{"$error":"#N/A"}},{"$f":"IF(ISBLANK($B70)=FALSE,VLOOKUP(+$B70,'resultaten immissietoets'!$A$27:$AI$84,35,FALSE),\" \")","v":{"$error":"#N/A"}},{"$f":"LOG(IF(ISNUMBER(VLOOKUP(+$B70,'resultaten immissietoets'!$A$27:$AE$84,2,FALSE))=TRUE,VLOOKUP(+$B70,'resultaten immissietoets'!$A$27:$AE$84,2,FALSE),1))","v":0},{"$f":"IF(ISBLANK(B70)=FALSE,VLOOKUP(+$B70,'resultaten immissietoets'!$A$27:$AE$84,31,FALSE),\" \")","v":{"$error":"#N/A"}},{"$f":"VLOOKUP(+$B70,'resultaten immissietoets'!$A$27:$AE$84,15,FALSE)","v":{"$error":"#N/A"}},{"$error":"#N/A"},{"$f":"IF(ISBLANK($B70)=FALSE,VLOOKUP(+$B70,'resultaten immissietoets'!$A$27:$AI$84,29,FALSE),\" \")","v":{"$error":"#N/A"}},{"$f":"IF(AND(ISBLANK(B70)=FALSE,B70<>\" \"),N70*Y70*'resultaten immissietoets'!H$16*8760*3600/1000000,0)","v":0},{"$error":"#VALUE!"},{"$f":"IF(B70<>\" \",IF(N$9=\"nee\",IF(ISBLANK($B70)=FALSE,IF(AND('beschrijving lozing'!I$7=\"algemene regels\",+'beschrijving lozing'!I$19=\"nee\",ISNA(VLOOKUP(+$B70,'beschrijving lozing'!B$27:Q$78,15,FALSE))=FALSE),MAX(VLOOKUP(+B70,'beschrijving lozing'!B$27:Q$78,15,FALSE),VLOOKUP(+$B70,'resultaten immissietoets'!$A$27:$AO$84,41,FALSE)),VLOOKUP(+$B70,'resultaten immissietoets'!$A$27:$AO$84,41,FALSE)),\" \"),+P70),\" \")","v":" "},"ja",null,null,"nee",{"$f":"IF(Q70=\"ZZS\",\"ja\",IF('ZZS-checker'!B70=1,\"ja\",\"nee\"))","v":"nee"},0,0,"nee",{"$f":"IF(ISBLANK($B70)=FALSE,IF(ISNA(VLOOKUP(+$B70,'resultaten immissietoets'!$A$27:$AO$84,14,FALSE))=FALSE,VLOOKUP(+$B70,'resultaten immissietoets'!$A$27:$AO$84,14,FALSE),\" \"),\" \")","v":" "},null,{"$f":"IF(AND(ISBLANK($B70)=FALSE,$B70<>\" \"),VLOOKUP(+$B70,'resultaten immissietoets'!$A$27:$BU$84,73,FALSE),\" \")","v":" "},0,null,"ja"," ",0,0,{"$error":"#DIV/0!"},"   ",0," ",null," ",{"$f":"IF(B70<> \" \",IF(AA70*AA$25>=N70,0,(N70-AA$25*AA70)),\" \")","v":" "},{"$f":"IF(AND(ISBLANK(B70)=FALSE,B70<>\" \"),VLOOKUP(+$B70,'resultaten immissietoets'!$A$27:$BK$84,63,FALSE),\" \")","v":" "},40,null,null,0,null,null,null,{"$f":"IF('pot-ZZS-checker'!B55>0,\"ja\",\"nee\")","v":"nee"},0,0," "," ",{"$f":"IF(AND(ISBLANK(B70)=FALSE,B70<>\" \"),IF(D70<W70,IF(D70+((1-AA70/100)*Y70-D70)/'resultaten immissietoets'!J$24*IF(U$22=\"ja\",1/(1+U$25*0.000001*10^G70),1)<W70,\"nee\",\"ja\"),IF(((1-AA70)*Y70-D70)/'resultaten immissietoets'!J$24*IF(U$22=\"ja\",1/(1+U$25*0.000001*10^G70),1)<=I70,\"nee\",\"ja\")),\" \")","v":" "},{"$f":"IF(ISBLANK(B70)=FALSE,IF(BA$25=\"ja\",IF(J70=\" \",IF(D70+((1-AA70/100)*Y70-D70)/Q$20*IF(U$22=\"ja\",1/(1+U$25*0.000001*10^G70),1)<=1,\"nee\",\"ja\"),IF(D70+((1-AA70/100)*Y70-D70)/Q$20*IF(U$22=\"ja\",1/(1+U$25*0.000001*10^G70),1)<='resultaten immissietoets'!AD68,\"nee\",\"ja\")),\"nee\"),\" \")","v":"nee"},null,"nee",0,null,null,null,0," ",null,{"$f":"IF(ISNA(VLOOKUP(B70,'resultaten immissietoets'!A$28:AO$84,41,FALSE))=FALSE,VLOOKUP(B70,'resultaten immissietoets'!A$28:AO$84,41,FALSE),0)","v":0},null,null,null,null,null,null,null,null,null,null,null,null,null,0,{"$f":"IF(AND(B70<>\" \",OR(+'beoordeling maatregel'!Q70=\"ZZS\",S70=\"ja\")),U70*L70,0)","v":0},{"$f":"IF(AND(B70<>\" \",OR(B70=\"PFOS\",B70=\"PFOA\",B70=\"GENX\",B70=\"overige PFAS\",B70=\"6:2 FTS\")),+'beoordeling maatregel'!L70*'beoordeling maatregel'!U70,0)","v":0}]
[42,null,null,null,null,null,null,null,null,null,null,{"$f":"IF(AND(ISBLANK(B71)=FALSE,B71<>\" \"),N71*Y71*'resultaten immissietoets'!H$16*8760*3600/1000000,0)","v":0},{"$error":"#VALUE!"},{"$f":"IF(B71<>\" \",IF(N$9=\"nee\",IF(ISBLANK($B71)=FALSE,IF(AND('beschrijving lozing'!I$7=\"algemene regels\",+'beschrijving lozing'!I$19=\"nee\",ISNA(VLOOKUP(+$B71,'beschrijving lozing'!B$27:Q$78,15,FALSE))=FALSE),MAX(VLOOKUP(+B71,'beschrijving lozing'!B$27:Q$78,15,FALSE),VLOOKUP(+$B71,'resultaten immissietoets'!$A$27:$AO$84,41,FALSE)),VLOOKUP(+$B71,'resultaten immissietoets'!$A$27:$AO$84,41,FALSE)),\" \"),+P71),\" \")","v":0},null,null,null,null,{"$f":"IF(Q71=\"ZZS\",\"ja\",IF('ZZS-checker'!B71=1,\"ja\",\"nee\"))","v":"nee"},0,0,null,{"$f":"IF(ISBLANK($B71)=FALSE,VLOOKUP(+$B71,'resultaten immissietoets'!$A$27:$AO$84,14,FALSE))","v":false},null,{"$f":"IF(AND(ISBLANK($B71)=FALSE,$B71<>\" \"),VLOOKUP(+$B71,'resultaten immissietoets'!$A$27:$BU$84,73,FALSE),\" \")","v":" "},null,null,null,0,{"$f":"SUM(AD$30:AD70)","v":0},0,null," ",null," ",null,null,null,null,null,null,null,null,null,null,null,{"$f":"IF('pot-ZZS-checker'!B56>0,\"ja\",\"nee\")","v":"nee"},{"$f":"IF(AND(ISBLANK(B71)=FALSE,ISBLANK(Q71)=TRUE),1,0)","v":0},null,null,null,{"$f":"IF(ISBLANK(B71)=FALSE,IF(D71<W71,IF(D71+((1-AA71/100)*Y71-D71)/'resultaten immissietoets'!J$24*IF(U$22=\"ja\",1/(1+U$25*0.000001*10^G71),1)<W71,\"nee\",\"ja\"),IF(((1-AA71)*Y71-D71)/'resultaten immissietoets'!J$24*IF(U$22=\"ja\",1/(1+U$25*0.000001*10^G71),1)<=I71,\"nee\",\"ja\")),\" \")","v":" "},null,null,null,null,null,null,null,null,null,null,null,null,null,null,null,null,null,null,null,null,null,null,null,null,{"$f":"U71*L71","v":0},{"$f":"IF(AND(B71<>\" \",OR(+'beoordeling maatregel'!Q71=\"ZZS\",S71=\"ja\")),U71*L71,0)","v":0},{"$f":"IF(AND(B71<>\" \",OR(B71=\"PFOS\",B71=\"PFOA\",B71=\"GENX\",B71=\"overige PFAS\",B71=\"6:2 FTS\")),+'beoordeling maatregel'!L71*'beoordeling maatregel'!U71,0)","v":0}]
[43,null,null,null,null,null,null,null,null,null,null,{"$f":"IF(AND(ISBLANK(B72)=FALSE,B72<>\" \"),N72*Y72*'resultaten immissietoets'!H$16*8760*3600/1000000,0)","v":0},{"$error":"#VALUE!"},{"$f":"IF(B72<>\" \",IF(N$9=\"nee\",IF(ISBLANK($B72)=FALSE,IF(AND('beschrijving lozing'!I$7=\"algemene regels\",+'beschrijving lozing'!I$19=\"nee\",ISNA(VLOOKUP(+$B72,'beschrijving lozing'!B$27:Q$78,15,FALSE))=FALSE),MAX(VLOOKUP(+B72,'beschrijving lozing'!B$27:Q$78,15,FALSE),VLOOKUP(+$B72,'resultaten immissietoets'!$A$27:$AO$84,41,FALSE)),VLOOKUP(+$B72,'resultaten immissietoets'!$A$27:$AO$84,41,FALSE)),\" \"),+P72),\" \")","v":0},null,null,null,null,{"$f":"IF(Q72=\"ZZS\",\"ja\",IF('ZZS-checker'!B72=1,\"ja\",\"nee\"))","v":"nee"},null,null,null,{"$f":"IF(ISBLANK($B72)=FALSE,VLOOKUP(+$B72,'resultaten immissietoets'!$A$27:$AO$84,14,FALSE))","v":false},null,{"$f":"IF(AND(ISBLANK($B72)=FALSE,$B72<>\" \"),VLOOKUP(+$B72,'resultaten immissietoets'!$A$27:$BU$84,73,FALSE),\" \")","v":" "},null,null,null,0,null,null,null,null,null," ",null,null,null,null,null,null,null,{"$f":"SUM(AQ30:AQ70)","v":0},null,null,null,null,null,null,null,null,{"$f":"IF(ISBLANK(B72)=FALSE,IF(D72<W72,IF(D72+((1-AA72/100)*Y72-D72)/'resultaten immissietoets'!J$24*IF(U$22=\"ja\",1/(1+U$25*0.000001*10^G72),1)<W72,\"nee\",\"ja\"),IF(((1-AA72)*Y72-D72)/'resultaten immissietoets'!J$24*IF(U$22=\"ja\",1/(1+U$25*0.000001*10^G72),1)<=I72,\"nee\",\"ja\")),\" \")","v":" "}]
[null,null,null,null,null,null,null,null,null,null,null,null,null,null,null,null,null,null,null,null,null,null,null,null,null,null,null,null,null,null,null,null,null,null,null,null,null,null,null,null,null,null,null,null,null,null,null,null,null,null,null,{"$f":"IF(ISBLANK(B73)=FALSE,IF(D73<W73,IF(D73+((1-AA73/100)*Y73-D73)/'resultaten immissietoets'!J$24*IF(U$22=\"ja\",1/(1+U$25*0.000001*10^G73),1)<W73,\"nee\",\"ja\"),IF(((1-AA73)*Y73-D73)/'resultaten immissietoets'!J$24*IF(U$22=\"ja\",1/(1+U$25*0.000001*10^G73),1)<=I73,\"nee\",\"ja\")),\" \")","v":" "}]
[null,null,null,null,null,null,null,null,null,null,null,null,null,null,null,null,null,null,null,null,null,null,null,null,null,null,null,null,{"$f":"SUBTOTAL(9,AC30:AC71)","v":0},null,null,null,null,null,null,null,null,null,null,null,null,null,null,null,null,null,null,null,null,null,null,{"$f":"IF(ISBLANK(B74)=FALSE,IF(D74<W74,IF(D74+((1-AA74/100)*Y74-D74)/'resultaten immissietoets'!J$24*IF(U$22=\"ja\",1/(1+U$25*0.000001*10^G74),1)<W74,\"nee\",\"ja\"),IF(((1-AA74)*Y74-D74)/'resultaten immissietoets'!J$24*IF(U$22=\"ja\",1/(1+U$25*0.000001*10^G74),1)<=I74,\"nee\",\"ja\")),\" \")","v":" "},null,null,null,null,null,null,null,null,null,null,null,null,null,null,null,null,null,null,null,null,null,null,null,null,{"$f":"SUBTOTAL(9,BY30:BY71)","v":0},{"$f":"SUBTOTAL(9,BZ30:BZ71)","v":0},{"$f":"SUBTOTAL(9,CA30:CA71)","v":0}]
[null,null,null,null,null,null,null,null,null,null,null,null,null,null,null,null,null,null,null,null,null,null,null,null,null,null,null,null,null,null,null,null,null,null,null,null,null,null,null,null,null,null,null,null,null,null,null,null,null,null,null,{"$f":"IF(ISBLANK(B75)=FALSE,IF(D75<W75,IF(D75+((1-AA75/100)*Y75-D75)/'resultaten immissietoets'!J$24*IF(U$22=\"ja\",1/(1+U$25*0.000001*10^G75),1)<W75,\"nee\",\"ja\"),IF(((1-AA75)*Y75-D75)/'resultaten immissietoets'!J$24*IF(U$22=\"ja\",1/(1+U$25*0.000001*10^G75),1)<=I75,\"nee\",\"ja\")),\" \")","v":" "}]
[null,null,null,null,null,null,null,null,null,null,null,null,null,null,null,null,null,null,null,null,null,null,null,null,null,null,null,null,null,null,null,null,null,null,null,null,null,null,null,null,null,null,null,null,null,null,null,null,null,null,null,{"$f":"IF(ISBLANK(B76)=FALSE,IF(D76<W76,IF(D76+((1-AA76/100)*Y76-D76)/'resultaten immissietoets'!J$24*IF(U$22=\"ja\",1/(1+U$25*0.000001*10^G76),1)<W76,\"nee\",\"ja\"),IF(((1-AA76)*Y76-D76)/'resultaten immissietoets'!J$24*IF(U$22=\"ja\",1/(1+U$25*0.000001*10^G76),1)<=I76,\"nee\",\"ja\")),\" \")","v":" "}]
[null,null,null,null,null,null,null,null,null,null,null,null,null,null,null,null,null,null,null,null,null,null,null,null,null,null,null,null,null,null,null,null,null,null,null,null,null,null,null,null,null,null,null,null,null,null,null,null,null,null,null,{"$f":"IF(ISBLANK(B77)=FALSE,IF(D77<W77,IF(D77+((1-AA77/100)*Y77-D77)/'resultaten immissietoets'!J$24*IF(U$22=\"ja\",1/(1+U$25*0.000001*10^G77),1)<W77,\"nee\",\"ja\"),IF(((1-AA77)*Y77-D77)/'resultaten immissietoets'!J$24*IF(U$22=\"ja\",1/(1+U$25*0.000001*10^G77),1)<=I77,\"nee\",\"ja\")),\" \")","v":" "}]
[null,null,null,null,null,null,null,null,null,null,null,null,null,null,null,null,null,null,null,null,null,null,null,null,null,null,null,null,null,null,null,null,null,null,null,null,null,null,null,null,null,null,null,null,null,null,null,null,null,null,null,{"$f":"IF(ISBLANK(B78)=FALSE,IF(D78<W78,IF(D78+((1-AA78/100)*Y78-D78)/'resultaten immissietoets'!J$24*IF(U$22=\"ja\",1/(1+U$25*0.000001*10^G78),1)<W78,\"nee\",\"ja\"),IF(((1-AA78)*Y78-D78)/'resultaten immissietoets'!J$24*IF(U$22=\"ja\",1/(1+U$25*0.000001*10^G78),1)<=I78,\"nee\",\"ja\")),\" \")","v":" "}]
[null,null,null,null,null,null,null,null,null,null,null,null,null,null,null,null,null,null,null,null,null,null,null,null,null,null,null,null,null,null,null,null,null,null,null,null,null,null,null,null,null,null,null,null,null,null,null,null,null,null,null,{"$f":"IF(ISBLANK(B79)=FALSE,IF(D79<W79,IF(D79+((1-AA79/100)*Y79-D79)/'resultaten immissietoets'!J$24*IF(U$22=\"ja\",1/(1+U$25*0.000001*10^G79),1)<W79,\"nee\",\"ja\"),IF(((1-AA79)*Y79-D79)/'resultaten immissietoets'!J$24*IF(U$22=\"ja\",1/(1+U$25*0.000001*10^G79),1)<=I79,\"nee\",\"ja\")),\" \")","v":" "}]
[null,null,null,null,null,null,null,null,null,null,null,null,null,null,null,null,null,null,null,null,null,null,null,null,null,null,null,null,null,null,null,null,null,null,null,null,null,null,null,null,null,null,null,null,null,null,null,null,null,null,null,{"$f":"IF(ISBLANK(B80)=FALSE,IF(D80<W80,IF(D80+((1-AA80/100)*Y80-D80)/'resultaten immissietoets'!J$24*IF(U$22=\"ja\",1/(1+U$25*0.000001*10^G80),1)<W80,\"nee\",\"ja\"),IF(((1-AA80)*Y80-D80)/'resultaten immissietoets'!J$24*IF(U$22=\"ja\",1/(1+U$25*0.000001*10^G80),1)<=I80,\"nee\",\"ja\")),\" \")","v":" "}]
[null,null,null,null,null,null,null,null,null,null,null,null,null,null,null,null,null,null,null,null,null,null,null,null,null,null,null,null,null,null,null,null,null,null,null,null,null,null,null,null,null,null,null,null,null,null,null,null,null,null,null,{"$f":"IF(ISBLANK(B81)=FALSE,IF(D81<W81,IF(D81+((1-AA81/100)*Y81-D81)/'resultaten immissietoets'!J$24*IF(U$22=\"ja\",1/(1+U$25*0.000001*10^G81),1)<W81,\"nee\",\"ja\"),IF(((1-AA81)*Y81-D81)/'resultaten immissietoets'!J$24*IF(U$22=\"ja\",1/(1+U$25*0.000001*10^G81),1)<=I81,\"nee\",\"ja\")),\" \")","v":" "}]
[null,null,null,null,null,null,null,null,null,null,null,null,null,null,null,null,null,null,null,null,null,null,null,null,null,null,null,null,null,null,null,null,null,null,null,null,null,null,null,null,null,null,null,null,null,null,null,null,null,null,null,{"$f":"IF(ISBLANK(B82)=FALSE,IF(D82<W82,IF(D82+((1-AA82/100)*Y82-D82)/'resultaten immissietoets'!J$24*IF(U$22=\"ja\",1/(1+U$25*0.000001*10^G82),1)<W82,\"nee\",\"ja\"),IF(((1-AA82)*Y82-D82)/'resultaten immissietoets'!J$24*IF(U$22=\"ja\",1/(1+U$25*0.000001*10^G82),1)<=I82,\"nee\",\"ja\")),\" \")","v":" "}]
[null,null,null,null,null,null,null,null,null,null,null,null,null,null,null,null,null,null,null,null,null,null,null,null,null,null,null,null,null,null,null,null,null,null,null,null,null,null,null,null,null,null,null,null,null,null,null,null,null,null,null,{"$f":"IF(ISBLANK(B83)=FALSE,IF(D83<W83,IF(D83+((1-AA83/100)*Y83-D83)/'resultaten immissietoets'!J$24*IF(U$22=\"ja\",1/(1+U$25*0.000001*10^G83),1)<W83,\"nee\",\"ja\"),IF(((1-AA83)*Y83-D83)/'resultaten immissietoets'!J$24*IF(U$22=\"ja\",1/(1+U$25*0.000001*10^G83),1)<=I83,\"nee\",\"ja\")),\" \")","v":" "}]
[null,null,null,null,null,null,null,null,null,null,null,null,null,null,null,null,null,null,null,null,null,null,null,null,null,null,null,null,null,null,null,null,null,null,null,null,null,null,null,null,null,null,null,null,null,null,null,null,null,null,null,{"$f":"IF(ISBLANK(B84)=FALSE,IF(D84<W84,IF(D84+((1-AA84/100)*Y84-D84)/'resultaten immissietoets'!J$24*IF(U$22=\"ja\",1/(1+U$25*0.000001*10^G84),1)<W84,\"nee\",\"ja\"),IF(((1-AA84)*Y84-D84)/'resultaten immissietoets'!J$24*IF(U$22=\"ja\",1/(1+U$25*0.000001*10^G84),1)<=I84,\"nee\",\"ja\")),\" \")","v":" "}]
[null,null,null,null,null,null,null,null,null,null,null,null,null,null,null,null,null,null,null,null,null,null,null,null,null,null,null,null,null,null,null,null,null,null,null,null,null,null,null,null,null,null,null,null,null,null,null,null,null,null,null,{"$f":"IF(ISBLANK(B85)=FALSE,IF(D85<W85,IF(D85+((1-AA85/100)*Y85-D85)/'resultaten immissietoets'!J$24*IF(U$22=\"ja\",1/(1+U$25*0.000001*10^G85),1)<W85,\"nee\",\"ja\"),IF(((1-AA85)*Y85-D85)/'resultaten immissietoets'!J$24*IF(U$22=\"ja\",1/(1+U$25*0.000001*10^G85),1)<=I85,\"nee\",\"ja\")),\" \")","v":" "}]
[null,null,null,null,null,null,null,null,null,null,null,null,null,null,null,null,null,null,null,null,null,null,null,null,null,null,null,null,null,null,null,null,null,null,null,null,null,null,null,null,null,null,null,null,null,null,null,null,null,null,null,{"$f":"IF(ISBLANK(B86)=FALSE,IF(D86<W86,IF(D86+((1-AA86/100)*Y86-D86)/'resultaten immissietoets'!J$24*IF(U$22=\"ja\",1/(1+U$25*0.000001*10^G86),1)<W86,\"nee\",\"ja\"),IF(((1-AA86)*Y86-D86)/'resultaten immissietoets'!J$24*IF(U$22=\"ja\",1/(1+U$25*0.000001*10^G86),1)<=I86,\"nee\",\"ja\")),\" \")","v":" "}]
[null,null,null,null,null,null,null,null,null,null,null,null,null,null,null,null,null,null,null,null,null,null,null,null,null,null,null,null,null,null,null,null,null,null,null,null,null,null,null,null,null,null,null,null,null,null,null,null,null,null,null,{"$f":"IF(ISBLANK(B87)=FALSE,IF(D87<W87,IF(D87+((1-AA87/100)*Y87-D87)/'resultaten immissietoets'!J$24*IF(U$22=\"ja\",1/(1+U$25*0.000001*10^G87),1)<W87,\"nee\",\"ja\"),IF(((1-AA87)*Y87-D87)/'resultaten immissietoets'!J$24*IF(U$22=\"ja\",1/(1+U$25*0.000001*10^G87),1)<=I87,\"nee\",\"ja\")),\" \")","v":" "}]

{"sheet":"uitvoer kostentabel","index":13,"n_rows":42,"n_cols":6,"rows_kept":42,"cut":false,"hidden":true,"merged":[]}
[null,null,"totale kosten [€/j]"]
[]
[]
[null,"stof","te verwijderen vracht om aan immissietoets te voldoen [kg/j]","som","in rede te verlangen kosten voor BBT+ per kg-verwijderde stof","In rede te verlangen jaarlijkse kosten per stof"]
[null,{"$f":"IF(AND('beoordeling maatregel'!B30=\" \",'beoordeling maatregel'!B29<>\" \"),+C$1,IF(ISBLANK('beoordeling maatregel'!B30)=FALSE,'beoordeling maatregel'!B30,\" \"))","v":"totale kosten [€/j]"},{"$f":"IF(AND(ISBLANK('beoordeling maatregel'!L30)=FALSE,'beoordeling maatregel'!L30>0),'beoordeling maatregel'!L30,\" \")","v":" "},{"$f":"IF(OR(C5=\" \",E5=\" \"),\" \",+C5*E5)","v":" "},{"$f":"IF(AND(ISBLANK('beoordeling maatregel'!N30)=FALSE,'beoordeling maatregel'!N30>0),IF('beoordeling maatregel'!U30>0,'beoordeling maatregel'!U30,\" \"))","v":" "},{"$f":"IF(OR(C5=\" \",E5=\" \"),\" \",IF(D5>0,C5*E5,\" \"))","v":" "}]
[null,{"$f":"IF(AND('beoordeling maatregel'!B31=\" \",'beoordeling maatregel'!B30<>\" \"),+C$1,IF(ISBLANK('beoordeling maatregel'!B31)=FALSE,'beoordeling maatregel'!B31,\" \"))","v":" "},{"$f":"IF(AND(ISBLANK('beoordeling maatregel'!L31)=FALSE,'beoordeling maatregel'!L31>0),'beoordeling maatregel'!L31,\" \")","v":" "},{"$f":"IF(OR(C6=\" \",E6=\" \"),\" \",+C6*E6)","v":" "},{"$f":"IF(AND(ISBLANK('beoordeling maatregel'!N31)=FALSE,'beoordeling maatregel'!N31>0),IF('beoordeling maatregel'!U31>0,'beoordeling maatregel'!U31,\" \"))","v":" "},{"$f":"IF(OR(C6=\" \",E6=\" \"),\" \",IF(D6>0,C6*E6,\" \"))","v":" "}]
[null,{"$f":"IF(AND('beoordeling maatregel'!B32=\" \",'beoordeling maatregel'!B31<>\" \"),+C$1,IF(ISBLANK('beoordeling maatregel'!B32)=FALSE,'beoordeling maatregel'!B32,\" \"))","v":" "},{"$f":"IF(AND(ISBLANK('beoordeling maatregel'!L32)=FALSE,'beoordeling maatregel'!L32>0),'beoordeling maatregel'!L32,\" \")","v":" "}," ",{"$f":"IF(AND(ISBLANK('beoordeling maatregel'!N32)=FALSE,'beoordeling maatregel'!N32>0),IF('beoordeling maatregel'!U32>0,'beoordeling maatregel'!U32,\" \"))","v":" "}," "]
[null,{"$f":"IF(AND('beoordeling maatregel'!B33=\" \",'beoordeling maatregel'!B32<>\" \"),+C$1,IF(ISBLANK('beoordeling maatregel'!B33)=FALSE,'beoordeling maatregel'!B33,\" \"))","v":" "},{"$f":"IF(AND(ISBLANK('beoordeling maatregel'!L33)=FALSE,'beoordeling maatregel'!L33>0),'beoordeling maatregel'!L33,\" \")","v":" "}," ",{"$f":"IF(AND(ISBLANK('beoordeling maatregel'!N33)=FALSE,'beoordeling maatregel'!N33>0),IF('beoordeling maatregel'!U33>0,'beoordeling maatregel'!U33,\" \"))","v":" "}," "]
[null,{"$f":"IF(AND('beoordeling maatregel'!B34=\" \",'beoordeling maatregel'!B33<>\" \"),+C$1,IF(ISBLANK('beoordeling maatregel'!B34)=FALSE,'beoordeling maatregel'!B34,\" \"))","v":" "},{"$f":"IF(AND(ISBLANK('beoordeling maatregel'!L34)=FALSE,'beoordeling maatregel'!L34>0),'beoordeling maatregel'!L34,\" \")","v":" "}," ",{"$f":"IF(AND(ISBLANK('beoordeling maatregel'!N34)=FALSE,'beoordeling maatregel'!N34>0),IF('beoordeling maatregel'!U34>0,'beoordeling maatregel'!U34,\" \"))","v":" "}," "]
[null,{"$f":"IF(AND('beoordeling maatregel'!B35=\" \",'beoordeling maatregel'!B34<>\" \"),+C$1,IF(ISBLANK('beoordeling maatregel'!B35)=FALSE,'beoordeling maatregel'!B35,\" \"))","v":" "},{"$f":"IF(AND(ISBLANK('beoordeling maatregel'!L35)=FALSE,'beoordeling maatregel'!L35>0),'beoordeling maatregel'!L35,\" \")","v":" "}," ",{"$f":"IF(AND(ISBLANK('beoordeling maatregel'!N35)=FALSE,'beoordeling maatregel'!N35>0),IF('beoordeling maatregel'!U35>0,'beoordeling maatregel'!U35,\" \"))","v":" "}," "]
[null,{"$f":"IF(AND('beoordeling maatregel'!B36=\" \",'beoordeling maatregel'!B35<>\" \"),+C$1,IF(ISBLANK('beoordeling maatregel'!B36)=FALSE,'beoordeling maatregel'!B36,\" \"))","v":" "},{"$f":"IF(AND(ISBLANK('beoordeling maatregel'!L36)=FALSE,'beoordeling maatregel'!L36>0),'beoordeling maatregel'!L36,\" \")","v":" "}," ",{"$f":"IF(AND(ISBLANK('beoordeling maatregel'!N36)=FALSE,'beoordeling maatregel'!N36>0),IF('beoordeling maatregel'!U36>0,'beoordeling maatregel'!U36,\" \"))","v":" "}," "]
[null,{"$f":"IF(AND('beoordeling maatregel'!B37=\" \",'beoordeling maatregel'!B36<>\" \"),+C$1,IF(ISBLANK('beoordeling maatregel'!B37)=FALSE,'beoordeling maatregel'!B37,\" \"))","v":" "},{"$f":"IF(AND(ISBLANK('beoordeling maatregel'!L37)=FALSE,'beoordeling maatregel'!L37>0),'beoordeling maatregel'!L37,\" \")","v":" "}," ",{"$f":"IF(AND(ISBLANK('beoordeling maatregel'!N37)=FALSE,'beoordeling maatregel'!N37>0),IF('beoordeling maatregel'!U37>0,'beoordeling maatregel'!U37,\" \"))","v":" "}," "]
[null,{"$f":"IF(AND('beoordeling maatregel'!B38=\" \",'beoordeling maatregel'!B37<>\" \"),+C$1,IF(ISBLANK('beoordeling maatregel'!B38)=FALSE,'beoordeling maatregel'!B38,\" \"))","v":" "},{"$f":"IF(AND(ISBLANK('beoordeling maatregel'!L38)=FALSE,'beoordeling maatregel'!L38>0),'beoordeling maatregel'!L38,\" \")","v":" "}," ",{"$f":"IF(AND(ISBLANK('beoordeling maatregel'!N38)=FALSE,'beoordeling maatregel'!N38>0),IF('beoordeling maatregel'!U38>0,'beoordeling maatregel'!U38,\" \"))","v":" "}," "]
[null,{"$f":"IF(AND('beoordeling maatregel'!B39=\" \",'beoordeling maatregel'!B38<>\" \"),+C$1,IF(ISBLANK('beoordeling maatregel'!B39)=FALSE,'beoordeling maatregel'!B39,\" \"))","v":" "},{"$f":"IF(AND(ISBLANK('beoordeling maatregel'!L39)=FALSE,'beoordeling maatregel'!L39>0),'beoordeling maatregel'!L39,\" \")","v":" "}," ",{"$f":"IF(AND(ISBLANK('beoordeling maatregel'!N39)=FALSE,'beoordeling maatregel'!N39>0),IF('beoordeling maatregel'!U39>0,'beoordeling maatregel'!U39,\" \"))","v":" "}," "]
[null,{"$f":"IF(AND('beoordeling maatregel'!B40=\" \",'beoordeling maatregel'!B39<>\" \"),+C$1,IF(ISBLANK('beoordeling maatregel'!B40)=FALSE,'beoordeling maatregel'!B40,\" \"))","v":" "},{"$f":"IF(AND(ISBLANK('beoordeling maatregel'!L40)=FALSE,'beoordeling maatregel'!L40>0),'beoordeling maatregel'!L40,\" \")","v":" "}," ",{"$f":"IF(AND(ISBLANK('beoordeling maatregel'!N40)=FALSE,'beoordeling maatregel'!N40>0),IF('beoordeling maatregel'!U40>0,'beoordeling maatregel'!U40,\" \"))","v":" "}," "]
[null,{"$f":"IF(AND('beoordeling maatregel'!B41=\" \",'beoordeling maatregel'!B40<>\" \"),+C$1,IF(ISBLANK('beoordeling maatregel'!B41)=FALSE,'beoordeling maatregel'!B41,\" \"))","v":" "},{"$f":"IF(AND(ISBLANK('beoordeling maatregel'!L41)=FALSE,'beoordeling maatregel'!L41>0),'beoordeling maatregel'!L41,\" \")","v":" "}," ",{"$f":"IF(AND(ISBLANK('beoordeling maatregel'!N41)=FALSE,'beoordeling maatregel'!N41>0),IF('beoordeling maatregel'!U41>0,'beoordeling maatregel'!U41,\" \"))","v":" "}," "]
[null,{"$f":"IF(AND('beoordeling maatregel'!B42=\" \",'beoordeling maatregel'!B41<>\" \"),+C$1,IF(ISBLANK('beoordeling maatregel'!B42)=FALSE,'beoordeling maatregel'!B42,\" \"))","v":" "},{"$f":"IF(AND(ISBLANK('beoordeling maatregel'!L42)=FALSE,'beoordeling maatregel'!L42>0),'beoordeling maatregel'!L42,\" \")","v":" "}," ",{"$f":"IF(AND(ISBLANK('beoordeling maatregel'!N42)=FALSE,'beoordeling maatregel'!N42>0),IF('beoordeling maatregel'!U42>0,'beoordeling maatregel'!U42,\" \"))","v":" "}," "]
[null,{"$f":"IF(AND('beoordeling maatregel'!B43=\" \",'beoordeling maatregel'!B42<>\" \"),+C$1,IF(ISBLANK('beoordeling maatregel'!B43)=FALSE,'beoordeling maatregel'!B43,\" \"))","v":" "},{"$f":"IF(AND(ISBLANK('beoordeling maatregel'!L43)=FALSE,'beoordeling maatregel'!L43>0),'beoordeling maatregel'!L43,\" \")","v":" "}," ",{"$f":"IF(AND(ISBLANK('beoordeling maatregel'!N43)=FALSE,'beoordeling maatregel'!N43>0),IF('beoordeling maatregel'!U43>0,'beoordeling maatregel'!U43,\" \"))","v":" "}," "]
[null,{"$f":"IF(AND('beoordeling maatregel'!B44=\" \",'beoordeling maatregel'!B43<>\" \"),+C$1,IF(ISBLANK('beoordeling maatregel'!B44)=FALSE,'beoordeling maatregel'!B44,\" \"))","v":" "},{"$f":"IF(AND(ISBLANK('beoordeling maatregel'!L44)=FALSE,'beoordeling maatregel'!L44>0),'beoordeling maatregel'!L44,\" \")","v":" "}," ",{"$f":"IF(AND(ISBLANK('beoordeling maatregel'!N44)=FALSE,'beoordeling maatregel'!N44>0),IF('beoordeling maatregel'!U44>0,'beoordeling maatregel'!U44,\" \"))","v":" "}," "]
[null,{"$f":"IF(AND('beoordeling maatregel'!B45=\" \",'beoordeling maatregel'!B44<>\" \"),+C$1,IF(ISBLANK('beoordeling maatregel'!B45)=FALSE,'beoordeling maatregel'!B45,\" \"))","v":" "},{"$f":"IF(AND(ISBLANK('beoordeling maatregel'!L45)=FALSE,'beoordeling maatregel'!L45>0),'beoordeling maatregel'!L45,\" \")","v":" "}," ",{"$f":"IF(AND(ISBLANK('beoordeling maatregel'!N45)=FALSE,'beoordeling maatregel'!N45>0),IF('beoordeling maatregel'!U45>0,'beoordeling maatregel'!U45,\" \"))","v":" "}," "]
[null,{"$f":"IF(AND('beoordeling maatregel'!B46=\" \",'beoordeling maatregel'!B45<>\" \"),+C$1,IF(ISBLANK('beoordeling maatregel'!B46)=FALSE,'beoordeling maatregel'!B46,\" \"))","v":" "},{"$f":"IF(AND(ISBLANK('beoordeling maatregel'!L46)=FALSE,'beoordeling maatregel'!L46>0),'beoordeling maatregel'!L46,\" \")","v":" "}," ",{"$f":"IF(AND(ISBLANK('beoordeling maatregel'!N46)=FALSE,'beoordeling maatregel'!N46>0),IF('beoordeling maatregel'!U46>0,'beoordeling maatregel'!U46,\" \"))","v":" "}," "]
[null,{"$f":"IF(AND('beoordeling maatregel'!B47=\" \",'beoordeling maatregel'!B46<>\" \"),+C$1,IF(ISBLANK('beoordeling maatregel'!B47)=FALSE,'beoordeling maatregel'!B47,\" \"))","v":" "},{"$f":"IF(AND(ISBLANK('beoordeling maatregel'!L47)=FALSE,'beoordeling maatregel'!L47>0),'beoordeling maatregel'!L47,\" \")","v":" "}," ",{"$f":"IF(AND(ISBLANK('beoordeling maatregel'!N47)=FALSE,'beoordeling maatregel'!N47>0),IF('beoordeling maatregel'!U47>0,'beoordeling maatregel'!U47,\" \"))","v":" "}," "]
[null,{"$f":"IF(AND('beoordeling maatregel'!B48=\" \",'beoordeling maatregel'!B47<>\" \"),+C$1,IF(ISBLANK('beoordeling maatregel'!B48)=FALSE,'beoordeling maatregel'!B48,\" \"))","v":" "},{"$f":"IF(AND(ISBLANK('beoordeling maatregel'!L48)=FALSE,'beoordeling maatregel'!L48>0),'beoordeling maatregel'!L48,\" \")","v":" "}," ",{"$f":"IF(AND(ISBLANK('beoordeling maatregel'!N48)=FALSE,'beoordeling maatregel'!N48>0),IF('beoordeling maatregel'!U48>0,'beoordeling maatregel'!U48,\" \"))","v":" "}," "]
[null,{"$f":"IF(AND('beoordeling maatregel'!B49=\" \",'beoordeling maatregel'!B48<>\" \"),+C$1,IF(ISBLANK('beoordeling maatregel'!B49)=FALSE,'beoordeling maatregel'!B49,\" \"))","v":" "},{"$f":"IF(AND(ISBLANK('beoordeling maatregel'!L49)=FALSE,'beoordeling maatregel'!L49>0),'beoordeling maatregel'!L49,\" \")","v":" "}," ",{"$f":"IF(AND(ISBLANK('beoordeling maatregel'!N49)=FALSE,'beoordeling maatregel'!N49>0),IF('beoordeling maatregel'!U49>0,'beoordeling maatregel'!U49,\" \"))","v":" "}," "]
[null,{"$f":"IF(AND('beoordeling maatregel'!B50=\" \",'beoordeling maatregel'!B49<>\" \"),+C$1,IF(ISBLANK('beoordeling maatregel'!B50)=FALSE,'beoordeling maatregel'!B50,\" \"))","v":" "},{"$f":"IF(AND(ISBLANK('beoordeling maatregel'!L50)=FALSE,'beoordeling maatregel'!L50>0),'beoordeling maatregel'!L50,\" \")","v":" "}," ",{"$f":"IF(AND(ISBLANK('beoordeling maatregel'!N50)=FALSE,'beoordeling maatregel'!N50>0),IF('beoordeling maatregel'!U50>0,'beoordeling maatregel'!U50,\" \"))","v":" "}," "]
[null,{"$f":"IF(AND('beoordeling maatregel'!B51=\" \",'beoordeling maatregel'!B50<>\" \"),+C$1,IF(ISBLANK('beoordeling maatregel'!B51)=FALSE,'beoordeling maatregel'!B51,\" \"))","v":" "},{"$f":"IF(AND(ISBLANK('beoordeling maatregel'!L51)=FALSE,'beoordeling maatregel'!L51>0),'beoordeling maatregel'!L51,\" \")","v":" "}," ",{"$f":"IF(AND(ISBLANK('beoordeling maatregel'!N51)=FALSE,'beoordeling maatregel'!N51>0),IF('beoordeling maatregel'!U51>0,'beoordeling maatregel'!U51,\" \"))","v":" "}," "]
[null,{"$f":"IF(AND('beoordeling maatregel'!B52=\" \",'beoordeling maatregel'!B51<>\" \"),+C$1,IF(ISBLANK('beoordeling maatregel'!B52)=FALSE,'beoordeling maatregel'!B52,\" \"))","v":" "},{"$f":"IF(AND(ISBLANK('beoordeling maatregel'!L52)=FALSE,'beoordeling maatregel'!L52>0),'beoordeling maatregel'!L52,\" \")","v":" "}," ",{"$f":"IF(AND(ISBLANK('beoordeling maatregel'!N52)=FALSE,'beoordeling maatregel'!N52>0),IF('beoordeling maatregel'!U52>0,'beoordeling maatregel'!U52,\" \"))","v":" "}," "]
[null,{"$f":"IF(AND('beoordeling maatregel'!B53=\" \",'beoordeling maatregel'!B52<>\" \"),+C$1,IF(ISBLANK('beoordeling maatregel'!B53)=FALSE,'beoordeling maatregel'!B53,\" \"))","v":" "},{"$f":"IF(AND(ISBLANK('beoordeling maatregel'!L53)=FALSE,'beoordeling maatregel'!L53>0),'beoordeling maatregel'!L53,\" \")","v":" "}," ",{"$f":"IF(AND(ISBLANK('beoordeling maatregel'!N53)=FALSE,'beoordeling maatregel'!N53>0),IF('beoordeling maatregel'!U53>0,'beoordeling maatregel'!U53,\" \"))","v":" "}," "]
[null,{"$f":"IF(AND('beoordeling maatregel'!B54=\" \",'beoordeling maatregel'!B53<>\" \"),+C$1,IF(ISBLANK('beoordeling maatregel'!B54)=FALSE,'beoordeling maatregel'!B54,\" \"))","v":" "},{"$f":"IF(AND(ISBLANK('beoordeling maatregel'!L54)=FALSE,'beoordeling maatregel'!L54>0),'beoordeling maatregel'!L54,\" \")","v":" "}," ",{"$f":"IF(AND(ISBLANK('beoordeling maatregel'!N54)=FALSE,'beoordeling maatregel'!N54>0),IF('beoordeling maatregel'!U54>0,'beoordeling maatregel'!U54,\" \"))","v":" "}," "]
[null,{"$f":"IF(AND('beoordeling maatregel'!B55=\" \",'beoordeling maatregel'!B54<>\" \"),+C$1,IF(ISBLANK('beoordeling maatregel'!B55)=FALSE,'beoordeling maatregel'!B55,\" \"))","v":" "},{"$f":"IF(AND(ISBLANK('beoordeling maatregel'!L55)=FALSE,'beoordeling maatregel'!L55>0),'beoordeling maatregel'!L55,\" \")","v":" "}," ",{"$f":"IF(AND(ISBLANK('beoordeling maatregel'!N55)=FALSE,'beoordeling maatregel'!N55>0),IF('beoordeling maatregel'!U55>0,'beoordeling maatregel'!U55,\" \"))","v":" "}," "]
[null,{"$f":"IF(AND('beoordeling maatregel'!B56=\" \",'beoordeling maatregel'!B55<>\" \"),+C$1,IF(ISBLANK('beoordeling maatregel'!B56)=FALSE,'beoordeling maatregel'!B56,\" \"))","v":" "},{"$f":"IF(AND(ISBLANK('beoordeling maatregel'!L56)=FALSE,'beoordeling maatregel'!L56>0),'beoordeling maatregel'!L56,\" \")","v":" "}," ",{"$f":"IF(AND(ISBLANK('beoordeling maatregel'!N56)=FALSE,'beoordeling maatregel'!N56>0),IF('beoordeling maatregel'!U56>0,'beoordeling maatregel'!U56,\" \"))","v":" "}," "]
[null,{"$f":"IF(AND('beoordeling maatregel'!B57=\" \",'beoordeling maatregel'!B56<>\" \"),+C$1,IF(ISBLANK('beoordeling maatregel'!B57)=FALSE,'beoordeling maatregel'!B57,\" \"))","v":" "},{"$f":"IF(AND(ISBLANK('beoordeling maatregel'!L57)=FALSE,'beoordeling maatregel'!L57>0),'beoordeling maatregel'!L57,\" \")","v":" "}," ",{"$f":"IF(AND(ISBLANK('beoordeling maatregel'!N57)=FALSE,'beoordeling maatregel'!N57>0),IF('beoordeling maatregel'!U57>0,'beoordeling maatregel'!U57,\" \"))","v":" "}," "]
[null,{"$f":"IF(AND('beoordeling maatregel'!B58=\" \",'beoordeling maatregel'!B57<>\" \"),+C$1,IF(ISBLANK('beoordeling maatregel'!B58)=FALSE,'beoordeling maatregel'!B58,\" \"))","v":" "},{"$f":"IF(AND(ISBLANK('beoordeling maatregel'!L58)=FALSE,'beoordeling maatregel'!L58>0),'beoordeling maatregel'!L58,\" \")","v":" "}," ",{"$f":"IF(AND(ISBLANK('beoordeling maatregel'!N58)=FALSE,'beoordeling maatregel'!N58>0),IF('beoordeling maatregel'!U58>0,'beoordeling maatregel'!U58,\" \"))","v":" "}," "]
[null,{"$f":"IF(AND('beoordeling maatregel'!B59=\" \",'beoordeling maatregel'!B58<>\" \"),+C$1,IF(ISBLANK('beoordeling maatregel'!B59)=FALSE,'beoordeling maatregel'!B59,\" \"))","v":" "},{"$f":"IF(AND(ISBLANK('beoordeling maatregel'!L59)=FALSE,'beoordeling maatregel'!L59>0),'beoordeling maatregel'!L59,\" \")","v":" "}," ",{"$f":"IF(AND(ISBLANK('beoordeling maatregel'!N59)=FALSE,'beoordeling maatregel'!N59>0),IF('beoordeling maatregel'!U59>0,'beoordeling maatregel'!U59,\" \"))","v":" "}," "]
[null,{"$f":"IF(AND('beoordeling maatregel'!B60=\" \",'beoordeling maatregel'!B59<>\" \"),+C$1,IF(ISBLANK('beoordeling maatregel'!B60)=FALSE,'beoordeling maatregel'!B60,\" \"))","v":" "},{"$f":"IF(AND(ISBLANK('beoordeling maatregel'!L60)=FALSE,'beoordeling maatregel'!L60>0),'beoordeling maatregel'!L60,\" \")","v":" "}," ",{"$f":"IF(AND(ISBLANK('beoordeling maatregel'!N60)=FALSE,'beoordeling maatregel'!N60>0),IF('beoordeling maatregel'!U60>0,'beoordeling maatregel'!U60,\" \"))","v":" "}," "]
[null,{"$f":"IF(AND('beoordeling maatregel'!B61=\" \",'beoordeling maatregel'!B60<>\" \"),+C$1,IF(ISBLANK('beoordeling maatregel'!B61)=FALSE,'beoordeling maatregel'!B61,\" \"))","v":" "},{"$f":"IF(AND(ISBLANK('beoordeling maatregel'!L61)=FALSE,'beoordeling maatregel'!L61>0),'beoordeling maatregel'!L61,\" \")","v":" "}," ",{"$f":"IF(AND(ISBLANK('beoordeling maatregel'!N61)=FALSE,'beoordeling maatregel'!N61>0),IF('beoordeling maatregel'!U61>0,'beoordeling maatregel'!U61,\" \"))","v":" "}," "]
[null,{"$f":"IF(AND('beoordeling maatregel'!B62=\" \",'beoordeling maatregel'!B61<>\" \"),+C$1,IF(ISBLANK('beoordeling maatregel'!B62)=FALSE,'beoordeling maatregel'!B62,\" \"))","v":" "},{"$f":"IF(AND(ISBLANK('beoordeling maatregel'!L62)=FALSE,'beoordeling maatregel'!L62>0),'beoordeling maatregel'!L62,\" \")","v":" "}," ",{"$f":"IF(AND(ISBLANK('beoordeling maatregel'!N62)=FALSE,'beoordeling maatregel'!N62>0),IF('beoordeling maatregel'!U62>0,'beoordeling maatregel'!U62,\" \"))","v":" "}," "]
[null,{"$f":"IF(AND('beoordeling maatregel'!B63=\" \",'beoordeling maatregel'!B62<>\" \"),+C$1,IF(ISBLANK('beoordeling maatregel'!B63)=FALSE,'beoordeling maatregel'!B63,\" \"))","v":" "},{"$f":"IF(AND(ISBLANK('beoordeling maatregel'!L63)=FALSE,'beoordeling maatregel'!L63>0),'beoordeling maatregel'!L63,\" \")","v":" "}," ",{"$f":"IF(AND(ISBLANK('beoordeling maatregel'!N63)=FALSE,'beoordeling maatregel'!N63>0),IF('beoordeling maatregel'!U63>0,'beoordeling maatregel'!U63,\" \"))","v":" "}," "]
[null,{"$f":"IF(AND('beoordeling maatregel'!B64=\" \",'beoordeling maatregel'!B63<>\" \"),+C$1,IF(ISBLANK('beoordeling maatregel'!B64)=FALSE,'beoordeling maatregel'!B64,\" \"))","v":" "},{"$f":"IF(AND(ISBLANK('beoordeling maatregel'!L64)=FALSE,'beoordeling maatregel'!L64>0),'beoordeling maatregel'!L64,\" \")","v":" "}," ",{"$f":"IF(AND(ISBLANK('beoordeling maatregel'!N64)=FALSE,'beoordeling maatregel'!N64>0),IF('beoordeling maatregel'!U64>0,'beoordeling maatregel'!U64,\" \"))","v":" "}," "]
[null,{"$f":"IF(AND('beoordeling maatregel'!B65=\" \",'beoordeling maatregel'!B64<>\" \"),+C$1,IF(ISBLANK('beoordeling maatregel'!B65)=FALSE,'beoordeling maatregel'!B65,\" \"))","v":" "},{"$f":"IF(AND(ISBLANK('beoordeling maatregel'!L65)=FALSE,'beoordeling maatregel'!L65>0),'beoordeling maatregel'!L65,\" \")","v":" "}," ",{"$f":"IF(AND(ISBLANK('beoordeling maatregel'!N65)=FALSE,'beoordeling maatregel'!N65>0),IF('beoordeling maatregel'!U65>0,'beoordeling maatregel'!U65,\" \"))","v":" "}," "]
[null,{"$f":"IF(AND('beoordeling maatregel'!B66=\" \",'beoordeling maatregel'!B65<>\" \"),+C$1,IF(ISBLANK('beoordeling maatregel'!B66)=FALSE,'beoordeling maatregel'!B66,\" \"))","v":" "},{"$f":"IF(AND(ISBLANK('beoordeling maatregel'!L66)=FALSE,'beoordeling maatregel'!L66>0),'beoordeling maatregel'!L66,\" \")","v":" "}," ",{"$f":"IF(AND(ISBLANK('beoordeling maatregel'!N66)=FALSE,'beoordeling maatregel'!N66>0),IF('beoordeling maatregel'!U66>0,'beoordeling maatregel'!U66,\" \"))","v":" "}," "]
[null,{"$f":"IF(AND('beoordeling maatregel'!B67=\" \",'beoordeling maatregel'!B66<>\" \"),+C$1,IF(ISBLANK('beoordeling maatregel'!B67)=FALSE,'beoordeling maatregel'!B67,\" \"))","v":" "},{"$f":"IF(AND(ISBLANK('beoordeling maatregel'!L67)=FALSE,'beoordeling maatregel'!L67>0),'beoordeling maatregel'!L67,\" \")","v":" "}," ",{"$f":"IF(AND(ISBLANK('beoordeling maatregel'!N67)=FALSE,'beoordeling maatregel'!N67>0),IF('beoordeling maatregel'!U67>0,'beoordeling maatregel'!U67,\" \"))","v":" "}," "]

{"sheet":"indicatie kosten AK","index":14,"n_rows":33,"n_cols":21,"rows_kept":33,"cut":false,"hidden":true,"merged":[[14,1,16,5],[18,1,19,5],[17,1,17,2],[21,1,22,5],[1,16,1,19],[14,11,15,13],[11,17,12,17],[11,18,12,18],[11,19,12,19]]}
[null,null,null,null,null,null,null,null,null,null,null,"KOSTEN TOEPASSING AKTIEF KOOL"]
[null,null,"Bedrijf:","Lozingswijze:","Ontvangende water:",null,null,null,null,null,null,"SPECIFIEK VOOR PFAS VERWIJDERING",null,null,null,null,"mogelijke  maatregelen voor zuivering rwzi effluent"]
[null,null,{"$f":"+'resultaten immissietoets'!C3:H3","v":0},{"$f":"+'beschrijving lozing'!I13","v":0},"kanaal",null,null,"kanaal",null,null,null,"Bron: Expertisecentrum PFAS/witteveeen & Bos"]
[null,null,"in rede' te verlangen kosten o.b.v. alle stoffen [€/j]","in rede' te verlangen kosten o.b.v. ZZS [€/j]","in rede' te verlangen kosten o.b.v. PFAS [€/j]",null,null,"haven",null,null,null,null,null,null,null,null,null,"OZON","poeder actief kool (PAK/PACAS)","Granulair actiefkool (GAK)"]
[null,"inspanning",null,null,null,null,null,"rivier",null,null,null,"Inv-0","debiet",null,null,null,"kosten [€/j]",{"$f":"8760*3600*'resultaten immissietoets'!$H16*0.09","v":0},{"$f":"8760*3600*'resultaten immissietoets'!$H16*0.06","v":0},{"$f":"8760*3600*'resultaten immissietoets'!$H16*0.26","v":0}]
[null,"BBT",{"$f":"+'resultaten immissietoets'!CB28","v":0},{"$f":"+'resultaten immissietoets'!CD28","v":0},{"$f":"+'resultaten immissietoets'!CF28","v":0},null,null,"getijdenrivier",null,null,null,{"$f":"615000","v":615000},140000,null,null,null,"verwijderingsrendement [%]","80-85","70-75","80-85"]
[null,"BBT+",{"$f":"+'beoordeling maatregel'!AI27","v":0},{"$f":"+'beoordeling maatregel'!AJ27","v":0},{"$f":"+'beoordeling maatregel'!AK27","v":0},null,null,"zee/kustwater",null,null,null,null,null,null,null,null,"bepalende procesparameter","0,7 g-O3/ g-DOC","15 mg PAK/l","standtijd GAK 3-4 mnd."]
[null,"totaal (BBT + BBT+)",{"$f":"C6+C7","v":0},null,null,null,null,"meer",null,null,null,"I-actueel",null,200000]
[null,null,null,null,null,null,null,null,null,null,null,{"$f":"(C10/M6)^0.7*L6","v":0},null,{"$f":"(N8/M6)^0.7","v":1.2836049168437711}]
[null,"lozingsdebiet [m3/j]: ",{"$f":"+'resultaten immissietoets'!H16*8760*3600","v":0}]
[null,null,null,null,null,null,null,null,null,null,null,"jaarlijkse kosten",null,null,null,null,"oordeel",{"$f":"IF(R5<($C7+$C6),\"kosteneffectief\",\"niet kosteneffectief\")","v":"niet kosteneffectief"},{"$f":"IF(S5<($C7+$C6),\"kosteneffectief\",\"niet kosteneffectief\")","v":"niet kosteneffectief"},{"$f":"IF(T5<($C7+$C6),\"kosteneffectief\",\"niet kosteneffectief\")","v":"niet kosteneffectief"}]
[null,"verdunning rand MKE-mengzone:",{"$f":"+'resultaten immissietoets'!J22","v":0},"90-perc. Lage afvoer [m3/s]",{"$f":"+'resultaten immissietoets'!H14","v":0},null,null,null,null,null,null,{"$f":"0.13*L9+120000*C10/M6","v":0},null,{"$f":"0.13*N9*L6+120000*N8/M6","v":274052.78453023091},null,null,null,{"$f":"IF(R5<=SUM($C7,$C6),\"kosten/j < in rede te verlangen kosten\",\"kosten/j > in rede te verlangen kosten\")","v":"kosten/j < in rede te verlangen kosten"},{"$f":"IF(S5<=SUM($C7,$C6),\"kosten/j < in rede te verlangen kosten\",\"kosten/j > in rede te verlangen kosten\")","v":"kosten/j < in rede te verlangen kosten"},{"$f":"IF(T5<=SUM($C7,$C6),\"kosten/j < in rede te verlangen kosten\",\"kosten/j > in rede te verlangen kosten\")","v":"kosten/j < in rede te verlangen kosten"}]
[null,"verdunning rand MAC-mengzone:",{"$f":"+'resultaten immissietoets'!J23","v":0},"gem. afvoer [m3/s]: ",{"$f":"+'resultaten immissietoets'!H15","v":0}]
[null,null,null,null,null,null,null,null,null,null,null,{"$f":"CEILING(L12,5000)","v":0}]
[null,{"$f":"CONCATENATE(\" ruwe inschatting van kosten koolfilter bij debiet van \",ROUND(C10,0),\" m3/j bedragen ca: \",ROUND(L14,0),\" euro/jaar\")","v":" ruwe inschatting van kosten koolfilter bij debiet van 0 m3/j bedragen ca: 0 euro/jaar"},null,null,null,null,null,null,null,null,null,"verwijderingdrendement 99%"]
[]
[]
[null,"Maximum in rede te verlangen kosten voor maatregelen [€/jaar]:",null,{"$f":"+'beoordeling maatregel'!AE25+C6","v":0}]
[null,{"$f":"IF(L14<C7,\" sanering moet zijn gericht op reductie van de gehele afvalwaterstroom\",IF(AND(D18>0.1*L14,'beoordeling maatregel'!AE25>0),\" onderzoek mogelijkheden tot zuivering van een gedeelte van de afvalwaterstroom of onderzoek opties naar kosten reductie op koolverbruik \",IF('beoordeling maatregel'!AE25>0,\"Actief kool lijkt geen realistische optie voor reductie afvalwaterstroom; zoek binnen bandbreedte kosten naar andere opties\",\" \")))","v":" "}]
[]
[]
[null,"LET OP! Hier gepresenteerde kosten zijn een globale indicatie van kosten; lokale condities kunnen er voor zorgen                                                                                                      dat kosten in bepaalde situaties anders uitpakken!"]
[]
[]
[]
[]
[]
[]
[null,null,null,null,null,null,null,null,null,null,null,null,null,null,null,null,null,"Eenheid","Ozon (O3)","Poeder actiefkool (PAK/PACAS)","Granulair actiefkool (GAK)"]
[null,null,null,null,null,null,null,null,null,null,null,null,null,null,null,null,"CO2 footprint","g CO2/ m3 (a)",98,122,325]
[null,null,null,null,null,null,null,null,null,null,null,null,null,null,null,null,"Kosten","€/m3 (a)",0.09,0.06,0.26]
[null,null,null,null,null,null,null,null,null,null,null,null,null,null,null,null,"Verwijdering","%(b)","80-85","70-75","80-85"]
[null,null,null,null,null,null,null,null,null,null,null,null,null,null,null,null,"Bepalende procesparameter",null,"0,7 g O3 / g DOC","15 mg PAK/l ","standtijd GAK 3-4 mnd"]

{"sheet":"UITLEG bepaling mengfactoren","index":15,"n_rows":159,"n_cols":26,"rows_kept":159,"cut":false,"hidden":false,"merged":[[121,14,123,25]]}
[]
[null,null,"BEPALING VAN DE MENGFACTOR FL AAN DE HAND VAN EEN WILLEKEURIG VOORBEELD:",null,null,null,null,null,null,null,null,null,null,null,null,null,"Het betreft een lozing op de Maas met een lozingsdebiet van 0.1 m3/s en "]
[null,null,null,null,null,null,null,null,null,null,null,null,null,null,null,null,"een effluentconcentratie van 25 ug/l"]
[]
[]
[]
[]
[]
[]
[]
[]
[null,null,null,null,null,null,null,null,null,null,null,null,null,null,null,null,"Clozing bedraagt 25 ug/l en het MKE berdraagt in dit geval  0.5 ug/l."]
[]
[]
[]
[]
[]
[]
[]
[]
[]
[]
[]
[]
[]
[]
[]
[]
[]
[]
[null,null,null,null,null,null,null,null,null,null,null,null,null,null,null,null,"De toename in concenytratie op de rand van de mengzone ∆CL bedraagt 0.343 ug/l. "]
[]
[]
[]
[]
[]
[]
[]
[]
[]
[]
[null,null,null,null,null,null,null,null,null,null,null,null,null,null,null,null,"De concentratie op de rand van de mengzone bedraagt : 0.8427 ug/l."]
[]
[]
[null,null,null,null,null,null,null,null,null,null,null,null,null,null,null,null,"Dit resulteert in een achtergrondconcentratie Ca van: 0.8427-0.3427 = 0.5 ug/l."]
[]
[]
[null,null,null,null,null,null,null,null,null,null,null,null,null,null,null,null,"De mengfactor FL wordt als volgt berekend:"]
[]
[]
[null,null,null,null,null,null,null,null,null,null,null,null,null,null,null,null,"FL = (Clozing - Ca)/∆CL",null,null,null,null,null,"(25-0.5)/0.3427 =",null,null,{"$f":"(25-0.5)/0.3427","v":71.491100087540119}]
[]
[]
[]
[null,null,"BEPALING VAN DE MENGFACTOR Fmac AAN DE HAND VAN EEN WILLEKEURIG VOORBEELD:"]
[]
[]
[]
[]
[]
[]
[]
[]
[]
[]
[]
[]
[]
[null,null,null,null,null,null,null,null,null,null,null,null,null,null,null,null,null,null,"Concentratie op de rand van de MAC-mengzone bedraagt 2.53993 ug/l."]
[]
[]
[null,null,null,null,null,null,null,null,null,null,null,null,null,null,null,null,null,null,"Ca bedraagt 0.5 ug/l"]
[]
[]
[]
[null,null,null,null,null,null,null,null,null,null,null,null,null,null,null,null,null,null,"De mengfactor Fmac bedraagt:",null,null,null,"(Cloz-Ca)/(Cmac-Ca)"]
[]
[]
[]
[null,null,null,null,null,null,null,null,null,null,null,null,null,null,null,null,null,null,"Dit resulteert in Fmac =",null,null,"(25-0.5)/(2.53993-0.5) =",null,null,null,{"$f":"(25-0.5)/(2.53993-0.5)","v":12.010216036824794}]
[]
[]
[]
[]
[]
[]
[]
[]
[]
[]
[]
[]
[]
[]
[]
[]
[]
[]
[]
[]
[]
[]
[null,null,"BEPALING VAN DE MENGFACTOR OP HET MONITORINGSPUNT (O.B.V.) VOLEDIGE MENGING"]
[]
[]
[]
[]
[]
[]
[]
[]
[]
[null,null,null,null,null,null,null,null,null,null,null,null,null,null,"De toename in concentratie op het monitoringspunt o.b.v. gemiddelde afvoer bedraagt:"]
[]
[]
[null,null,null,null,null,null,null,null,null,null,null,null,null,null,"CKRW-Ca",null,null,{"$f":"0.51108-0.5","v":1.1079999999999979E-2},null,"ug/l."]
[]
[]
[null,null,null,null,null,null,null,null,null,null,null,null,null,null,"De mengfactor bedraagt: (Cloz-Ca)/(Cmon-Ca) =",null,null,null,null,null,"(25-0.5)/(0.0111)",null,null," =",{"$f":"(25-0.5)/(0.0111)","v":2207.2072072072069}]
[]
[]
[null,null,null,null,null,null,null,null,null,null,null,null,null,null,"N.B. de menging bij het monitoringspunt wordt bepaald o.b.v. het gemiddelde afvoerdebiet"]
[]
[]
[]
[]
[]
[null,null,"BEPALING VAN DE MENGFACTOR OP DRINKWATERINNAMEPUNT (O.B.V.) VOLEDIGE MENGING"]
[]
[]
[]
[null,null,"LET OP: voor de drinkwatertoets wordt gerekend met een maatgevende lage afvoer (90-percentiel lage afvoer)."]
[]
[]
[]
[]
[]
[]
[]
[]
[]
[]
[]
[]
[]
[]
[]
[]
[]
[]
[]
[]
[]
[null,null,null,null,null,null,null,null,null,null,null,null,null,null,null,null,null,null,"∆Cinnamepunt = 0.57357 - 0.5= 0.07357 ug/l"]
[]
[null,null,null,null,null,null,null,null,null,null,null,null,null,null,null,null,null,null,"Op de rand van de mengzone is al volledige menging bereikt."]
[]
[]
[null,null,null,null,null,null,null,null,null,null,null,null,null,null,null,null,null,null,"Finname = (Cloz - Ca)/(Cinname-Ca) =",null,null,null,"(25-0.5)/(0.573573-0.5) =",null,null,{"$f":"(25-0.5)/(0.573573-0.5)","v":333.00259606105499}]

{"sheet":"ZZS-lijst","index":16,"n_rows":1464,"n_cols":17,"rows_kept":1464,"cut":false,"hidden":true,"merged":[]}
["CAS-nummer","EC-nummer","Nederlandse stofnaam","Engelse stofnaam","ZZS volgens EU gevaarsindeling","ZZS volgens REACH","ZZS volgens KRW","ZZS volgens OSPAR","ZZS volgens EU-POP Verordening","Stofklasse voor luchtemissies","Grensmassastroom","Emissiegrenswaarde","Datum toevoeging","Voetnoot","Voetnoot2","Voetnoot3","Voetnoot4"]
["119738-06-6","414-200-4","(±) tetrahydrofurfuryl-(R)-2-[4-(6-chloorchinoxalin-2-yloxy)-fenyloxy]propanoaat","(±) tetrahydrofurfuryl (R)-2-[4-(6-chloroquinoxalin-2-yloxy)phenyloxy]propionate","Ja",null,null,null,null,"MVP 1","0,15 g/uur","0,05 mg/Nm3","2013-12-02"]
["2440-02-0",null,"(1R,4S,5S)-1,2,3,4,5,7,7-heptachloorbicyclo[2.2.1]hept-2-een","(1R,4S,5S)-1,2,3,4,5,7,7-heptachlorobicyclo[2.2.1]hept-2-ene",null,null,null,"Ja",null,"MVP 1","0,15 g/uur","0,05 mg/Nm3","2013-12-02"]
["40722-80-3","429-740-6","(2-chloorethyl)(3-hydroxypropyl)ammoniumchloride","(2-chloroethyl)(3-hydroxypropyl)ammonium chloride","Ja",null,null,null,null,"MVP 1","0,15 g/uur","0,05 mg/Nm3","2013-12-02"]
["84852-39-1","284-351-7","(2-ethylhexanoato-O)(isodecanoato-O)nikkel","(2-ethylhexanoato-O)(isodecanoato-O)nickel","Ja",null,null,null,null,"MVP 1","2,5 g/uur","0,5 mg/Nm3","2013-12-02","1, 2","De getoonde waarde voor de emissiegrenswaarde wijkt af van de algemene waarde voor de MVP 1 en 2 stofklassen. De getoonde waarde geldt tot 1 januari 2025, daarna wordt de algemene waarde van kracht."]
["85508-45-8","287-470-2","(2-ethylhexanoato-O)(isononanoato-O)nikkel","(2-ethylhexanoato-O)(isononanoato-O)nickel","Ja",null,null,null,null,"MVP 1","2,5 g/uur","0,5 mg/Nm3","2013-12-02","1, 2","De getoonde waarde voor de emissiegrenswaarde wijkt af van de algemene waarde voor de MVP 1 en 2 stofklassen. De getoonde waarde geldt tot 1 januari 2025, daarna wordt de algemene waarde van kracht."]
["85135-77-9","285-698-7","(2-ethylhexanoato-O)(neodecanoato-O)nikkel","(2-ethylhexanoato-O)(neodecanoato-O)nickel","Ja",null,null,null,null,"MVP 1","2,5 g/uur","0,5 mg/Nm3","2013-12-02","1, 2","De getoonde waarde voor de emissiegrenswaarde wijkt af van de algemene waarde voor de MVP 1 en 2 stofklassen. De getoonde waarde geldt tot 1 januari 2025, daarna wordt de algemene waarde van kracht."]
["105024-66-6","405-020-7","(4-ethoxyfenyl)(3-(3-fenoxy-4-fluorfenyl)propyl)dimethylsilaan","(4-ethoxyphenyl)(3-(4-fluoro-3-phenoxyphenyl)propyl)dimethylsilane","Ja",null,null,null,null,"MVP 1","0,15 g/uur","0,05 mg/Nm3","2013-12-02"]
["108225-03-2","402-060-7","(6-(4-hydroxy-3-(2-methoxyfenylazo)-2-sulfonato-7-naftylamino)-1,3,5-triazin-2,4-diyl)bis[(amino-1-methylethyl)ammonium]-formaat","(6-(4-hydroxy-3-(2-methoxyphenylazo)-2-sulfonato-7-naphthylamino)-1,3,5-triazin-2,4-diyl)bis[(amino-1-methylethyl)ammonium] formate","Ja",null,null,null,null,"MVP 1","0,15 g/uur","0,05 mg/Nm3","2013-12-02"]
["82413-20-5","428-010-4","(E)-3-[1-[4-[2-(dimethylamino)ethoxy]fenyl]-2-fenylbut-1-enyl]fenol","(E)-3-[1-[4-[2-(dimethylamino)ethoxy]phenyl]-2-phenylbut-1-enyl]phenol","Ja",null,null,null,null,"MVP 1","0,15 g/uur","0,05 mg/Nm3","2013-12-02"]
["96-09-3","202-476-7","(epoxyethyl)benzeen","styrene oxide","Ja",null,null,null,null,"MVP 2","2,5 g/uur","1 mg/Nm3","2013-12-02"]
["84852-36-8","284-348-0","(isodecanoato-O)(isononanoato-O)nikkel","(isodecanoato-O)(isononanoato-O)nickel","Ja",null,null,null,null,"MVP 1","2,5 g/uur","0,5 mg/Nm3","2013-12-02","1, 2","De getoonde waarde voor de emissiegrenswaarde wijkt af van de algemene waarde voor de MVP 1 en 2 stofklassen. De getoonde waarde geldt tot 1 januari 2025, daarna wordt de algemene waarde van kracht."]
["85166-19-4","285-909-2","(isodecanoato-O)(isooctanoato-O)nikkel","(isodecanoato-O)(isooctanoato-O)nickel","Ja",null,null,null,null,"MVP 1","2,5 g/uur","0,5 mg/Nm3","2013-12-02","1, 2","De getoonde waarde voor de emissiegrenswaarde wijkt af van de algemene waarde voor de MVP 1 en 2 stofklassen. De getoonde waarde geldt tot 1 januari 2025, daarna wordt de algemene waarde van kracht."]
["85508-46-9","287-471-8","(isononanoato-O)(isooctanoato-O)nikkel","(isononanoato-O)(isooctanoato-O)nickel","Ja",null,null,null,null,"MVP 1","2,5 g/uur","0,5 mg/Nm3","2013-12-02","1, 2","De getoonde waarde voor de emissiegrenswaarde wijkt af van de algemene waarde voor de MVP 1 en 2 stofklassen. De getoonde waarde geldt tot 1 januari 2025, daarna wordt de algemene waarde van kracht."]
["85551-28-6","287-592-6","(isononanoato-O)(neodecanoato-O)nikkel","(isononanoato-O)(neodecanoato-O)nickel","Ja",null,null,null,null,"MVP 1","2,5 g/uur","0,5 mg/Nm3","2013-12-02","1, 2","De getoonde waarde voor de emissiegrenswaarde wijkt af van de algemene waarde voor de MVP 1 en 2 stofklassen. De getoonde waarde geldt tot 1 januari 2025, daarna wordt de algemene waarde van kracht."]
["84852-35-7","284-347-5","(isooctanoato-O)(neodecanoato-O)nikkel","(isooctanoato-O)(neodecanoato-O)nickel","Ja",null,null,null,null,"MVP 1","2,5 g/uur","0,5 mg/Nm3","2013-12-02","1, 2","De getoonde waarde voor de emissiegrenswaarde wijkt af van de algemene waarde voor de MVP 1 en 2 stofklassen. De getoonde waarde geldt tot 1 januari 2025, daarna wordt de algemene waarde van kracht."]
["118658-99-4","401-500-5","(methyleenbis(4,1-fenyleenazo(1-(3-(dimethylamino)propyl)-1,2-dihydro-6-hydroxy-4-methyl-2-oxopyridine-5,3-diyl)))-1,1'-dipyridiniumdichloridedihydrochloride","(methylenebis(4,1-phenylenazo(1-(3-(dimethylamino)propyl)-1,2-dihydro-6-hydroxy-4-methyl-2-oxopyridine-5,3-diyl)))-1,1'-dipyridinium dichloride dihydrochloride","Ja",null,null,null,null,"MVP 1","0,15 g/uur","0,05 mg/Nm3","2013-12-02"]
["59447-55-1","261-767-7","(pentabroomfenyl)methylacrylaat","(pentabromophenyl)methyl acrylate",null,null,null,"Ja",null,"MVP 1","0,15 g/uur","0,05 mg/Nm3","2013-12-02"]
["51594-55-9","424-280-2","(R)-1-chloor-2,3-epoxypropaan","R-1-chloro-2,3-epoxypropane","Ja",null,null,null,null,"MVP 2","2,5 g/uur","1 mg/Nm3","2013-12-02"]
["5543-58-8","226-908-9","(R)-3-(1-fenyl-3-oxobutyl)-4-hydroxy-2-benzopyron","(R)-4-hydroxy-3-(3-oxo-1-phenylbutyl)-2-benzopyrone","Ja",null,null,null,null,"MVP 1","0,15 g/uur","0,05 mg/Nm3","2013-12-02"]
["5543-57-7","226-907-3","(S)-3-(1-fenyl-3-oxobutyl)-4-hydroxy-2-benzopyron","(S)-4-hydroxy-3-(3-oxo-1-phenylbutyl)-2-benzopyrone","Ja",null,null,null,null,"MVP 1","0,15 g/uur","0,05 mg/Nm3","2013-12-02"]
["70987-78-9","417-210-7","(S)-oxiraanmethanol 4-methylbenzeensulfonaat","(S)-oxiranemethanol, 4-methylbenzene-sulfonate","Ja",null,null,null,null,"MVP 1","0,15 g/uur","0,05 mg/Nm3","2013-12-02"]
["65405-96-1","265-748-4","[µ-[carbonato(2-)-O:O’]] dihydroxytrinikkel","[µ-[carbonato(2-)-O:O’]] dihydroxy trinickel","Ja",null,null,null,null,"MVP 1","2,5 g/uur","0,5 mg/Nm3","2013-12-02","1, 2","De getoonde waarde voor de emissiegrenswaarde wijkt af van de algemene waarde voor de MVP 1 en 2 stofklassen. De getoonde waarde geldt tot 1 januari 2025, daarna wordt de algemene waarde van kracht."]
["2580-56-5","219-943-6","[4-[[4-anilino-1-naftyl][4-(dimethylamino)fenyl]methyleen]cyclohexa-2,5-dien-1-ylidene] dimethylammonium chloride (C.I. Basic Blue 26) [met 0,1 procent of meer Michler's keton (EC nr. 202-027-5) of Michler's base (EC No. 202-959-2)]","[4-[[4-anilino-1-naphthyl][4-(dimethylamino)phenyl]methylene]cyclohexa-2,5-dien-1-ylidene] dimethylammonium chloride (C.I. Basic Blue 26) [with >0.1% of Michler's ketone (EC No. 202-027-5) or Michler's base (EC No. 202-959-2)]",null,"Ja",null,null,null,"MVP 1","0,15 g/uur","0,05 mg/Nm3","2013-12-02"]
["12607-70-4","235-715-9","[carbonato(2-)] tetrahydroxytrinikkel","[carbonato(2-)] tetrahydroxytrinickel","Ja",null,null,null,null,"MVP 1","2,5 g/uur","0,5 mg/Nm3","2013-12-02","1, 2","De getoonde waarde voor de emissiegrenswaarde wijkt af van de algemene waarde voor de MVP 1 en 2 stofklassen. De getoonde waarde geldt tot 1 januari 2025, daarna wordt de algemene waarde van kracht."]
["69011-06-9","273-688-5","[ftalato(2-)]dioxotrilood","[phthalato(2-)]dioxotrilead",null,"Ja",null,null,null,"MVP 1","0,15 g/uur","0,05 mg/Nm3","2013-12-02",3]
["214353-17-0","433-580-2","1-(2-amino-5-chloorfenyl)-2,2,2-trifluor-1,1-ethaandiol hydrochloride [met 0,1 procent of meer 4-chlooraniline (EC-nr. 203-401-0)]","1-(2-amino-5-chlorophenyl)-2,2,2-trifluoro-1,1-ethanediol, hydrochloride, [containing ≥ 0.1 % 4-chloroaniline (EC No 203-401-0)]","Ja",null,null,null,null,"MVP 1","0,15 g/uur","0,05 mg/Nm3","2013-12-02"]
["39001-02-0",null,"1,2,3,4,6,7,8,9-octachloordibenzofuraan","1,2,3,4,6,7,8,9-octachlorodibenzofuran",null,null,"Ja",null,null,"ERS","20 mg TEQ/jaar","0,1 ng TEQ/Nm3","2015-08-24"]
["3268-87-9",null,"1,2,3,4,6,7,8,9-octachlorodibenzodioxine","1,2,3,4,6,7,8,9-octachlorodibenzodioxin",null,null,"Ja",null,null,"ERS","20 mg TEQ/jaar","0,1 ng TEQ/Nm3","2015-08-24"]
["35822-46-9",null,"1,2,3,4,6,7,8-heptachloordibenzodioxine","1,2,3,4,6,7,8-heptachlorodibenzodioxin",null,null,"Ja",null,null,"ERS","20 mg TEQ/jaar","0,1 ng TEQ/Nm3","2015-08-24"]
["67562-39-4",null,"1,2,3,4,6,7,8-heptachloordibenzofuraan","1,2,3,4,6,7,8-heptachlorodibenzofuran",null,null,"Ja",null,null,"ERS","20 mg TEQ/jaar","0,1 ng TEQ/Nm3","2015-08-24"]
["55673-89-7",null,"1,2,3,4,7,8,9-heptachloordibenzofuraan","1,2,3,4,7,8,9-heptachlorodibenzofuran",null,null,"Ja",null,null,"ERS","20 mg TEQ/jaar","0,1 ng TEQ/Nm3","2015-08-24"]
["39227-28-6",null,"1,2,3,4,7,8-hexachloordibenzodioxine","1,2,3,4,7,8-hexachlorodibenzodioxin",null,null,"Ja",null,null,"ERS","20 mg TEQ/jaar","0,1 ng TEQ/Nm3","2015-08-24"]
["70648-26-9",null,"1,2,3,4,7,8-hexachloordibenzofuraan","1,2,3,4,7,8-hexachlorodibenzofuran",null,null,"Ja",null,null,"ERS","20 mg TEQ/jaar","0,1 ng TEQ/Nm3","2015-08-24"]
["57117-44-9",null,"1,2,3,6,7,8-hexachloordibenzofuraan","1,2,3,6,7,8-hexachlorodibenzofuran",null,null,"Ja",null,null,"ERS","20 mg TEQ/jaar","0,1 ng TEQ/Nm3","2015-08-24"]
["57653-85-7",null,"1,2,3,6,7,8-hexachloordibenzo-p-dioxine","1,2,3,6,7,8-Hexachlorodibenzo-p-dioxin",null,null,"Ja",null,null,"ERS","20 mg TEQ/jaar","0,1 ng TEQ/Nm3","2015-08-24"]
["19408-74-3",null,"1,2,3,7,8,9-hexachloordibenzodioxine","1,2,3,7,8,9-hexachlorodibenzodioxin",null,null,"Ja",null,null,"ERS","20 mg TEQ/jaar","0,1 ng TEQ/Nm3","2015-08-24"]
["72918-21-9",null,"1,2,3,7,8,9-hexachloordibenzofuraan","1,2,3,7,8,9-hexachlorodibenzofuran",null,null,"Ja",null,null,"ERS","20 mg TEQ/jaar","0,1 ng TEQ/Nm3","2015-08-24"]
["40321-76-4",null,"1,2,3,7,8-pentachloordibenzodioxine","1,2,3,7,8-pentachlorodibenzodioxin",null,null,"Ja",null,null,"ERS","20 mg TEQ/jaar","0,1 ng TEQ/Nm3","2015-08-24"]
["57117-41-6",null,"1,2,3,7,8-pentachloordibenzofuraan","1,2,3,7,8-pentachlorodibenzofuran",null,null,"Ja",null,null,"ERS","20 mg TEQ/jaar","0,1 ng TEQ/Nm3","2015-08-24"]
["87-61-6","201-757-1","1,2,3-trichloorbenzeen","1,2,3-trichlorobenzene",null,null,null,"Ja",null,"MVP 2","2,5 g/uur","1 mg/Nm3","2013-12-02"]
["96-18-4","202-486-1","1,2,3-trichloorpropaan","1,2,3-trichloropropane","Ja","Ja",null,null,null,"MVP 2","2,5 g/uur","1 mg/Nm3","2013-12-02"]
["120-82-1","204-428-0","1,2,4-trichloorbenzeen","1,2,4-trichlorobenzene",null,null,null,"Ja",null,"MVP 2","2,5 g/uur","1 mg/Nm3","2013-12-02"]
["3194-55-6","247-148-4","1,2,5,6,9,10-hexabroomcyclododecaan","1,2,5,6,9,10-hexabromocyclododecane",null,"Ja","Ja","Ja",null,"MVP 1","0,15 g/uur","0,05 mg/Nm3","2013-12-02",3]
["68515-51-5","271-094-0","1,2-benzeendicarbonzuur, di-C6-10-alkyl esters","1,2-benzenedicarboxylic acid, di-C6-10-alkyl esters",null,"Ja",null,null,null,"MVP 1","0,15 g/uur","0,05 mg/Nm3","2015-08-24",4]
["71888-89-6","276-158-1","1,2-benzeendicarbonzuur, di-C6-8-vertakte alkylesters, C7-rijk","1,2-benzenedicarboxylic acid, di-C6-8-branched alkyl esters, C7-rich","Ja","Ja",null,null,null,"MVP 1","0,15 g/uur","0,05 mg/Nm3","2013-12-02"]
["84777-06-0","284-032-2","1,2-benzeendicarbonzuur, dipentylester, vertakt en lineair","1,2-benzenedicarboxylic acid, dipentylester, branched and linear","Ja","Ja",null,null,null,"MVP 1","0,15 g/uur","0,05 mg/Nm3","2013-12-02"]
["68648-93-1","272-013-1","1,2-benzeendicarbonzuur, mengsel van decyl en hexyl en octyl diesters","1,2-benzenedicarboxylic acid, mixed decyl and hexyl and octyl diesters",null,"Ja",null,null,null,"MVP 1","0,15 g/uur","0,05 mg/Nm3","2015-08-24",4]
["112-49-2","203-977-3","1,2-bis(2-methoxyethoxy)ethaan","1,2-bis(2-methoxyethoxy)ethane","Ja","Ja",null,null,null,"MVP 1","0,15 g/uur","0,05 mg/Nm3","2013-12-02"]
["96-12-8","202-479-3","1,2-dibroom-3-chloorpropaan","1,2-dibromo-3-chloropropane","Ja",null,null,null,null,"MVP 2","2,5 g/uur","1 mg/Nm3","2013-12-02"]
["106-93-4","203-444-5","1,2-dibroomethaan","1,2-dibromoethane","Ja",null,null,null,null,"MVP 2","2,5 g/uur","1 mg/Nm3","2013-12-02"]
["107-06-2","203-458-1","1,2-dichloorethaan","1,2-dichloroethane","Ja","Ja",null,null,null,"MVP 2","2,5 g/uur","1 mg/Nm3","2013-12-02"]
["78-87-5","201-152-2","1,2-dichloorpropaan","1,2-dichloropropane","Ja",null,null,null,null,"gO.2","500 g/uur","50 mg/Nm3","2017-01-04",5]
["629-14-1","211-076-1","1,2-diethoxyethaan","1,2-diethoxyethane","Ja","Ja",null,null,null,"MVP 2","2,5 g/uur","1 mg/Nm3","2013-12-02"]
["110-71-4","203-794-9","1,2-dimethoxyethaan","1,2-dimethoxyethane","Ja","Ja",null,null,null,"MVP 2","2,5 g/uur","1 mg/Nm3","2013-12-02"]
["540-73-8",null,"1,2-dimethylhydrazine","1,2-dimethylhydrazine","Ja",null,null,null,null,"MVP 2","2,5 g/uur","1 mg/Nm3","2013-12-02"]
["122-60-1","204-557-2","1,2-epoxy-3-fenoxypropaan","phenyl glycidyl ether","Ja",null,null,null,null,"MVP 1","0,15 g/uur","0,05 mg/Nm3","2013-12-02"]
["25637-99-4","221-695-9","1,3,5,7,9,11-hexabroomcyclododecaan","1,3,5,7,9,11-hexabromocyclododecane",null,"Ja","Ja","Ja",null,"MVP 1","0,15 g/uur","0,05 mg/Nm3","2013-12-02"]
["36065-30-2","252-859-8","1,3,5-tribroom-2-(2,3-dibroom-2-methylpropoxy)benzeen","1,3,5-tribromo-2-(2,3-dibromo-2-methylpropoxy)benzene",null,null,null,"Ja",null,"MVP 1","0,15 g/uur","0,05 mg/Nm3","2013-12-02"]
["108-70-3","203-608-6","1,3,5-trichloorbenzeen","1,3,5-trichlorobenzene",null,null,null,"Ja",null,"MVP 1","0,15 g/uur","0,05 mg/Nm3","2013-12-02"]
["2451-62-9","219-514-3","1,3,5-tris(oxiranylmethyl)-1,3,5-triazine-2,4,6(1H3H5H)-trion","1,3,5-tris(oxiranylmethyl)-1,3,5-triazine-2,4,6(1H,3H,5H)-trione","Ja","Ja",null,null,null,"MVP 1","0,15 g/uur","0,05 mg/Nm3","2013-12-02"]
["59653-74-6","423-400-0","1,3,5-tris-[(2S en 2R)-2,3-epoxypropyl]-1,3,5-triazine-2,4,6-(1H3H5H)-trion","1,3,5-tris-[(2S and 2R)-2,3-epoxypropyl]-1,3,5-triazine-2,4,6-(1H,3H,5H)-trione","Ja","Ja",null,null,null,"MVP 1","0,15 g/uur","0,05 mg/Nm3","2013-12-02"]
["106-99-0","203-450-8","1,3-butadieen","1,3-butadiene","Ja",null,null,null,null,"MVP 2","2,5 g/uur","1 mg/Nm3","2013-12-02"]
["96-23-1","202-491-9","1,3-dichloor-2-propanol","1,3-dichloro-2-propanol","Ja",null,null,null,null,"MVP 2","2,5 g/uur","1 mg/Nm3","2013-12-02"]
["1120-71-4","214-317-9","1,3-propaansulton","1,3-propanesultone","Ja","Ja",null,null,null,"MVP 2","2,5 g/uur","1 mg/Nm3","2013-12-02"]
["57-57-8","200-340-1","1,3-propiolacton","3-propanolide","Ja",null,null,null,null,"MVP 2","2,5 g/uur","1 mg/Nm3","2013-12-02"]
["2475-45-8","219-603-7","1,4,5,8-tetraaminoantrachinon","1,4,5,8-tetraaminoanthraquinone","Ja",null,null,null,null,"MVP 1","0,15 g/uur","0,05 mg/Nm3","2013-12-02"]
["764-41-0","212-121-8","1,4-dichloorbut-2-een","1,4-dichlorobut-2-ene","Ja",null,null,null,null,"MVP 2","2,5 g/uur","1 mg/Nm3","2013-12-02"]
["4904-61-4","225-533-8","1,5,9-cyclododecatrieen","1,5,9 cyclododecatriene",null,null,null,"Ja",null,"MVP 1","0,15 g/uur","0,05 mg/Nm3","2013-12-02"]
["68515-42-4","271-084-6","1.2-benzeendicarbonzuur, di-C7-11 vertakte en lineaire alkylesters","1,2-benzenedicarboxylic acid, di-C7-11-branched and linear alkyl esters","Ja","Ja",null,null,null,"MVP 1","0,15 g/uur","0,05 mg/Nm3","2013-12-02"]
["68515-50-4","271-093-5","1.2-benzeendicarbonzuur, dihexyl ester, vertakte en lineaire alkylesters","1,2-benzenedicarboxylic acid, dihexyl ester, branched and linear","Ja","Ja",null,null,null,"MVP 1","0,15 g/uur","0,05 mg/Nm3","2014-08-12",4]
["65277-42-1","265-667-4","1-[4-[4-[[(2SR,4RS)-2-(2,4-dichloorfenyl)-2-(imidazool-1-ylmethyl)-1,3-dioxolaan-4-yl]methoxy]fenyl]piperazine-1-yl]ethanon","ketoconazole","Ja",null,null,null,null,"MVP 1","0,15 g/uur","0,05 mg/Nm3","2013-12-02",null,"De getoonde waarde voor de emissiegrenswaarde wijkt af van de algemene waarde voor de MVP 1 en 2 stofklassen. De getoonde waarde geldt tot 1 januari 2025, daarna wordt de algemene waarde van kracht."]
["106-94-5","203-445-0","1-broompropaan","1-bromopropane","Ja","Ja",null,null,null,"MVP 2","500 g/uur","50 mg/Nm3","2013-12-02","1, 2"]
["106-89-8","203-439-8","1-chloor-2,3-epoxypropaan","epichlorhydrin","Ja",null,null,null,null,"MVP 2","2,5 g/uur","1 mg/Nm3","2013-12-02"]
["70-25-7","200-730-1","1-methyl-3-nitro-1-nitrosoguanidine","1-methyl-3-nitro-1-nitrosoguanidine","Ja",null,null,null,null,"MVP 1","0,15 g/uur","0,05 mg/Nm3","2013-12-02"]
["111-41-1","203-867-5","2-(2-aminoethylamino)ethanol","2-(2-aminoethylamino)ethanol","Ja",null,null,null,null,"MVP 1","0,15 g/uur","0,05 mg/Nm3","2013-12-02"]
["25973-55-1","247-384-8","2-(2H-benzotriazol-2-yl)-4,6-ditertpentylfenol","2-(2H-benzotriazol-2-yl)-4,6-ditertpentylphenol",null,"Ja",null,null,null,"MVP 1","0,15 g/uur","0,05 mg/Nm3","2015-01-14",4]
["36437-37-3","253-037-1","2-(2H-benzotriazool-2-yl)-4-(tert-butyl)-6-(sec-butyl)fenol","2-(2H-benzotriazol-2-yl)-4-(tert-butyl)-6-(sec-butyl)phenol",null,"Ja",null,null,null,"MVP 1","0,15 g/uur","0,05 mg/Nm3","2016-02-22",4]
["1116-54-7","214-237-4","2,2'-(nitrosoimino)bisethanol","2,2'-(nitrosoimino)bisethanol","Ja",null,null,null,null,"MVP 1","0,15 g/uur","0,05 mg/Nm3","2013-12-02"]
["446255-22-7",null,"2,2',3,3',4,5',6-heptabroomdifenylether","heptabromodiphenyl ether",null,null,null,"Ja","Ja","ERS","20 mg TEQ/jaar","0,1 ng TEQ/Nm3","2013-12-02",6]
["35065-29-3",null,"2,2',3,4,4',5,5'-heptachloorbifenyl","2,2',3,4,4',5,5'-heptachlorobiphenyl",null,null,null,null,null,"ERS","20 mg TEQ/jaar","0,1 ng TEQ/Nm3","2013-12-02",7]
["207122-16-5",null,"2,2',3,4,4',5',6-heptabroomdifenylether","heptabromodiphenyl ether",null,null,null,"Ja","Ja","ERS","20 mg TEQ/jaar","0,1 ng TEQ/Nm3","2013-12-02",6]
["35065-28-2",null,"2,2',3,4,4',5'-hexachloorbifenyl","2,2',3,4,4',5'-hexachlorobiphenyl",null,null,null,null,null,"ERS","20 mg TEQ/jaar","0,1 ng TEQ/Nm3","2013-12-02",7]
["68631-49-2",null,"2,2',4,4',5,5'-hexabroomdifenylether","hexabromodiphenyl ether",null,null,null,"Ja","Ja","ERS","20 mg TEQ/jaar","0,1 ng TEQ/Nm3","2013-12-02",6]
["35065-27-1","215-648-1","2,2',4,4',5,5'-hexachloorbifenyl","2,2',4,4',5,5'-hexachlorobiphenyl",null,null,null,null,null,"ERS","20 mg TEQ/jaar","0,1 ng TEQ/Nm3","2013-12-02",7]
["207122-15-4",null,"2,2',4,4',5,6'-hexabroomdifenylether","hexabromodiphenyl ether",null,null,null,"Ja","Ja","ERS","20 mg TEQ/jaar","0,1 ng TEQ/Nm3","2013-12-02",6]
["60348-60-9",null,"2,2',4,4',5-pentabroomdifenylether","pentabromodiphenyl ether",null,null,null,"Ja","Ja","ERS","20 mg TEQ/jaar","0,1 ng TEQ/Nm3","2013-12-02",6]
["5436-43-1",null,"2,2',4,4'-tetrabroomdifenylether","2,2',4,4'-tetrabromodiphenyl ether",null,null,null,"Ja","Ja","ERS","20 mg TEQ/jaar","0,1 ng TEQ/Nm3","2013-12-02",6]
["37680-73-2",null,"2,2',4,5,5'-pentachloorbifenyl","2,4,5,2',5'-Pentachlorobiphenyl",null,null,null,null,null,"ERS","20 mg TEQ/jaar","0,1 ng TEQ/Nm3","2013-12-02",8]
["35693-99-3",null,"2,2',5,5'-tetrachloorbifenyl","2,2',5,5'-tetrachlorobiphenyl",null,null,null,null,null,"ERS","20 mg TEQ/jaar","0,1 ng TEQ/Nm3","2013-12-02",7]
["1464-53-5","215-979-1","2,2'-bioxiraan","2,2'-bioxirane","Ja",null,null,null,null,"MVP 2","2,5 g/uur","1 mg/Nm3","2013-12-02"]
["39635-31-9",null,"2,3,3',4,4',5,5'-heptachloorbifenyl","2,3,3',4,4',5,5'-heptachlorobiphenyl",null,null,"Ja",null,null,"ERS","20 mg TEQ/jaar","0,1 ng TEQ/Nm3","2015-08-24"]
["69782-90-7",null,"2,3,3',4,4',5'-hexachloorbifenyl","2,3,3',4,4',5'-hexachlorobiphenyl",null,null,"Ja",null,null,"ERS","20 mg TEQ/jaar","0,1 ng TEQ/Nm3","2015-08-24"]
["38380-08-4",null,"2,3,3',4,4',5-hexachloorbifenyl","2,3,3',4,4',5-Hexachlorobiphenyl",null,null,"Ja",null,null,"ERS","20 mg TEQ/jaar","0,1 ng TEQ/Nm3","2015-08-24"]
["32598-14-4",null,"2,3,3',4,4'-pentachloorbifenyl","2,3,3',4,4'-pentachlorobiphenyl",null,null,"Ja",null,null,"ERS","20 mg TEQ/jaar","0,1 ng TEQ/Nm3","2015-08-24"]
["52663-72-6",null,"2,3',4,4',5,5'-hexachloorbifenyl","2,3',4,4',5,5'-hexachlorobiphenyl",null,null,"Ja",null,null,"ERS","20 mg TEQ/jaar","0,1 ng TEQ/Nm3","2015-08-24"]
["74472-37-0",null,"2,3,4,4',5-pentachloorbifenyl","2,3,4,4',5-pentachlorobiphenyl",null,null,"Ja",null,null,"ERS","20 mg TEQ/jaar","0,1 ng TEQ/Nm3","2015-08-24"]
["65510-44-3",null,"2,3',4,4',5'-pentachloorbifenyl","2,3',4,4',5'-pentachlorobiphenyl",null,null,"Ja",null,null,"ERS","20 mg TEQ/jaar","0,1 ng TEQ/Nm3","2015-08-24"]
["31508-00-6",null,"2,3',4,4',5-pentachloorbifenyl","2,3',4,4',5-pentachlorobiphenyl",null,null,"Ja",null,null,"ERS","20 mg TEQ/jaar","0,1 ng TEQ/Nm3","2015-08-24"]
["60851-34-5",null,"2,3,4,6,7,8-hexachloordibenzofuraan","2,3,4,6,7,8-hexachlorodibenzofuran",null,null,"Ja",null,null,"ERS","20 mg TEQ/jaar","0,1 ng TEQ/Nm3","2015-08-24"]
["57117-31-4",null,"2,3,4,7,8-pentachloordibenzofuraan","2,3,4,7,8-pentachlorodibenzofuran",null,null,"Ja",null,null,"ERS","20 mg TEQ/jaar","0,1 ng TEQ/Nm3","2015-08-24"]
["1746-01-6","217-122-7","2,3,7,8-tetrachloordibenzodioxine","2,3,7,8-tetrachlorodibenzo-p-dioxin",null,null,"Ja",null,null,"ERS","20 mg TEQ/jaar","0,1 ng TEQ/Nm3","2015-08-24"]
["51207-31-9",null,"2,3,7,8-tetrachloordibenzofuraan","2,3,7,8-tetrachlorodibenzofuran",null,null,"Ja",null,null,"ERS","20 mg TEQ/jaar","0,1 ng TEQ/Nm3","2015-08-24"]
["96-13-9","202-480-9","2,3-dibroompropaan-1-ol","2,3-dibromopropan-1-ol","Ja",null,null,null,null,"MVP 2","2,5 g/uur","1 mg/Nm3","2013-12-02"]
["602-01-7","210-013-5","2,3-dinitrotolueen","2,3-dinitrotoluene","Ja",null,null,null,null,"MVP 1","0,15 g/uur","0,05 mg/Nm3","2013-12-02"]
["57044-25-4","404-660-4","2,3-epoxypropaan-1-ol","R-2,3-epoxy-1-propanol","Ja",null,null,null,null,"MVP 2","2,5 g/uur","1 mg/Nm3","2013-12-02"]
["3033-77-0","221-221-0","2,3-epoxypropyl-trimethylammonium chloride","2,3-epoxypropyltrimethylammonium chloride","Ja",null,null,null,null,"MVP 1","0,15 g/uur","0,05 mg/Nm3","2013-12-02"]
["7012-37-5","230-293-2","2,4,4'-trichloorbifenyl","2,4,4'-trichlorobiphenyl",null,null,null,null,null,"ERS","20 mg TEQ/jaar","0,1 ng TEQ/Nm3","2013-12-02",7]
["137-17-7","205-282-0","2,4,5-trimethylaniline","2,4,5-trimethylaniline","Ja",null,null,null,null,"MVP 1","0,15 g/uur","0,05 mg/Nm3","2013-12-02"]
["21436-97-5",null,"2,4,5-trimethylanilinehydrochloride","2,4,5-trimethylaniline hydrochloride","Ja",null,null,null,null,"MVP 1","0,15 g/uur","0,05 mg/Nm3","2013-12-02"]
["732-26-3","211-989-5","2,4,6-tri-tert-butylfenol","2,4,6-tri-tert-butylphenol",null,null,null,"Ja",null,"MVP 1","0,15 g/uur","0,05 mg/Nm3","2013-12-02"]
["615-05-4","210-406-1","2,4-diaminoanisool","4-methoxy-m-phenylenediamine","Ja",null,null,null,null,"MVP 1","0,15 g/uur","0,05 mg/Nm3","2013-12-02"]
["39156-41-7","254-323-9","2,4-diaminoanisoolsulfaat","2,4-diaminoanisole sulphate","Ja",null,null,null,null,"MVP 1","0,15 g/uur","0,05 mg/Nm3","2013-12-02"]
["121-14-2","204-450-0","2,4-dinitrotolueen","2,4-dinitrotoluene","Ja","Ja",null,null,null,"MVP 1","0,15 g/uur","0,05 mg/Nm3","2013-12-02"]
["3864-99-1","223-383-8","2,4-di-tert-butyl-6-(5-chloorbenzotriazool-2-yl)fenol","2,4-di-tert-butyl-6-(5-chlorobenzotriazol-2-yl)phenol",null,"Ja",null,null,null,"MVP 1","0,15 g/uur","0,05 mg/Nm3","2016-02-22",4]
["619-15-8","210-581-4","2,5-dinitrotolueen","2,5-dinitrotoluene","Ja",null,null,null,null,"MVP 1","0,15 g/uur","0,05 mg/Nm3","2013-12-02"]
["606-20-2","210-106-0","2,6-dinitrotolueen","2,6-dinitrotoluene","Ja",null,null,null,null,"MVP 1","0,15 g/uur","0,05 mg/Nm3","2013-12-02",null,"De getoonde waarde voor de emissiegrenswaarde wijkt af van de algemene waarde voor de MVP 1 en 2 stofklassen. De getoonde waarde geldt tot 1 januari 2025, daarna wordt de algemene waarde van kracht."]
["72319-19-8",null,"2,7-naftaleendisulfonzuur, nikkel(II)zout","2,7-naphthalenedisulfonic acid, nickel(II) salt","Ja",null,null,null,null,"MVP 1","2,5 g/uur","0,5 mg/Nm3","2013-12-02","1, 2"]
["151798-26-4","420-580-2","2-[2-hydroxy-3-(2-chlorfenyl)carbamoyl-1-naftylazo]-7-[2-hydroxy-3-(3-methylfenyl)carbamoyl-1-naftylazo]fluoreen-9-on","2-[2-hydroxy-3-(2-chlorophenyl)carbamoyl-1-naphthylazo]-7-[2-hydroxy-3-(3-methylphenyl)carbamoyl-1-naphthylazo]fluoren-9-one","Ja",null,null,null,null,"MVP 1","0,15 g/uur","0,05 mg/Nm3","2013-12-02"]
["3846-71-7","223-346-6","2-benzotriazol-2-yl-4,6-di-tert-butylfenol","2-benzotriazol-2-yl-4,6-di-tert-butylphenol",null,"Ja",null,null,null,"MVP 1","0,15 g/uur","0,05 mg/Nm3","2015-01-14",4]
["75-26-3","200-855-1","2-broompropaan","2-bromopropane","Ja",null,null,null,null,"MVP 2","2,5 g/uur","1 mg/Nm3","2013-12-02"]
["4170-30-3","224-030-0","2-butenal","crotonaldehyde",null,null,null,null,null,"MVP 1","0,15 g/uur","0,05 mg/Nm3","2015-11-24",9]
["94723-86-1","425-150-8","2-butyryl-3-hydroxy-5-thiocyclohexaan-3-ylcyclohex-2-een-1-on","2-butyryl-3-hydroxy-5-thiocyclohexan-3-yl-cyclohex-2-en-1-one","Ja",null,null,null,null,"MVP 1","0,15 g/uur","0,05 mg/Nm3","2013-12-02"]
["2040-90-6","433-890-8","2-chloor-6-fluorfenol","2-chloro-6-fluoro-phenol","Ja",null,null,null,null,"MVP 1","0,15 g/uur","0,05 mg/Nm3","2013-12-02",null,"De getoonde waarde voor de emissiegrenswaarde wijkt af van de algemene waarde voor de MVP 1 en 2 stofklassen. De getoonde waarde geldt tot 1 januari 2025, daarna wordt de algemene waarde van kracht."]
["110-80-5","203-804-1","2-ethoxyethanol","2-ethoxyethanol","Ja","Ja",null,null,null,"MVP 2","500 g/uur","50 mg/Nm3","2013-12-02","1, 2","De getoonde waarde voor de emissiegrenswaarde wijkt af van de algemene waarde voor de MVP 1 en 2 stofklassen. De getoonde waarde geldt tot 1 januari 2025, daarna wordt de algemene waarde van kracht."]
["111-15-9","203-839-2","2-ethoxyethylacetaat","2-ethoxyethyl acetate","Ja","Ja",null,null,null,"MVP 2","500 g/uur","50 mg/Nm3","2013-12-02","1, 2","De getoonde waarde voor de emissiegrenswaarde wijkt af van de algemene waarde voor de MVP 1 en 2 stofklassen. De getoonde waarde geldt tot 1 januari 2025, daarna wordt de algemene waarde van kracht."]
["7580-31-6","231-480-1","2-ethylhexaanzuur, nikkelzout","2-ethylhexanoic acid, nickel salt","Ja",null,null,null,null,"MVP 1","2,5 g/uur","0,5 mg/Nm3","2013-12-02","1, 2","De getoonde waarde voor de emissiegrenswaarde wijkt af van de algemene waarde voor de MVP 1 en 2 stofklassen. De getoonde waarde geldt tot 1 januari 2025, daarna wordt de algemene waarde van kracht.","Deze stof staat zelf niet in bijlage 12a van de Activiteitenregeling milieubeheer maar valt onder een groepsvermelding, de getoonde stofklasse, grensmassastroom en emissiegrenswaarde zijn die van de groepsvermelding."]
["15571-58-1","239-622-4","2-ethylhexyl 10-ethyl-4,4-dioctyl-7-oxo-8-oxa-3,5-dithia-4-stannatetradecanoaat","2-ethylhexyl 10-ethyl-4,4-dioctyl-7-oxo-8-oxa-3,5-dithia-4-stannatetradecanoate","Ja",null,null,null,null,"MVP 2","100 g/uur","20 mg/Nm3","2013-12-02","1, 2, 3"]
["80387-97-9","279-452-8","2-ethylhexyl-[[[3,5-bis(1,1-dimethylethyl)-4-hydroxyfenyl]methyl]thio]acetaat","2-ethylhexyl[[[3,5-bis(1,1-dimethylethyl)-4-hydroxyphenyl]methyl]thio]acetate","Ja",null,null,null,null,"MVP 1","0,15 g/uur","0,05 mg/Nm3","2013-12-02",null,"De getoonde waarde voor de emissiegrenswaarde wijkt af van de algemene waarde voor de MVP 1 en 2 stofklassen. De getoonde waarde geldt tot 1 januari 2025, daarna wordt de algemene waarde van kracht."]
["109-86-4","203-713-7","2-methoxyethanol","ethyleenglycolmono-methylether","Ja","Ja",null,null,null,"MVP 2","100 g/uur","20 mg/Nm3","2013-12-02","1, 2","De getoonde waarde voor de emissiegrenswaarde wijkt af van de algemene waarde voor de MVP 1 en 2 stofklassen. De getoonde waarde geldt tot 1 januari 2025, daarna wordt de algemene waarde van kracht."]
["110-49-6","203-772-9","2-methoxyethylacetaat","2-methoxyethyl acetate","Ja",null,null,null,null,"MVP 2","100 g/uur","20 mg/Nm3","2013-12-02","1, 2","De getoonde waarde voor de emissiegrenswaarde wijkt af van de algemene waarde voor de MVP 1 en 2 stofklassen. De getoonde waarde geldt tot 1 januari 2025, daarna wordt de algemene waarde van kracht."]
["1589-47-5","216-455-5","2-methoxypropanol","2-methoxypropanol","Ja",null,null,null,null,"MVP 2","500 g/uur","50 mg/Nm3","2013-12-02","1, 2","De getoonde waarde voor de emissiegrenswaarde wijkt af van de algemene waarde voor de MVP 1 en 2 stofklassen. De getoonde waarde geldt tot 1 januari 2025, daarna wordt de algemene waarde van kracht.","Op de NeR stond deze stof ook vermeld onder CAS-nummer 117955-40-5"]
["70657-70-4","274-724-2","2-methoxypropylacetaat","2-methoxypropyl acetate","Ja",null,null,null,null,"MVP 2","500 g/uur","50 mg/Nm3","2013-12-02","1, 2, 10"]
["75-55-8","200-878-7","2-methylaziridine","2-methylaziridine","Ja",null,null,null,null,"MVP 2","2,5 g/uur","1 mg/Nm3","2013-12-02"]
["91-57-6","202-078-3","2-methylnaftaleen","2-methylnaphthalene",null,null,null,null,null,"MVP 1","0,15 g/uur","0,05 mg/Nm3","2016-05-27",11]
["91-59-8","202-080-4","2-naftylamine","2-naphthylamine","Ja",null,null,null,null,"MVP 1","0,15 g/uur","0,05 mg/Nm3","2013-12-02",12]
["553-00-4","209-030-0","2-naftylamine acetaat","2-naphthylamine acetate","Ja",null,null,null,null,"MVP 1","0,15 g/uur","0,05 mg/Nm3","2013-12-02",13]
["612-52-2","210-313-6","2-naftylamine hydrochloride","2-naphthylamine hydrochloride","Ja",null,null,null,null,"MVP 1","0,15 g/uur","0,05 mg/Nm3","2013-12-02",13]
["91-23-6","202-052-1","2-nitroanisool","2-nitroanisole","Ja",null,null,null,null,"MVP 1","0,15 g/uur","0,05 mg/Nm3","2013-12-02"]
["581-89-5","209-474-5","2-nitronaftaleen","2-nitronaphthalene","Ja",null,null,null,null,"MVP 1","0,15 g/uur","0,05 mg/Nm3","2013-12-02"]
["79-46-9","201-209-1","2-nitropropaan","2-nitropropane","Ja",null,null,null,null,"MVP 2","2,5 g/uur","1 mg/Nm3","2013-12-02"]
["88-72-2","201-853-3","2-nitrotolueen","2-nitrotoluene","Ja",null,null,null,null,"MVP 2","2,5 g/uur","1 mg/Nm3","2013-12-02"]
["55525-54-7","259-695-6","3,3-(ureyleendimethyleen)bis (3,5,5-trimethylcyclohexyl) diisocyanaat","3,3'-(ureylenedimethylene)bis(3,5,5-trimethylcyclohexyl) diisocyanate",null,null,null,"Ja",null,"MVP 1","0,15 g/uur","0,05 mg/Nm3","2013-12-02"]
["32774-16-6",null,"3,3',4,4',5,5'-hexachloorbifenyl","3,3',4,4',5,5'-hexachlorobiphenyl",null,null,"Ja",null,null,"ERS","20 mg TEQ/jaar","0,1 ng TEQ/Nm3","2015-08-24"]
["57465-28-8",null,"3,3',4,4',5-pentachloorbifenyl","3,3',4,4',5-pentachlorobiphenyl",null,null,"Ja",null,null,"ERS","20 mg TEQ/jaar","0,1 ng TEQ/Nm3","2015-08-24"]
["32598-13-3",null,"3,3',4,4'-tetrachloorbifenyl","3,3',4,4'-tetrachlorobiphenyl",null,null,"Ja",null,null,"ERS","20 mg TEQ/jaar","0,1 ng TEQ/Nm3","2015-08-24"]
["91-94-1","202-109-0","3,3'-dichloorbenzidine","3,3'-dichlorobenzidine","Ja",null,null,null,null,"MVP 1","0,15 g/uur","0,05 mg/Nm3","2013-12-02",14]
["119-90-4","204-355-4","3,3'-dimethoxybenzidine","3,3'-dimethoxybenzidine","Ja",null,null,null,null,"MVP 1","0,15 g/uur","0,05 mg/Nm3","2013-12-02"]
["119-93-7","204-358-0","3,3'-dimethylbenzidine","4,4'-bi-o-toluidine","Ja",null,null,null,null,"MVP 1","0,15 g/uur","0,05 mg/Nm3","2013-12-02",15]
["70362-50-4",null,"3,4,4',5-tetrachloorbifenyl","3,4,4',5-tetrachlorobiphenyl",null,null,"Ja",null,null,"ERS","20 mg TEQ/jaar","0,1 ng TEQ/Nm3","2015-08-24"]
["610-39-9","210-222-1","3,4-dinitrotolueen","3,4-dinitrotoluene","Ja",null,null,null,null,"MVP 1","0,15 g/uur","0,05 mg/Nm3","2013-12-02"]
["618-85-9","210-566-2","3,5-dinitrotolueen","3,5-dinitrotoluene","Ja",null,null,null,null,"MVP 1","0,15 g/uur","0,05 mg/Nm3","2013-12-02"]
["5146-66-7","225-918-0","3,7-dimethylocta-2,6-dieennitril","3,7-dimethylocta-2,6-dienenitrile","Ja",null,null,null,null,"MVP 1","0,15 g/uur","0,05 mg/Nm3","2017-01-04",4]
["132-32-1","205-057-7","3-amino-9-ethylcarbazool","3-amino-9-ethyl carbazole","Ja",null,null,null,null,"MVP 1","0,15 g/uur","0,05 mg/Nm3","2013-12-02"]
["143860-04-2","421-150-7","3-ethyl-2-methyl-2-(3-methylbutyl)-1,3-oxazolidine","3-ethyl-2-methyl-2-(3-methylbutyl)-1,3-oxazolidine","Ja","Ja",null,null,null,"MVP 1","0,15 g/uur","0,05 mg/Nm3","2013-12-02"]
["569-61-9","209-321-2","4,4'-(4-iminocyclohexa-2,5-dienylideenmethyleen)dianilinehydrochloride","4,4'-(4-iminocyclohexa-2,5-dienylidenemethylene)dianiline hydrochloride","Ja",null,null,null,null,"MVP 1","0,15 g/uur","0,05 mg/Nm3","2013-12-02"]
["561-41-1","209-218-2","4,4'-bis(dimethylamino)-4''-(methylamino)trityl alcohol [met 0,1 procent of meer Michler's keton (EC nr. 202-027-5) of Michler's base (EC No. 202-959-2)]","4,4'-bis(dimethylamino)-4''-(methylamino)trityl alcohol with >0.1% of Michler's ketone (EC No. 202-027-5) or Michler's base (EC No. 202-959-2)]",null,"Ja",null,null,null,"MVP 1","0,15 g/uur","0,05 mg/Nm3","2013-12-02"]
["90-94-8","202-027-5","4,4'-bis(dimethylamino)benzofenon","4,4'-bis(dimethylamino)benzophenone","Ja","Ja",null,null,null,"MVP 1","0,15 g/uur","0,05 mg/Nm3","2013-12-02"]
["6807-17-6","401-720-1","4,4-isobutylethylideendifenol","4,4-isobutylethylidenediphenol","Ja",null,null,null,null,"MVP 1","0,15 g/uur","0,05 mg/Nm3","2013-12-02"]
["101-14-4","202-918-9","4,4'-methyleenbis(2-chlooraniline)","4,4'-methylenebis[2-chloroaniline]","Ja","Ja",null,null,null,"MVP 1","0,15 g/uur","0,05 mg/Nm3","2013-12-02"]
["101-77-9","202-974-4","4,4'-methyleendianiline","4,4'-diaminodiphenylmethane","Ja","Ja",null,null,null,"MVP 1","0,15 g/uur","0,05 mg/Nm3","2013-12-02"]
["838-88-0","212-658-8","4,4'-methyleendi-o-toluïdine","4,4'-methylenedi-o-toluidine","Ja","Ja",null,null,null,"MVP 1","0,15 g/uur","0,05 mg/Nm3","2013-12-02"]
["101-80-4","202-977-0","4,4'-oxydianiline","4,4'-oxydianiline","Ja","Ja",null,null,null,"MVP 1","0,15 g/uur","0,05 mg/Nm3","2013-12-02",16]
["139-65-1","205-370-9","4,4'-thiodianiline","4,4'-thiodianiline","Ja",null,null,null,null,"MVP 1","0,15 g/uur","0,05 mg/Nm3","2013-12-02",17]
["399-95-1","402-230-0","4-amino-3-fluorfenol","4-amino-3-fluorophenol","Ja",null,null,null,null,"MVP 1","0,15 g/uur","0,05 mg/Nm3","2013-12-02"]
["60-09-3","200-453-6","4-aminoazobenzeen","4-aminoazobenzene","Ja","Ja",null,null,null,"MVP 1","0,15 g/uur","0,05 mg/Nm3","2013-12-02"]
["92-67-1","202-177-1","4-aminobifenyl","4-aminobiphenyl","Ja","Ja",null,null,null,"MVP 1","0,15 g/uur","0,05 mg/Nm3","2013-12-02"]
["106-47-8","203-401-0","4-chlooraniline","4-chloroaniline","Ja",null,null,null,null,"MVP 1","0,15 g/uur","0,05 mg/Nm3","2013-12-02"]
["95-69-2","202-441-6","4-chloor-o-toluïdine","4-chloro-o-toluidine","Ja",null,null,null,null,"MVP 1","0,15 g/uur","0,05 mg/Nm3","2013-12-02"]
["3165-93-3","221-627-8","4-chloor-o-toluidinehydrochloride","4-chloro-o-toluidine hydrochloride","Ja",null,null,null,null,"MVP 1","0,15 g/uur","0,05 mg/Nm3","2013-12-02"]
["95-80-7","202-453-1","4-methyl-m-fenyleendiamine","4-methyl-m-phenylenediamine","Ja","Ja",null,null,null,"MVP 1","0,15 g/uur","0,05 mg/Nm3","2013-12-02"]
["92-93-3","202-204-7","4-nitrobifenyl","4-nitrobiphenyl","Ja",null,null,null,null,"MVP 1","0,15 g/uur","0,05 mg/Nm3","2013-12-02"]
["84852-15-3","284-325-5","4-nonylfenol, vertakt","4-nonylphenol, branched",null,null,"Ja","Ja",null,"MVP 1","0,15 g/uur","0,05 mg/Nm3","2014-08-12"]
["98-73-7","202-696-3","4-tert-butylbenzoëzuur","4-tert-butylbenzoic acid","Ja",null,null,null,null,"MVP 1","0,15 g/uur","0,05 mg/Nm3","2013-12-02"]
["94-59-7","202-345-4","5-allyl-1,3-benzodioxool","safrole","Ja",null,null,null,null,"MVP 1","0,15 g/uur","0,05 mg/Nm3","2013-12-02"]
["602-87-9","210-025-0","5-nitroacenafteen","5-nitroacenaphthene","Ja",null,null,null,null,"MVP 1","0,15 g/uur","0,05 mg/Nm3","2013-12-02"]
[null,null,"5-sec-butyl-2-(2,4-dimethylcyclohex-3-en-1-yl)-5-methyl-1,3-dioxaan","5-sec-butyl-2-(2,4-dimethylcyclohex-3-en-1-yl)-5-methyl-1,3-dioxane",null,"Ja",null,null,null,"MVP 1","0,15 g/uur","0,05 mg/Nm3","2015-08-24",4]
[null,null,"5-sec-butyl-2-(4,6-dimethylcyclohex-3-en-1-yl)-5-methyl-1,3-dioxaan","5-sec-butyl-2-(4,6-dimethylcyclohex-3-en-1-yl)-5-methyl-1,3-dioxane",null,"Ja",null,null,null,"MVP 1","0,15 g/uur","0,05 mg/Nm3","2015-08-24",4]
["85136-74-9","400-340-3","6-hydroxy-1-(3-isopropoxypropyl)-4-methyl-2-oxo-5-[4-(fenylazo)fenylazo]-1,2-dihydro-3-pyridinecarbonitril","6-hydroxy-1-(3-isopropoxypropyl)-4-methyl-2-oxo-5-[4-(phenylazo)phenylazo]-1,2-dihydro-3-pyridinecarbonitrile","Ja",null,null,null,null,"MVP 1","0,15 g/uur","0,05 mg/Nm3","2013-12-02"]
["120-71-8","204-419-1","6-methoxy-m-toluïdine","6-methoxy-m-toluidine","Ja","Ja",null,null,null,"MVP 1","0,15 g/uur","0,05 mg/Nm3","2013-12-02"]
["194-59-2","205-895-3","7H-dibenzo[c,g]carbazool","7H-dibenzo[c,g]carbazole",null,null,null,null,null,"MVP 1","0,15 g/uur","0,05 mg/Nm3","2014-08-12",18]
["199327-61-2","429-400-7","7-methoxy-6-(3-morfoline-4-ylpropoxy)-3H-chinazoline-4-on [met 0,5 procent of meer formamide (EC-nr. 200-842-0)]","7-methoxy-6-(3-morpholin-4-yl-propoxy)-3H-quinazolin-4-one, [containing ≥ 0.5 % formamide (EC No 200-842-0) ]","Ja",null,null,null,null,"MVP 1","0,15 g/uur","0,05 mg/Nm3","2013-12-02"]
["578-95-0","209-434-7","9(10H)acridoon","9(10H)acridone",null,null,null,null,null,"MVP 1","0,15 g/uur","0,05 mg/Nm3","2016-05-27",19]
["64741-48-6","265-048-9","Aardgas (aardolie), ruw vloeibaar mengseL Een complexe verzameling koolwaterstoffen in een gasrecyclinginstallatie door processen als afkoeling en absorptie als vloeistof afgescheiden van aardgas. Bestaat hoofdzakelijk uit verzadigde alifatische koolwaterstoffen overwegend C2 tot en met C8. Nafta met laag kookpunt - niet gespecifieerd","Natural gas (petroleum), raw liq. mix, Low boiling point naphtha - unspecified [A complex combination of hydrocarbons separated as a liquid from natural gas in a gas recycling plant by processes such as refrigeration or absorption. It consists mainly of saturated aliphatic hydrocarbons having carbon numbers in the range of C2 through C8.]","Ja",null,null,null,null,null,null,null,"2013-12-02",20]
["64741-47-5","265-047-3","Aardgascondensaten (aardolie), Een complexe verzameling koolwaterstoffen in een oppervlakteseparator door middel van retrograde condensatie als vloeistof afgescheiden van aardgas. Bestaat voornamelijk uit koolwaterstoffen overwegend C2 tot C20. Vloeibaar bij atmosferische temperatuur en druk. Nafta met laag kookpunt - niet gespecifieerd","Natural gas condensates (petroleum), Low boiling point naphtha - unspecified [A complex combination of hydrocarbons separated as a liquid from natural gas in a surface separator by retrograde condensation. It consists mainly of hydrocarbons having carbon numbers predominantly in the range of C2 to C20. It is a liquid at atmospheric temperature and pressure.]","Ja",null,null,null,null,null,null,null,"2013-12-02",20]
["68919-39-1","272-896-3","Aardgascondensaten Een complexe verzameling koolwaterstoffen afgescheiden en/of gecondenseerd uit aardgas tijdens het vervoer en verzameld bij de putmond en/of uit de productie-, verzamel-, transport- en distributiepijpleidingen in putten gaswassers, enz. Bestaat voornamelijk uit koolwaterstoffen overwegend C2 tot en met C8. Nafta met laag kookpunt - niet gespecifieerd","Natural gas condensates, Low boiling point naphtha - unspecified [A complex combination of hydrocarbons separated and/or condensed from natural gas during transportation and collected at the wellhead and/or from the production, gathering, transmission, and distribution pipelines in deeps, scrubbers, etc. It consists predominantly of hydrocarbons having carbon numbers predominantly in the range of C2 through C8.]","Ja",null,null,null,null,null,null,null,"2013-12-02",20]
["92045-80-2","295-463-0","Aardoliegassen vloeibaar gemaakt, stankvrij gemaakt, C4-fractie, Een complexe verzameling koolwaterstoffen die wordt verkregen door het stankvrij maken van een vloeibaar gemaakt aardolie-gasmengseL om mercaptanen te oxideren of om zure verontreinigingen te verwijderen. Bestaat voornamelijk uit C4-verzadigde en onverzadigde koolwaterstoffen. Petroleumgas","Petroleum gases, liquefied, sweetened, C4 fraction, Petroleum gas [A complex combination of hydrocarbons obtained by subjecting a liquified petroleum gas mix to a sweetening process to oxidize mercaptans or to remove acidic impurities. It consists predominantly of C4 saturated and unsaturated hydrocarbons.]","Ja",null,null,null,null,null,null,null,"2013-12-02",20]
["68514-79-4","271-058-4","Aardolieproducten hydrofiner-powerformer-reformaten De complexe verzameling koolwaterstoffen verkregen door een hydrofiner-powerformer-proces, met een kooktraject van ongeveer 27°C tot 210°C. Katalytisch gereformde nafta met laag kookpunt","Petroleum products, hydrofiner-powerformer reformates, Low boiling point cat-reformed naphtha [The complex combination of hydrocarbons obtained in a hydrofiner-powerformer process and boiling in a range of approximately 27°C to 210°C (80°F to 410°F).]","Ja",null,null,null,null,null,null,null,"2013-12-02",20,"Deze stof staat zelf niet in bijlage 12a van de Activiteitenregeling milieubeheer maar valt onder de groepsvermelding voor PAKs, de getoonde stofklasse is die van de groepsvermelding. De weergegeven grensmassastroom en emissiegrenswaarde zijn een voorstel op basis van de voormalige indeling als sO. De getoonde grenswaarden waarden zullen waarschijnlijk tot 1 januari 2025 gelden, daarna worden de algemene waarden van kracht.","Voor deze stof geldt: a) Alle bronnen in de inrichting mogen afzonderlijk ten hoogste 5 mg/Nm3 emitteren, indien de massastroom van een stof of de som van de onder normale procesomstandigheden gedurende één uur optredende massastromen van stoffen binnen deze stofklasse vanuit al die puntbronnen, groter of gelijk is aan 200 gram per uur. Indien voor een bron geen filtrerende afscheider kan worden toegepast, emitteert deze bron afzonderlijk niet meer dan 20 milligram per normaal kubieke meter; of b) Alle bronnen in de inrichting mogen afzonderlijk ten hoogste 20 mg/Nm3emitteren, indien de massastroom van een stof of de som van de onder normale procesomstandigheden gedurende één uur optredende massastromen van stoffen binnen deze stofklasse vanuit al die puntbronnen, kleiner is dan 200 gram per uur."]
["68607-11-4","271-750-6","Aardolieproducten raffinaderijgassen Een complexe combinatie die voornamelijk bestaat uit waterstof, met uiteenlopende kleine hoeveelheden methaan ethaan en propaan. Raffinaderijgas","Petroleum products, refinery gases, Refinery gas [A complex combination which consists primarily of hydrogen with various small amounts of methane, ethane, and propane.]","Ja",null,null,null,null,null,null,null,"2013-12-02",20,"Deze stof staat zelf niet in bijlage 12a van de Activiteitenregeling milieubeheer maar valt onder de groepsvermelding voor PAKs, de getoonde stofklasse is die van de groepsvermelding. De weergegeven grensmassastroom en emissiegrenswaarde zijn een voorstel op basis van de voormalige indeling als sO. De getoonde grenswaarden waarden zullen waarschijnlijk tot 1 januari 2025 gelden, daarna worden de algemene waarden van kracht.","Voor deze stof geldt: a) Alle bronnen in de inrichting mogen afzonderlijk ten hoogste 5 mg/Nm3 emitteren, indien de massastroom van een stof of de som van de onder normale procesomstandigheden gedurende één uur optredende massastromen van stoffen binnen deze stofklasse vanuit al die puntbronnen, groter of gelijk is aan 200 gram per uur. Indien voor een bron geen filtrerende afscheider kan worden toegepast, emitteert deze bron afzonderlijk niet meer dan 20 milligram per normaal kubieke meter; of b) Alle bronnen in de inrichting mogen afzonderlijk ten hoogste 20 mg/Nm3emitteren, indien de massastroom van een stof of de som van de onder normale procesomstandigheden gedurende één uur optredende massastromen van stoffen binnen deze stofklasse vanuit al die puntbronnen, kleiner is dan 200 gram per uur."]
["83-32-9","201-469-6","acenafteen","acenaphthene",null,null,null,null,null,"sO",null,"5 mg/Nm3","2016-05-27","5, 11, 21"]
["208-96-8","205-917-1","acenaftyleen","acenaphthylene",null,null,null,null,null,"sO",null,"5 mg/Nm3","2016-05-27","5, 11, 21"]
["260-94-6","205-971-6","acridine","acridine",null,null,null,null,null,"MVP 1","0,15 g/uur","0,05 mg/Nm3","2016-05-27",19]
["79-06-1","201-173-7","acrylamide","acrylamide","Ja","Ja",null,null,null,"MVP 1","0,15 g/uur","0,05 mg/Nm3","2013-12-02"]
["107-13-1","203-466-5","acrylonitril","acrylonitrile","Ja",null,null,null,null,"MVP 2","2,5 g/uur","1 mg/Nm3","2013-12-02"]
["68477-66-7","270-747-7","Afgassen gevormd in de benzeeninstallatie. Bestaat hoofdzakelijk uit waterstof. Kan ook koolmonoxide en koolwaterstoffen overwegend C1 tot en met C6, inclusief benzeen bevatten. Gassen (aardolie), uitstoot benzeeninstallatie, waterstofontzwavelaar, Raffinaderijgas","Gases (petroleum), benzene unit hydrodesulfurizer off, Refinery gas [Off gases produced by the benzene unit. It consists primarily of hydrogen. Carbon monoxide and hydrocarbons having carbon numbers predominantly in the range of C1 through C6, including benzene, may also be present.]","Ja",null,null,null,null,null,null,null,"2013-12-02",20,"De getoonde waarde voor de emissiegrenswaarde wijkt af van de algemene waarde voor de MVP 1 en 2 stofklassen. De getoonde waarde geldt tot 1 januari 2025, daarna wordt de algemene waarde van kracht."]
["94551-87-8","305-433-1","afvalslik en bezinksel elektrolytische koperzuivering, ontkoperd","slimes and sludges, copper electrolyte refining, decopperised","Ja",null,null,null,null,"MVP 1","0,15 g/uur","0,05 mg/Nm3","2013-12-02"]
["92129-57-2","295-859-3","afvalslik en bezinksel elektrolytische koperzuivering, ontkoperd nikkelsulfaat","slimes and sludges, copper electrolytic refining, decopperised, nickel sulfate","Ja",null,null,null,null,"MVP 1","2,5 g/uur","0,5 mg/Nm3","2013-12-02","1, 2"]
["309-00-2","206-215-8","aldrin","aldrin",null,null,null,null,"Ja","MVP 1","0,15 g/uur","0,05 mg/Nm3","2013-12-02"]
["959-98-8",null,"alfa-endosulfan","alpha-endosulfan",null,null,"Ja","Ja","Ja","MVP 1","0,15 g/uur","0,05 mg/Nm3","2013-12-02"]
["134237-50-6",null,"alfa-hexabroomcyclododecaan","alpha-hexabromocyclododecane",null,"Ja","Ja","Ja",null,"MVP 1","0,15 g/uur","0,05 mg/Nm3","2013-12-02"]
["319-84-6","206-270-8","alfa-hexachloorcyclohexaan","alpha HCH",null,null,null,"Ja","Ja","MVP 1","0,15 g/uur","0,05 mg/Nm3","2013-12-02"]
["84988-93-2","284-881-9","Alkalisch extract, De verzameling fenolen die met isobutylacetaat worden geëxtraheerd uit het ammoniakprocesvocht dat wordt gecondenseerd uit het gas dat ontstaat bij de destructieve lage-temperatuur-destillatie (minder dan 700°C) van kool. Bestaat voornamelijk uit een mengsel van een- en tweewaardige fenolen. fenolen ammoniakprocesvochtextract","Phenols, ammonia liquor ext., Alkaline Extract [The combination of phenols extracted, using isobutyl acetate, from the ammonia liquor condensed from the gas evolved in low-temperature (less than 700°C (1292°F)) destructive distillation of coal. It consists predominantly of a reaction mass of monohydric and dihydric phenols.]","Ja",null,null,null,null,null,null,null,"2013-12-02",20]
["90640-88-3","292-610-0","Alkalisch extract, Destillaten (koolteer), lichte oliën alkalische extracten Het waterig extract uit fenololie dat wordt verkregen door te wassen met alkali, zoals verdund natriumhydroxide. Bestaat voornamelijk uit de alkalizouten van verschillende fenolverbindingen.","Distillates (coal tar), light oils, alk. exts., Alkaline Extract [The aqueous extract from carbolic oil produced by an alkaline wash such as aqueous sodium hydroxide. Composed primarily of the alkali salts of various phenolic compounds.]","Ja",null,null,null,null,null,null,null,"2013-12-02",20]
["90640-89-4","292-611-6","Alkalisch extract, Destillaten (koolteer), naftaleenoliën alkalische extracten Het waterig extract uit naftaleenolie dat wordt verkregen door te wassen met alkali, zoals verdund natriumhydroxide. Bestaat voornamelijk uit de alkalizouten van verschillende fenolverbindingen.","Distillates (coal tar), naphthalene oils, alk. exts., Alkaline Extract [The aqueous extract from naphthalene oil produced by an alkaline wash such as aqueous sodium hydroxide. Composed primarily of the alkali salts of various phenolic compounds.]","Ja",null,null,null,null,null,null,null,"2013-12-02",20]
["65996-83-0","266-017-2","Alkalisch extract, Extracten koolteerolie, alkalische, Het extract van koolteerolie dat wordt verkregen door te wassen met alkali, zoals verdund natriumhydroxide. Bestaat voornamelijk uit de alkalizouten van verschillende fenolverbindingen.","Extracts, coal tar oil alk., Alkaline Extract [The extract from coal tar oil produced by an alkaline wash such as aqueous sodium hydroxide. Composed primarily of the alkali salts of various phenolic compounds.]","Ja",null,null,null,null,null,null,null,"2013-12-02",20]
["68815-21-4","272-361-4","Alkalisch extract, Teerzuren kresyl-, natriumzouten loogoplossingen","Tar acids, cresylic, sodium salts, caustic solns., Alkaline Extract","Ja",null,null,null,null,null,null,null,"2013-12-02",20]
["68475-57-0","270-651-5","Alkanen C1-2-, Petroleumgas","Alkanes, C1-2, Petroleum gas","Ja",null,null,null,null,null,null,null,"2013-12-02",20]
["90622-53-0","292-454-3","alkanen C12-26-vertakte en niet-vertakte","Alkanes, C12-26-branched and linear","Ja",null,null,null,null,null,null,null,"2013-12-02",20]
["90622-55-2","292-456-4","Alkanen C1-4, rijk aan C3, Petroleumgas","Alkanes, C1-4, C3-rich, Petroleum gas","Ja",null,null,null,null,null,null,null,"2013-12-02",20]
["68475-58-1","270-652-0","Alkanen C2-3-, Petroleumgas","Alkanes, C2-3, Petroleum gas","Ja",null,null,null,null,null,null,null,"2013-12-02",20]
["68475-59-2","270-653-6","Alkanen C3-4-, Petroleumgas","Alkanes, C3-4, petroleum gas","Ja",null,null,null,null,null,null,null,"2013-12-02",20]
["68475-60-5","270-654-1","Alkanen C4-5-, Petroleumgas","Alkanes, C4-5, Petroleum gas","Ja",null,null,null,null,null,null,null,"2013-12-02",20]
[null,null,"aluminiumsilicaat vuurvaste keramische vezels","aluminosilicate refractory ceramic fibres",null,"Ja",null,null,null,"MVP 1","0,15 g/uur","0,05 mg/Nm3","2013-12-02",null,"De getoonde waarde voor de emissiegrenswaarde wijkt af van de algemene waarde voor de MVP 1 en 2 stofklassen. De getoonde waarde geldt tot 1 januari 2025, daarna wordt de algemene waarde van kracht."]
["3825-26-1","223-320-4","ammonium pentadecafluoroctanoaat","ammonium pentadecafluorooctanoate","Ja","Ja",null,null,null,"MVP 1","0,15 g/uur","0,05 mg/Nm3","2013-12-02"]
["3830-45-3",null,"ammonium perfluordecanoaat","ammonium perfluorodecanoate",null,"Ja",null,null,null,"MVP 1","0,15 g/uur","0,05 mg/Nm3","2017-01-13",4,"Deze stof wordt niet als individuele stof als ZZS geïdentificeerd maar valt onder de ZZS-stofgroep kwikverbindingen"]
["7789-07-05","232-143-1","ammoniumdichromaat","ammonium dichromate","Ja","Ja",null,null,null,"MVP 1","0,5 g/uur","0,1 mg/Nm3","2013-06-27","1, 2"]
["29081-56-9","249-415-0","ammoniumheptadecafluoroctaansulfonaat","ammonium heptadecafluorooctanesulfonate","Ja",null,"Ja","Ja","Ja","MVP 1","0,15 g/uur","0,05 mg/Nm3","2013-12-02",null,"Deze stof wordt niet als individuele stof als ZZS geïdentificeerd maar valt onder de ZZS-stofgroep kwikverbindingen"]
["10124-48-8",null,"ammonium-kwikchloride","aminomercuric chloride",null,null,"Ja",null,null,"MVP 1","0,15 g/uur","0,05 mg/Nm3","2016-06-28","3, 22","De getoonde waarde voor de emissiegrenswaarde wijkt af van de algemene waarde voor de MVP 1 en 2 stofklassen. De getoonde waarde geldt tot 1 januari 2025, daarna wordt de algemene waarde van kracht.","Anorganische loodverbindingen stonden als aparte stofgroep op de NeR en zijn daarom ook als aparte stofgroep opgenomen op de ZZS-lijst. Voor een aantal anorganische loodverbindingen gelden strengere grensmassastromen en emissiegrenswaarden. Deze zijn met name genoemd in het zoeksysteem."]
["4149-60-4",null,"ammoniumzouten van perfluornonaanzuur","ammonium salts of perfluorononan-1-oic-acid","Ja","Ja",null,null,null,"MVP 2","2,5 g/uur","1 mg/Nm3","2016-02-22",4]
[null,null,"anorganische kwikverbindingen","anorganic mercury compounds",null,null,"Ja",null,null,"MVP 1","0,15 g/uur","0,05 mg/Nm3","2016-07-04","3, 22"]
[null,null,"anorganische loodverbindingen","anorganic lead compounds","Ja",null,null,null,null,"MVP 1","2,5 g/uur","0,5 mg/Nm3","2016-05-31","1, 2, 23"]
["91995-14-1","295-274-3","Anthraceen olie, extractie-residu, Een complexe verzameling koolwaterstoffen uit de van base ontdane fractie verkregen door de destillatie van koolteer, met een kooktraject van ongeveer 325°C tot 365°C. Bevat voornamelijk antraceen fenantreen en alkylderivaten daarvan. antraceenolie, zuur extract","Anthracene oil, acid ext., Anthracene Oil Extract Residue [A complex combination of hydrocarbons from the base-freed fraction obtained from the distillation of coal tar and boiling in the range of approximately 325 °C to 365 °C (617 °F to 689 °F). It contains predominantly anthracene and phenanthrene and their alkyl derivatives.]","Ja",null,null,null,null,null,null,null,"2013-12-02",20]
["120-12-7","204-371-1","antraceen","anthracene",null,"Ja","Ja",null,null,"MVP 2",null,"5 mg/Nm3","2013-12-02",24]
["90640-80-5","292-602-7","antraceenolie","anthracene oil","Ja","Ja",null,null,null,"MVP 1","0,15 g/uur","0,05 mg/Nm3","2013-12-02"]
["90640-81-6","292-603-2","antraceenolie, fractie, De antraceenrijke vaste stof die wordt verkregen door de kristallisatie en centrifugatie van antraceenolie. Bestaat voornamelijk uit antraceen carbazool en fenantreen. antraceenolie, antraceenpasta","Anthracene Oil Fraction [The anthracene-rich solid obtained by the crystallization and centrifuging of anthracene oil. It is composed primarily of anthracene, carbazole and phenanthrene.]. anthracene oil, anthracene paste","Ja","Ja",null,null,null,"MVP 1","0,15 g/uur","0,05 mg/Nm3","2013-12-02"]
["90640-82-7","292-604-8","antraceenolie, fractie, De olie die resteert na de verwijdering, door middel van een kristallisatieproces, van een antraceenrijke vaste stof (antraceenpasta) uit antraceenolie. Bestaat voornamelijk uit aromatische verbindingen met twee, drie of vier ringen. antraceenolie, antraceenarm","anthracene oil, anthracene-low, anthracene Oil Fraction [The oil remaining after the removal, by a crystallization process, of an anthracene-rich solid (anthracene paste) from anthracene oil. It is composed primarily of two, three and four membered aromatic compounds.]","Ja","Ja",null,null,null,"MVP 1","0,15 g/uur","0,05 mg/Nm3","2013-12-02"]
["91995-17-4","295-278-5","antraceenolie, fractie, Een complexe verzameling koolwaterstoffen uit de destillatie van antraceen die wordt verkregen door de kristallisatie van antraceenolie uit bitumineuze hoge-temperatuur-teer, met een kooktraject van ongeveer 290 °C tot 340 °C. Bevat hoofdzakelijk tricyclische aromaten en dihydroderivaten daarvan. antraceenolie, antraceenpasta, lichte destillatiefracties","anthracene oil, anthracene paste, distn. lights. anthracene Oil Fraction [a complex combination of hydrocarbons from the distillation of anthracene obtained by crystallization of anthracene oil from bituminous high temperature tar and boiling in the range of approximately 290°C to 340°C (554°F to 644°F). It contains chiefly trinuclear aromatics and their dihydro derivatives.]","Ja","Ja",null,null,null,"MVP 1","0,15 g/uur","0,05 mg/Nm3","2013-12-02"]
["91995-15-2","295-275-9","antraceenolie, fractie, Een complexe verzameling koolwaterstoffen uit de destillatie van antraceen die wordt verkregen door de kristallisatie van antraceenolie uit bitumineuze hoge-temperatuur-teer, met een kooktraject van ongeveer 330 °C tot 350 °C. Bevat hoofdzakelijk antraceen carbazool en fenantreen. antraceenolie, antraceenpasta, antraceenfractie","anthracene oil, anthracene paste, anthracene fraction. anthracene Oil Fraction [a complex combination of hydrocarbons from the distillation of anthracene obtained by the crystallization of anthracene oil from bituminous high temperature tar and boiling in the range of 330°C to 350°C (626°F to 662°F). It contains chiefly anthracene, carbazole and phenanthrene.]","Ja","Ja",null,null,null,"MVP 1","0,15 g/uur","0,05 mg/Nm3","2013-12-02"]
["91995-16-3","295-276-4","antraceenolie, fractie, Een complexe verzameling koolwaterstoffen uit de destillatie van antraceen die wordt verkregen door de kristallisatie van antraceenolie uit bitumineuze hoge-temperatuur-teer, met een kooktraject van ongeveer 350 °C tot 360 °C. Bevat hoofdzakelijk antraceen carbazool en fenantreen. antraceenolie, antraceenpasta, carbazoolfractie","anthracene oil, anthracene paste, carbazole fraction, anthracene Oil Fraction [a complex combination of hydrocarbons from the distillation of anthracene obtained by crystallization of anthracene oil from bituminous coal high temperature tar and boiling in the approximate range of 350°C to 360°C (662°F to 680°F). It contains chiefly anthracene, carbazole and phenanthrene.]","Ja",null,null,null,null,null,null,null,"2013-12-02",20]
["92061-92-2","295-505-8","antraceenolie, fractie, Het residu van de fractionele destillatie van ongezuiverd antraceen met een kooktraject van ongeveer 340 °C tot 400 °C. Bestaat voornamelijk uit tri- en polycyclische aromatische en heterocyclische koolwaterstoffen. residuen (koolteer), antraceenolie, destillatie-","Residues (coal tar), anthracene oil distn., Anthracene Oil Fraction [The residue from the fraction distillation of crude anthracene boiling in the approximate range of 340°C to 400°C (644°F to 752°F). It consists predominantly of tri- and polynuclear aromatic and heterocyclic hydrocarbons.]","Ja",null,null,null,null,null,null,null,"2013-12-02",20]
["68783-00-6","272-175-3","Aromatisch extract van destillaat (bewerkt), Een aromatisch concentraat, verkregen door het toevoegen van water aan zwaar nafteen-houdend destillaat-solventextract en extractiesolvent. Extracten (aardolie), zwaar nafteen-houdend destillaatsolvent-, aromaatconcentraat","Extracts (petroleum), heavy naphthenic distillate solvent, arom. conc., Distillate aromatic extract (treated) [An aromatic concentrate produced by adding water to heavy naphthenic distillate solvent extract and extraction solvent.]","Ja",null,null,null,null,null,null,null,"2013-12-02",20]
["90641-09-1","292-633-6","Aromatisch extract van destillaat (bewerkt), Een complexe verzameling koolwaterstoffen die wordt gevormd door de behandeling van een solventextract van licht paraffinehoudend destillaat met waterstof in de aanwezigheid van een katalysator. Bestaat voornamelijk uit koolwaterstoffen overwegend C17 tot en met C26, met een kooktraject van ongeveer 280°C tot 400°C. Extracten (aardolie), licht paraffinehoudend destillaat solvent-, met waterstof behandeld","Extracts (petroleum), light paraffinic distillate solvent, hydrotreated, Distillate aromatic extract (treated) [A complex combination of hydrocarbons produced by treating a light paraffinic distillate solvent extract with hydrogen in the presence of a catalyst. It consists predominantly of hydrocarbons having carbon numbers predominantly in the range of C17 through C26 and boiling in the range of approximately 280 °C to 400 °C (536 °F to 752 °F).]","Ja",null,null,null,null,null,null,null,"2013-12-02",20]
["90641-08-0","292-632-0","Aromatisch extract van destillaat (bewerkt), Een complexe verzameling koolwaterstoffen die wordt gevormd door de behandeling van een solventextract van zwaar paraffinehoudend destillaat met waterstof in de aanwezigheid van een katalysator. Bestaat voornamelijk uit koolwaterstoffen overwegend C21 tot en met C33, met een kooktraject van ongeveer 350°C tot 480°C. Extracten (aardolie), zwaar paraffinehoudend destillaat solvent-, met waterstof behandeld","Extracts (petroleum), heavy paraffinic distillate solvent, hydrotreated, Distillate aromatic extract (treated) [A complex combination of hydrocarbons produced by treating a heavy paraffinic distillate solvent extract with hydrogen in the presence of a catalyst. It consists predominantly of hydrocarbons having carbon numbers predominantly in the range of C21 through C33 and boiling in the range of approximately 350 °C to 480 °C (662 °F to 896 °F).","Ja",null,null,null,null,null,null,null,"2013-12-02",20]
["100684-02-4","309-672-2","Aromatisch extract van destillaat (bewerkt), Een complexe verzameling koolwaterstoffen die wordt verkregen als een fractie uit de destillatie van een extract dat is herwonnen door solventextracie van het lichte paraffinehoudende bij aftoppen verkregen aardoliedestillaat, behandeld met geactiveerde kool teneinde sporen van polaire bestanddelen en onzuiverheden te verwijderen. Bevat voornamelijk aromatische koolwaterstoffen overwegend C16 tot en met C32. Extracten (aardolie), licht paraffinehoudend destillaat-solvent-, met koolstof behandeld","Extracts (petroleum), light paraffinic distillate solvent, carbon-treated, Distillate aromatic extract (treated) [A complex combination of hydrocarbons obtained as a fraction from distillation of an extract recovered by solvent extraction of light paraffinic top petroleum distillate treated with activated charcoal to remove traces of polar constituents and impurities. It consists predominantly of aromatic hydrocarbons having carbon numbers predominantly in the range of C16 through C32.]","Ja",null,null,null,null,null,null,null,"2013-12-02",20]
["100684-03-5","309-673-8","Aromatisch extract van destillaat (bewerkt), Een complexe verzameling koolwaterstoffen die wordt verkregen als een fractie uit de destillatie van een extract teruggewonnen door solventextractie van lichte paraffinehoudende afgetopte aardoliedestillaten behandeld met bleekaarde teneinde sporen van polaire bestanddelen en onzuiverheden te verwijderen. Bestaat voornamelijk uit aromatische koolwaterstoffen overwegend C16 tot en met C32. Extracten (aardolie), lichte paraffinehoudend destillaat-solvent-, met klei behandeld","Extracts (petroleum), light paraffinic distillate solvent, clay-treated, Distillate aromatic extract (treated) [A complex combination of hydrocarbons obtained as a fraction from distillation of an extract recovered by solvent extraction of light paraffinic top petroleum distillates treated with bleaching earth to remove traces of polar constituents and impurities. It consists predominantly of aromatic hydrocarbons having carbon numbers predominantly in the range of C16 through C32.]","Ja",null,null,null,null,null,null,null,"2013-12-02",20]
["91995-76-5","295-339-6","Aromatisch extract van destillaat (bewerkt), Een complexe verzameling koolwaterstoffen die wordt verkregen als een fractie uit de destillatie van een extract uit de solventextractie van lichte paraffinehoudende topdestillaten uit aardolie dat is onderworpen aan een zuivering met zwavelzuur. Bestaat voornamelijk uit aromatische koolwaterstoffen overwegend C16 tot en met C32. Extracten (aardolie), paraffinehoudend licht destillaat solvent-, zuurbehandeld","Extracts (petroleum), light paraffinic distillate solvent, acid-treated, Distillate aromatic extract (treated) [A complex combination of hydrocarbons obtained as a fraction of the distillation of an extract from the solvent extraction of light paraffinic top petroleum distillates that is subjected to a sulfuric acid refining. It consists predominantly of aromatic hydrocarbons having carbon numbers predominantly in the range of C16 through C32.]","Ja",null,null,null,null,null,null,null,"2013-12-02",20]
["91995-73-2","295-335-4","Aromatisch extract van destillaat (bewerkt), Een complexe verzameling koolwaterstoffen die wordt verkregen als het extract uit solventextractie van tussendestillaat van paraffinehoudende topsolvent dat is behandeld met waterstof in de aanwezigheid van een katalysator. Bestaat voornamelijk uit aromatische koolwaterstoffen overwegend C16 tot en met C36. Extracten (aardolie), waterstofbehandeld paraffinehoudend licht destillaat solvent-","Extracts (petroleum), hydrotreated light paraffinic distillate solvent, Distillate aromatic extract (treated) [A complex combination of hydrocarbons obtained as the extract from solvent extraction of intermediate paraffinic top solvent distillate that is treated with hydrogen in the presence of a catalyst. It consists predominantly of aromatic hydrocarbons having carbon numbers predominantly in the range of C16 through C36.]","Ja",null,null,null,null,null,null,null,"2013-12-02",20]
["68814-89-1","272-342-0","Aromatisch extract van destillaat (bewerkt), Een complexe verzameling koolwaterstoffen die wordt verkregen als het extract van een solventextractie van zware paraffine-houdend destillaat. Extracten (aardolie), zware paraffinehoudende destillaten solvent-gedeasfalteerd","Extracts (petroleum), heavy paraffinic distillates, solvent-deasphalted, Distillate aromatic extract (treated) [A complex combination of hydrocarbons obtained as the extract from a solvent extraction of heavy paraffinic distillate.]","Ja",null,null,null,null,null,null,null,"2013-12-02",20]
["91995-75-4","295-338-0","Aromatisch extract van destillaat (bewerkt), Een complexe verzameling koolwaterstoffen die wordt verkregen door behandeling van het, uit een solventextractieproces verkregen extract met waterstof in de aanwezigheid van een katalysator onder omstandigheden die primair gericht zijn op de verwijdering van zwavelverbindingen. Bestaat voornamelijk uit aromatische koolwaterstoffen overwegend C15 tot en met C30. Deze stroom bevat waarschijnlijk 5 of meer gewichtsprocenten aromatische koolwaterstoffen met 4- tot 6-voudig gecondenseerde ringen. Extracten (aardolie), nafteenhoudend licht destillaat solvent-, waterstofontzwaveld","Extracts (petroleum), light naphthenic distillate solvent, hydrodesulfurized, Distillate aromatic extract (treated) [A complex combination of hydrocarbons obtained by treating the extract, obtained from a solvent extraction process, with hydrogen in the presence of a catalyst under conditions primarily to remove sulfur compounds. It consists predominantly of aromatic hydrocarbons having carbon numbers predominantly in the range of C15 through C30. This stream is likely to contain 5 wt.% or more of 4- to 6-membered condensed ring aromatic hydrocarbons.]","Ja",null,null,null,null,"MVP 1","0,15 g/uur","0,05 mg/Nm3","2013-12-02",25]
["90641-07-9","292-631-5","Aromatisch extract van destillaat (bewerkt), Een complexe verzameling koolwaterstoffen die wordt verkregen door de behandeling van een solventextract van zwaar nafteenhoudend destillaat met waterstof in de aanwezigheid van een katalysator. Bestaat voornamelijk uit aromatische koolwaterstoffen overwegend C20 tot en met C50, vormt een voltooide olie met een viscositeit van ten minste 19 cSt bij 40°C. Extracten (aardolie), zwaar nafteenhoudend destillaat solvent-, met waterstof behandeld","Extracts (petroleum), heavy naphthenic distillate solvent, hydrotreated, Distillate aromatic extract (treated) [A complex combination of hydrocarbons obtained by treating a heavy naphthenic distillate solvent extract with hydrogen in the presence of a catalyst. It consists predominantly of aromatic hydrocarbons having carbon numbers predominantly in the range of C20 through C50 and produces a finished oil of at least 19cSt at 40 °C (100 SUS at 100 °F).]","Ja",null,null,null,null,null,null,null,"2013-12-02",20]
["91995-79-8","295-342-2","Aromatisch extract van destillaat (bewerkt), Een complexe verzameling koolwaterstoffen die wordt verkregen door solventextractie uit lichte vacuumgasoliën uit vacuümgasoliën uit aardolie en behandeld met waterstof in de aanwezigheid van een katalysator. Bestaat voornamelijk uit aromatische koolwaterstoffen overwegend C13 tot en met C30. Extracten (aardolie), lichte vacuümgasoliesolvent-, waterstofbehandeld","Extracts (petroleum), light vacuum gas oil solvent, hydrotreated, Distillate aromatic extract (treated) [A complex combination of hydrocarbons, obtained by solvent extraction from light vacuum petroleum gas oils and treated with hydrogen in the presence of a catalyst. It consists predominantly of aromatic hydrocarbons having carbon numbers predominantly in the range of C13 through C30.]","Ja",null,null,null,null,null,null,null,"2013-12-02",20]
["91995-77-6","295-340-1","Aromatisch extract van destillaat (bewerkt), Een complexe verzameling koolwaterstoffen die wordt verkregen door solventextractie van een paraffinehoudend licht destillaat en wordt behandeld met waterstof om organische zwavel om te zetten in waterstofsulfide dat wordt verwijderd. Bestaat voornamelijk uit koolwaterstoffen overwegend C15 tot en met C40 en vormt een voltooide olie met een viscositeit van ongeveer 1°CSt bij 40°C. Extracten (aardolie), paraffinehoudend licht destillaat solvent-, waterstofontzwaveld","Extracts (petroleum), light paraffinic distillate solvent, hydrodesulfurized, Distillate aromatic extract (treated) [A complex combination of hydrocarbons obtained by solvent extraction of a light paraffin distillate and treated with hydrogen to convert the organic sulfur to hydrogen sulfide which is eliminated. It consists predominantly of hydrocarbons having carbon numbers predominantly in the range of C15 through C40 and produces a finished oil with a viscosity of greater than 10cSt at 40 °C.]","Ja",null,null,null,null,null,null,null,"2013-12-02",20]
["100684-04-6","309-674-3","Aromatisch extract van destillaat (bewerkt), Een complexe verzameling koolwaterstoffen die wordt verkregen door solventextractie van lichte vacuümgasolie uit aardolie, behandeld met geactiveerde kool teneinde sporen van polaire bestanddelen en onzuiverheden te verwijderen. Bestaat voornamelijk uit aromatische koolwaterstoffen overwegend C13 tot en met C30. Extracten (aardolie), lichte vacuüm-, gasoliesolvent-, behandeld met koolstof","Extracts (petroleum), light vacuum, gas oil solvent, carbon-treated, Distillate aromatic extract (treated) [A complex combination of hydrocarbons obtained by solvent extraction of light vacuum petroleum gas oil treated with activated charcoal for the removal of trace polar constituents and impurities. It consists predominantly of aromatic hydrocarbons having carbon numbers predominantly in the range of C13 through C30.]","Ja",null,null,null,null,null,null,null,"2013-12-02",20]
["100684-05-7","309-675-9","Aromatisch extract van destillaat (bewerkt), Een complexe verzameling koolwaterstoffen die wordt verkregen door solventextractie van lichte vacuümgasoliën uit aardolie, behandeld met bleekaarde teinende sporen van polaire bestanddelen en onzuiverheden te verwijderen. Bestaat voornamelijk uit aromatische koolwaterstoffen overwegend C13 tot en met C30. Extracten (aardolie), lichte vacuümgasoliesolvent-, behandeld met klei","Extracts (petroleum), light vacuum gas oil solvent, clay-treated, Distillate aromatic extract (treated) [A complex combination of hydrocarbons obtained by solvent extraction of light vacuum petroleum gas oils treated with bleaching earth for removal of trace polar constituents and impurities. It consists predominantly of aromatic hydrocarbons having carbon numbers predominantly in the range of C13 through C30.]","Ja",null,null,null,null,null,null,null,"2013-12-02",20]
["92704-08-0","296-437-1","Aromatisch extract van destillaat (bewerkt), Een complexe verzameling koolwaterstoffen die wordt verkregen uit de behandeling van een aardoliefractie met een natuurlijke of gemodificeerde klei in een contact- of een filtratieproces waarbij sporen van polaire verbindingen en aanwezige onzuiverheden worden verwijderd. Bestaat voornamelijk uit aromatische koolwaterstoffen overwegend C20 tot en met C50. Deze stroom bevat waarschijnlijk 5 of meer gewichtsprocenten aromatische koolwaterstoffen met 4- tot 6-voudig gecondenseerde ringen. Extracten (aardolie), zwaar paraffinehoudend destillaat solvent-, met klei behandeld","Extracts (petroleum), heavy paraffinic distillate solvent, clay-treated, Distillate aromatic extract (treated) [A complex combination of hydrocarbons resulting from treatment of a petroleum fraction with natural or modified clay in either a contact or percolation process to remove the trace amounts of polar compounds and impurities present. It consists predominantly of aromatic hydrocarbons having carbon numbers predominantly in the range of C20 through C50. This stream is likely to contain 5 wt.% or more 4-6 membered ring aromatic hydrocarbons.]","Ja",null,null,null,null,"MVP 1","0,15 g/uur","0,05 mg/Nm3","2013-12-02",25]
["93763-10-1","297-827-4","Aromatisch extract van destillaat (bewerkt), Een complexe verzameling koolwaterstoffen die wordt verkregen uit een aardoliegrondstof door behandeling met waterstof om organische zwavel om te zetten in waterstofsulfide dat wordt verwijderd. Bestaat voornamelijk uit koolwaterstoffen overwegend C15 tot en met C50 en vormt een voltooide olie met een viscositeit groter dan 19 cSt bij 40°C. Extracten (aardolie), zwaar nafteenhoudend destillaat solvent-, waterstofontzwaveld","Extracts (petroleum), heavy naphthenic distillate solvent, hydrodesulfurized, Distillate aromatic extract (treated) [A complex combination of hydrocarbons obtained from a petroleum stock by treating with hydrogen to convert organic sulfur to hydrogen sulfide which is removed. It consists predominantly of hydrocarbons having carbon numbers predominantly in the range of C15 through C50 and produces a finished oil with a viscosity of greater than 19cSt at 40 °C.]","Ja",null,null,null,null,null,null,null,"2013-12-02",20]
["93763-11-2","297-829-5","Aromatisch extract van destillaat (bewerkt), Een complexe verzameling koolwaterstoffen die wordt verkregen uit een met solvent van was ontdane aardoliegrondstof door behandeling met waterstof om organische zwavel om te zetten in waterstofsulfide dat wordt verwijderd. Bestaat voornamelijk uit koolwaterstoffen overwegend C15 tot en met C50 en vormt een voltooide olie met een viscositeit groter dan 19cSt bij 40°C. Extracten (aardolie), met solvent van was ontdane zwaar paraffinehoudend destillaat solvent-, waterstofontzwaveld","Extracts (petroleum), solvent-dewaxed heavy paraffinic distillate solvent, hydrodesulfurized, Distillate aromatic extract (treated) [A complex combination of hydrocarbons obtained from a solvent dewaxed petroleum stock by treating with hydrogen to convert organic sulfur to hydrogen sulfide which is removed. It consists predominantly of hydrocarbons having carbon numbers predominantly in the range of C15 through C50 and produces a finished oil with a viscosity of greater than 19cSt at 40 °C.]","Ja",null,null,null,null,null,null,null,"2013-12-02",20]
["68783-04-0","272-180-0","Aromatisch extract van destillaat (bewerkt), Een complexe verzameling koolwaterstoffen verkregen als het extract van de herextractie van solventgeraffineerd zwaar paraffinehoudend destillaat. Bestaat uit verzadigde en aromatische koolwaterstoffen overwegend C20 tot en met C50. Extracten (aardolie), solvent-geraffineerde zwaar paraffinehoudend destillaat-solvent-","Extracts (petroleum), solvent-refined heavy paraffinic distillate solvent, Distillate aromatic extract (treated) [A complex combination of hydrocarbons obtained as the extract from the re-extraction of solvent-refined heavy paraffinic distillate. It consists of saturated and aromatic hydrocarbons having carbon numbers predominantly in the range of C20 through C50.]","Ja",null,null,null,null,null,null,null,"2013-12-02",20]
["68131-49-7","268-618-5","Aromatische koolwaterstoffen C6-10-, met zuur behandeld geneutraliseerd Nafta met laag kookpunt - niet gespecifieerd","Aromatic hydrocarbons, C6-10, acid-treated, neutralized, Low boiling point naphtha - unspecified","Ja",null,null,null,null,null,null,null,"2013-12-02",20]
["90989-41-6","292-697-5","Aromatische koolwaterstoffen C6-10, rijk aan C8, Lichte olie, herdestillaat, laagkokende fractie","Aromatic hydrocarbons, C6-10, C8-rich, Light Oil Redistillate, low boiling","Ja",null,null,null,null,null,null,null,"2013-12-02",20]
["68475-70-7","270-658-3","Aromatische koolwaterstoffen C6-8-, afkomstig van pyrolysaat van nafta-raffinaat, Een complexe verzameling koolwaterstoffen verkregen door pyrolysefractionering bij 816°C van nafta en raffinaat. Bestaat voornamelijk uit aromatische koolwaterstoffen overwegend C6 tot en met C8, inclusief benzeen. Thermisch gekraakte nafta met laag kookpunt","Aromatic hydrocarbons, C6-8, naphtha-raffinate pyrolyzate-derived, Low boiling point thermally cracked naphtha [A complex combination of hydrocarbons obtained by the fractionation pyrolysis at 816°C (1500°F) of naphtha and raffinate. It consists predominantly of aromatic hydrocarbons having carbon numbers predominantly in the range of C6 through C8, including benzene.]","Ja",null,null,null,null,"MVP 2","2,5 g/uur","1 mg/Nm3","2013-12-02",26]
["93571-75-6","297-401-8","Aromatische koolwaterstoffen C7-12-, rijk aan C8, Een complexe verzameling koolwaterstoffen verkregen door afscheiding van de platformate-houdende fractie. Bestaat voornamelijk uit aromatische koolwaterstoffen overwegend C7 tot en met C12 (hoofdzakelijk C8) en kan niet-aromatische koolwaterstoffen bevatten beide met een kooktraject van ongeveer 130°C tot 200°C. Katalytisch gereformde nafta met laag kookpunt","Aromatic hydrocarbons, C7-12, C8-rich, Low boiling point cat-reformed naphtha [A complex combination of hydrocarbons obtained by separation from the platformate-containing fraction. It consists predominantly of aromatic hydrocarbons having carbon numbers predominantly in the range of C7 through C12 (primarily C8) and can contain nonaromatic hydrocarbons, both boiling in the range of approximately 130°C to 200°C (266°F to 392°F).]","Ja",null,null,null,null,null,null,null,"2013-12-02",20]
["90989-42-7","292-698-0","Aromatische koolwaterstoffen C7-8-, dealkyleringsproducten destillatieresiduen Nafta met laag kookpunt - niet gespecifieerd","Aromatic hydrocarbons, C7-8, dealkylation products, distn. residues, Low boiling point naphtha - unspecified","Ja",null,null,null,null,null,null,null,"2013-12-02",20]
["91995-18-5","295-279-0","Aromatische koolwaterstoffen C8-, afkomstig uit katalytische reforming, Katalytisch gereformde nafta met laag kookpunt","Aromatic hydrocarbons, C8, catalytic reforming-derived, Low boiling point cat-reformed naphtha","Ja",null,null,null,null,null,null,null,"2013-12-02",20]
["90989-38-1","292-694-9","Aromatische koolwaterstoffen C8-, Lichte olie, herdestillaat, hoogkokende fractie","Aromatic hydrocarbons, C8, Light Oil Redistillate, high boiling","Ja",null,null,null,null,null,null,null,"2013-12-02",20]
["90989-39-2","292-695-4","Aromatische koolwaterstoffen C8-10, Nafta met laag kookpunt - niet gespecifieerd","Aromatic hydrocarbons, C8-10, Low boiling point naphtha - unspecified","Ja",null,null,null,null,null,null,null,"2013-12-02",20,"De getoonde waarde voor de emissiegrenswaarde wijkt af van de algemene waarde voor de MVP 1 en 2 stofklassen. De getoonde waarde geldt tot 1 januari 2025, daarna wordt de algemene waarde van kracht."]
["91995-20-9","295-281-1","Aromatische koolwaterstoffen C8-9, bijproduct koolwaterstofhars-polymerisatie, Een complexe verzameling koolwaterstoffen die wordt verkregen door de verdamping onder vacuüm van oplosmiddel uit gepolymeriseerde koolwaterstofhars. Bestaat voornamelijk uit aromatische koolwaterstoffen overwegend C8 en C9, met een kooktraject van ongeveer 120°C tot 215°C. Lichte olie, herdestillaat, hoogkokende fractie","Aromatic hydrocarbons, C8-9, hydrocarbon resin polymn. by-product, Light Oil Redistillate, high boiling [A complex combination of hydrocarbons obtained from the evaporation of solvent under vacuum from polymerized hydrocarbon resin. It consists predominantly of aromatic hydrocarbons having carbon numbers predominantly in the range of C8 through C9 and boiling in the range of approximately 120°C to 215°C (248°F to 419°F).]","Ja",null,null,null,null,null,null,null,"2013-12-02",20,"De getoonde waarde voor de emissiegrenswaarde wijkt af van de algemene waarde voor de MVP 1 en 2 stofklassen. De getoonde waarde geldt tot 1 januari 2025, daarna wordt de algemene waarde van kracht."]
["92062-36-7","295-551-9","Aromatische koolwaterstoffen C9-12, benzeendestillatie, Lichte olie, herdestillaat, hoogkokende fractie","Aromatic hydrocarbons, C9-12, benzene distn., Light Oil Redistillate, high boiling","Ja",null,null,null,null,null,null,null,"2013-12-02",20]
["1303-28-2","215-116-9","arseenpentoxide","diarsenic pentaoxide","Ja","Ja",null,null,null,"MVP 1","0,25 g/uur","0,05 mg/Nm3","2013-12-02","1, 2","De getoonde waarde voor de emissiegrenswaarde wijkt af van de algemene waarde voor de MVP 1 en 2 stofklassen. De getoonde waarde geldt tot 1 januari 2025, daarna wordt de algemene waarde van kracht."]
["7778-39-4","231-901-9","arseenzuur","arsenic acid","Ja","Ja",null,null,null,"MVP 1","0,25 g/uur","0,05 mg/Nm3","2013-12-02","1, 2"]
["68049-83-2",null,"azafenidin","azafenidin","Ja",null,null,null,null,"MVP 1","0,15 g/uur","0,05 mg/Nm3","2013-12-02"]
["151-56-4","205-793-9","aziridine","ethyleneimine","Ja",null,null,null,null,"MVP 2","100 g/uur","20 mg/Nm3","2013-12-02","1, 2"]
["103-33-3","203-102-5","azobenzeen","azobenzene","Ja",null,null,null,null,"MVP 1","0,15 g/uur","0,05 mg/Nm3","2013-12-02"]
["41083-11-8","255-209-1","azocyclotin","azocyclotin",null,null,null,null,null,"MVP 1","0,15 g/uur","0,05 mg/Nm3","2014-04-30",18]
["123-77-3","204-650-8","azodicarbonamide","diazene-1,2-dicarboxamide",null,"Ja",null,null,null,"MVP 1","0,15 g/uur","0,05 mg/Nm3","2013-12-02"]
[null,null,"azokleurstoffen op basis van benzidine","benzidine based azo dyes","Ja",null,null,null,null,"MVP 1","0,15 g/uur","0,05 mg/Nm3","2013-12-02",null,"De getoonde waarde voor de emissiegrenswaarde wijkt af van de algemene waarde voor de MVP 1 en 2 stofklassen. De getoonde waarde geldt tot 1 januari 2025, daarna wordt de algemene waarde van kracht.","Deze stof staat zelf niet in bijlage 12a van de Activiteitenregeling milieubeheer maar valt onder een groepsvermelding, de getoonde stofklasse, grensmassastroom en emissiegrenswaarde zijn die van de groepsvermelding."]
[null,null,"azokleurstoffen op basis van o-dianisidine","o-dianisidine based azo dyes","Ja",null,null,null,null,"MVP 1","0,15 g/uur","0,05 mg/Nm3","2013-12-02"]
[null,null,"azokleurstoffen op basis van o-tolidine","o-tolidine based dyes","Ja",null,null,null,null,"MVP 1","0,15 g/uur","0,05 mg/Nm3","2013-12-02"]
["51404-69-4","257-175-3","basisch azijnzuur loodzout","acetic acid, lead salt, basic",null,"Ja",null,null,null,"MVP 1","2,5 g/uur","0,5 mg/Nm3","2013-12-02","1, 2, 3"]
["94733-15-0","305-594-8","Basisolie - niet gespecificeerd Een complexe verzameling koolwaterstoffen verkregen door deparaffinering met solvent van het destillatieresidu van waterstofgekraakte aardolie. Bestaat voornamelijk uit koolwaterstoffen overwegend C18 tot en met C40, met een kooktraject van ongeveer 370°C tot 550°C. smeeroliën (aardolie), C18-40, met solvent van was ontdaan waterstofgekraakt uit destillaat verkregen","Lubricating oils (petroleum), C18-40, solvent-dewaxed hydrocracked distillate-based, Baseoil - unspecified [A complex combination of hydrocarbons obtained by solvent deparaffination of the distillation residue from hydrocracked petroleum. It consists predominantly of hydrocarbons having carbon numbers predominantly in the range of C18 through C40 and boiling in the range of approximately 370 °C to 550 °C (698 °F to 1022 °F).]","Ja",null,null,null,null,null,null,null,"2013-12-02",20]
["94733-08-1","305-588-5","Basisolie - niet gespecifieerd destillaten (aardolie), solvent-geraffineerde met waterstof behandelde zware fracties, gehydrogeneerd","Distillates (petroleum), solvent-refined hydrotreated heavy, hydrogenated, Baseoil - unspecified","Ja",null,null,null,null,null,null,null,"2013-12-02",20]
["90640-96-3","292-618-4","Basisolie - niet gespecifieerd Een complexe verzameling koolwaterstoffen die natuurlijk uit de behandeling van van was ontdaan licht paraffinehoudend destillaat met natuurlijke of gemodificeerde klei in hetzij een contact- dan wel een filtratieproces. Bestaat voornamelijk uit koolwaterstoffen overwegend C15 tot en met C30. destillaten (aardolie), met solvent van was ontdane lichte paraffinehoudende, met klei behandeld","Distillates (petroleum), solvent dewaxed light paraffinic, clay-treated, Baseoil - unspecified [A complex combination of hydrocarbons resulting from treatment of dewaxed light paraffinic distillate with natural or modified clay in either a contacting or percolation process. It consists predominantly of hydrocarbons having carbon numbers predominantly in the range of C15 through C30.]","Ja",null,null,null,null,null,null,null,"2013-12-02",20]
["90640-97-4","292-620-5","Basisolie - niet gespecifieerd Een complexe verzameling koolwaterstoffen die wordt gevormd door de behandeling van een van was ontdaan licht paraffinehoudend destillaat met waterstof in de aanwezigheid van een katalysator. Bestaat uit koolwaterstoffen overwegend C15 tot en met C30. destillaten (aardolie), met solvent van was ontdane lichte paraffinehoudende, met waterstof behandeld","Distillates (petroleum), solvent dewaxed light paraffinic, hydrotreated, Baseoil - unspecified [A complex combination of hydrocarbons produced by treating a dewaxed light paraffinic distillate with hydrogen in the presence of a catalyst. It consists predominantly of hydrocarbons having carbon numbers predominantly in the range of C15 through C30.]","Ja",null,null,null,null,null,null,null,"2013-12-02",20]
["90640-95-2","292-617-9","Basisolie - niet gespecifieerd Een complexe verzameling koolwaterstoffen die wordt gevormd door de behandeling van van was ontdaan zwaar paraffinehoudend destillaat met waterstof in de aanwezigheid van een katalysator. Bestaat voornamelijk uit koolwaterstoffen overwegend C20 tot en met C50. koolwaterstoffen C20-50-, met solvent van was ontdane zware paraffinehoudende, met waterstof behandeld","Hydrocarbons, C20-50, solvent dewaxed heavy paraffinic, hydrotreated, Baseoil - unspecified [A complex combination of hydrocarbons produced by treating dewaxed heavy paraffinic distillate with hydrogen in the presence of a catalyst. It consists predominantly of hydrocarbons having carbon numbers predominantly in the range of C20 through C50.]","Ja",null,null,null,null,null,null,null,"2013-12-02",20]
["97675-87-1","307-661-7","Basisolie - niet gespecifieerd Een complexe verzameling koolwaterstoffen die wordt verkregen als de eerste fracties uit de vacuümdestillatie van de vloeistoffen die worden verkregen bij de behandeling van een solvent-gedeasfalteerd kleverig residu met waterstof in aanwezigheid van een katalysator. Bestaat voornamelijk uit koolwaterstoffen overwegend C17 tot en met C30, met een kooktraject van ongeveer 300°C tot 400°C. Het vormt een voltooide olie met een viscositeit van 4cSt bij ongeveer 100°C. koolwaterstoffen C17-30-, waterstofbehandeld solvent-gedeasfalteerd residu van de atmosferische destillatie, lichte destillatiefracties","Hydrocarbons, C17-30, hydrotreated solvent-deasphalted atm. distn. residue, distn. lights, Baseoil - unspecified [A complex combination of hydrocarbons obtained as first runnings from the vacuum distillation of effluents from the treatment of a solvent deasphalted short residue with hydrogen in the presence of a catalyst. It consists predominantly of hydrocarbons having carbon numbers predominantly in the range of C17 through C30 and boiling in the range of approximately 300 °C to 400 °C (572 °F to 752 °F). It produces a finished oil having a viscosity of 4cSt at approximately 100 °C (212 °F).]","Ja",null,null,null,null,null,null,null,"2013-12-02",20]
["97722-06-0","307-755-8","Basisolie - niet gespecifieerd Een complexe verzameling koolwaterstoffen die wordt verkregen als de eerste fracties uit de vacuümdestillatie van de vloeistoffen die worden verkregen door de katalytische behandeling met waterstof van een met solvent gedeasfalteerd kleverig residu met een viscositeit van 8cSt bij ongeveer 100°C. Bestaat voornamelijk uit koolwaterstoffen overwegend C17 tot en met C40, met een kooktraject van ongeveer 300°C tot 500°C. koolwaterstoffen C17-40-, waterstofbehandeld solvent-gedeasfalteerd destillatieresidu, lichte vacuümdestillatiefracties","Hydrocarbons, C17-40, hydrotreated solvent-deasphalted distn. residue, vacuum distn. lights, Baseoil - unspecified [A complex combination of hydrocarbons obtained as first runnings from the vacuum distillation of effluents from the catalytic hydrotreatment of a solvent deasphalted short residue having a viscosity of 8cSt at approximately 100 °C (212 °F). It consists predominantly of hydrocarbons having carbon numbers predominantly in the range of C17 through C40 and boiling in the range of approximately 300 °C to 500 °C (592 °F to 932 °F).]","Ja",null,null,null,null,null,null,null,"2013-12-02",20]
["64741-97-5","265-098-1","Basisolie - niet gespecifieerd Een complexe verzameling koolwaterstoffen die wordt verkregen als het raffinaat uit een solventextractieproces. Bestaat uit koolwaterstoffen overwegend C15 tot en met C30, en vormt een voltooide olie met een viscositeit die kleiner is dan 19 cSt bij 40°C. Bevat relatief weinig normale paraffinen. destillaten (aardolie), solventgeraffineerde lichte nafteenhoudende","Distillates (petroleum), solvent-refined light naphthenic, Baseoil - unspecified [A complex combination of hydrocarbons obtained as the raffinate from a solvent extraction process. It consists of hydrocarbons having carbon numbers predominantly in the range of C15 through C30 and produces a finished oil with a viscosity of less than 100 SUS at 100 °F (19cSt at 40 °C). It contains relatively few normal paraffins.]","Ja",null,null,null,null,null,null,null,"2013-12-02",20]
["64742-45-6","265-147-7","Basisolie - niet gespecifieerd Een complexe verzameling koolwaterstoffen die wordt verkregen door behandeling van een aardoliefractie met een natuurlijke of gemodificeerde klei in een contact- of en filtratieproces waarbij sporen van polaire verbindingen en aanwezige onzuiverheden worden verwijderd. Bestaat uit koolwaterstoffen overwegend C15 tot en met C30, en vormt een voltooide olie met een viscositeit die kleiner is dan 19 cSt bij 40°C. Bevat relatief weinig normale paraffinen. destillaten (aardolie), met klei behandelde lichte nafteenhoudende","Distillates (petroleum), clay-treated light naphthenic, Baseoil - unspecified [A complex combination of hydrocarbons resulting from treatment of a petroleum fraction with natural or modified clay in either a contacting or percolation process to remove the trace amounts of polar compounds and impurities present. It consists of hydrocarbons having carbon numbers predominantly in the range of C15 through C30 and produces a finished oil with a viscosity of less than 100 SUS at 100 °F (19cSt at 40 °C). It contains relatively few normal paraffins.]","Ja",null,null,null,null,null,null,null,"2013-12-02",20]
["90640-94-1","292-616-3","Basisolie - niet gespecifieerd Een complexe verzameling koolwaterstoffen die wordt verkregen door behandeling van van was ontdaan zwaar paraffinehoudend destillaat met een neutrale of gemodificeerde klei in een contact- of een filtratieproces. Bestaat voornamelijk uit koolwaterstoffen overwegend C20 tot en met C50. destillaten (aardolie), met solvent van was ontdane zware paraffinehoudende, met klei behandeld","Distillates (petroleum), solvent dewaxed heavy paraffinic, clay-treated, Baseoil - unspecified [A complex combination of hydrocarbons obtained by treating dewaxed heavy paraffinic distillate with neutral or modified clay in either a contacting or percolation process. It consists predominantly of hydrocarbons having carbon numbers predominantly in the range of C20 through C50.]","Ja",null,null,null,null,null,null,null,"2013-12-02",20]
["64742-37-6","265-138-8","Basisolie - niet gespecifieerd Een complexe verzameling koolwaterstoffen die wordt verkregen door de behandeling van een aardoliefractie met een natuurlijke of gemodificeerde klei in een contact- of een filtratieproces waarbij sporen van polaire verbindingen en aanwezige onzuiverheden worden verwijderd. Bestaat uit koolwaterstoffen overwegend C15 tot en met C30, en vormt een voltooide olie met een viscositeit die kleiner is dan 19 cSt bij 40°C. Bevat een relatief grote hoeveelheid verzadigde koolwaterstoffen. destillaten (aardolie), met klei behandelde lichte paraffinehoudende","Distillates (petroleum), clay-treated light paraffinic, Baseoil - unspecified [A complex combination of hydrocarbons resulting from treatment of a petroleum fraction with natural or modified clay in either a contacting or percolation process to remove the trace amounts of polar compounds and impurities present. It consists of hydrocarbons having carbon numbers predominantly in the range of C15 through C30 and produces a finished oil with a viscosity of less than 100 SUS at 100 °F (19cSt at 40 °C). It contains a relatively large proportion of saturated hydrocarbons.]","Ja",null,null,null,null,null,null,null,"2013-12-02",20]
["64742-36-5","265-137-2","Basisolie - niet gespecifieerd Een complexe verzameling koolwaterstoffen die wordt verkregen door de behandeling van een aardoliefractie met natuurlijke of gemodificeerde klei in een contact- of een filtratieproces waarbij sporen van polaire verbindingen en aanwezige onzuiverheden worden verwijderd. Bestaat uit koolwaterstoffen overwegend C20 tot en met C50, en vormt een voltooide olie met een viscositeit die minstens 19 cSt is bij 40°C. Bevat een relatief grote hoeveelheid verzadigde koolwaterstoffen. destillaten (aardolie), met klei behandelde zware paraffinehoudende","Distillates (petroleum), clay-treated paraffinic, Baseoil - unspecified [A complex combination of hydrocarbons resulting from treatment of a petroleum fraction with natural or modified clay in either a contacting or percolation process to remove the trace amounts of polar compounds and impurities present. It consists of hydrocarbons having carbon numbers predominantly in the range of C20 through C50 and produces a finished oil with a viscosity of at least 100 SUS at 100 °F (19cSt at 40 °C). It contains a relatively large proportion of saturated hydrocarbons.]","Ja",null,null,null,null,null,null,null,"2013-12-02",20]
["91995-54-9","295-316-0","Basisolie - niet gespecifieerd Een complexe verzameling koolwaterstoffen die wordt verkregen door de behandeling van een aardoliefractie met waterstof in aanwezigheid van een katalysator en verwijdering van de aromatische koolwaterstoffen door solventextractie. Bestaat voornamelijk uit naftenische koolwaterstoffen overwegend C15 tot en met C30 en vormt een voltooide olie met een viscositeit tussen 13 en 15 cSt bij 40°C. destillaten (aardolie), solventgeraffineerde nafteenhoudende lichte, waterstofbehandeld","Distillates (petroleum), solvent-refined light naphthenic, hydrotreated, Baseoil - unspecified [A complex combination of hydrocarbons obtained by treating a petroleum fraction with hydrogen in the presence of a catalyst and removing the aromatic hydrocarbons by solvent extraction. It consists predominantly of naphthenic hydrocarbons having carbon numbers predominantly in the range of C15 through C30 and produces a finished oil with a viscosity of between 13-15cSt at 40 °C.]","Ja",null,null,null,null,null,null,null,"2013-12-02",20]
["64742-53-6","265-156-6","Basisolie - niet gespecifieerd Een complexe verzameling koolwaterstoffen die wordt verkregen door de behandeling van een aardoliefractie met waterstof in de aanwezigheid van een katalysator. Bestaat uit koolwaterstoffen overwegend C15 tot en met C30, en vormt een voltooide olie met een viscositeit die kleiner is dan 19 cSt bij 40°C. Bevat relatief weinig normale paraffinen. destillaten (aardolie), met waterstof behandelde lichte nafteenhoudende","Distillates (petroleum), hydrotreated light naphthenic, Baseoil - unspecified [A complex combination of hydrocarbons obtained by treating a petroleum fraction with hydrogen in the presence of a catalyst. It consists of hydrocarbons having carbon numbers predominantly in the range of C15 through C30 and produces a finished oil with a viscosity of less than 100 SUS at 100 °F (19cSt at 40 °C). It contains relatively few normal paraffins.]","Ja",null,null,null,null,null,null,null,"2013-12-02",20]
["64742-55-8","265-158-7","Basisolie - niet gespecifieerd Een complexe verzameling koolwaterstoffen die wordt verkregen door de behandeling van een aardoliefractie met waterstof in de aanwezigheid van een katalysator. Bestaat uit koolwaterstoffen overwegend C15 tot en met C30, en vormt een voltooide olie met een viscositeit die kleiner is dan 19cSt bij 40°C. Bevat een relatief grote hoeveelheid verzadigde koolwaterstoffen. destillaten (aardolie), met waterstof behandelde lichte paraffinehoudende","Distillates (petroleum), hydrotreated light paraffinic, Baseoil - unspecified [A complex combination of hydrocarbons obtained by treating a petroleum fraction with hydrogen in the presence of a catalyst. It consists of hydrocarbons having carbon numbers predominantly in the range of C15 through C30 and produces a finished oil with a viscosity of less than 100 SUS at 100 °F (19cSt at 40 °C). It contains a relatively large proportion of saturated hydrocarbons.]","Ja",null,null,null,null,null,null,null,"2013-12-02",20]
["64742-54-7","265-157-1","Basisolie - niet gespecifieerd Een complexe verzameling koolwaterstoffen die wordt verkregen door de behandeling van een aardoliefractie met waterstof in de aanwezigheid van een katalysator. Bestaat uit koolwaterstoffen overwegend C20 tot en met C50, en vormt een voltooide olie met een viscositeit die minstens 19 cSt is bij 40°C. Bevat een relatief grote hoeveelheid verzadigde koolwaterstoffen. destillaten (aardolie), met waterstof behandelde zware paraffinehoudende","Distillates (petroleum), hydrotreated heavy paraffinic, Baseoil - unspecified [A complex combination of hydrocarbons obtained by treating a petroleum fraction with hydrogen in the presence of a catalyst. It consists of hydrocarbons having carbon numbers predominantly in the range of C20 through C50 and produces a finished oil of at least 100 SUS at 100 °F (19cSt at 40 °C). It contains a relatively large proportion of saturated hydrocarbons.]","Ja",null,null,null,null,null,null,null,"2013-12-02",20]
["64742-52-5","265-155-0","Basisolie - niet gespecifieerd Een complexe verzameling koolwaterstoffen die wordt verkregen door de behandeling van een aardoliefractie met waterstof in de aanwezigheid van een katalysator. Bestaat uit koolwaterstoffen overwegend C20 tot en met C50, en vormt een voltooide olie met een viscositeit die minstens 19 cSt is bij 40°C. Bevat relatief weinig normale paraffinen. destillaten (aardolie), met waterstof behandelde zware nafteenhoudende","Distillates (petroleum), hydrotreated heavy naphthenic, Baseoil - unspecified [A complex combination of hydrocarbons obtained by treating a petroleum fraction with hydrogen in the presence of a catalyst. It consists of hydrocarbons having carbon numbers predominantly in the range of C20 through C50 and produces a finished oil of at least 100 SUS at 100 °F (19cSt at 40 °C). It contains relatively few normal paraffins.]","Ja",null,null,null,null,null,null,null,"2013-12-02",20]
["97488-74-9","307-011-2","Basisolie - niet gespecifieerd Een complexe verzameling koolwaterstoffen die wordt verkregen door de behandeling van een gehydrogeneerd aardoliedestillaat met een solvent. Bestaat voornamelijk uit koolwaterstoffen overwegend C19 tot en met C40, met een kooktraject van ongeveer 390°C tot 550°C. destillaten (aardolie), solventgezuiverde gehydrogeneerde zware fractie","Distillates (petroleum), solvent-refined hydrogenated heavy, Baseoil - unspecified [A complex combination of hydrocarbons, obtained by the treatment of a hydrogenated petroleum distillate with a solvent. It consists predominantly of hydrocarbons having carbon numbers predominantly in the range of C19 through C40 and boiling in the range of approximately 390 °C to 550 °C (734 °F to 1022 °F).]","Ja",null,null,null,null,null,null,null,"2013-12-02",20]
["100684-38-6","309-711-3","Basisolie - niet gespecifieerd Een complexe verzameling koolwaterstoffen die wordt verkregen door de behandeling van met solvent van was ontdane residu-oliën uit aardolie met bleekaarde teneinde sporen van polaire bestanddelen en onzuiverheden te verwijderen. residu-oliën (aardolie), behandeld met klei en met solvent van was ontdaan","Residual oils (petroleum), clay-treated solvent-dewaxed, Baseoil - unspecified [A complex combination of hydrocarbons obtained by treatment of solvent-dewaxed petroleum residual oils with bleaching earth for the removal of trace polar constituents and impurities.]","Ja",null,null,null,null,null,null,null,"2013-12-02",20]
["100684-37-5","309-710-8","Basisolie - niet gespecifieerd Een complexe verzameling koolwaterstoffen die wordt verkregen door de behandeling van met solvent van was ontdane residu-oliën uit aardolie met geactiveerde kool teneinde sporen van polaire bestanddelen en onzuiverheden te verwijderen. residu-oliën (aardolie), behandeld met koolstof en met solvent van was ontdaan","Residual oils (petroleum), carbon-treated solvent-dewaxed, Baseoil - unspecified [A complex combination of hydrocarbons obtained by the treatment of solvent-dewaxed petroleum residual oils with activated charcoal for the removal of trace polar constituents and impurities.]","Ja",null,null,null,null,null,null,null,"2013-12-02",20]
["97488-73-8","307-010-7","Basisolie - niet gespecifieerd Een complexe verzameling koolwaterstoffen die wordt verkregen door de solventbehandeling van een distillaat van met waterstofgekraakte aardolie destillaten. Bestaat voornamelijk uit koolwaterstoffen overwegend C18 tot en met C27, met een kooktraject van ongeveer 370°C tot 450°C. destillaten (aardolie), waterstofgekraakte solventgezuiverde lichte fractie","Distillates (petroleum), hydrocracked solvent-refined light, Baseoil - unspecified [A complex combination of hydrocarbons obtained by the solvent treatment of a distillate from hydrocracked petroleum distillates. It consists predominantly of hydrocarbons having carbon numbers predominantly in the range of C18 through C27 and boiling in the range of approximately 370 °C to 450 °C (698 °F to 842 °F.]","Ja",null,null,null,null,null,null,null,"2013-12-02",20]
["64742-56-9","265-159-2","Basisolie - niet gespecifieerd Een complexe verzameling koolwaterstoffen die wordt verkregen door de verwijdering van normale paraffinen uit een aardolie-fractie door solventkristallisatie. Bestaat uit koolwaterstoffen overwegend C15 tot en met C30, en vormt een voltooide olie met een viscositeit die kleiner is dan 19 cSt bij 40°C . destillaten (aardolie), met solvent van was ontdane lichte paraffinehoudende","Distillates (petroleum), solvent-dewaxed light paraffinic, Baseoil - unspecified [A complex comination of hydrocarbons obtained by removal of normal paraffins from a petroleum fraction by solvent crystallization. It consists predominantly of hydrocarbons having carbon numbers predominantly in the range of C15 through C30 and produces a finished oil with a viscosity of less than 100 SUS at 100 °F (19cSt at 40 °C).]","Ja",null,null,null,null,null,null,null,"2013-12-02",20]
["92061-86-4","295-499-7","Basisolie - niet gespecifieerd Een complexe verzameling koolwaterstoffen die wordt verkregen door de verwijdering van paraffinen met solvent uit het residu van de destillatie van met zuur behandelde, met waterstof gekraakte zware paraffinen kokend ongeveer boven 380°C. residu-oliën (aardolie), met waterstof gekraakt met zuur behandeld met solvent van was ontdaan","Residual oils (petroleum), hydrocracked acid-treated solvent-dewaxed, Baseoil - unspecified [A complex combination of hydrocarbons produced by solvent removal of paraffins from the residue of the distillation of acid-treated, hydrocracked heavy paraffins and boiling approximately above 380 °C (716 °F).]","Ja",null,null,null,null,null,null,null,"2013-12-02",20]
["97722-10-6","307-760-5","Basisolie - niet gespecifieerd Een complexe verzameling koolwaterstoffen die wordt verkregen door extractie van de aromaten uit een licht naftenisch destillaat met een viscositeit van 16cSt bij 40°C. Bestaat voornamelijk uit koolwaterstoffen overwegend C14 tot en met C29, met een kooktraject van ongeveer 250°C tot 425°C. koolwaterstoffen C14-19-, solvent-geëxtraheerde lichte naftenische","Hydrocarbons, C14-29, solvent-extd. light naphthenic, Baseoil - unspecified [A complex combination of hydrocarbons obtained by extraction of the aromatics from a light naphthenic distillate having a viscosity of 16cSt at 40 °C (104 °F). It consists predominantly of hydrocarbons having carbon numbers predominantly in the range of C14 through C29 and boiling in the range of approximately 250 °C to 425 °C (482 °F to 797 °F).]","Ja",null,null,null,null,null,null,null,"2013-12-02",20]
["97722-09-3","307-758-4","Basisolie - niet gespecifieerd Een complexe verzameling koolwaterstoffen die wordt verkregen door extractie van de aromaten uit een licht naftenisch destillaat met een viscositeit van 9,5 cSt bij 40°C. Bestaat voornamelijk uit koolwaterstoffen overwegend C13 tot en met C27, met een kooktraject van ongeveer 240°C tot 400°C. koolwaterstoffen C13-27-, solvent-geëxtraheerde lichte naftenische","Hydrocarbons, C13-27, solvent-extd. light naphthenic, Baseoil - unspecified [A complex combination of hydrocarbons obtained by extraction of the aromatics from a light naphthenic distillate having a viscosity of 9.5cSt at 40 °C (104 °F). It consists predominantly of hydrocarbons having carbon numbers predominantly in the range of C13 through C27 and boiling in the range of approximately 240 °C to 400 °C (464 °F to 752 °F.]","Ja",null,null,null,null,null,null,null,"2013-12-02",20]
["90640-92-9","292-614-2","Basisolie - niet gespecifieerd Een complexe verzameling koolwaterstoffen die wordt verkregen door het verwijderen van was uit een licht paraffinehoudend destillaat. Bestaat voornamelijk uit koolwaterstoffen overwegend C12 tot en met C30 en vormt een voltooide olie met een viscositeit kleiner dan 19 cSt bij 40°C. Bevat relatief weinig normale paraffinen. destillaten (aardolie), complexe van was ontdane lichte paraffinehoudende","Distillates (petroleum), complex dewaxed light paraffinic, Baseoil - unspecified [A complex combination of hydrocarbons obtained by dewaxing light paraffinic distillate. It consists predominantly of hydrocarbons having carbon numbers predominantly in the range of C12 through C30 and produces a finished oil with a viscosity of less than 100 SUS at 100 °F (19cSt at 40 °C). It contains relatively few normal paraffins.]","Ja",null,null,null,null,null,null,null,"2013-12-02",20]
["90640-91-8","292-613-7","Basisolie - niet gespecifieerd Een complexe verzameling koolwaterstoffen die wordt verkregen door het verwijderen van was uit een zwaar paraffinehoudend destillaat. Bestaat voornamelijk uit koolwaterstoffen overwegend C20 tot en met C50 en vormt een voltooide olie met een viscositeit groter dan of gelijk aan 19 cSt bij 40°C. Bevat relatief weinig normale paraffinen. destillaten (aardolie), complexe van was ontdane zware paraffinehoudende","Distillates (petroleum), complex dewaxed heavy paraffinci, Baseoil - unspecified [A complex combination of hydrocarbons obtained by dewaxing heavy paraffinic distillate. It consists predominantly of hydrocarbons having carbon numbers predominantly in the range of C20 through C50 and produces a finished oil with a viscosity of equal to or greater than 100 SUS at 100 °F (19cSt at 40 °C). It contains relatively few normal paraffins.]","Ja",null,null,null,null,null,null,null,"2013-12-02",20]
["93572-43-1","297-474-6","Basisolie - niet gespecifieerd Een complexe verzameling koolwaterstoffen die wordt verkregen door raffinage van ruwe olie. Bestaat voornamelijk uit aromaten naftenen en paraffinen en vormt een voltooide olie met een viscositeit van 23cSt bij 40°C. smeeroliën (aardolie), basisoliën paraffine-houdende","Lubricating oils (petroleum), base oils, paraffinic, Baseoil - unspecified [A complex combination of hydrocarbons obtained by refining of crude oil. It consists predominantly of aromatics, naphthenics and paraffinics and produces a finished oil with a viscosity of 120 SUS at 100 °F (23cSt at 40 °C).]","Ja",null,null,null,null,null,null,null,"2013-12-02",20]
["101316-70-5","309-875-6","Basisolie - niet gespecifieerd Een complexe verzameling koolwaterstoffen die wordt verkregen door solventextractie en hydrogenering van atmosferische destillatieresiduen. Bestaat voornamelijk uit koolwaterstoffen overwegend C17 tot en met C32 en vormt een voltooide olie met een viscositeit van 17cSt tot 23cSt bij 40°C. smeeroliën (aardolie), C17-32-, solventgeëxtraheerd van was ontdaan gehydrogeneerd","Lubricating oils (petroleum), C17-32, solvent-extd., dewaxed, hydrogenated, Baseoil - unspecified [A complex combination of hydrocarbons obtained by solvent extraction and hydrogenation of atmospheric distillation residues. It consists predominantly of hydrocarbons having carbon numbers predominantly in the range of C17 through C32 and produced a finished oil with a viscosity in the order of 17cSt to 23cSt at 40 °C (104 °F.]","Ja",null,null,null,null,null,null,null,"2013-12-02",20]
["101316-71-6","309-876-1","Basisolie - niet gespecifieerd Een complexe verzameling koolwaterstoffen die wordt verkregen door solventextractie en hydrogenering van atmosferische destillatieresiduen. Bestaat voornamelijk uit koolwaterstoffen overwegend C20 tot en met C35 en vormt een voltooide olie met een viscositeit van 37 cSt tot 44 cSt bij 40°C. smeeroliën (aardolie), C20-35,- solventgeëxtraheerd van was ontdaan gehydrogeneerd","Lubricating oils (petroleum), C20-35, solvent-extd., dewaxed, hydrogenated, Baseoil - unspecified [A complex combination of hydrocarbons obtained by solvent extraction and hydrogenation of atmospheric distillation residues. It consists predominantly of hydrocarbons having carbon numbers predominantly in the range of C20 through C35 and produces a finished oil with a viscosity in the order of 37cSt to 44cSt at 40 °C (104 °F).]","Ja",null,null,null,null,null,null,null,"2013-12-02",20]
["101316-72-7","309-877-7","Basisolie - niet gespecifieerd Een complexe verzameling koolwaterstoffen die wordt verkregen door solventextractie en hydrogenering van residuen van de atmosferische destillatie. Bestaat voornamelijk uit koolwaterstoffen overwegend C24 tot en met C50, en vormt een voltooide olie met een viscositeit tussen 16 cSt en 75 cSt bij 40°C. smeeroliën (aardolie), C24-50, solvent-geëxtraheerd van was ontdaan gehydrogeneerd","Lubricating oils (petroleum), C24-50, solvent-extd., dewaxed, hydrogenated, Baseoil - unspecified [A complex combination of hydrocarbons obtained by solvent extraction and hydrogenation of atmospheric distillation residues. It consists predominantly of hydrocarbons having carbon numbers predominantly in the range of C24 through C50 and produces a finished oil with a viscosity in the order of 16cSt to 75cSt at 40 °C (104 °F).]","Ja",null,null,null,null,null,null,null,"2013-12-02",20]
["101316-69-2","309-874-0","Basisolie - niet gespecifieerd Een complexe verzameling koolwaterstoffen die wordt verkregen door solventextractie en hydrogenering van vacuümdestillatieresiduen. Bestaat voornamelijk uit koolwaterstoffen overwegend groter dan C25 en vormt een voltooide olie met een viscositeit van 32cSt tot 37cSt bij 100°C. smeeroliën (aardolie), C groter dan 25, solventgeëxtraheerd gedeasfalteerd van was ontdaan gehydrogeneerd","Lubricating oils (petroleum), C >25, solvent-extd., deasphalted, dewaxed, hydrogenated, Baseoil - unspecified [A complex combination of hydrocarbons obtained by solvent extraction and hydrogenation of vacuum distillation residues. It consists predominantly of hydrocarbons having carbon numbers predominantly greater than C25 and produces a finished oil with a viscosity in the order of 32cSt to 37cSt at 100 °C (212 °F).]","Ja",null,null,null,null,null,null,null,"2013-12-02",20]
["64742-75-2","265-179-1","Basisolie - niet gespecifieerd Een complexe verzameling koolwaterstoffen die wordt verkregen door verwijdering van niet-vertakte paraffinekoolwaterstoffen als vaste stof door behandeling met een agens zoals ureum. Bestaat uit koolwaterstoffen overwegend C20 tot en met C50, en vormt een voltooide olie met een viscositeit die minstens 19 cSt is bij 40°C. Bevat relatief weinig normale paraffinen. nafteenhoudende oliën (aardolie), complexe van was ontdane zware","Naphthenic oils (petroleum), complex dewaxed heavy, Baseoil - unspecified [A complex combination of hydrocarbons obtained by removing straight chain paraffin hydrocarbons as a solid by treatment with an agent such as urea. It consists of hydrocarbons having carbon numbers predominantly in the range of C20 through C50 and produces a finished oil having a viscosity of at least 100 SUS at 100 °F (19cSt at 40 °C). It contains relatively few normal paraffins.]","Ja",null,null,null,null,null,null,null,"2013-12-02",20]
["64742-63-8","265-167-6","Basisolie - niet gespecifieerd Een complexe verzameling koolwaterstoffen die wordt verkregen door verwijdering van normale paraffinen uit een aardoliefractie door solventkristallisatie. Bestaat uit koolwaterstoffen overwegend C20 tot en met C50, en vormt een voltooide olie met een viscositeit die niet minder is dan 19 cSt bij 40°C. Bevat relatief weinig normale paraffinen. destillaten (aardolie), met solvent van was ontdane zware nafteenhoudende","Distillates (petroleum), solvent-dewaxed heavy naphthenic, Baseoil - unspecified [A complex combination of hydrocarbons obtained by removal of normal paraffins from a petroleum fraction by solvent crystallization. It consists of hydrocarbons having carbon numbers predominantly in the range of C20 . through C50 and produces a finished oil of not less than 100 SUS at 100 °F (19cSt at 40 °C). It contains relatively few normal paraffins.]","Ja",null,null,null,null,null,null,null,"2013-12-02",20]
["64742-65-0","265-169-7","Basisolie - niet gespecifieerd Een complexe verzameling koolwaterstoffen die wordt verkregen door verwijdering van normale paraffinen uit een aardoliefractie door solventkristallisatie. Bestaat voornamelijk uit koolwaterstoffen overwegend C20 tot en met C50, en vormt een voltooide olie met een viscositeit die niet minder is dan 19 cSt bij 40°C. destillaten (aardolie), met solvent van was ontdane paraffinehoudende","Distillates (petroleum), solvent-dewaxed heavy paraffinic, Baseoil - unspecified [A complex combination of hydrocarbons obtained by removal of normal paraffins from a petroleum fraction by solvent crystallization. It consists predominantly of hydrocarbons having carbon numbers predominantly in the range of C20 through C50 and produces a finished oil with a viscosity not less than 100 SUS at 100 °F (19cSt at 40 °C).]","Ja",null,null,null,null,null,null,null,"2013-12-02",20]
["91995-39-0","295-300-3","Basisolie - niet gespecifieerd Een complexe verzameling koolwaterstoffen die wordt verkregen uit de intensieve behandeling van een van was ontdaan destillaat door hydrogenering in de aanwezigheid van een katalysator. Bestaat voornamelijk uit verzadigde koolwaterstoffen overwegend C25 tot en met C39 en vormt een voltooide olie met een viscositeit van ongeveer 44 cSt bij 50°C. destillaten (aardolie), van was ontdane zware paraffinehoudende, met waterstof behandeld","Distillates (petroleum), dewaxed heavy paraffinic, hydrotreated, Baseoil - unspecified [A complex combination of hydrocarbons obtained from an intensive treatment of dewaxed distillate by hydrogenation in the presence of a catalyst. It consists predominantly of saturated hydrocarbons having carbon numbers predominantly in the range of C25 through C39 and produces a finished oil with a viscosity of approximately 44 cSt at 50 °C.]","Ja",null,null,null,null,null,null,null,"2013-12-02",20]
["91995-40-3","295-301-9","Basisolie - niet gespecifieerd Een complexe verzameling koolwaterstoffen die wordt verkregen uit een intensieve behandeling van een van was ontdaan destillaat door hydrogenering in de aanwezigheid van een katalysator. Bestaat voornamelijk uit verzadigde koolwaterstoffen overwegend C21 tot en met C29 en vormt een voltooide olie met een viscositeit van ongeveer 13 cSt bij 50°C. destillaten (aardolie), van was ontdane paraffinehoudende lichte, met waterstof behandeld","Distillates (petroleum), dewaxed light paraffinic, hydrotreated, Baseoil - unspecified [A complex combination of hydrocarbons obtained from an intensive treatment of dewaxed distillate by hydrogenation in the presence of a catalyst. It consists predominantly of saturated hydrocarbons having carbon numbers predominantly in the range of C21 through C29 and produces a finished oil with a viscosity of approximately 13 cSt at 50 °C.]","Ja",null,null,null,null,null,null,null,"2013-12-02",20]
["64742-69-4","265-173-9","Basisolie - niet gespecifieerd Een complexe verzameling koolwaterstoffen die wordt verkregen uit een katalytisch wasverwijderend proces. Bestaat uit koolwaterstoffen overwegend C15 tot en met C30, en vormt een voltooide olie met een viscositeit die kleiner is dan 19 cSt bij 40°C. Bevat relatief weinig normale paraffinen. nafteenhoudende oliën (aardolie), katalytisch van was ontdane lichte","Naphthenic oils (petroleum), catalytic dewaxed light, Baseoil - unspecified [A complex combination of hydrocarbons obtained from a catalytic dewaxing process. It consists of hydrocarbons having carbon numbers predominantly in the range of C15 through C30 and produces a finished oil with a viscosity less than 100 SUS at 100 °F (19cSt at 40 °C). It contains relatively few normal paraffins.]","Ja",null,null,null,null,null,null,null,"2013-12-02",20]
["64742-70-7","265-174-4","Basisolie - niet gespecifieerd Een complexe verzameling koolwaterstoffen die wordt verkregen uit een katalytisch wasverwijderend proces. Bestaat uit koolwaterstoffen overwegend C20 tot en met C50, en vormt een voltooide olie met een viscositeit die minstens 19 cSt is bij 40°C. paraffinehoudende oliën (aardolie), katalytisch van was ontdane zware","Paraffin oils (petroleum), catalytic dewaxed heavy, Baseoil - unspecified [A complex combination of hydrocarbons obtained from a catalytic dewaxing process. It consists predominantly of hydrocarbons having carbon numbers predominantly in the range of C20 through C50 and produces a finished oil with a viscosity of at least 100 SUS at 100 °F (19cSt at 40 °C).]","Ja",null,null,null,null,null,null,null,"2013-12-02",20]
["64742-71-8","265-176-5","Basisolie - niet gespecifieerd Een complexe verzameling koolwaterstoffen die wordt verkregen uit een katalytisch wasverwijderend proces. Bestaat voornamelijk uit koolwaterstoffen overwegend C15 tot en met C30, en vormt een voltooide olie met een viscositeit die kleiner is dan 19 cSt bij 40°C. paraffineoliën (aardolie), katalytisch van was ontdane lichte","Paraffin oils (petroleum), catalytic dewaxed light, Baseoil - unspecified [A complex combination of hydrocarbons obtained from a catalytic dewxing process. It consists predominantly of hydrocarbons having carbon numbers predominantly in the range of C15 through C30 and produces a finished oil with a viscosity of less than 100 SUS at 100 °F (19cSt at 40 °C).]","Ja",null,null,null,null,null,null,null,"2013-12-02",20]
["64742-68-3","265-172-3","Basisolie - niet gespecifieerd Een complexe verzameling koolwaterstoffen die wordt verkregen uit een katalytisch wasverwijderend proces. Bestaat voornamelijk uit koolwaterstoffen overwegend C20 tot en met C50, en vormt een voltooide olie met een viscositeit die minstens 19 cSt is bij 40°C. Bevat relatief weinig normale paraffinen. nafteenhoudende oliën (aardolie), katalytisch van was ontdane zware","Naphthenic oils (petroleum), catalytic dewaxed heavy, Baseoil - unspecified [A complex combination of hydrocarbons obtained from a catalytic dewaxing process. It consists predominantly of hydrocarbons having carbon numbers predominantly in the range of C20 through C50 and produces a finished oil with a viscosity of at least 100 SUS at 100 °F (19cSt at 40 °C). It contains relatively few normal paraffins.]","Ja",null,null,null,null,null,null,null,"2013-12-02",20]
["64742-76-3","265-180-7","Basisolie - niet gespecifieerd Een complexe verzameling koolwaterstoffen die wordt verkregen uit een katalytisch wasverwijderingsproces. Bestaat uit koolwaterstoffen overwegend C15 tot en met C30, en vormt een voltooide olie met een viscositeit lager dan 19 cSt bij 40°C. Bevat naar verhouding weinig gewone paraffinen. nafteenoliën (aardolie), complexe van was ontdane lichte","Naphthenic oils (petroleum), complex dewaxed light, Baseoil - unspecified [A complex combination of hydrocarbons obtained from a catalytic dewaxing process. It consists of hydrocarbons having carbon numbers predominantly in the range of C15 through C30 and produces a finished oil having a viscosity less than 100 SUS at 100 °F (19cSt at 40 °C). It contains relatively few normal paraffins.]","Ja",null,null,null,null,null,null,null,"2013-12-02",20]
["74869-22-0","278-012-2","Basisolie - niet gespecifieerd Een complexe verzameling koolwaterstoffen die wordt verkregen uit solventextractie- en wasverwijderingsprocessen. Bestaat voornamelijk uit verzadigde C15-50-koolwaterstoffen. smeeroliën","Lubricating oils, Baseoil - unspecified [A complex combination of hydrocarbons obtained from solvent extraction and dewaxing processes. It consists predominantly of saturated hydrocarbons having carbon numbers in the range C15 through C50.]","Ja",null,null,null,null,null,null,null,"2013-12-02",20]
["92129-09-4","295-810-6","Basisolie - niet gespecifieerd Een complexe verzameling koolwaterstoffen die wordt verkregen uit zwavelhoudende paraffinehoudende ruwe olie. Bestaat voornamelijk uit een solvent-geraffineerde gedeparaffineerde smeerolie met een viscositeit van 65 cSt bij 50°C. paraffineoliën (aardolie), solvent-geraffineerde van was ontdane zware","Paraffin oils (petroleum), solvent-refined dewaxed heavy, Baseoil - unspecified [A complex combination of hydrocarbons obtained from sulfur-containing paraffinic crude oil. It consists predominantly of a solvent refined deparaffinated lubricating oil with a viscosity of 65cSt at 50 °C.]","Ja",null,null,null,null,null,null,null,"2013-12-02",20]
["64742-01-4","265-101-6","Basisolie - niet gespecifieerd Een complexe verzameling koolwaterstoffen verkregen als de in solvent onoplosbare fractie van solvent-raffinering van een residu met behulp van een polair organische solvent zoals fenol of furfural. Bestaat uit koolwaterstoffen overwegend groter dan C25, kokend boven ongeveer 400°C. residu-oliën (aardolie), solvent-geraffineerd","Residual oils (petroleum,) solvent-refined, Baseoil - unspecified [A complex combination by hydrocarbons obtained as the solvent insoluble fraction from solvent refining of a residuum using a polar organic solvent such as phenol or furfural. It consists of hydrocarbons having carbon numbers predominantly higher than C25 and boiling above approximately 400 °C (752 °F).]","Ja",null,null,null,null,null,null,null,"2013-12-02",20]
["64741-95-3","265-096-0","Basisolie - niet gespecifieerd Een complexe verzameling koolwaterstoffen verkregen als de solvent-oplosbase fractie bij het C3-C4-solvent-deasfalteren van een residu. Bestaat uit koolwaterstoffen overwegend groter zijn dan C25 en kokend boven ongeveer 400°C. residuoliën (aardolie), solvent-gedeasfalteerd","Residual oils (petroleum), solvent deasphalted, Baseoil - unspecified [A complex combination of hydrocarbons obtained as the solvent soluble fraction from C3-C4 solvent deasphalting of a residuum. It consists of hydrocarbons having carbon numbers predominantly higher than C25 and boiling above approximately 400 °C (752 °F).]","Ja",null,null,null,null,null,null,null,"2013-12-02",20]
["64741-89-5","265-091-3","Basisolie - niet gespecifieerd Een complexe verzameling koolwaterstoffen verkregen als het raffinaat uit een solventextractieproces. Bestaat voornamelijk uit verzadigde koolwaterstoffen overwegend C15 tot en met C30, en vormt een voltooide olie met een viscositeit van minstens 19 cSt bij 40°C. destillaten (aardolie), solventgeraffineerde lichte paraffinehoudende","Distillates (petroleum), solvent-refined light paraffinic, Baseoil - unspecified [A complex combination of hydrocarbons obtained as the raffinate from a solvent extraction process. It consists predominantly of saturated hydrocarbons having carbon numbers predominantly in the range of C15 through C30 and produces a finished oil with a viscosity of less than 100 SUS at 100 °F (19cSt at 40 °C).]","Ja",null,null,null,null,null,null,null,"2013-12-02",20]
["64741-96-4","265-097-6","Basisolie - niet gespecifieerd Een complexe verzameling koolwaterstoffen verkregen als het raffinaat van een solventextractieproces. Bestaat uit koolwaterstoffen overwegend C20 tot en met C50 en levert een voltooide olie met een viskositeit van minstens 19 cSt bij 40°C. Bevat relatief weinig normale paraffinen. destillaten (aardolie), met solvent geraffineerde zware nafteenhoudende fractie","Distillates (petroleum), solvent-refined heavy naphthenic, Baseoil - unspecified [A complex combination of hydrocarbons obtained as the raffinate from a solvent extraction process. It consists of hydrocarbons having carbon numbers predominantly in the range of C20 through C50 and produces a finished oil with a viscosity of at least 100 SUS at 100 °F (19cSt a 40 °C). It contains relatively few normal paraffins.]","Ja",null,null,null,null,null,null,null,"2013-12-02",20]
["64741-88-4","265-090-8","Basisolie - niet gespecifieerd Een complexe verzameling koolwaterstoffen verkregen als het raffinaat van een solvent-extractieproces. Bestaat voornamelijk uit verzadigde koolwaterstoffen overwegend C20 tot en met C50, en vormt een voltooide olie met een viscositeit van minstens 19 cSt bij 40°C. destillaten (aardolie), solvent-geraffineerde zware paraffinische","Distillates (petroleum), solvent-refined heavy paraffinic, Baseoil - unspecified [A complex combination of hydrocarbons obtained as the raffinate from a solvent extraction process. It consists predominantly of saturated hydrocarbons having carbon numbers predominantly in the range of C20 through C50 and produces a finished oil with a viscosity of at least 100 SUS at 100 °F (19cSt at 40 °C).]","Ja",null,null,null,null,null,null,null,"2013-12-02",20]
["64742-57-0","265-160-8","Basisolie - niet gespecifieerd Een complexe verzameling koolwaterstoffen verkregen door behandeling van een aardoliefractie met waterstof in de aanwezigheid van een katalysator. Bestaat uit koolwaterstoffen overwegend groter dan C25, kokend boven ongeveer 400°C. residu-oliën (aardolie), met waterstof behandeld","Residual oils (petroleum), hydrotreated, Baseoil - unspecified [A complex combination of hydrocarbons obtained by treating a petroleum fraction with hydrogen in the presence of a catalyst. It consists of hydrocarbons having carbon numbers predominantly greater than C25 and boiling above approximately 400 °C (752 °F).]","Ja",null,null,null,null,null,null,null,"2013-12-02",20]
["64742-41-2","265-143-5","Basisolie - niet gespecifieerd Een complexe verzameling koolwaterstoffen verkregen door behandeling van een residu-olie met een natuurlijke of gemodificeerde klei in een contact- of een filtratieproces om sporen von polaire verbindingen en aanwezige onzuiverheden te verwijderen. Bestaat uit koolwaterstoffen overwegend groter dan C25, kokend boven ongeveer 400°C. residu-oliën (aardolie), met klei behandeld","Residual oils (petroleum), clay-treated, Baseoil - unspecified [A complex combination of hydrocarbons obtained by treatment of a residual oil with a natural or modified clay in either a contacting or percolation process to remove the trace amounts of polar compounds and impurities present. It consists of hydro-carbons having carbon numbers predominantly higher than C25 and boiling above approximately 400 °C (752 °F).]","Ja",null,null,null,null,null,null,null,"2013-12-02",20]
["72623-86-0","276-737-9","Basisolie - niet gespecifieerd Een complexe verzameling koolwaterstoffen verkregen door de behandeling van lichte vacuümgasolie en zware vacuümgasolie met waterstof in de aanwezigheid van een katalysator in een proces met twee fasen met tussen de fasen in verwijdering van was. Bestaat voornamelijk uit koolwaterstoffen overwegend C15 tot en met C30, en vormt een voltooide olie met een viscositeit van ongeveer 15 cSt bij 40°C. Bevat een relatief grote hoeveelheid verzadigde koolwaterstoffen. smeeroliën (aardolie), C15-30-, met waterstof behandelde uit neutrale olie verkregen","Lubricating oils (petroleum), C15-30, hydrotreated neutral oil-based, Baseoil - unspecified [A complex combination of hydrocarbons obtained by treating light vacuum gas oil and heavy vacuum gas oil with hydrogen in the presence of a catalyst in a two stage process with dewaxing being carried out between the two stages. It consists predominantly of hydrocarbons having carbon numbers predominantly in the range of C15 through C30 and produces a finished oil having a viscosity of approximately 15cSt at 40 °C. It contains a relatively large proportion of saturated hydrocabons.]","Ja",null,null,null,null,null,null,null,"2013-12-02",20]
["72623-85-9","276-736-3","Basisolie - niet gespecifieerd Een complexe verzameling koolwaterstoffen verkregen door de behandeling van lichte vacuümgasolie, zware vacuümgasolie en solvent-gedeasfalteerde residu-olie met waterstof in de aanwezigheid van een katalysator in een proces met twee fasen met tussen de fasen in verwijdering van was. Bestaat voornamelijk uit koolwaterstoffen overwegend C20 tot en met C50, en vormt een voltooide olie met een viscositeit van ongeveer 112 cSt bij 40°C. Bevat een relatief grote hoeveelheid verzadigde koolwaterstoffen. smeeroliën (aardolie), C20-50-, met waterstof behandelde uit neutrale olie verkregen hoge viscositeit","Lubricating oils (petroleum), C20-50, hydrotreated neutral oil-based, high-viscosity, Baseoil - unspecified [A complex combination of hydrocarbons obtained by treating light vacuum gas oil, heavy vacuum gas oil, and solvent deasphalted residual oil with hydrogen in the presence of a catalyst in a two stage process with dewaxing being carried out between the two stages. It consists predominantly of hydrocarbons having carbon numbers predominantly in the range of C20 through C50 and produces a finished oil having a viscosity of approximately 112cSt at 40 °C. It contains a relatively large proportion of saturated hydrocarbons.]","Ja",null,null,null,null,null,null,null,"2013-12-02",20]
["72623-87-1","276-738-4","Basisolie - niet gespecifieerd Een complexe verzameling koolwaterstoffen verkregen door de behandeling van lichte vacuümgasolie, zware vacuümgasolie en solvent-gedeasfalteerde residu-olie met waterstof in de aanwezigheid van een katalysator in twee fasen met tussen de fasen in verwijdering van was. Bestaat voornamelijk uit koolwaterstoffen overwegend C20 tot en met C50 en vormt een voltooide olie met een viscositeit van ongeveer 32 cSt bij 40°C. Bevat een relatief grote hoeveelheid verzadigde koolwaterstoffen. smeeroliën (aardolie), C20-50-, uit met waterstof behandelde neutrale olie verkregen","Lubricating oils (petroleum), C20-50, hydrotreated neutral oil-based, Baseoil - unspecified [A complex combination of hydrocarbons obtained by treating light vacuum gas oil, heavy vacuum gas oil and solvent deasphalted residual oil with hydrogen in the presence of a catalyst in a two stage process with dewaxing being carried out between the two stages. It consists predominantly of hydrocarbons having carbon numbers predominantly in the range of C20 through C50 and produces a finished oil with a viscosity of approximately 32cSt at 40 °C. It contains a relatively large proportion of saturated hydrocarbons.]","Ja",null,null,null,null,null,null,null,"2013-12-02",20]
["94733-16-1","305-595-3","Basisolie - niet gespecifieerd Een complexe verzameling koolwaterstoffen verkregen door de deparaffinering met solvent van het gehydrogeneerde raffinaat dat wordt verkregen door solvent-extractie van een met waterstof behandeld aardoliedestillaat. Bestaat voornamelijk uit koolwaterstoffen overwegend C18 tot en met C40, met een kooktraject van ongeveer 370°C tot 550°C. smeeroliën (aardolie), C18-40-, met solvent van was ontdaan verkregen uit gehydrogeneerd raffinaat","Lubricating oils (petroleum), C18-40, solvent-dewaxed hydrogenated raffinate-based, Baseoil - unspecified [A complex combination of hydrocarbons obtained by solvent deparaffination of the hydrogenated raffinate obtained by solvent extraction of a hydrotreated petroleum distillate. It consists predominantly of hydrocarbons having carbon numbers predominantly in the range of C18 through C40 and boiling in the range of approximately 370 °C to 550 °C (698 °F to 1022 °F).]","Ja",null,null,null,null,null,null,null,"2013-12-02",20]
["64742-62-7","265-166-0","Basisolie - niet gespecifieerd Een complexe verzameling koolwaterstoffen verkregen door de verwijdering van lange koolwaterstoffen met vertakte ketens uit een residu-olie door middel van solventkristallisatie. Bestaat uit koolwaterstoffen overwegend groter dan C25, kokend boven ongeveer 400°C. residu-oliën (aardolie), met solvent van was ontdaan","Residual oils (petroleum), solvent-dewaxed, Baseoil - unspecified [A complex combination of hydrocarbons obtained by removal of long, branched chain hydrocarbons from a residual oil by solvent crystallization. It consists of hydrocarbons having carbon numbers predominantly greater than C25 and boiling above approximately 400 °C (752 °F).]","Ja",null,null,null,null,null,null,null,"2013-12-02",20]
["94733-09-2","305-589-0","Basisolie - niet gespecifieerd Een complexe verzameling koolwaterstoffen verkregen door dearomatisering met solvent van het residu van met waterstof gekraakte aardolie. Bestaat voornamelijk uit koolwaterstoffen overwegend C18 tot en met C27, met een kooktraject van ongeveer 370°C tot 450°C. destillaten (aardolie), met solvent gezuiverd met waterstof gekraakt lichte","Distillates (petroleum), solvent-refined hydrocracked light, Baseoil - unspecified [A complex combination of hydrocarbons obtained by solvent dearomatization of the residue of hydrocracked petroleum. It consists predominantly of hydrocarbons having carbon numbers predominantly in the range of C18 through C27 and boiling in the range of approximately 370 °C to 450 °C (698 °F to 842 °F).]","Ja",null,null,null,null,null,null,null,"2013-12-02",20]
["64741-76-0","265-077-7","Basisolie - niet gespecifieerd Een complexe verzameling koolwaterstoffen verkregen door destillatie van de produkten van een waterstofkraakproces. Bestaat voornamelijk uit verzadigde koolwaterstoffen overwegend C15-C39, met een kooktraject van ongeveer 260°C tot 600°C. destillaten (aardolie), zwaar waterstofgekraakt","Distillates (petroleum), heavy hydrocracked, Baseoil - unspecified [A complex combination of hydrocarbons from the distillation of the products from a hydrocracking process. It consists predominantly of saturated hydrocarbons having carbon numbers in the range of C15-C39 and boiling in the range of approximately 260 °C to 600 °C (500 °F to 1112 °F).]","Ja",null,null,null,null,null,null,null,"2013-12-02",20]
["64742-44-5","265-146-1","Basisolie - niet gespecifieerd Een complexe verzameling koolwaterstoffen verkregen uit de behandeling van een aardoliefractie met een natuurlijke of gemodificeerde klei in een contact- of een filtratieproces waarbij sporen van polaire verbindingen en aanwezige onzuiverheden worden verwijderd. Bestaat uit koolwaterstoffen overwegend C20 tot en met C50, en vormt een voltooide olie met een viscositeit van minstens 19 cSt bij 40°C. Bevat relatief weinig normale paraffinen. destillaten (aardolie), met klei behandeld zware nafteenhoudende fractie","Distillates (petroleum), clay-treated heavy naphthenic, Baseoil - unspecified [A complex combination of hydrocarbons resulting from treatment of a petroleum fraction with natural or modified clay in either a contacting or percolation process to remove the trace amounts of polar compounds and impurities present. It consists of hydrocarbons having carbon numbers predominantly in the range of C20 through C50 and produces a finished oil with a viscosity of at least 100 SUS at 100 °F (19cSt at 40 °C). It contains relatively few normal paraffins.]","Ja",null,null,null,null,null,null,null,"2013-12-02",20]
["91995-45-8","295-306-6","Basisolie - niet gespecifieerd Een complexe verzameling van vloeibare koolwaterstoffen die wordt verkregen door herkristallisatie van van was ontdane waterstofgekraakte solventgeraffineerde aardoliedestillaten. destillaten (aardolie), waterstofgekraakte solventgeraffineerde, van was ontdaan","Distillates (petroleum), hydrocracked solvent-refined, dewaxed, Baseoil - unspecified [A complex combination of liquid hydrocarbons obtained by recrystallization of dewaxed hydrocracked solvent-refined petroleum distillates.]","Ja",null,null,null,null,null,null,null,"2013-12-02",20]
["95371-04-3","305-971-7","Basisolie - niet gespecifieerd koolwaterstoffen C13-30-, rijk aan aromaten met solvent geëxtraheerd naftenisch destillaat","Hydrocarbons, C13-30, arom.-rich, solvent-extd. naphthenic distillate, Baseoil - unspecified","Ja",null,null,null,null,null,null,null,"2013-12-02",20]
["95371-05-4","305-972-2","Basisolie - niet gespecifieerd koolwaterstoffen C16-32-, rijk aan aromaten met solvent geëxtraheerd naftenisch destillaat","Hydrocarbons, C16-32, arom. rich, solvent-extd. naphthenic distillate, Baseoil - unspecified","Ja",null,null,null,null,null,null,null,"2013-12-02",20]
["97862-82-3","308-132-3","Basisolie - niet gespecifieerd koolwaterstoffen C17-30-, met waterstof behandelde destillaten lichte destillatiefracties","Hydrocarbons, C17-30, hydrotreated distillates, distn. lights, Baseoil - unspecified","Ja",null,null,null,null,null,null,null,"2013-12-02",20]
["93924-61-9","300-257-1","Basisolie - niet gespecifieerd koolwaterstoffen C20-50-, residuolie hydrogenering vacuümdestillaat","Hydrocarbons, C20-50, residual oil hydrogenation vacuum distillate, Baseoil - unspecified","Ja",null,null,null,null,null,null,null,"2013-12-02",20]
["97926-70-0","308-289-8","Basisolie - niet gespecifieerd koolwaterstoffen C20-58-, met waterstof behandeld","Hydrocarbons, C20-58, hydrotreated, Baseoil - unspecified","Ja",null,null,null,null,null,null,null,"2013-12-02",20]
["97862-81-2","308-131-8","Basisolie - niet gespecifieerd koolwaterstoffen C27-42-, gedearomatiseerd","Hydrocarbons, C27-42, dearomatized, Baseoil - unspecified","Ja",null,null,null,null,null,null,null,"2013-12-02",20]
["97926-71-1","308-290-3","Basisolie - niet gespecifieerd koolwaterstoffen C27-42-, naftenisch","Hydrocarbons, C27-42, naphthenic, Baseoil - unspecified","Ja",null,null,null,null,null,null,null,"2013-12-02",20]
["97926-68-6","308-287-7","Basisolie - niet gespecifieerd koolwaterstoffen C27-45-, gedearomatiseerd","Hydrocarbons, C27-45, dearomatized, Baseoil - unspecified","Ja",null,null,null,null,null,null,null,"2013-12-02",20]
["97862-83-4","308-133-9","Basisolie - niet gespecifieerd koolwaterstoffen C27-45-, naftenische vacuümdestillatie","Hydrocarbons, C27-45, naphthenic vacuum distn., Baseoil - unspecified","Ja",null,null,null,null,null,null,null,"2013-12-02",20]
["95371-08-7","305-975-9","Basisolie - niet gespecifieerd koolwaterstoffen C37-65-, met waterstof behandelde van asfalt ontdane vacuümdestillatieresiduen","Hydrocarbons, C37-65, hydrotreated deasphalted vacuum distn. residues, Baseoil - unspecified","Ja",null,null,null,null,null,null,null,"2013-12-02",20]
["95371-07-6","305-974-3","Basisolie - niet gespecifieerd koolwaterstoffen C37-68-, van was en asfalt ontdane met waterstof behandelde vacuümdestillatieresiduen","Hydrocarbons, C37-68, dewaxed deasphalted hydrotreated vacuum distn. residues, Baseoil - unspecified","Ja",null,null,null,null,null,null,null,"2013-12-02",20]
["93763-38-3","297-857-8","Basisolie - niet gespecifieerd koolwaterstoffen met waterstof gekraakte paraffine-houdende destillatieresiduen met solvent van was ontdaan","Hydrocarbons, hydrocracked paraffinic distn. residues, solvent-dewaxed, Baseoil - unspecified","Ja",null,null,null,null,null,null,null,"2013-12-02",20]
["90669-74-2","292-656-1","Basisolie - niet gespecifieerd residue-oliën (aardolie), met water behandeld en met oplosmiddel van was ontdaan","Residual oils (petroleum), hydrotreated solvent dewaxed, Baseoil - unspecified","Ja",null,null,null,null,null,null,null,"2013-12-02",20]
["91770-57-9","294-843-3","Basisolie - niet gespecifieerd residu-oliën (aardolie), katalytisch van was ontdaan","Residual oils (petroleum), catalytic dewaxed, Baseoil - unspecified","Ja",null,null,null,null,null,null,null,"2013-12-02",20]
["92045-42-6","295-423-2","Basisolie - niet gespecifieerd smeeroliën (aardolie), C17-35-, solvent-geëxtraheerd van was ontdaan met water behandeld","Lubricating oils (petroleum), C17-35, solvent-extd., dewaxed, hydrotreated, Baseoil - unspecified","Ja",null,null,null,null,null,null,null,"2013-12-02",20]
["97488-95-4","307-034-8","Basisolie - niet gespecifieerd smeeroliën (aardolie), C18-27-, waterstofgekraakt met solvent van was ontdaan","Lubricating oils (petroleum), C18-27, hydrocracked solvent-dewaxed, Baseoil - unspecified","Ja",null,null,null,null,null,null,null,"2013-12-02",20]
["92045-43-7","295-424-8","Basisolie - niet gespecifieerd smeeroliën (aardolie), met waterstof gekraakte niet-aromatische met solvent gedeparaffineerde","Lubricating oils (petroleum), hydrocracked nonarom. solvent-deparaffined, Baseoil - unspecified","Ja",null,null,null,null,null,null,null,"2013-12-02",20]
["64742-64-9","265-168-1","Basolie - niet gespecifieerd Een complexe verzameling koolwaterstoffen die wordt verkregen door verwijdering van normale paraffinen uit een aardoliefractie door solventkristallisatie. Bestaat uit koolwaterstoffen overwegend C15 tot en met C30, en vormt een voltooide olie met een viscositeit die kleiner is dan 19 cSt bij 40°C. Bevat relatief weinig normale paraffinen. destillaten (aardolie), met solvent van was ontdane lichte nafteenhoudende","Distillates (petroleum), solvent-dewaxed light naphthenic, Baseoil - unspecified [A complex combination of hydrocarbons obtained by removal of normal paraffins from a petroleum fraction by solvent crystallization. It consists of hydrocarbons having carbon numbers predominantly in the range C15 through C30 and produces a finished oil with a viscosity of less than 100 SUS at 100 °F (19cSt at 40 °C). It contains relatively few normal paraffins.]","Ja",null,null,null,null,null,null,null,"2013-12-02",20]
["17804-35-2","241-775-7","benomyl","benomyl","Ja",null,null,null,null,"MVP 1","0,15 g/uur","0,05 mg/Nm3","2013-12-02"]
["225-11-6","205-929-7","benz[a]acridine","benz[a]acridine",null,null,null,null,null,"MVP 1","0,15 g/uur","0,05 mg/Nm3","2016-05-27",19]
["225-51-4","205-930-2","benz[c]acridine","benz[c]acridine",null,null,null,null,null,"MVP 1","0,15 g/uur","0,05 mg/Nm3","2016-05-27",19]
["71-43-2","200-753-7","benzeen","benzene","Ja",null,null,null,null,"MVP 2","2,5 g/uur","1 mg/Nm3","2013-12-02"]
["92-87-5","202-199-1","benzidine","benzidine","Ja",null,null,null,null,"MVP 1","0,15 g/uur","0,05 mg/Nm3","2013-12-02",27]
["36341-27-2","252-984-8","benzidine acetaat","benzidine acetate","Ja",null,null,null,null,"MVP 1","0,15 g/uur","0,05 mg/Nm3","2013-12-02",28]
["531-85-1","208-519-6","benzidine dihydrochloride","benzidine dihydrochloride","Ja",null,null,null,null,"MVP 1","0,15 g/uur","0,05 mg/Nm3","2013-12-02",28]
["531-86-2","208-520-1","benzidine sulfaat","benzidine sulfate","Ja",null,null,null,null,"MVP 1","0,15 g/uur","0,05 mg/Nm3","2013-12-02",28]
["93572-29-3","297-458-9","Benzine, C5-11-, gestabiliseerde, gereformde, met hoog octaangehalte, Een complexe verzameling koolwaterstoffen met hoog octaangehalte, verkregen door katalytische dehydrogenering van een overwegend nafteenhoudende nafta. Bestaat voornamelijk uit aromaten en niet-aromaten overwegend C5 tot en met C11, met een kooktraject van ongeveer 45°C tot 185°C. Katalytisch gereformde nafta met laag kookpunt","Gasoline, C5-11, high-octane stabilised reformed, Low boiling point cat-reformed naphtha [A complex high octane combination of hydrocarbons obtained by the catalytic dehydrogenation of a predominantly naphthenic naphtha. It consists predominantly of aromatics and non-aromatics having carbon numbers predominantly in the range of C5 through C11 and boiling in the range of approximately 45°C to 185°C (113°F to 365°F).]","Ja",null,null,null,null,null,null,null,"2013-12-02",20]
["68514-15-8","271-025-4","Benzine, dampterugwinning, Een complexe verzameling koolwaterstoffen door afkoeling afgescheiden van de gassen uit dampterugwinningssystemen. Bestaat uit koolwaterstoffen overwegend C4 tot en met C11, met een kooktraject van ongeveer -20°C tot 196°C. Nafta met laag kookpunt","Gasoline, vapor-recovery, Low boiling point naphtha [A complex combination of hydrocarbons separated from the gases from vapor recovery systems by cooling. It consists of hydrocarbons having carbon numbers predominantly in the range of C4 through C11 and boiling in the range of approximately -20°C to 196°C(-4°F to 384°F).]","Ja",null,null,null,null,null,null,null,"2013-12-02",20]
["68606-11-1","271-727-0","Benzine, direct door fractionering verkregen aftopinrichting, Een complexe verzameling koolwaterstoffen afkomstig uit de aftopinrichting bij de destillatie van ruwe olie. Heeft een kooktraject van ongeveer 36,1°C tot 193,3°C. Nafta met laag kookpunt","Gasoline, straight-run, topping-plant, Low boiling point naphtha [A complex combination of hydrocarbons produced from the topping plant by the distillation of crude oil. It boils in the range of approximately 36.1°C to 193.3°C (97°F to 380°F).]","Ja",null,null,null,null,null,null,null,"2013-12-02",20]
["86290-81-5","289-220-8","Benzine, Een complexe verzameling koolwaterstoffen die voornamelijk is samengesteld uit paraffinen cycloparaffinen aromaat- en olefine-koolwaterstoffen overwegend groter dan C3 en met een kooktraject van 30°C tot 260°C. Nafta met laag kookpunt - niet gespecifieerd","Gasoline, Low boiling point naphtha - unspecified [A complex combination of hydrocarbons consisting primarily of paraffins, cycloparaffins, aromatic and olefinic hydrocarbons having carbon numbers predominantly greater than C3 and boiling in the range of 30°C to 260°C (86°F to 500°F).]","Ja",null,null,null,null,null,null,null,"2013-12-02",20]
["8006-61-9","232-349-1","Benzine, natuurlijke, Een complexe verzameling koolwaterstoffen afgescheiden van aardgas door processen als afkoeling en absorptie. Bestaat voornamelijk uit verzadigde alifatische koolwaterstoffen overwegend C4 tot en met C8, met een kooktraject van ongeveer -20°C tot 120°C. Nafta met laag kookpunt","Gasoline, natural, Low boiling point naphtha [A complex combination of hydrocarbons separated from natural gas by processes such as refrigeration or absorption. It consists predominantly of saturated aliphatic hydrocarbons having carbon numbers predominantly in the range of C4 through C8 and boiling in the range of approximately minus 20°C to 120°C (-4°F to 248°F).]","Ja",null,null,null,null,null,null,null,"2013-12-02",20]
["68606-10-0","271-726-5","Benzine, pyrolyse, butaanverwijdering bodemfracties, Een complexe verzameling koolwaterstoffen verkregen door fractionering van propaanverwijdering-bodemfracties. Bestaat uit koolwaterstoffen overwegend groter dan C5. Nafta met laag kookpunt - niet gespecifieerd","Gasoline, pyrolysis, debutanizer bottoms, Low boiling point naphtha - unspecified [A complex combination of hydrocarbons obtained from the fractionation of depropanizer bottoms. It consists of hydrocarbons having carbon numbers predominantly greater than C5.]","Ja",null,null,null,null,null,null,null,"2013-12-02",20]
["94114-03-1","302-639-3","Benzine, pyrolyse, gehydrogeneerd Een destillatiefractie, verkregen door hydrogenering van pyrolysebenzine, met een kooktraject van ongeveer 20°C tot 200°C. Nafta met laag kookpunt - niet gespecifieerd","Gasoline, pyrolysis, hydrogenated, Low boiling point naphtha-unspecified [A distillation fraction from the hydrogenation of pyrolysis gasoline boiling in the range of approximately 20°C to 200°C (68°F to 392°F).]","Ja",null,null,null,null,null,null,null,"2013-12-02",20]
["56-55-3","200-280-6","benzo[a]antraceen","benz[a]anthracene","Ja",null,null,null,null,"MVP 1","0,15 g/uur","0,05 mg/Nm3","2013-12-02"]
["50-32-8","200-028-5","benzo[a]pyreen","benzo[a]pyrene","Ja","Ja","Ja",null,null,"MVP 1","0,15 g/uur","0,05 mg/Nm3","2013-12-02"]
["205-99-2","205-911-9","benzo[b]fluoranteen","benzo[e]acephenanthrylene","Ja",null,"Ja",null,null,"MVP 1","0,15 g/uur","0,05 mg/Nm3","2013-12-02"]
["192-97-2","205-892-7","benzo[e]pyreen","benzo[e]pyrene","Ja",null,null,null,null,"MVP 1","0,15 g/uur","0,05 mg/Nm3","2013-12-02"]
["191-24-2","205-883-8","benzo[g,h,i]peryleen","benzo[ghi]perylene",null,null,"Ja",null,null,"MVP 1","0,15 g/uur","0,05 mg/Nm3","2013-12-02"]
["205-82-3","205-910-3","benzo[j]fluoranteen","benzo[j]fluoranthene","Ja",null,null,null,null,"MVP 1","0,15 g/uur","0,05 mg/Nm3","2013-12-02"]
["207-08-9","205-916-6","benzo[k]fluoranteen","benzo[k]fluoranthene","Ja",null,"Ja",null,null,"MVP 1","0,15 g/uur","0,05 mg/Nm3","2013-12-02"]
["65996-88-5","266-023-5","Benzolvoorloop (kool), Het destillaat van lichte olie uit de cokesoven met een destillatietraject beneden ongeveer 100 °C. Bestaat voornamelijk uit C4 tot C6 alifatische koolwaterstoffen. Lichte olie, herdestillaat, laagkokende fractie","benzol forerunnings (coal), Light Oil Redistillate, low boiling [The distillate from coke oven light oil having an approximate distillation range below 100°C (212°F). Composed primarily of C4 to C6 aliphatic hydrocarbons.]","Ja",null,null,null,null,null,null,null,"2013-12-02",20]
["101316-45-4","309-851-5","Benzol-wasolie, destillaat, Een complexe verzameling koolwaterstoffen die wordt verkregen als een herdestillaat uit de destillatie van spoelolie. Bestaat voornamelijk uit aromatische en heterocyclische koolwaterstoffen met twee ringen en heeft een kooktraject van ongeveer 260°C tot 290°C. absorptieoliën bicyclo-aromatische en heterocyclische koolwaterstoffractie","Absorption oils, bicyclo arom. and heterocyclic hydrocarbon fraction, Wash Oil Redistillate [A complex combination of hydrocarbons obtained as a redistillate from the distillation of wash oil. It consists predominantly of 2-ringed aromatic and heterocyclic hydrocarbons boiling in the range of approximately 260 °C to 290 °C (500 °F to 554 °F).]","Ja",null,null,null,null,null,null,null,"2013-12-02",20,"De getoonde waarde voor de emissiegrenswaarde wijkt af van de algemene waarde voor de MVP 1 en 2 stofklassen. De getoonde waarde geldt tot 1 januari 2025, daarna wordt de algemene waarde van kracht."]
["84989-11-7","284-900-0","Benzol-wasolie, destillaat, Een complexe verzameling koolwaterstoffen die wordt verkregen door kristallisatie van teerolie. Bestaat uit aromatische en polycyclische koolwaterstoffen voornamelijk fluoreen en enig acenafteen. destillaten (koolteer), lichte fractie, rijk aan fluoreen","Distillates (coal tar), upper, fluorene-rich, Wash Oil Redistillate [A complex combination of hydrocarbons obtained by the crystallization of tar oil. It consists af aromatic and polycyclic hydrocarbons primarily fluorene and some acenaphthene.]","Ja",null,null,null,null,null,null,null,"2013-12-02",20]
["84989-10-6","284-899-7","Benzol-wasolie, destillaat, Een complexe verzameling van koolwaterstoffen die wordt verkregen door de kristallisatie van teerolie. Bestaat uit aromatische polycyclische koolwaterstoffen voornamelijk difenyl dibenzofuran en acenafteen. destillaten (koolteer), lichte fractie, fluoreenvrij","Distillates (coal tar), upper, fluorene-free, Wash Oil Redistillate [A complex combination of hydrocarbons obtained by the crystallization of tar oil. It consists of aromatic polycyclic hydrocarbons, primarily diphenyl, dibenzofuran and acenaphthene.]","Ja",null,null,null,null,null,null,null,"2013-12-02",20,"De getoonde waarde voor de emissiegrenswaarde wijkt af van de algemene waarde voor de MVP 1 en 2 stofklassen. De getoonde waarde geldt tot 1 januari 2025, daarna wordt de algemene waarde van kracht."]
["98-07-7","202-634-5","benzotrichloride","α,α,α-trichlorotoluene","Ja",null,null,null,null,"MVP 2","100 g/uur","20 mg/Nm3","2013-12-02","1, 2"]
["85-68-7","201-622-7","benzylbutylftalaat","benzyl butyl phthalate","Ja","Ja",null,null,null,"MVP 1","0,15 g/uur","0,05 mg/Nm3","2013-12-02"]
["100-44-7","202-853-6","benzylchloride","α-chlorotoluene","Ja",null,null,null,null,"MVP 2","100 g/uur","20 mg/Nm3","2013-12-02","1, 2"]
["7440-41-7","231-150-7","beryllium","beryllium","Ja",null,null,null,null,"MVP 1","0,15 g/uur","0,05 mg/Nm3","2013-12-02"]
["13597-99-4","237-062-5","berylliumnitraat","beryllium nitrate","Ja",null,null,null,null,"MVP 1","0,15 g/uur","0,05 mg/Nm3","2016-05-30",3]
["1304-56-9","215-133-1","berylliumoxide","beryllium oxide","Ja",null,null,null,null,"MVP 1","0,15 g/uur","0,05 mg/Nm3","2013-12-02"]
[null,null,"berylliumverbindingen","beryllium compounds","Ja",null,null,null,null,"MVP 1","0,15 g/uur","0,05 mg/Nm3","2013-12-02",29]
["33213-65-9",null,"beta-endosulfan","beta-endosulfan",null,null,"Ja","Ja","Ja","MVP 1","0,15 g/uur","0,05 mg/Nm3","2013-12-02"]
["134237-51-7",null,"beta-hexabroomcyclododecaan","beta-hexabromocyclododecane",null,"Ja","Ja","Ja",null,"MVP 1","0,15 g/uur","0,05 mg/Nm3","2013-12-02"]
["319-85-7","206-271-3","beta-hexachloorcyclohexaan","beta HCH",null,null,null,"Ja","Ja","MVP 1","0,15 g/uur","0,05 mg/Nm3","2013-12-02"]
["92045-12-0","295-394-6","Bezinkselolie uit paraffinewas, bezinkselolie (aardolie), met water behandeld","Foots oil (petroleum), hydrotreated, Foots oil","Ja",null,null,null,null,null,null,null,"2013-12-02",20]
["64742-67-2","265-171-8","Bezinkselolie uit paraffinewas, Een complexe verzameling koolwaterstoffen die wordt verkregen als de oliefractie uit een solvent-olieverwijderings- of een wasuitzwetingsproces. Bestaat voornamelijk uit vertakte koolwaterstoffen overwegend C20 tot en met C50. Bezinkselolie (aardolie)","Foots oil (petroleum), Foots oil [A complex combination of hydrocarbons obtained as the oil fraction from a solvent deoiling or a wax sweating process. It consists predominantly of branched chain hydrocarbons having carbon numbers predominantly in the range of C20 through C50.]","Ja",null,null,null,null,null,null,null,"2013-12-02",20]
["97862-76-5","308-126-0","Bezinkselolie uit paraffinewas, Een complexe verzameling koolwaterstoffen die wordt verkregen door de behandeling van bezinkselolie met geactiveerde kool voor de verwijdering van sporenbestanddelen en onzuiverheden. Bestaat voornamelijk uit verzadigde niet-vertakte koolwaterstoffen overwegend groter dan C12. bezinkselolie (aardolie), met koolstof behandeld","Foots oil (petroleum), carbon-treated, Foots oil [A complex combination of hydrocarbons obtained by the treatment of Foots oil with activated carbon for the removal of trace constituents and impurities. It consists predominantly of saturated straight chain hydrocarbons having carbon numbers predominantly greater than C12.]","Ja",null,null,null,null,null,null,null,"2013-12-02",20]
["97862-77-6","308-127-6","Bezinkselolie uit paraffinewas, Een complexe verzameling koolwaterstoffen die wordt verkregen door de behandeling van bezinkselolie met kiezelzuur om sporenbestanddelen en onzuiverheden te verwijderen. Bestaat voornamelijk uit niet-vertakte koolwaterstoffen overwegend groter dan C12. bezinkselolie (aardolie), behandeld met kiezelzuur","Foots oil (petroleum), silicic acid-treated, Foots oil [A complex combination of hydrocarbons obtained by the treatment of Foots oil with silicic acid for removal of trace constituents and impurities. It consists predominantly of straight chain hydrocarbons having carbon numbers predominantly greater than C12.]","Ja",null,null,null,null,null,null,null,"2013-12-02",20]
["93924-32-4","300-226-2","Bezinkselolie uit paraffinewas, Een complexe verzameling koolwaterstoffen verkregen door de behandeling van bezinkselolie met natuurlijke of aangepaste klei in ofwel een kontakt- ofwel een percolatieproces om de aanwezige sporen polaire verbindingen en onzuiverheden te verwijderen. Bestaat voornamelijk uit vertakte koolwaterstoffen C20 tot en met C50. bezinkselolie, met klei behandeld","Foots oil (petroleum), clay-treated, Foots oil [A complex combination of hydrocarbons obtained by treatment of Foot's oil with natural or modified clay in either a contacting or percolation process to remove the trace amounts of polar compounds and impurities present. It consists predominantly of branched chain hydrocarbons with carbon numbers predominantly in the range of C20 through C50.]","Ja",null,null,null,null,null,null,null,"2013-12-02",20]
["93924-31-3","300-225-7","Bezinkselolie uit paraffinewas, Een complexe verzameling koolwaterstoffen verkregen door de behandeling van bezinkselolie met zwavelzuur. Het bestaat voornamelijk uit vertakte koolwaterstoffen overwegend C20 tot en met C50. bezinkselolie (aardolie), zuurbehandeld","Foots oil (petroleum), acid-treated, Foots oil [A complex combination of hydrocarbons obtained by treatment of Foot's oil with sulfuric acid. It consists predominantly of branched-chain hydrocarbons with carbon numbers predominantly in the range of C20 through C50.]","Ja",null,null,null,null,null,null,null,"2013-12-02",20]
["91-95-2","202-110-6","bifenyl-3,3',4,4'-tetrayltetraamine","biphenyl-3,3',4,4'-tetrayltetraamine","Ja",null,null,null,null,"MVP 1","0,15 g/uur","0,05 mg/Nm3","2013-12-02"]
["485-31-4","207-612-9","binapacryl","binapacryl","Ja",null,null,null,null,"MVP 1","0,15 g/uur","0,05 mg/Nm3","2013-12-02"]
["117-81-7","204-211-0","bis(2-ethylhexyl)ftalaat","bis(2-ethylhexyl) phthalate","Ja","Ja","Ja","Ja",null,"MVP 1","0,15 g/uur","0,05 mg/Nm3","2013-12-02"]
["111-96-6","203-924-4","bis(2-methoxyethyl)ether","bis(2-methoxyethyl) ether","Ja","Ja",null,null,null,"MVP 2","2,5 g/uur","1 mg/Nm3","2013-12-02",null,"De getoonde waarde voor de emissiegrenswaarde wijkt af van de algemene waarde voor de MVP 1 en 2 stofklassen. De getoonde waarde geldt tot 1 januari 2025, daarna wordt de algemene waarde van kracht."]
["117-82-8","204-212-6","bis(2-methoxyethyl)ftalaat","bis(2-methoxyethyl) phthalate","Ja","Ja",null,null,null,"MVP 1","0,15 g/uur","0,05 mg/Nm3","2013-12-02"]
["542-88-1","208-832-8","bis(chloormethyl)ether","bis(chloromethyl) ether","Ja",null,null,null,null,"MVP 2","2,5 g/uur","1 mg/Nm3","2013-12-02"]
["71957-07-8","276-205-6","bis(D-gluconato-O.su.1.su.,O.su.2.su.)nikkel","bis(d-gluconato-O1,O2)nickel","Ja",null,null,null,null,"MVP 1","2,5 g/uur","0,5 mg/Nm3","2013-12-02","1, 2"]
["1163-19-5","214-604-9","bis(pentabroomfenyl)ether","bis(pentabromophenyl) ether",null,"Ja",null,"Ja",null,"MVP 1","0,15 g/uur","0,05 mg/Nm3","2013-12-02"]
["80-05-7","201-245-8","bisfenol A","4,4'-isopropylidenediphenol","Ja","Ja",null,null,null,"gO.1","100 g/uur","20 mg/Nm3","2017-01-04",5]
["1303-86-2","215-125-8","booroxide","diboron trioxide","Ja","Ja",null,null,null,"MVP 1",null,"5 mg/Nm3","2013-12-02",24]
["10043-35-3","233-139-2","boorzuur","boric acid","Ja","Ja",null,null,null,"MVP 1",null,"5 mg/Nm3","2013-12-02",24]
["1330-43-4","215-540-4","boorzuur dinatriumzout","disodium tetraborate, anhydrous","Ja","Ja",null,null,null,"MVP 1",null,"5 mg/Nm3","2013-12-02",24]
["1303-96-4","215-540-4","boraxdecahydraat","disodium tetraborate decahydrate","Ja",null,null,null,null,"MVP 1",null,"5 mg/Nm3","2013-12-02",24,"De getoonde waarde voor de emissiegrenswaarde wijkt af van de algemene waarde voor de MVP 1 en 2 stofklassen. De getoonde waarde geldt tot 1 januari 2025, daarna wordt de algemene waarde van kracht."]
["12179-04-3","215-540-4","boraxpentahydraat","disodium tetraborate pentahydrate","Ja",null,null,null,null,"MVP 1",null,"5 mg/Nm3","2013-12-02",24]
["68476-29-9","270-670-9","Brandstofgassen destillaten van ruwe olie, Een compexe verzameling lichte gassen gevormd door destillatie van ruwe olie en door katalytische reforming van nafta. Bestaat uit waterstof en koolwaterstoffen overwegend C1 tot en met C4, met een kooktraject van ongeveer -217°C tot -12°C. Petroleumgas","Fuel gases, crude oil of distillates, Petroleum gas [A complex combination of light gases produced by distillation of crude oil and by catalytic reforming of naphtha. It consists of hydrogen and hydrocarbons having carbon numbers predominantly in the range of C1 through C4 and boiling in the range of approximately -217°C to -12°C (-423°F to 10°F).]","Ja",null,null,null,null,null,null,null,"2013-12-02",20]
["68476-26-6","270-667-2","Brandstofgassen Een combinatie van lichte gassen. Bestaat voornamelijk uit waterstof en/of laagmoleculaire koolwaterstoffen. Petroleumgas","Fuel gases, Petroleum gas [A combination of light gases. It consists predominantly of hydrogen and/or low molecular weight hydrocarbons.]","Ja",null,null,null,null,null,null,null,"2013-12-02",20]
["56073-10-0","259-980-5","brodifacoum","brodifacoum","Ja",null,null,null,null,"MVP 1","0,15 g/uur","0,05 mg/Nm3","2017-01-04",4,"De getoonde waarde voor de emissiegrenswaarde wijkt af van de algemene waarde voor de MVP 1 en 2 stofklassen. De getoonde waarde geldt tot 1 januari 2025, daarna wordt de algemene waarde van kracht."]
["28772-56-7","249-205-9","bromadiolon","bromadiolone","Ja",null,null,null,null,"MVP 1","0,15 g/uur","0,05 mg/Nm3","2017-01-04",4,"De getoonde waarde voor de emissiegrenswaarde wijkt af van de algemene waarde voor de MVP 1 en 2 stofklassen. De getoonde waarde geldt tot 1 januari 2025, daarna wordt de algemene waarde van kracht."]
["34492-97-2",null,"bunseniet","bunsenite","Ja",null,null,null,null,"MVP 1","2,5 g/uur","0,5 mg/Nm3","2013-12-02","1, 2","De getoonde waarde voor de emissiegrenswaarde wijkt af van de algemene waarde voor de MVP 1 en 2 stofklassen. De getoonde waarde geldt tot 1 januari 2025, daarna wordt de algemene waarde van kracht."]
["106-97-8","203-448-7","butaan","butane","Ja",null,null,null,null,"MVP 2","2,5 g/uur","1 mg/Nm3","2013-12-02",30]
["548-62-9","208-953-6","C.I. Basic Violet 3 [met 0,1 procent of meer Michler's keton (EC nr. 202-027-5)]","C.I. Basic Violet 3 with ≥ 0.1 % of Michler's ketone (EC no. 202-027-5)","Ja","Ja",null,null,null,"MVP 1","0,15 g/uur","0,05 mg/Nm3","2013-12-02",null,"De getoonde waarde voor de emissiegrenswaarde wijkt af van de algemene waarde voor de MVP 1 en 2 stofklassen. De getoonde waarde geldt tot 1 januari 2025, daarna wordt de algemene waarde van kracht."]
["85535-84-8","287-476-5","C10-13-chlooralkanen","chlorinated paraffins, C10-C13",null,"Ja","Ja","Ja","Ja","MVP 1","0,15 g/uur","0,05 mg/Nm3","2013-12-02",null,"De getoonde waarde voor de emissiegrenswaarde wijkt af van de algemene waarde voor de MVP 1 en 2 stofklassen. De getoonde waarde geldt tot 1 januari 2025, daarna wordt de algemene waarde van kracht.","Op de REACH kandidaatslijst wordt ook casnummer 31119-53-6 gebruikt."]
["7440-43-9","231-152-8","cadmium","cadmium","Ja",null,"Ja","Ja",null,"MVP 1","0,25 g/uur","0,05 mg/Nm3","2013-12-02","1, 2"]
["7440-43-9","231-152-8","cadmium (pyrofoor)","cadmium (pyrophoric)","Ja",null,"Ja",null,null,"MVP 1","0,25 g/uur","0,05 mg/Nm3","2013-12-02","1, 2","De getoonde waarde voor de emissiegrenswaarde wijkt af van de algemene waarde voor de MVP 1 en 2 stofklassen. De getoonde waarde geldt tot 1 januari 2025, daarna wordt de algemene waarde van kracht."]
["10108-64-2","233-296-7","cadmiumchloride","cadmium chloride","Ja","Ja","Ja",null,null,"MVP 1","0,25 g/uur","0,05 mg/Nm3","2013-12-02","1, 2","De getoonde waarde voor de emissiegrenswaarde wijkt af van de algemene waarde voor de MVP 1 en 2 stofklassen. De getoonde waarde geldt tot 1 januari 2025, daarna wordt de algemene waarde van kracht."]
["7790-79-6","232-222-0","cadmiumfluoride","cadmium fluoride","Ja","Ja","Ja",null,null,"MVP 1","0,15 g/uur","0,05 mg/Nm3","2013-12-02",null,"De getoonde waarde voor de emissiegrenswaarde wijkt af van de algemene waarde voor de MVP 1 en 2 stofklassen. De getoonde waarde geldt tot 1 januari 2025, daarna wordt de algemene waarde van kracht."]
["1306-19-0","215-146-2","cadmiumoxide","cadmium oxide","Ja",null,"Ja",null,null,"MVP 1","0,25 g/uur","0,05 mg/Nm3","2013-12-02","1, 2"]
["10124-36-4","233-331-6","cadmiumsulfaat","cadmium sulphate","Ja","Ja","Ja",null,null,"MVP 1","0,25 g/uur","0,05 mg/Nm3","2013-12-02","1, 2, 31"]
["1306-23-6","215-147-8","cadmiumsulfide","cadmium sulphide","Ja","Ja","Ja",null,null,"MVP 1","0,15 g/uur","0,05 mg/Nm3","2013-12-02"]
[null,null,"cadmiumverbindingen","cadmium compounds",null,null,"Ja",null,null,"MVP 1","0,25 g/uur","0,05 mg/Nm3","2013-12-02","1, 2"]
["7778-44-1","231-904-5","calciumarsenaat","calcium arsenate",null,"Ja",null,null,null,"MVP 1","0,25 g/uur","0,05 mg/Nm3","2013-12-02","1, 2"]
["13765-19-0","237-366-8","calciumchromaat","calcium chromate","Ja",null,null,null,null,"MVP 1","0,5 g/uur","0,1 mg/Nm3","2013-06-27","1, 2"]
["2425-06-01","219-363-3","captafol","captafol","Ja",null,null,null,null,"MVP 1","0,15 g/uur","0,05 mg/Nm3","2013-12-02"]
["6804-07-05","229-879-0","carbadox","carbadox","Ja",null,null,null,null,"MVP 1","0,15 g/uur","0,05 mg/Nm3","2013-12-02"]
["10605-21-7","234-232-0","carbendazim","carbendazim","Ja",null,null,null,null,"MVP 1","0,15 g/uur","0,05 mg/Nm3","2013-12-02",null,"De getoonde waarde voor de emissiegrenswaarde wijkt af van de algemene waarde voor de MVP 1 en 2 stofklassen. De getoonde waarde geldt tot 1 januari 2025, daarna wordt de algemene waarde van kracht."]
["57-74-9","200-349-0","chloordaan som","chlordane",null,null,null,null,"Ja","MVP 1","0,15 g/uur","0,05 mg/Nm3","2013-12-02",null,"De getoonde waarde voor de emissiegrenswaarde wijkt af van de algemene waarde voor de MVP 1 en 2 stofklassen. De getoonde waarde geldt tot 1 januari 2025, daarna wordt de algemene waarde van kracht."]
["143-50-0","205-601-3","chloordecon","chlordecone",null,null,null,null,"Ja","MVP 1","0,15 g/uur","0,05 mg/Nm3","2013-12-02",null,"De getoonde waarde voor de emissiegrenswaarde wijkt af van de algemene waarde voor de MVP 1 en 2 stofklassen. De getoonde waarde geldt tot 1 januari 2025, daarna wordt de algemene waarde van kracht.","De vermelding voor CLP geldt voor chroom(VI)verbindingen, met uitzondering van bariumchromaat"]
["107-30-2","203-480-1","chloordimethylether","chloromethyl methyl ether","Ja",null,null,null,null,"MVP 2","2,5 g/uur","1 mg/Nm3","2013-12-02",null,"De getoonde waarde voor de emissiegrenswaarde wijkt af van de algemene waarde voor de MVP 1 en 2 stofklassen. De getoonde waarde geldt tot 1 januari 2025, daarna wordt de algemene waarde van kracht.","De vermelding voor CLP geldt voor chroom(VI)verbindingen, met uitzondering van bariumchromaat"]
["3691-35-8","223-003-0","chloorfacinon","chlorophacinone","Ja",null,null,null,null,"MVP 1","0,15 g/uur","0,05 mg/Nm3","2017-01-04",4,"De getoonde waarde voor de emissiegrenswaarde wijkt af van de algemene waarde voor de MVP 1 en 2 stofklassen. De getoonde waarde geldt tot 1 januari 2025, daarna wordt de algemene waarde van kracht.","Deze stof wordt niet als individuele stof als ZZS geïdentificeerd maar valt onder de ZZS-stofgroep chroom (VI) verbindingen"]
["470-90-6","207-432-0","chloorfenvinfos","chlorfenvinphos",null,null,null,null,null,"MVP 1","0,15 g/uur","0,05 mg/Nm3","2013-12-02",9,"De getoonde waarde voor de emissiegrenswaarde wijkt af van de algemene waarde voor de MVP 1 en 2 stofklassen. De getoonde waarde geldt tot 1 januari 2025, daarna wordt de algemene waarde van kracht."]
["3724-43-4","425-970-6","chloor-N,N-dimethylformiminiumchloride","chloro-N,N-dimethylformiminium chloride","Ja",null,null,null,null,"MVP 1","0,15 g/uur","0,05 mg/Nm3","2013-12-02",32,"De getoonde waarde voor de emissiegrenswaarde wijkt af van de algemene waarde voor de MVP 1 en 2 stofklassen. De getoonde waarde geldt tot 1 januari 2025, daarna wordt de algemene waarde van kracht."]
["126-99-8","204-818-0","chloropreen","chloroprene","Ja",null,null,null,null,"MVP 2","500 g/uur","50 mg/Nm3","2013-12-02","1, 2","De getoonde waarde voor de emissiegrenswaarde wijkt af van de algemene waarde voor de MVP 1 en 2 stofklassen. De getoonde waarde geldt tot 1 januari 2025, daarna wordt de algemene waarde van kracht.","geldt ook voor oligomeren van deze stof"]
["14977-61-8","239-056-8","chromyldichloride","chromyl dichloride","Ja",null,null,null,null,"MVP 1","2,5 g/uur","0,5 mg/Nm3","2013-12-02","1, 2"]
["18540-29-9",null,"chroom (VI)","chromium (VI)","Ja",null,null,null,null,"MVP 1","0,5 g/uur","0,1 mg/Nm3","2013-12-02","1, 2, 33","De getoonde waarde voor de emissiegrenswaarde wijkt af van de algemene waarde voor de MVP 1 en 2 stofklassen. De getoonde waarde geldt tot 1 januari 2025, daarna wordt de algemene waarde van kracht."]
["18540-29-9",null,"chroom (VI) verbindingen","chromium(VI) soluable compounds","Ja",null,null,null,null,"MVP 1","0,5 g/uur","0,1 mg/Nm3","2013-12-02","1, 2, 33","De getoonde waarde voor de emissiegrenswaarde wijkt af van de algemene waarde voor de MVP 1 en 2 stofklassen. De getoonde waarde geldt tot 1 januari 2025, daarna wordt de algemene waarde van kracht."]
["18540-29-9",null,"chroom (VI) verbindingen slecht oplosbaar","chromium(VI) insoluable compounds",null,null,null,null,null,"MVP 1","0,5 g/uur","0,1 mg/Nm3","2013-12-02","1, 2, 34"]
["24613-89-6","246-356-2","chroom(III)chromaat","dichromium tris(chromate)","Ja","Ja",null,null,null,"MVP 1","0,5 g/uur","0,1 mg/Nm3","2013-12-02","1, 2"]
["1333-82-0","215-607-8","chroomtrioxide","chromium trioxide","Ja","Ja",null,null,null,"MVP 1","0,5 g/uur","0,1 mg/Nm3","2013-12-02","1, 2"]
["7738-94-5","231-801-5","chroomzuur","chromic acid",null,"Ja",null,null,null,"MVP 1","0,5 g/uur","0,1 mg/Nm3","2013-06-27","1, 2, 35"]
["218-01-9","205-923-4","chryseen","chrysene","Ja",null,null,null,null,"MVP 1","0,15 g/uur","0,05 mg/Nm3","2013-12-02"]
["18283-82-4","242-161-1","citroenzuur ammoniumnikkelzout","citric acid, ammonium nickel salt","Ja",null,null,null,null,"MVP 1","2,5 g/uur","0,5 mg/Nm3","2013-12-02","1, 2"]
["22605-92-1","245-119-0","citroenzuur nikkelzout","citric acid, nickel salt","Ja",null,null,null,null,"MVP 1","2,5 g/uur","0,5 mg/Nm3","2013-12-02","1, 2"]
["23593-75-1","245-764-8","clotrimazol","clotrimazole",null,null,null,"Ja",null,"MVP 1","0,15 g/uur","0,05 mg/Nm3","2013-12-02"]
["92062-20-9","295-535-1","Cokes- en as-bevattende vaste residuen die worden afgescheiden bij destillatie en thermische behandeling van uit bitumineuze kool afkomstige hoge-temperatuur-teer in destillatie-installaties en opslagtanks. Bestaat voornamelijk uit koolstof en bevat een kleine hoeveelheid heteroverbindingen alsmede asbestanddelen. Steenkoolteer, vaste behanddelen teer, kool hoge temperatuur, destillatie- en opslagresiduen","Tar, coal, high-temp., distn. and storage residues, Coal Tar Solids Residue [Coke- and ash-containing solid residues that separate on distillation and thermal treatment of bituminous coal high temperature tar in distillation installations and storage vessels. Consists predominantly of carbon and contains a small quantity of hetero compounds as well as ash components.]","Ja",null,null,null,null,null,null,null,"2013-12-02",20]
["64-86-8","200-598-5","colchicine","colchicine","Ja",null,null,null,null,"MVP 1","0,15 g/uur","0,05 mg/Nm3","2013-12-02"]
["8001-58-9","232-287-5","creosoot","creosote","Ja",null,null,null,null,null,null,null,"2013-12-02",20]
["90640-85-0","292-606-9","creosootolie, acenafteenfractie, acenafteenvrij, De olie die resteert na verwijdering door een kristallisatieproces van acenafteen uit acenafteenolie afkomstig uit koolteer. Bestaat voornamelijk uit naftaleen en alkylnaftalenen. Wasolie, herdestillaat","creosote oil, acenaphthene fraction, acenaphthene-free, Wash Oil Redistillate [The oil remaining after removal by a crystallization process of acenaphthene from acenaphthene oil from coal tar. Composed primarily of naphthalene and alkylnaphthalenes.]","Ja",null,null,null,null,null,null,null,"2013-12-02",20]
["90640-84-9","292-605-3","creosootolie, acenafteenfractie, Een complexe verzameling koolwaterstoffen verkregen door de destillatie van koolteer, met een kooktraject van ongeveer 240°C tot 280°C. Bestaat voornamelijk uit acenafteen naftaleen en alkylnaftaleen. Wasolie","creosote oil, acenaphthene fraction, Wash Oil [A complex combination of hydrocarbons produced by the distillation of coal tar and boiling in the range of approximately 240°C to 280°C (464°F to 536°F). Composed primarily of acenaphthene, naphthalene and alkyl naphthalene.]","Ja",null,null,null,null,null,null,null,"2013-12-02",20,"De getoonde waarde voor de emissiegrenswaarde wijkt af van de algemene waarde voor de MVP 1 en 2 stofklassen. De getoonde waarde geldt tot 1 januari 2025, daarna wordt de algemene waarde van kracht.","Deze stof staat zelf niet in bijlage 12a van de Activiteitenregeling milieubeheer maar valt onder een groepsvermelding, de getoonde stofklasse, grensmassastroom en emissiegrenswaarde zijn die van de groepsvermelding.","Deze stof wordt niet als individuele stof als ZZS geïdentificeerd maar valt onder de ZZS-stofgroep organische tinverbindingen"]
["61789-28-4","263-047-8","creosootolie, Een complexe verzameling koolwaterstoffen verkregen door de destillatie van koolteer. Bestaat voornamelijk uit aromatische koolwaterstoffen en kan aanzienlijke hoeveelheden teerzuren en teerbasen bevatten. Het destillatietraject ligt ongeveer tussen 200°C en 325°C.","creosote oil [A complex combination of hydrocarbons obtained by the distillation of coal tar. It consists primarily of aromatic hydrocarbons and may contain appreciable quantities of tar acids and tar bases. It distills at the approximate range of 200°C to 325°C (392°F to 617°F).]","Ja",null,null,null,null,null,null,null,"2013-12-02",20]
["70321-79-8","274-565-9","creosootolie, hoogkokend destillaat, De hoogkokende destillatiefractie die wordt verkregen door bitumineuze kool bij hoge temperatuur te fenoliseren en die verder wordt gezuiverd om een overmaat kristallijne zouten te verwijderen. Bestaat voornamelijk uit creosootolie waaruit enkele normale polycyclische aromatische zouten bestanddelen van koolteerdestillaten zijn verwijderd. Kristalvrij bij ongeveer 5°C. Wasolie","creosote oil, high-boiling distillate, Wash Oil [The high-boiling distillation fraction obtained from the high temperature carbonization of bituminous coal which is further refined to remove excess crystalline salts. It consists primarily of creosote oil with some of the normal polynuclear aromatic salts, which are components of coal tar distillates, removed. It is crystal free at approximately 5°C (41°F).]","Ja",null,null,null,null,null,null,null,"2013-12-02",20]
["70321-80-1","274-566-4","creosootolie, laagkokend destillaat, De laagkokende destillatiefractie die wordt verkregen door bitumineuze kool bij hoge temperatuur te verkooksen en die verder wordt gezuiverd om een overmaat kristallijne zouten te verwijderen. Bestaat voornamelijk uit creosootolie waaruit enkele normale polycyclische aromatische zouten bestanddelen van koolteerdestillaten zijn verwijderd. Kristalvrij bij ongeveer 38°C. Wasolie","creosote oil, low-boiling distillate, Wash Oil [The low-boiling distillation fraction obtained from the high temperature carbonization of bituminous coal, which is further refined to remove excess crystalline salts. It consists primarily of creosote oil with some of the normal polynuclear aromatic salts, which are components of coal tar distillate, removed. It is crystal free at approximately 38°C (100°F).]","Ja",null,null,null,null,null,null,null,"2013-12-02",20]
["5836-29-3","227-424-0","cumatetralyl","coumatetralyl","Ja",null,null,null,null,"MVP 1","0,15 g/uur","0,05 mg/Nm3","2017-01-04",4]
["5571-36-8","427-230-8","cyclisch 3-(1,2-ethaandiylacetaal)oestra-5(10),9(11)-dieen-3,17-dion","cyclic 3-(1,2-ethanediylacetale)-estra-5(10),9(11)-diene-3,17-dione","Ja",null,null,null,null,"MVP 1","0,15 g/uur","0,05 mg/Nm3","2013-12-02"]
["294-62-2","206-033-9","cyclododecaan","cyclododecane",null,null,null,"Ja",null,"MVP 1","0,15 g/uur","0,05 mg/Nm3","2013-12-02"]
["66-81-9","200-636-0","cycloheximide","cycloheximide","Ja",null,null,null,null,"MVP 1","0,15 g/uur","0,05 mg/Nm3","2013-12-02"]
["13121-70-5","236-049-1","cyhexatin","cyhexatin",null,null,null,null,null,"MVP 2","100 g/uur","20 mg/Nm3","2013-12-02","1, 2, 3, 36"]
["3424-82-6","222-318-0","DDE, 2,4'-isomeer","2,2,o,p'-tetrachlorovinylidenebisbenzene",null,null,null,null,null,"MVP 1","0,15 g/uur","0,05 mg/Nm3","2013-12-02",9]
["789-02-6","212-332-5","DDT, 2,4'-isomeer","2,2,2,o,p'-pentachloroethylidenebisbenzene",null,null,null,null,null,"MVP 1","0,15 g/uur","0,05 mg/Nm3","2013-12-02",9]
["50-29-3","200-024-3","DDT, 4,4'-isomeer","1,1,1-trichloro-2,2-bis(4-chlorophenyl)ethane",null,null,null,null,"Ja","MVP 1","0,15 g/uur","0,05 mg/Nm3","2013-12-02"]
["92062-34-5","295-549-8","De combinatie van afvalstoffen die wordt gevormd door de verkooksing van bitumineuze koolteerpek. Bestaat voornamelijk uit koolstof. Steenkoolteer, vaste bestanddelen vaste afvalstoffen verkooksing van koolteerpek","Waste solids, coal-tar pitch coking, Coal Tar Solids Residue [The combination of wastes formed by the coking of bituminous coal tar pitch. It consists predominantly of carbon.]","Ja",null,null,null,null,null,null,null,"2013-12-02",20]
["68911-58-0","272-775-5","De complexe combinatie die wordt verkregen uit de pentaanverwijdering-stabilisatie van waterstofbehandelde kerosine. Bestaat voornamelijk uit waterstof, methaan ethaan en propaan alsmede uiteenlopende kleine hoeveelheden stikstof, waterstofsulfide, koolmonoxide en koolwaterstoffen overwegend C4 en C5. Gassen (aardolie), waterstofbehandelde zwavelhoudende kerosine, uitstoot pentaanverwijdering-stabilisatie, Raffinaderijgas","Gases (petroleum), hydrotreated sour kerosine depentanizer stabilizer off, Refinery gas [The complex combination obtained from the depentanizer stabilization of hydrotreated kerosine. It consists primarily of hydrogen, methane, ethane, and propane with various small amounts of nitrogen, hydrogen sulfide, carbon monoxide and hydrocarbons having carbon numbers predominantly in the range of C4 through C5.]","Ja",null,null,null,null,null,null,null,"2013-12-02",20]
["68477-92-9","270-774-4","De complexe verzameling droge gassen die wordt verkregen uit een gasconcentratie-installatie. Bestaat uit waterstof, waterstofsulfide en koolwaterstoffen overwegend C1 tot en met C3. Gassen (aardolie), droog zwavelhoudend uitstoot gasconcentratie-installatie, Raffinaderijgas","Gases (petroleum), dry sour, gas-concn.-unit-off, Refinery gas [The complex combination of dry gases from a gas concentration unit. It consists of hydrogen, hydrogen sulfide and hydrocarbons having carbon numbers predominantly in the range of C1 through C3.]","Ja",null,null,null,null,null,null,null,"2013-12-02",20]
["68425-35-4","270-349-3","De complexe verzameling koolwaterstoffen verkregen als raffinaat uit een Lurgi-afscheider. Bestaat voornamelijk uit niet-aromatische koolwaterstoffen met uiteenlopende kleine hoeveelheden aromatische koolwaterstoffen overwegend C6 tot en met C8. Gemodificeerde nafta met laag kookpunt, Raffinaten (aardolie), reformer, Lurgi-afscheider","Raffinates (petroleum), reformer, Lurgi unit-sepd., Low boiling point modified naphtha [The complex combination of hydrocarbons obtained as a raffinate from a Lurgi separation unit. It consists predominantly of non-aromatic hydrocarbons with various small amounts of aromatic hydrocarbons having carbon numbers predominantly in the range of C6 through C8.]","Ja",null,null,null,null,null,null,null,"2013-12-02",20]
["67891-79-6","267-563-4","De complexe verzameling koolwaterstoffen verkregen door destillatie van de producten van het thermisch kraken van ethaan en propaan. Deze bij hogere temperaturen kokende fractie bestaat voornamelijk uit C5-7-aromatische koolwaterstoffen met enkele onverzadigde alifatische koolwaterstoffen overwegend C5. Deze stroom kan benzeen bevatten. Destillaten (aardolie), zware aromatische fractie, Thermisch gekraakte nafta met laag kookpunt","Distillates (petroleum), heavy arom., Low boiling point thermally cracked naphtha [The complex combination of hydrocarbons from the distillation of the products from the thermal cracking of ethane and propane. This higher boiling fraction consists predominantly of C5-7 aromatic hydrocarbons with some unsaturated aliphatic hydrocarbons having carbon number predominantly of C5. This stream may contain benzene.]","Ja",null,null,null,null,null,null,null,"2013-12-02",20]
["67891-80-9","267-565-5","De complexe verzameling koolwaterstoffen verkregen door destillatie van de producten van het thermisch kraken van ethaan en propaan. Deze bij lagere temperaturen kokende fractie bestaat voornamelijk uit C5-7-aromatische koolwaterstoffen met enkele onverzadigde alifatische koolwaterstoffen overwegend C5. Deze stroom kan benzeen bevatten. Destillaten (aardolie), lichte aromatische fractie, Thermisch gekraakte nafta met laag kookpunt","Distillates (petroleum), light arom., Low boiling point thermally cracked naphtha [The complex combination of hydrocarbons from the distillation of the products from the thermal cracking of ethane and propane. This lower boiling fraction consists predominantly of C5-7 aromatic hydrocarbons with some unsaturated aliphatic hydrocarbons having a carbon number predominantly of C5. This stream may contain benzene.]","Ja",null,null,null,null,null,null,null,"2013-12-02",20]
["68425-29-6","270-344-6","De complexe verzameling koolwaterstoffen verkregen door pyrolysefractionering bij 816°C van nafta en raffinaat. Bestaat voornamelijk uit C9-koolwaterstoffen die koken bij ongeveer 204°C. Destillaten (aardolie), afkomstig van pyrolysaat van nafta-raffinaat, benzinemenging, Thermisch gekraakte nafta met laag kookpunt","Distillates (petroleum), naphtha-raffinate pyrolyzate-derived, gasoline-blending, Low boiling point thermally cracked naphtha [The complex combination of hydrocarbons obtained by the pyrolysis fractionation at 816°C (1500°F) of naphtha and raffinate. It consists predominantly of hydrocarbons having a carbon number of C9 and boiling at approximately 204°C (400°F).]","Ja",null,null,null,null,null,null,null,"2013-12-02",20]
["68307-98-2","269-617-2","De complexe verzameling koolwaterstoffen verkregen uit de destillatie van de producten van katalytisch gekraakte destillaten en katalytisch gekraakte nafta. Bestaat voornamelijk uit koolwaterstoffen C1 tot en met C4. Petroleumgas, Restgas (aardolie), katalytisch gekraakt destillaat en katalytisch gekraakte nafta, fractioneringsabsorptievat","Tail gas (petroleum), catalytic cracked distillate and catalytic cracked naphtha fractionation absorber, Petroleum gas [The complex combination of hydrocarbons from the distillation of the products from catalytic cracked distillates and catalytic cracked naphtha. It consists predominantly of hydrocarbons having carbon numbers in the range of C1 through C4.]","Ja",null,null,null,null,null,null,null,"2013-12-02",20]
["68477-31-6","270-722-0","De complexe verzameling koolwaterstoffen verkregen uit de destillatie van katalytische reformator-fractioneerderresidu. Kookt beneden ongeveer 288°C. Gasolie - niet gespecifieerd destillaten (aardolie), katalytische reformator-fractioneerderresidu, laagkokend","Distillates (petroleum), catalytic reformer fractionator residue, low-boiling, Gasoil - unspecified [The complex combination of hydrocarbons from the distillation of catalytic reformer fractionator residue. It boils approximately below 288 °C (550 °F).]","Ja",null,null,null,null,null,null,null,"2013-12-02",20]
["85029-51-2","285-076-5","De complexe verzameling koolwaterstoffen verkregen uit voorfractionering (continue destillatie) van lichte olie uit de cokesoven. Bestaat voornamelijk uit naftaleen cumaroon en indeen en kookt boven 148 °C. Destillaten (kool), lichte olie uit de cokesoven naftaleenfractie, Naftaleenolie","Distillates (coal), coke-oven light oil, naphthalene cut, Naphthalene Oil [The complex combination of hydrocarbons obtained from prefractionation (continuous distillation) of coke oven light oil. It consists predominantly of naphthalene, coumarone and indene and boils above 148°C (298°F).]","Ja",null,null,null,null,null,null,null,"2013-12-02",20]
["68391-11-7","269-929-9","De complexe verzameling polygealkyleerde pyridinen verkregen uit de destillatie van koolteer of als hoogkokend destillaat (boven ongeveer 150°C) uit de reactie van ammoniak met aceetaldehyde, formaldehyde of paraformaldehyde. Pyridine, alkylderivaten Ruwe teerbasen","Pyridine, alkyl derivs., Crude Tar Bases [The complex combination of polyalkylated pyridines derived from coal tar distillation or as high-boiling distillates approximately above 150°C (302°F) from the reaction of ammonia with acetaldehyde, formaldehyde or paraformaldehyde.]","Ja",null,null,null,null,null,null,null,"2013-12-02",20]
["92062-27-6","295-541-4","De destillatiefractie met een kooktraject van ongeveer 180°C tot 200°C die afkomstig is uit de ruwe basen die worden verkregen door de verwijdering van fenolen en basen uit de gefenoliseerde olie die afkomstig is uit de destillatie van koolteer. Bevat voornamelijk aniline, collidinen lutidinen en toluïdinen. Gedestilleerde teerbasen Teerbasen kool anilinefractie","Tar bases, coal, aniline fraction, Distillate Bases [The distillation fraction boiling in the range of approximately 180 °C to 200 °C (356 °F to 392 °F) from the crude bases obtained by dephenolating and debasing the carbolated oil from the distillation of coal tar. It contains chiefly aniline, collidines, lutidines and toluidines.]","Ja",null,null,null,null,null,null,null,"2013-12-02",20]
["92062-28-7","295-543-5","De destillatiefractie met een kooktraject van ongeveer 181°C tot 186°C die afkomstig is uit de ruwe basen die worden verkregen uit de geneutraliseerde zuurgeëxtraheerde basebevattende teerfracties die worden gevormd door de destillatie van bitumineuze koolteer. Bevat voornamelijk aniline en collidinen. Gedestilleerde teerbasen Teerbasen kool collidinefractie","Tar bases, coal, collidine fraction, Distillate Bases [The distillation fraction boiling in the range of approximately 181 °C to 186 °C (356 °F to 367 °F) from the crude bases obtained from the neutralized, acid-extracted base-containing tar fractions obtained by the distillation of bituminous coal tar. It contains chiefly aniline and collidines.]","Ja",null,null,null,null,null,null,null,"2013-12-02",20]
["90641-02-4","292-625-2","De eerste fractie uit de destillatie van voorfractioneringsbodemfracties, rijk aan aromatische koolwaterstoffen cumaroon naftaleen en indeen of gewassen fenololie. Kookt grotendeels beneden 145 °C. Bestaat voornamelijk uit alifatische en aromatische C7 en C8-koolwaterstoffen. Extractieresiduen (kool), lichte olie alkalisch destillatietopproducten Lichte olie, extractieresidu, laagkokende fractie","Extract residues (coal), light oil alk., distn. overheads, Light Oil Extract Residues, low boiling [The first fraction from the distillation of aromatic hydrocarbons, coumarone, naphthalene and indene rich prefractionator bottoms or washed carbolic oil boiling substantially below 145°C (293°F). Composed primarily of C7 and C8 aliphatic and aromatic hydrocarbons.]","Ja",null,null,null,null,null,null,null,"2013-12-02",20]
["84989-12-8","284-901-6","De extractieolie met een kooktraject van ongeveer 220 °C tot 265 °C uit alkalisch koolteerextractieresidu, geproduceerd door na destillatie te wassen met zuur, zoals verdund zwavelzuur, om teerbasen te verwijderen. Bestaat voornamelijk uit primaire alkylnaftalenen. Extractieoliën (kool), zuur, vrij van teerbasen Methylnaftaleenolie, extractieresidu","Extract oils (coal), acidic, tar-base free, Methylnaphthalene Oil Extract Residue [The extract oil boiling in the range of approximately 220°C to 265°C (428°F to 509°F) from coal tar alkaline extract residue produced by an acidic wash such as aqueous sulfuric acid after distillation to remove tar bases. Composed primarily of alkylnaphthalenes.]","Ja",null,null,null,null,null,null,null,"2013-12-02",20]
["90640-90-7","292-612-1","De olie die resteert na de verwijdering van fenolverbindingen (teerzuren) uit afgegoten naftaleenolie door met alkali te wassen. Bestaat voornamelijk uit naftaleen en alkylnaftalenen. Destillaten (koolteer), naftaleenoliën naftaleenvrij, alkalische extracten Naftaleenolie, extractieresidu","Distillates (coal tar), naphthalene oils, naphthalene-free, alk. exts., Naphthalene Oil Extract Residue [The oil remaining after the removal of phenolic compounds (tar acids) from drained naphthalene oil by an alkali wash. Composed primarily of naphthalene and alkyl naphthalenes.]","Ja",null,null,null,null,null,null,null,"2013-12-02",20]
["90641-01-3","292-624-7","De olie die wordt verkregen door alkalisch gewassen fenololie met zuur te wassen om de geringe hoeveelheden basische verbindingen (teerbasen) te verwijderen. Bestaat voornamelijk uit indeen indaan en alkylbenzenen. Extractieresiduen (kool), lichte olie alkalisch zuurextract, Fenololie, extractieresidu","Extract residues (coal), light oil alk., acid ext., Carbolic Oil Extract Residue [The oil resulting from the acid washing of alkali-washed carbolic oil to remove the minor amounts of basic compounds (tar bases). Composed primarily of indene, indan and alkylbenzenes.]","Ja",null,null,null,null,null,null,null,"2013-12-02",20]
["101316-49-8","309-855-7","De olie die wordt verkregen uit de condensatie van de dampen uit de warmtebehandeling van pek. Voornamelijk samengesteld uit aromatische verbindingen met twee tot vier ringen en heeft een kooktraject van ongeveer 200°C tot meer dan 400°C. Zware anthraceen olie, destillaten (koolteer), pek","Distillates (coal tar), pitch, Heavy Anthracene Oil [The oil obtained from condensation of the vapors from the heat treatment of pitch. Composed primarily of two- to four-ring aromatic compounds boiling in the range of 200 °C to greater than 400 °C (392 °F to greater than 752 °F).]","Ja",null,null,null,null,"MVP 1","0,15 g/uur","0,05 mg/Nm3","2013-12-02",37]
["100801-63-6","309-745-9","De olie die wordt verkregen uit de thermische behandeling van een mengsel van polyethyleen en polypropyleen met koolteerpek of aromatische oliën. Bestaat voornamelijk uit benzeen en homologen daarvan en heeft een kooktraject van ongeveer 70 °C tot 120 °C. Koolwaterstofoliën aromatisch gemengd met polyethyleen en polypropyleen gepyrolyseerd lichte oliefractie, Thermisch behandelde producten","Hydrocarbon oils, arom., mixed with polyethylene and polypropylene, pyrolyzed, light oil fraction, Heat Treatment Products [The oil obtained from the heat treatment of a polyethylene/polypropylene reaction mass with coal tar pitch or aromatic oils. It consists predominantly of benzene and its homologs boiling in a range of approximately 70°C to 120°C (158°F to 248°F).]","Ja",null,null,null,null,"MVP 2","2,5 g/uur","1 mg/Nm3","2013-12-02",26]
["100801-65-8","309-748-5","De olie die wordt verkregen uit de thermische behandeling van polyethyleen met koolteerpek of aromatische oliën. Bestaat voornamelijk uit benzeen en homologen daarvan en heeft een kooktraject van ongeveer 70 °C tot 120 °C. Koolwaterstofoliën aromatisch gemengd met polyethyleen gepyrolyseerd lichte oliefractie, Thermisch behandelde producten","Hydrocarbon oils, arom., mixed with polyethylene, pyrolyzed, light oil fraction, Heat Treatment Products [The oil obtained from the heat treatment of polyethylene with coal tar pitch or aromatic oils. It consists predominantly of benzene and its homologs boiling in a range of 70°C to 120°C (158°F to 248°F).]","Ja",null,null,null,null,"MVP 2","2,5 g/uur","1 mg/Nm3","2013-12-02",26]
["100801-66-9","309-749-0","De olie die wordt verkregen uit de thermische behandeling van polystyreen met koolteerpek of aromatische oliën. Bestaat voornamelijk uit benzeen en homologen daarvan en heeft een kooktraject van ongeveer 70 °C tot 210 °C. Koolwaterstofoliën aromatisch gemengd met polystyreen gepyrolyseerd lichte oliefractie, Thermisch behandelde producten","Hydrocarbon oils, arom., mixed with polystyrene, pyrolyzed, light oil fraction, Heat Treatment Products [The oil obtained from the heat treatment of polystyrene with coal tar pitch or aromatic oils. It consists predominantly of benzene and its homologs boiling in a range of approximately 70°C to 210°C (158°F to 410°F).]","Ja",null,null,null,null,"MVP 2","2,5 g/uur","1 mg/Nm3","2013-12-02",26,"Deze stof wordt niet als individuele stof als ZZS geïdentificeerd maar valt onder de ZZS-stofgroep gebromeerde brandvertragers"]
["84989-05-9","284-893-4","De teerzuurfractie die wordt verkregen door destillatie van ongezuiverde teerzuren uit lage-temperatuur-koolteer, met een kooktraject van ongeveer 225 °C tot 320 °C. Bestaat voornamelijk uit polyalkylfenolen. Gedestilleerde fenolen Teerzuren polyalkylfenolfractie","Tar acids, polyalkylphenol fraction, Distillate Phenols [The fraction of tar acids, recovered by distillation of low-temperature coal tar crude tar acids, having an approximate boiling range of 225°C to 320°C (437°F to 608°F). Composed primarily of polyalkylphenols.]","Ja",null,null,null,null,null,null,null,"2013-12-02",20]
["84989-06-0","284-895-5","De teerzuurfractie, rijk aan 2,4- en 2,5-dimethylfenol die wordt verkregen door destillatie van ongezuiverde teerzuren uit lage-temperatuur-koolteer. Gedestilleerde fenolen Teerzuren xylenolfractie","Tar acids, xylenol fraction, Distillate Phenols [The fraction of tar acids, rich in 2,4- and 2,5-dimethylphenol, recovered by distillation of low-temperature coal tar crude tar acids.]","Ja",null,null,null,null,null,null,null,"2013-12-02",20]
["84989-03-7","284-891-3","De teerzuurfractie, rijk aan 3- en 4-ethylfenol die wordt verkregen door destillatie van ongezuiverde teerzuren uit lage-temperatuur koolteer. Gedestilleerde fenolen Teerzuren ethylfenolfractie","Tar acids, ethylphenol fraction, Distillate Phenols [The fraction of tar acids, rich in 3- and 4-ethylphenol, recovered by distillation of low-temperature coal tar crude tar acids.]","Ja",null,null,null,null,null,null,null,"2013-12-02",20]
["84989-04-8","284-892-9","De teerzuurfractie, rijk aan 3- en 4-methylfenol die wordt verkregen door destillatie van ongezuiverde teerzuren uit lage-temperatuur-koolteer. Gedestilleerde fenolen Teerzuren methylfenolfractie","Tar acids, methylphenol fraction, Distillate Phenols [The fraction of tar acid rich in 3- and 4-methylphenol, recovered by distillation of low-temperature coal tar crude tar acids.]","Ja",null,null,null,null,null,null,null,"2013-12-02",20]
["84989-07-1","284-896-0","De teerzuurfractie, rijk aan 3,5-dimethylfenol die wordt verkregen door destillatie van teerzuren uit lage-temperatuur-koolteer. Gedestilleerde fenolen Teerzuren 3,5-xylenolfractie","Tar acids, 3,5-xylenol fraction, Distillate Phenols [The fraction of tar acids, rich in 3,5-dimethylphenol, recovered by distillation of low-temperature coal tar acids.]","Ja",null,null,null,null,null,null,null,"2013-12-02",20]
["90641-11-5","292-635-7","De vluchtige organische vloeistof die wordt gecondenseerd uit het gas dat vrijkomt bij de destructieve destillatie van kool bij lage temperatuur (minder dan 700 °C). Bestaat voornamelijk uit C6-10-koolwaterstoffen. Lichte olie, Lichte olie (kool), semi-verkooksingsproces","Light oil (coal), semi-coking process, Fresh oil [The volatile organic liquid condensed from the gas evolved in the low-temperature (less than 700°C (1292°F)) destructive distillation of coal. Composed primarily of C6-10 hydrocarbons.]","Ja",null,null,null,null,null,null,null,"2013-12-02",20]
["65996-78-3","266-012-5","De vluchtige organische vloeistof die wordt geëxtraheerd uit het gas dat vrijkomt bij de destructieve destillatie van kool bij hoge temperatuur (hoger dan 700 °C). Bestaat voornamelijk uit benzeen tolueen en xylenen. Kan kleinere hoeveelheden andere koolwaterstoffen bevatten. Lichte olie (kool), cokesoven Ruwe benzol","Light oil (coal), coke-oven, Crude benzole [The volatile organic liquid extracted from the gas evolved in the high temperature (greater than 700°C (1292°F)) destructive distillation of coal. Composed primarily of benzene, toluene, and xylenes. May contain other minor hydrocarbon constituents.]","Ja",null,null,null,null,null,null,null,"2013-12-02",20]
["13654-09-6","237-137-2","decabroombifenyl","decabromobiphenyl",null,null,null,null,null,"MVP 1","0,15 g/uur","0,05 mg/Nm3","2013-12-02","3, 38"]
["319-86-8","206-272-9","delta-hexachloorcyclohexaan","(1α,2α,3α,4β,5α,6β)-1,2,3,4,5,6-hexachlorocyclohexane",null,null,null,"Ja",null,"MVP 1","0,15 g/uur","0,05 mg/Nm3","2016-07-26",39]
["94114-57-5","302-693-8","Destillaat dat wordt verkregen door de hydrogenering van de met waterstof gekraakte middenfractie van koolextract of de oplossing die wordt verkregen door extractie met vloeibaar oplosmiddel of superkritisch gas, met een kooktraject van ongeveer 180 °C tot 280 °C. Bestaat voornamelijk uit gehydrogeneerde bicyclische koolstofverbindingen en alkylderivaten daarvan overwegend C9 tot en met C14. Destillaten (kool), oplosmiddelextractie, waterstofgekraakte gehydrogeneerde middenfractie","Distillates (coal), solvent extn., hydrocracked hydrogenated middle [Distillate from the hydrogenation of hydrocracked middle distillate from coal extract or solution produced by the liquid solvent extraction or supercritical gas extraction processes and boiling in the range of approximately 180°C to 280°C (356°F to 536°F). Composed primarily of hydrogenated two- ring carbon compounds and their alkyl derivatives having carbon numbers predominantly in the range of C9 through C14.]","Ja",null,null,null,null,null,null,null,"2013-12-02",20]
["91995-53-8","295-315-5","Destillaten (aardolie), afkomstig van nafta-stoomkraken oplosmiddelgeraffineerde lichte waterstofbehandelde, Een complexe verzameling koolwaterstoffen verkregen als raffinaten uit de oplosmiddelextractie van waterstofbehandeld licht destillaat uit stoomgekraakte nafta. Gemodificeerde nafta met laag kookpunt","Distillates (petroleum), naphtha steam cracking-derived, solvent-refined light hydrotreated, Low boiling point modified naphtha [A complex combination of hydrocarbons obtained as the raffinates from a solvent extraction process of hydrotreated light distillate from steam-cracked naphtha.]","Ja",null,null,null,null,null,null,null,"2013-12-02",20]
["68477-34-9","270-725-7","Destillaten (aardolie), C3-5, rijk aan 2-methyl-2-buteen Een complexe verzameling koolwaterstoffen verkregen door destillatie van koolwaterstoffen meestal C3 tot en met C5, overwegend isopentaan en 3-methyl-1-buteen. Bestaat uit verzadigde en onverzadigde koolwaterstoffen C3 tot en met C5, overwegend 2-methyl-2-buteen. Nafta met laag kookpunt - niet gespecifieerd","Distillates (petroleum), C3-5, 2-methyl-2-butene-rich, Low boiling point naphtha - unspecified [A complex combination of hydrocarbons from the distillation of hydrocarbons usually ranging in carbon numbers from C3 through C5, predominantly isopentane and 3-methyl-1-butene. It consists of saturated and unsaturated hydrocarbons having carbon numbers in the range of C3 through C5, predominantly 2-methyl-2-butene.]","Ja",null,null,null,null,null,null,null,"2013-12-02",20]
["68477-35-0","270-726-2","Destillaten (aardolie), C3-6, rijk aan piperyleen Een complexe verzameling koolwaterstoffen verkregen door destillatie van verzadigde en onverzadigde alifatische koolwaterstoffen meestal C3 tot en met C6. Bestaat uit verzadigde en onverzadigde koolwaterstoffen C3 tot en met C6, overwegend piperylenen. Petroleumgas","Distillates (petroleum), C3-6, piperylene-rich, Petroleum gas [A complex combination of hydrocarbons from the distillation of saturated and unsaturated aliphatic hydrocarbons usually ranging in the carbon numbers C3 through C6. It consists of saturated and unsaturated hydrocarbons having carbon numbers in the range of C3 through C6, predominantly piperylenes.]","Ja",null,null,null,null,null,null,null,"2013-12-02",20]
["101316-56-7","309-862-5","Destillaten (aardolie), C7-9-, rijk aan C8, waterstofontzwaveld gedearomatiseerd Een complexe verzameling koolwaterstoffen verkregen door destillatie van een lichte aardoliefractie, met waterstof ontzwaveld en gedearomatiseerd. Bestaat voornamelijk uit koolwaterstoffen overwegend C7 tot en met C9, overwegend C8-paraffinen en cycloparaffinen met een kooktraject van ongeveer 120°C tot 130°C. Nafta met laag kookpunt - niet gespecifieerd","Distillates (petroleum), C7-9, C8-rich, hydrodesulfurized dearomatized, Low boiling point naphtha - unspecified [A complex combination of hydrocarbons obtained by the distillation of petroleum light fraction, hydrodesulfurized and dearomatized. It consists predominantly of hydrocarbons having carbon numbers in the range of C7 through C9, predominantly C8 paraffins and cycloparaffins, boiling in the range of approximately 120°C to 130°C (248°F to 266°F).]","Ja",null,null,null,null,null,null,null,"2013-12-02",20]
["68477-50-9","270-735-1","Destillaten (aardolie), gepolymeriseerde stoomgekraakte aardoliedestillaten C5-12-fractie, Een complexe verzameling koolwaterstoffen verkregen door destillatie van gepolymeriseerd stoomgekraakt aardoliedestillaat. Bestaat voornamelijk uit koolwaterstoffen overwegend C5 tot en met C12. Nafta met laag kookpunt - niet gespecifieerd","Distillates (petroleum), polymd. steam-cracked petroleum distillates, C5-12 fraction, Low boiling point naphtha - unspecified [A complex combination of hydrocarbons obtained from the distillation of polymerized steam-cracked petroleum distillate. It consists predominantly of hydrocarbons having carbon numbers predominantly in the range of C5 through C12.]","Ja",null,null,null,null,null,null,null,"2013-12-02",20]
["91995-41-4","295-302-4","Destillaten (aardolie), hitteverzadigde stoomgekraakte nafta, rijk aan C5, Een complexe verzameling koolwaterstoffen verkregen door destillatie van hitteverzadigde stoomgekraakte nafta. Bestaat voornamelijk uit koolwaterstoffen C4 tot en met C6, overwegend C5. Nafta met laag kookpunt - niet gespecifieerd","Distillates (petroleum), heat-soaked steam-cracked naphtha, C5-rich, Low boiling point naphtha - unspecified [A complex combination of hydrocarbons obtained by distillation of heat-soaked steam-cracked naphtha. It consists predominantly of hydrocarbons having carbon numbers in the range of C4 through C6, predominantly C5.]","Ja",null,null,null,null,null,null,null,"2013-12-02",20]
["68475-79-6","270-660-4","Destillaten (aardolie), katalytisch gereformde pentaanverwijdering-, Een complexe verzameling koolwaterstoffen afkomstig uit de destillatie van producten van een katalytisch reformingproces. Bestaat voornamelijk uit alifatische koolwaterstoffen overwegend C3 tot en met C6, met een kooktraject van ongeveer -49°C tot 63°C. Katalytisch gereformde nafta met laag kookpunt","Distillates (petroleum), catalytic reformed depentanizer, Low boiling point cat-reformed naphtha [A complex combination of hydrocarbons from the distillation of products from a catalytic reforming process. It consists predominantly of aliphatic hydrocarbons having carbon numbers predominantly in the range of C3 through C6 and boiling in the range of approximately -49°C to 63°C (-57°F to 145°F).]","Ja",null,null,null,null,null,null,null,"2013-12-02",20]
["85116-58-1","285-509-8","Destillaten (aardolie), katalytisch gereformde, waterstofbehandelde, lichte fractie, C8-12- aromatische fractie, Een complexe verzameling alkylbenzenen verkregen door katalytische reforming van aardolienafta. Bestaat voornamelijk uit alkylbenzenen overwegend C8 tot en met C10, met een kooktraject van ongeveer 160°C tot 180°C. Katalytisch gereformde nafta met laag kookpunt","Distillates (petroleum), catalytic reformed hydrotreated light, C8-12 arom. fraction, Low boiling point cat-reformed naphtha [A complex combination of alkylbenzenes obtained by the catalytic reforming of petroleum naphtha. It consists predominantly of alkylbenzenes having carbon numbers predominantly in the range of C8 through C10 and boiling in the range of approximately 160°C to 180°C (320°F to 356°F).]","Ja",null,null,null,null,null,null,null,"2013-12-02",20]
["68921-08-4","272-931-2","Destillaten (aardolie), lichte direct door fractionering verkregen benzine, topproducten uit fractioneringsstabilisator, Een complexe verzameling koolwaterstoffen verkregen door fractionering van lichte direct door fractionering verkregen benzine. Bestaat uit verzadigde alifatische koolwaterstoffen overwegend C3 tot en met C6. Nafta met laag kookpunkt","Distillates (petroleum), light straight-run gasoline fractionation stabilizer overheads, Low boiling point naphtha [A complex combination of hydrocarbons obtained by the fractionation of light straight-run gasoline. It consists of saturated aliphatic hydrocarbons having carbon numbers predominantly in the range of C3 through C6.]","Ja",null,null,null,null,null,null,null,"2013-12-02",20]
["68410-05-9","270-077-5","Destillaten (aardolie), lichte direct uit fractionering verkregen Een complexe verzameling koolwaterstoffen verkregen door destillatie van ruwe olie. Bestaat uit koolwaterstoffen overwegend C2 tot en met C7, met een kooktraject van ongeveer -88°C tot 99°C. Nafta met laag kookpunt","Distillates (petroleum), straight-run light, Low boiling point naphtha [A complex combination of hydrocarbons produced by the distillation of crude oil. It consists of hydrocarbons having carbon numbers predominantly in the range of C2 through C7 and boiling in the range of approximately -88°C to 99°C (-127°F to 210°F).]","Ja",null,null,null,null,null,null,null,"2013-12-02",20]
["68955-29-3","273-266-0","Destillaten (aardolie), lichte thermisch gekraakte, gedebutaniseerde aromatische, Een complexe verzameling koolwaterstoffen verkregen door destillatie van producten van een thermisch kraakproces. Bestaat voornamelijk uit aromatische koolwaterstoffen overwegend benzeen. Thermisch gekraakte nafta met laag kookpunt","Distillates (petroleum), light thermal cracked, debutanized arom., Low boiling point thermally cracked naphtha [A complex combination of hydrocarbons produced by the distillation of products from a thermal cracking process. It consists predominantly of aromatic hydrocarbons, primarily benzene.]","Ja",null,null,null,null,"MVP 2","2,5 g/uur","1 mg/Nm3","2013-12-02",26]
["68921-09-5","272-932-8","Destillaten (aardolie), nafta-unifiner-stripper, Een complexe verzameling koolwaterstoffen verkregen door strippen van de producten uit de nafta-unifiner. Bestaat uit verzadigde alifatische koolwaterstoffen overwegend C2 tot en met C6. Nafta met laag kookpunt - niet gespecifieerd","Distillates (petroleum), naphtha unifiner stripper, Low boiling point naphtha - unspecified [A complex combination of hydrocarbons produced by stripping the products from the naphtha unifiner. It consists of saturated aliphatic hydrocarbons having carbon numbers predominantly in the range of C2 through C6.]","Ja",null,null,null,null,null,null,null,"2013-12-02",20]
["68477-89-4","270-771-8","Destillaten (aardolie), pentaanverwijdering, topproducten Een complexe verzameling koolwaterstoffen verkregen uit een katalytisch gekraakte gasstroom. Bestaat uit alifatische koolwaterstoffen overwegend C4 tot en met C6. Nafta met laag kookpunt - niet gespecifieerd","Distillates (petroleum), depentanizer overheads, Low boiling point naphtha - unspecified [A complex combination of hydrocarbons obtained from a catalytic cracked gas stream. It consists of aliphatic hydrocarbons having carbon numbers predominantly in the range of C4 through C6.]","Ja",null,null,null,null,null,null,null,"2013-12-02",20]
["91995-31-2","295-292-1","Destillaten (aardolie), pyrolyseolie uit de alkeen-alkynproductie, gemengd met hoge-temperatuur-koolteer, indeenfractie, Een complexe verzameling koolwaterstoffen die wordt verkregen als een herdestillaat uit de fractionele destillatie van bitumineuze hoge-temperatuur-koolteer en residuoliën die zijn verkregen bij de pyrolytische productie van alkenen en alkynen uit aardolieproducten of aardgas. Bestaat voornamelijk uit indeen en heeft een kooktraject van ongeveer 160°C tot 190°C. Geherdestilleerde fracties","Distillates (petroleum), alkene-alkyne manuf. pyrolysis oil, mixed with high-temp. coal tar, indene fraction, Redistillates [A complex combination of hydrocarbons obtained as a redistillate from the fractional distillation of bituminous coal high temperature tar and residual oils that are obtained by the pyrolytic production of alkenes and alkynes from petroleum products or natural gas. It consists predominantly of indene and boils in a range of approximately 160°C to 190°C (320°F to 374°F).]","Ja",null,null,null,null,null,null,null,"2013-12-02",20]
["93165-19-6","296-903-4","Destillaten (aardolie), rijk aan C6, Een complexe verzameling koolwaterstoffen verkregen door destillatie van een aardoliegrondstof. Bestaat voornamelijk uit koolwaterstoffen overwegend C5 tot en met C7, rijk aan C6, met een kooktraject van ongeveer 60°C tot 70°C. Nafta met laag kookpunt - niet gespecifieerd","Distillates (petroleum), C6-rich, Low boiling point naphtha - unspecified [A complex combination of hydrocarbons obtained from the distillation of a petroleum feedstock. It consists predominantly of hydrocarbons having carbon numbers of C5 through C7, rich in C6, and boiling in the range of approximately 60°C to 70°C (140°F to 158°F).]","Ja",null,null,null,null,null,null,null,"2013-12-02",20]
["68477-55-4","270-738-8","Destillaten (aardolie), stoomgekraakt, C5-10-fractie, gemengd met lichte stoomgekraakte aardolienafta-C5-fractie, Nafta met laag kookpunt - niet gespecifieerd","Distillates (petroleum), steam-cracked, C5-10 fraction, mixed with light steam-cracked petroleum naphtha C5 fraction, Low boiling point naphtha - unspecified","Ja",null,null,null,null,null,null,null,"2013-12-02",20]
["68477-53-2","270-736-7","Destillaten (aardolie), stoomgekraakt, C5-12-fractie, Een complexe verzameling organische verbindingen verkregen door destillatie van producten uit een stoomkraakproces. Bestaat uit onverzadigde koolwaterstoffen overwegend C5 tot en met C12. Nafta met laag kookpunt - niet gespecifieerd","Distillates (petroleum), steam-cracked, C5-12 fraction, Low boiling point naphtha - unspecified [A complex combination of organic compounds obtained by the distillation of products from a steam cracking process. It consists of unsaturated hydrocarbons having carbon numbers predominantly in the range of C5 through C12.]","Ja",null,null,null,null,null,null,null,"2013-12-02",20]
["95009-23-7","305-750-5","Destillaten (aardolie), stoomgekraakt, gepolymeriseerde C8-12-fractie, lichte destillatiefracties, Een complexe verzameling koolwaterstoffen verkregen door destillatie van de gepolymeriseerde C8-12-fractie van stoomgekraakte aardoliedestillaten. Bestaat voornamelijk uit aromatische koolwaterstoffen overwegend C8 tot en met C12. Nafta met laag kookpunt - niet gespecifieerd","Distillates (petroleum), steam-cracked, C8-12 fraction, polymd., distn. lights, Low boiling point naphtha - unspecified [A complex combination of hydrocarbons obtained by distillation of the polymerized C8 through C12 fraction from steam-cracked petroleum distillates. It consists predominantly of aromatic hydrocarbons having carbon numbers predominantly in the range of C8 through C12.]","Ja",null,null,null,null,null,null,null,"2013-12-02",20]
["68603-01-0","271-632-4","Destillaten (aardolie), thermisch gekraakte nafta en gasolie, C5-dimeer bevattend Een complexe verzameling koolwaterstoffen verkregen door extractieve destillatie van thermisch gekraakte nafta en/of gasolie. Bestaat voornamelijk uit C5-koolwaterstoffen met enkele gedimeriseerde C5-olefinen met een kooktraject van ongeveer 33°C tot 184°C. Thermisch gekraakte nafta met laag kookpunt","Distillates (petroleum), thermal cracked naphtha and gas oil, C5-dimer-contg., Low boiling point thermally cracked naphtha [A complex combination of hydrocarbons produced by the extractive distillation of thermal cracked naphtha and/or gas oil. It consists predominantly of hydrocarbons having a carbon number of C5 with some dimerized C5 olefins and boiling in the range of approximately 33°C to 184°C (91°F to 363°F).]","Ja",null,null,null,null,null,null,null,"2013-12-02",20]
["68603-00-9","271-631-9","Destillaten (aardolie), thermisch gekraakte nafta en gasolie, Een complexe verzameling koolwaterstoffen verkregen door destillatie van thermisch gekraakte nafta en/of gasolie. Bestaat voornamelijk uit olefine-koolwaterstoffen (C5), met een kooktraject van ongeveer 33°C tot 60°C. Thermisch gekraakte nafta met laag kookpunt","Distillates (petroleum), thermal cracked naphtha and gas oil, Low boiling point thermally cracked naphtha [A complex combination of hydrocarbons produced by distillation of thermally cracked naphtha and/or gas oil. It consists predominantly of olefinic hydrocarbons having a carbon number of C5 and boiling in the range of approximately 33°C to 60°C (91°F to 140°F).]","Ja",null,null,null,null,null,null,null,"2013-12-02",20]
["68603-03-2","271-634-5","Destillaten (aardolie), thermisch gekraakte nafta en gasolie, extractieve, Een complexe verzameling koolwaterstoffen verkregen door extractieve destillatie van thermisch gekraakte nafta en/of gasolie. Bestaat uit paraffine- en olefine-koolwaterstoffen overwegend isoamylenen zoals 2-methyl-1-buteen en 2-methyl-2-buteen met een kooktraject van ongeveer 31°C tot 40°C. Thermisch gekraakte nafta met laag kookpunt","Distillates (petroleum), thermal cracked naphtha and gas oil, extractive, Low boiling point thermally cracked naphtha [A complex combination of hydrocarbons produced by the extractive distillation of thermal cracked naphtha and/or gas oil. It consists of paraffinic and olefinic hydrocarbons, predominantly isoamylenes such as 2-methyl-1-butene and 2-methyl-2-butene and boiling in the range of approximately 31°C to 40°C (88°F to 104°F).]","Ja",null,null,null,null,null,null,null,"2013-12-02",20]
["68513-63-3","271-008-1","Destillaten (aardolie), topproducten van katalytisch gereformde, door directe fractionering verkregen nafta, Een complexe verzameling koolwaterstoffen verkregen door katalytische reforming van door directe fractionering verkregen nafta, gevolgd door fractionering van de totale uitstroom. Bestaat uit verzadigde alifatische koolwaterstoffen overwegend C2 tot en met C6. Katalytisch gereformde nafta met laag kookpunt","Distillates (petroleum), catalytic reformed straight-run naphtha overheads, Low boiling point cat-reformed naphtha [A complex combination of hydrocarbons obtained by the catalytic reforming of straight-run naphtha followed by the fractionation of the total effluent. It consists of saturated aliphatic hydrocarbons having carbon numbers predominantly in the range of C2 through C6.]","Ja",null,null,null,null,null,null,null,"2013-12-02",20]
["91995-50-5","295-311-3","Destillaten (aardolie), waterstofbehandelde aromatische lichte, afkomstig van het stoomkraken van nafta, Een complexe verzameling koolwaterstoffen verkregen door het behandelen met waterstof van een licht destillaat uit stoomgekraakte nafta. Bestaat voornamelijk uit aromatische koolwaterstoffen. Katalytisch gekraakte nafta met laag kookpunt","Distillates (petroleum), naphtha steam cracking-derived, hydrotreated light arom., Low boiling point cat-cracked naphtha. [A complex combination of hydrocarbons obtained by treating a light distillate from steam-cracked naphtha. It consists predominantly of aromatic hydrocarbons.]","Ja",null,null,null,null,null,null,null,"2013-12-02",20]
["68410-97-9","270-093-2","Destillaten (aardolie), waterstofbehandelde lichte fracties, laagkokend Een complexe verzameling koolwaterstoffen verkregen door destillatie van producten uit de waterstofbehandeling van licht destillaat. Bestaat uit koolwaterstoffen overwegend C6 tot en met C9, met een kooktraject van ongeveer 3°C tot 194°C. Gehydrogeneerde nafta met laag kookpunt","Distillates (petroleum), light distillate hydrotreating process, low-boiling, Low boiling point hydrogen treated naphtha [A complex combination of hydrocarbons obtained by the distillation of products from the light distillate hydrotreating process. It consists of hydrocarbons having carbon numbers predominantly in the range of C6 through C9 and boiling in the range of approximately 3°C to 194°C (37°F to 382°F).]","Ja",null,null,null,null,null,null,null,"2013-12-02",20]
["68410-96-8","270-092-7","Destillaten (aardolie), waterstofbehandelde middenfracties, tussenfracties, Een complexe verzameling koolwaterstoffen verkregen door destillatie van producten uit de waterstofbehandeling van middendestillaat. Bestaat uit koolwaterstoffen voornamelijk C5 tot en met C10, met een kooktraject van ongeveer 127°C tot 188°C. Gehydrogeneerde nafta met laag kookpunt","Distillates (petroleum), hydrotreated middle, intermediate boiling, Low boiling point hydrogen treated naphtha [A complex combination of hydrocarbons obtained by the distillation of products from a middle distillate hydrotreating process. It consists of hydrocarbons having carbon numbers predominantly in the range of C5 through C10 and boiling in the range of approximately 127°C to 188°C (262°F to 370°F).]","Ja",null,null,null,null,null,null,null,"2013-12-02",20]
["68410-98-0","270-094-8","Destillaten (aardolie), waterstofbehandelde zware nafta, topproducten isohexaanverwijdering, Een complexe verzameling koolwaterstoffen verkregen door destillatie van producten uit de waterstofbehandeling van zware nafta. Bestaat uit koolwaterstoffen overwegend C3 tot en met C6, met een kooktraject van ongeveer -49°C tot 68°C. Gehydrogeneerde nafta met laag kookpunkt","Distillates (petroleum), hydrotreated heavy naphtha, deisohexanizer overheads, Low boiling point hydrogen treated naphtha [A complex combination of hydrocarbons obtained by distillation of the products from a heavy naphtha hydrotreating process. It consists of hydrocarbons having carbon numbers predominantly in the range of C3 through C6 and boiling in the range of approximately -49°C to 68°C (-57°F to 155°F).]","Ja",null,null,null,null,null,null,null,"2013-12-02",20]
["94114-53-1","302-689-6","Destillaten (kool), oplosmiddelextractie, waterstofgekraakt, Het destillaat dat wordt verkregen door het met waterstof kraken van koolextract of de oplossing die wordt verkregen door extractie met vloeibaar oplosmiddel of met superkritisch gas, met een kooktraject van ongeveer 30 °C tot 300 °C. Bestaat voornamelijk uit aromatische, gehydrogeneerde aromatische en nafteenverbindingen alkylderivaten daarvan en alkanen overwegend C4 tot en met C14. Bevat eveneens stikstof-, zwavel- en zuurstofhoudende aromatische en gehydrogeneerde aromatische verbindingen.","Distillates (coal), solvent extn., hydrocracked [Distillate obtained by hydrocracking of coal extract or solution produced by the liquid solvent extraction or supercritical gas extraction processes and boiling in the range of approximately 30°C to 300°C (86°F to 572°F). Composed primarily of aromatic, hydrogenated aromatic and naphthenic compounds, their alkyl derivatives and alkanes with carbon numbers predominantly in the range of C4 through C14. Nitrogen, sulfur and oxygen-containing aromatic and hydrogenated aromatic compounds are also present.]","Ja",null,null,null,null,null,null,null,"2013-12-02",20]
["94114-56-4","302-692-2","Destillaten (kool), oplosmiddelextractie, waterstofgekraakte middenfractie, Het destillaat dat wordt verkregen door het met waterstof kraken van koolextract of de oplossing die wordt verkregen door extractie met vloeibaar oplosmiddel of met superkritisch gas, met een kooktraject van ongeveer 180 °C tot 300 °C. Bestaat voornamelijk uit bicyclische aromatische, gehydrogeneerde aromatische en nafteenverbindingen alkylderivaten daarvan en alkanen overwegend C9 tot en met C14. Bevat eveneens stikstof-, zwavel- en zuurstofhoudende verbindingen.","Distillates (coal), solvent extn., hydrocracked middle [Distillate obtained from the hydrocracking of coal extract or solution produced by the liquid solvent extraction or supercritical gas extraction processes and boiling in the range of approximately 180°C to 300°C (356°F to 572°F. Composed primarily of two-ring aromatic, hydrogenated aromatic and naphthenic compounds, their alkyl derivatives and alkanes having carbon numbers predominantly in the range of C9 through C14. Nitrogen, sulfur and oxygen-containing compounds are also present.]","Ja",null,null,null,null,null,null,null,"2013-12-02",20]
["94114-52-0","302-688-0","Destillaten (kool), primaire, vloeibaar-oplosmiddelextractie, Het vloeibare product van de condensatie van de damp die vrijkomt bij het ontsluiten van kool in een vloeibaar oplosmiddeL met een kooktraject van ongeveer 30°C tot 300°C. Bestaat voornamelijk uit gedeeltelijk gehydrogeneerde gecondenseerde aromatische koolwaterstoffen aromatische stikstof-, zuurstof- en zwavelhoudende verbindingen en de alkylderivaten daarvan overwegend C4 tot en met C14.","Distillates (coal), liq. solvent extn., primary [The liquid product of condensation of vapors emitted during the digestion of coal in a liquid solvent and boiling in the range of approximately 30°C to 300°C (86°F to 572°F). Composed primarily of partly hydrogenated condensed-ring aromatic hydrocarbons, aromatic compounds containing nitrogen, oxygen and sulfur, and their alkyl derivatives having carbon numbers predominantly in the range of C4 through C14.]","Ja",null,null,null,null,null,null,null,"2013-12-02",20]
["91995-35-6","295-295-8","Destillaten (kool), residuele pyrolyseoliën uit koolteer, naftaleenoliën Geherdestilleerde fracties, Het herdestillaat dat wordt verkregen uit de fractionele destillatie van bitumineuze hoge-temperatuur-koolteer en residuele pyrolyseoliën met een kooktraject van ongeveer 190°C tot 270°C. Bestaat voornamelijk uit gesubstitueerde bicyclische aromaten.","Distillates (coal), coal tar-residual pyrolysis oils, naphthalene oils, Redistillates [The redistillate obtained from the fractional distillation of bituminous coal high temperature tar and pyrolysis residual oils and boiling in the range of approximately 190°C to 270°C (374°F to 518°F). Composed primarily of substituted dinuclear aromatics.]","Ja",null,null,null,null,null,null,null,"2013-12-02",20]
["121620-46-0","310-165-3","Destillaten (koolteer), benzolfractie, destillatieresiduen Een complexe verzameling koolwaterstoffen die wordt verkregen uit de destillatie van ruwe benzol (hoge-temperatuur-koolteer). Kan een vloeistof zijn met een destillatietraject van ongeveer 150 °C tot 300 °C, of een vaste of halfvaste stof met een smeltpunt tot 70 °C. Bestaat voornamelijk uit naftaleen en alkylnaftalenen. Wasolie","Distillates (coal tar), benzole fraction, distn. residues, Wash Oil [A complex combination of hydrocarbons obtained from the distillation of crude benzole (high temperature coal tar). It may be a liquid with the approximate distillation range of 150°C to 300°C (302°F to 572°F) or a semi-solid or solid with a melting point up to 70°C (158°F). It is composed primarily of naphthalene and alkyl naphthalenes.]","Ja",null,null,null,null,null,null,null,"2013-12-02",20]
["101896-26-8","309-984-9","Destillaten (koolteer), benzolfractie, rijk aan benzeen tolueen en xyleen Een residu dat afkomstig is uit de destillatie van ruwe benzol om benzolvoorfracties te verwijderen. Bestaat voornamelijk uit benzeen tolueen en xylenen met een kooktraject van ongeveer 75 °C tot 200 °C. Lichte olie, herdestillaat, laagkokende fractie","Distillates (coal tar), benzole fraction, BTX-rich, Light Oil Redistillate, low boiling [A residue from the distillation of crude benzole to remove benzole fronts. Composed primarily of benzene, toluene and xylenes boiling in the range of approximately 75°C to 200°C (167°F to 392°F).]","Ja",null,null,null,null,null,null,null,"2013-12-02",20]
["65996-91-0","266-026-1","destillaten (koolteer), bovenste","distillates (coal tar), upper","Ja",null,null,null,null,null,null,null,"2013-12-02",20]
["101794-90-5","309-971-8","Destillaten (koolteer), lichte oliën neutrale fractie. Lichte olie, extractieresidu, hoogkokende fractie, [Een destillaat dat afkomstig is uit de fractionele destillatie van hoge-temperatuur-koolteer. Bestaat voornamelijk uit alkylgesubstitueerde monocyclische aromatische koolwaterstoffen met een kooktraject van ongeveer 135°C tot 210°C. Kan bovendien onverzadigde koolwaterstoffen zoals indeen en cumaroon bevatten.]","Distillates (coal tar), light oils, neutral fraction, Light Oil Extract Residues, high boiling [A distillate from the fractional distillation of high temperature coal tar. Composed primarily of alkyl-substituted one ring aromatic hydrocarbons boiling in the range of approximately 135°C to 210°C (275°F to 410°F). May also include unsaturated hydrocarbons such as indene and coumarone.]","Ja",null,null,null,null,null,null,null,"2013-12-02",20]
["90640-87-2","292-609-5","Destillaten (koolteer), lichte oliën zuurextracten Deze olie is een complex mengsel van aromatische koolwaterstoffen voornamelijk indeen naftaleen cumaroon fenol en o-, m- en p-kresol met een kooktraject van 140°C tot 215°C. Lichte olie, extractieresidu, hoogkokende fractie","Distillates (coal tar), light oils, acid exts., Light Oil Extract Residues, high boiling [This oil is a complex reaction mass of aromatic hydrocarbons, primarily indene, naphthalene, coumarone, phenol, and o-, m- and p-cresol and boiling in the range of 140°C to 215°C (284°F to 419°F).]","Ja",null,null,null,null,null,null,null,"2013-12-02",20]
["84650-03-3","283-483-2","Destillaten (koolteer), lichte oliën. Een complexe verzameling koolwaterstoffen die wordt verkregen door destillatie van koolteer. Bestaat uit aromatische en andere koolwaterstoffen fenolverbindingen en aromatische stikstofverbindingen en heeft een destillatietraject van ongeveer 150°C tot 210°C. Fenololie","Distillates (coal tar), light oils, Carbolic Oil [A complex combination of hydrocarbons obtained by distillation of coal tar. It consists of aromatic and other hydrocarbons, phenolic compounds and aromatic nitrogen compounds and distills at the approximate range of 150°C to 210°C (302°F to 410°F).]","Ja",null,null,null,null,null,null,null,"2013-12-02",20,"De getoonde waarde voor de emissiegrenswaarde wijkt af van de algemene waarde voor de MVP 1 en 2 stofklassen. De getoonde waarde geldt tot 1 januari 2025, daarna wordt de algemene waarde van kracht."]
["84650-04-4","283-484-8","destillaten (koolteer), naftaleenoliën","distillates (coal tar), naphthalene oils","Ja",null,null,null,null,null,null,null,"2013-12-02",20,"De getoonde waarde voor de emissiegrenswaarde wijkt af van de algemene waarde voor de MVP 1 en 2 stofklassen. De getoonde waarde geldt tot 1 januari 2025, daarna wordt de algemene waarde van kracht."]
["101794-91-6","309-972-3","Destillaten (koolteer), naftaleenoliën indool-methylnaftaleenfractie, Een destillaat dat afkomstig is uit de fractionele destillatie van hoge-temperatuur-koolteer. Bestaat voornamelijk uit indool en methylnaftaleen en heeft een kooktraject van ongeveer 235 °C tot 255 °C. Methylnaftaleenolie","Distillates (coal tar), naphthalene oils, indole-methylnaphthalene fraction, Methylnaphthalene Oil [A distillate from the fractional distillation of high temperature coal tar. Composed primarily of indole and methylnaphthalene boiling in the range of approximately 235°C to 255°C (455°F to 491°F).]","Ja",null,null,null,null,null,null,null,"2013-12-02",20,"De getoonde waarde voor de emissiegrenswaarde wijkt af van de algemene waarde voor de MVP 1 en 2 stofklassen. De getoonde waarde geldt tot 1 januari 2025, daarna wordt de algemene waarde van kracht."]
["101896-27-9","309-985-4","Destillaten (koolteer), naftaleenoliën methylnaftaleenfractie, Een destillaat dat afkomstig is uit de fractionele destillatie van hoge-temperatuur-koolteer. Bestaat voornamelijk uit gesubstitueerde bicyclische aromatische koolwaterstoffen en aromatische stikstofbasen en heeft een kooktraject van ongeveer 225°C tot 255°C. Methylnaftaleenolie","Distillates (coal tar), naphthalene oils, methylnaphthalene fraction, Methylnaphthalene Oil [A distillate from the fractional distillation of high temperature coal tar. Composed primarily of substituted two ring aromatic hydrocarbons and aromatic nitrogen bases boiling in the range of approximately 225°C to 255°C (437°F to 491°F).]","Ja",null,null,null,null,null,null,null,"2013-12-02",20,"De getoonde waarde voor de emissiegrenswaarde wijkt af van de algemene waarde voor de MVP 1 en 2 stofklassen. De getoonde waarde geldt tot 1 januari 2025, daarna wordt de algemene waarde van kracht."]
["84989-09-3","284-898-1","Destillaten (koolteer), naftaleenoliën naftaleenarm Een complexe verzameling koolwaterstoffen die wordt verkregen door kristallisatie van naftaleenolie. Bestaat voornamelijk uit naftaleen alkylnaftalenen en fenolverbindingen. Naftaleenolie, herdestillaat","Distillates (coal tar), naphthalene oils, naphthalene-low, Naphthalene Oil Redistillate [A complex combination of hydrocarbons obtained by crystallization of naphthalene oil. Composed primarily of naphthalene, alkyl naphthalenes and phenolic compounds.]","Ja",null,null,null,null,null,null,null,"2013-12-02",20,"De getoonde waarde voor de emissiegrenswaarde wijkt af van de algemene waarde voor de MVP 1 en 2 stofklassen. De getoonde waarde geldt tot 1 januari 2025, daarna wordt de algemene waarde van kracht."]
["91995-48-1","295-309-2","Destillaten (koolteer), naftaleenoliën zuurextracten Een complexe verzameling koolwaterstoffen die wordt verkregen door het van basen ontdoen van de methylnaftaleenfractie die wordt verkregen uit de destillatie van koolteer en die een kooktraject heeft van ongeveer 230 °C tot 255 °C. Bevat voornamelijk 1(2)-methylnaftaleen naftaleen dimethylnaftaleen en bifenyl. Methylnaftaleenolie, extractieresidu","Distillates (coal tar), naphthalene oils, acid exts., Methylnaphthalene Oil Extract Residue [A complex combination of hydrocarbons obtained by debasing the methylnaphthalene fraction obtained by the distillation of coal tar and boiling in the range of approximately 230°C to 255°C (446°F to 491°F). Contains chiefly 1(2)-methylnaphthalene, naphthalene, dimethylnaphthalene and biphenyl.]","Ja",null,null,null,null,null,null,null,"2013-12-02",20]
["90640-86-1","292-607-4","Destillaten die worden verkregen uit de gefractioneerde destillatie van koolteer uit bitumineuze kool met een kooktraject van 240°C tot 400°C. Voornamelijk samengesteld uit tri- en polynucleaire koolwaterstoffen en heterocyclische verbindingen. Zware anthraceen olie, destillaten (koolteer), zware oliën","Distillates (coal tar), heavy oils, Heavy Anthracene Oil [Distillate from the fractional distillation of coal tar of bituminous coal, with boiling range of 240 °C to 400 °C (464 °F to 752 °F). Composed primarily of tri- and polynuclear hydrocarbons and heterocyclic compounds.]","Ja",null,null,null,null,null,null,null,"2013-12-02",20,"De getoonde waarde voor de emissiegrenswaarde wijkt af van de algemene waarde voor de MVP 1 en 2 stofklassen. De getoonde waarde geldt tot 1 januari 2025, daarna wordt de algemene waarde van kracht.","Deze stof staat zelf niet in bijlage 12a van de Activiteitenregeling milieubeheer maar valt onder een groepsvermelding, de getoonde stofklasse, grensmassastroom en emissiegrenswaarde zijn die van de groepsvermelding.","Deze stof wordt niet als individuele stof als ZZS geïdentificeerd maar valt onder de ZZS-stofgroep loodverbindingen."]
["68188-48-7","269-159-3","Destillaten Het destillaat van een mengsel van koolteer en aromatische aardoliestromen met een destillatietraject van ongeveer 220°C tot 450°C. Voornamelijk samengesteld uit aromatiche koolwaterstoffen met drie of vier gecondenseerde ringen. destillaten (kool-aardolie), gecondenseerde ringen-aromatisch","Distillates (coal-petroleum), condensed-ring arom, Distillates [The distillate from a mixture of coal and tar and aromatic petroleum streams having an approximate distillation range of 220 °C to 450 °C (428 °F to 842 °F). Composed primarily of 3- to 4-membered condensed ring aromatic hydrocarbons.]","Ja",null,null,null,null,null,null,null,"2013-12-02",20]
["91995-49-2","295-310-8","Destillatie (koolteer), moederloog uit naftaleenoliekristallisatie, Een complexe verzameling organische verbindingen die wordt verkregen als een filtraat uit de kristallisatie van de naftaleenfractie uit koolteer, met een kooktraject van ongeveer 200 °C tot 230 °C. Bevat voornamelijk naftaleen thionafteen en alkylnaftalenen. Naftaleenolie, herdestillaat","Distillates (coal tar), naphthalene oil crystn. mother liquor, Naphthalene Oil Redistillate [A complex combination of organic compounds obtained as a filtrate from the crystallization of the naphthalene fraction from coal tar and boiling in the range of approximately 200°C to 230°C (392°F to 446°F). Contains chiefly naphthalene, thionaphthene and alkylnaphthalenes.]","Ja",null,null,null,null,null,null,null,"2013-12-02",20]
["75113-37-0","401-040-5","di-µ-oxo-di-n-butylstannio-hydroxyboraan","dibutyltin hydrogen borate","Ja",null,null,null,null,"MVP 2","100 g/uur","20 mg/Nm3","2013-12-02","1, 2"]
["12004-35-2","234-454-8","dialuminiumnikkeltetraoxide","dialuminium nickel tetraoxide","Ja",null,null,null,null,"MVP 1","2,5 g/uur","0,5 mg/Nm3","2013-12-02","1, 2"]
["15699-18-0","239-793-5","diammoniumnikkelbis(sulfaat)","diammonium nickel bis(sulfate)","Ja",null,null,null,null,"MVP 1","2,5 g/uur","0,5 mg/Nm3","2013-12-02","1, 2"]
["74195-78-1",null,"diammoniumnikkelhexacyanoferraat","diammonium nickel hexacyanoferrate","Ja",null,null,null,null,"MVP 1","2,5 g/uur","0,5 mg/Nm3","2013-12-02","1, 2"]
["1327-53-3","215-481-4","diarseentrioxide","diarsenic trioxide","Ja","Ja",null,null,null,"MVP 1","0,25 g/uur","0,05 mg/Nm3","2013-12-02","1, 2"]
["334-88-3","206-382-7","diazomethaan","diazomethane","Ja",null,null,null,null,"MVP 2","2,5 g/uur","1 mg/Nm3","2013-12-02"]
["1344-40-7",null,"dibasisch loodfosfiet","dibasic lead phosphite",null,null,null,null,null,"MVP 1","2,5 g/uur","0,5 mg/Nm3","2013-12-02","1, 2, 3, 40","De getoonde waarde voor de emissiegrenswaarde wijkt af van de algemene waarde voor de MVP 1 en 2 stofklassen. De getoonde waarde geldt tot 1 januari 2025, daarna wordt de algemene waarde van kracht.","Deze stof staat zelf niet in bijlage 12a van de Activiteitenregeling milieubeheer maar valt onder een groepsvermelding, de getoonde stofklasse, grensmassastroom en emissiegrenswaarde zijn die van de groepsvermelding.","Deze stof wordt niet als individuele stof als ZZS geïdentificeerd maar valt onder de ZZS-stofgroep organische tinverbindingen"]
["226-36-8",null,"dibenz[a,h]acridine","dibenz[a,h]acridine",null,null,null,null,null,"MVP 1","0,15 g/uur","0,05 mg/Nm3","2014-08-12",18,"De getoonde waarde voor de emissiegrenswaarde wijkt af van de algemene waarde voor de MVP 1 en 2 stofklassen. De getoonde waarde geldt tot 1 januari 2025, daarna wordt de algemene waarde van kracht."]
["224-42-0","224-42-0","dibenz[a,j]acridine","dibenz[a,j[acridine",null,null,null,null,null,"MVP 1","0,15 g/uur","0,05 mg/Nm3","2014-08-12",18,"De getoonde waarde voor de emissiegrenswaarde wijkt af van de algemene waarde voor de MVP 1 en 2 stofklassen. De getoonde waarde geldt tot 1 januari 2025, daarna wordt de algemene waarde van kracht.","Deze stof staat zelf niet in bijlage 12a van de Activiteitenregeling milieubeheer maar valt onder een groepsvermelding, de getoonde stofklasse, grensmassastroom en emissiegrenswaarde zijn die van de groepsvermelding.","Deze stof wordt niet als individuele stof als ZZS geïdentificeerd maar valt onder de ZZS-stofgroep organische tinverbindingen"]
["192-65-4","205-891-1","dibenzo[a,e]pyreen","naphtho[1,2,3,4-def]chrysene",null,null,null,null,null,"MVP 1","0,15 g/uur","0,05 mg/Nm3","2014-08-12",18,"De getoonde waarde voor de emissiegrenswaarde wijkt af van de algemene waarde voor de MVP 1 en 2 stofklassen. De getoonde waarde geldt tot 1 januari 2025, daarna wordt de algemene waarde van kracht.","geldt ook voor oligomeren van deze stof"]
["53-70-3","200-181-8","dibenzo[a,h]antraceen","dibenz[a,h]anthracene","Ja",null,null,null,null,"MVP 1","0,15 g/uur","0,05 mg/Nm3","2013-12-02"]
["189-64-0","205-878-0","dibenzo[a,h]pyreen","dibenzo[b,def]chrysene",null,null,null,null,null,"MVP 1","0,15 g/uur","0,05 mg/Nm3","2014-08-12",18]
["189-55-9","205-877-5","dibenzo[a,i]pyreen","benzo[r,s,t]pentaphene",null,null,null,null,null,"MVP 1","0,15 g/uur","0,05 mg/Nm3","2014-08-12",18]
["191-30-0","205-886-4","dibenzo[a,l]pyreen","dibenzo[def,p]chrysene",null,null,null,null,null,"MVP 1","0,15 g/uur","0,05 mg/Nm3","2014-08-12",18]
["84-74-2","201-557-4","dibutylftalaat","dibutyl phthalate","Ja","Ja",null,"Ja",null,"MVP 1","0,15 g/uur","0,05 mg/Nm3","2013-12-02",null,"De getoonde waarde voor de emissiegrenswaarde wijkt af van de algemene waarde voor de MVP 1 en 2 stofklassen. De getoonde waarde geldt tot 1 januari 2025, daarna wordt de algemene waarde van kracht."]
["1002-53-5",null,"dibutyltin","dibutyltin hydride",null,null,null,null,null,"MVP 2","100 g/uur","20 mg/Nm3","2013-12-02","1, 2, 3, 36"]
["683-18-1","211-670-0","dibutyltindichloride","dibutyltin-dichloride","Ja","Ja",null,null,null,"MVP 2","100 g/uur","20 mg/Nm3","2013-12-02","1, 2","De getoonde waarde voor de emissiegrenswaarde wijkt af van de algemene waarde voor de MVP 1 en 2 stofklassen. De getoonde waarde geldt tot 1 januari 2025, daarna wordt de algemene waarde van kracht."]
["818-08-6","212-449-1","dibutyltinoxide","dibutyltin-oxide",null,null,null,null,null,"MVP 2","100 g/uur","20 mg/Nm3","2013-12-02","1, 2, 3, 36"]
["13530-68-2","236-881-5","dichroomzuur","dichromic acid",null,"Ja",null,null,null,"MVP 1","0,5 g/uur","0,1 mg/Nm3","2013-12-02","1, 2, 35","De getoonde waarde voor de emissiegrenswaarde wijkt af van de algemene waarde voor de MVP 1 en 2 stofklassen. De getoonde waarde geldt tot 1 januari 2025, daarna wordt de algemene waarde van kracht."]
["115-32-2","204-082-0","dicofol","dicofol",null,null,"Ja","Ja",null,"MVP 1","0,15 g/uur","0,05 mg/Nm3","2013-12-02"]
["84-61-7","201-545-9","dicyclohexylftalaat","dicyclohexyl phthalate","Ja",null,null,null,null,"MVP 1","0,15 g/uur","0,05 mg/Nm3","2017-01-04",4,"De getoonde waarde voor de emissiegrenswaarde wijkt af van de algemene waarde voor de MVP 1 en 2 stofklassen. De getoonde waarde geldt tot 1 januari 2025, daarna wordt de algemene waarde van kracht."]
["60-57-1","200-484-5","dieldrin","dieldrin",null,null,null,null,"Ja","MVP 1","0,15 g/uur","0,05 mg/Nm3","2013-12-02"]
["70225-14-8","274-460-8","diethanolamineperfluoroctaansulfonaat","diethanolamine perfluorooctane sulfonate","Ja",null,"Ja","Ja","Ja","MVP 1","0,15 g/uur","0,05 mg/Nm3","2013-12-02"]
["64-67-5","200-589-6","diethylsulfaat","diethyl sulphate","Ja","Ja",null,null,null,"MVP 2","2,5 g/uur","1 mg/Nm3","2013-12-02"]
["56073-07-5","259-978-4","difenacum","difenacoum","Ja",null,null,null,null,"MVP 1","0,15 g/uur","0,05 mg/Nm3","2017-01-04",4]
["104653-34-1",null,"difethialon","difethialone","Ja",null,null,null,null,"MVP 1","0,15 g/uur","0,05 mg/Nm3","2017-01-04",4]
["19372-20-4",null,"difosforzuur nikkel(II)zout","diphosphoric acid, nickel(II) salt","Ja",null,null,null,null,"MVP 1","2,5 g/uur","0,5 mg/Nm3","2013-12-02","1, 2","De getoonde waarde voor de emissiegrenswaarde wijkt af van de algemene waarde voor de MVP 1 en 2 stofklassen. De getoonde waarde geldt tot 1 januari 2025, daarna wordt de algemene waarde van kracht."]
["84-75-3","201-559-5","dihexylftalaat","dihexyl phthalate","Ja","Ja",null,null,null,"MVP 1","0,15 g/uur","0,05 mg/Nm3","2013-12-02",null,"De getoonde waarde voor de emissiegrenswaarde wijkt af van de algemene waarde voor de MVP 1 en 2 stofklassen. De getoonde waarde geldt tot 1 januari 2025, daarna wordt de algemene waarde van kracht."]
["84-69-5","201-553-2","diisobutylftalaat","diisobutyl phthalate","Ja","Ja",null,null,null,"MVP 2","100 g/uur","20 mg/Nm3","2013-12-02","1, 2","De getoonde waarde voor de emissiegrenswaarde wijkt af van de algemene waarde voor de MVP 1 en 2 stofklassen. De getoonde waarde geldt tot 1 januari 2025, daarna wordt de algemene waarde van kracht."]
["605-50-5","210-088-4","di-isopentylftalaat","diisopentylphthalate","Ja","Ja",null,null,null,"MVP 1","0,15 g/uur","0,05 mg/Nm3","2013-12-02",null,"De getoonde waarde voor de emissiegrenswaarde wijkt af van de algemene waarde voor de MVP 1 en 2 stofklassen. De getoonde waarde geldt tot 1 januari 2025, daarna wordt de algemene waarde van kracht."]
["13842-46-1","237-563-9","dikaliumnikkelbis(sulfaat)","nickel dipotassium bis(sulfate)","Ja",null,null,null,null,"MVP 1","2,5 g/uur","0,5 mg/Nm3","2013-12-02","1, 2","De getoonde waarde voor de emissiegrenswaarde wijkt af van de algemene waarde voor de MVP 1 en 2 stofklassen. De getoonde waarde geldt tot 1 januari 2025, daarna wordt de algemene waarde van kracht."]
["79-44-7","201-208-6","dimethylcarbamoylchloride","dimethylcarbamoyl chloride","Ja",null,null,null,null,"MVP 2","2,5 g/uur","1 mg/Nm3","2013-12-02",null,"De getoonde waarde voor de emissiegrenswaarde wijkt af van de algemene waarde voor de MVP 1 en 2 stofklassen. De getoonde waarde geldt tot 1 januari 2025, daarna wordt de algemene waarde van kracht."]
["93983-68-7","301-323-2","dimethylhexaanzuur nikkelzout","dimethylhexanoic acid nickel salt","Ja",null,null,null,null,"MVP 1","2,5 g/uur","0,5 mg/Nm3","2013-12-02","1, 2","De getoonde waarde voor de emissiegrenswaarde wijkt af van de algemene waarde voor de MVP 1 en 2 stofklassen. De getoonde waarde geldt tot 1 januari 2025, daarna wordt de algemene waarde van kracht."]
["77-78-1","201-058-1","dimethylsulfaat","dimethyl sulphate","Ja","Ja",null,null,null,"MVP 2","2,5 g/uur","1 mg/Nm3","2013-12-02"]
["13360-57-1","236-412-4","dimethylsulfamoylchloride","dimethylsulfamoylchloride","Ja",null,null,null,null,"MVP 2","2,5 g/uur","1 mg/Nm3","2013-12-02"]
["16071-86-6","240-221-1","dinatrium-{5-[(4'-((2,6-dihydroxy-3-((2-hydroxy-5-sulfofenyl)azo)fenyl)azo)(1,1'-bifenyl)-4-yl)azo]salicylato(4-)}cupraat(2-)","disodium {5-[(4'-((2,6-hydroxy-3-((2-hydroxy-5-sulphophenyl)azo)phenyl)azo)(1,1'-biphenyl)-4-yl)azo]salicylato(4-)}cuprate(2-)","Ja",null,null,null,null,"MVP 1","0,15 g/uur","0,05 mg/Nm3","2013-12-02"]
["573-58-0","209-358-4","dinatrium-3,3'-[[1,1'-bifenyl]-4,4'-diylbis(azo)]bis(4-aminonaftaleen-1-sulfonaat)","disodium 3,3'-[[1,1'-biphenyl]-4,4'-diylbis(azo)]bis(4-aminonaphthalene-1-sulphonate)","Ja","Ja",null,null,null,"MVP 1","0,15 g/uur","0,05 mg/Nm3","2013-12-02"]
["1937-37-7","217-710-3","dinatrium-4-amino-3-[[4'-[(2,4-diaminofenyl)azo][1,1'-bifenyl]-4-yl]azo]-6-(fenylazo)-5-hydroxynaftaleen-2,7-disulfonaat","disodium 4-amino-3-[[4'-[(2,4-diaminophenyl)azo][1,1'-biphenyl]-4-yl]azo]-5-hydroxy-6-(phenylazo)naphtalene-2,7-disulphonate","Ja","Ja",null,null,null,"MVP 1","0,15 g/uur","0,05 mg/Nm3","2013-12-02"]
["12280-03-4","234-541-0","dinatriumoctaboraat tetrahydraat","disodium octaborate tetrahydrate","Ja",null,null,null,null,"MVP 1","0,15 g/uur","0,05 mg/Nm3","2017-01-04",4]
["12008-41-2","234-541-0","dinatriumoctaboraat watervrij","disodium octaborate","Ja",null,null,null,null,"MVP 1","0,15 g/uur","0,05 mg/Nm3","2017-01-04",4]
["12007-01-1","234-494-6","dinikkelboride","dinickel boride","Ja",null,null,null,null,"MVP 1","2,5 g/uur","0,5 mg/Nm3","2013-12-02","1, 2"]
["14448-18-1","238-426-6","dinikkeldifosfaat","dinickel diphosphate","Ja",null,null,null,null,"MVP 1","2,5 g/uur","0,5 mg/Nm3","2013-12-02","1, 2"]
["12035-64-2","234-828-0","dinikkelfosfide","dinickel phosphide","Ja",null,null,null,null,"MVP 1","2,5 g/uur","0,5 mg/Nm3","2013-12-02","1, 2"]
["14874-78-3","238-946-3","dinikkelhexacyanoferraat","dinickel hexacyanoferrate","Ja",null,null,null,null,"MVP 1","2,5 g/uur","0,5 mg/Nm3","2013-12-02","1, 2"]
["13775-54-7","237-411-1","dinikkelorthosilicaat","dinickel orthosilicate","Ja",null,null,null,null,"MVP 1","2,5 g/uur","0,5 mg/Nm3","2013-12-02","1, 2"]
["12059-14-2","235-033-1","dinikkelsilicide","dinickel silicide","Ja",null,null,null,null,"MVP 1","2,5 g/uur","0,5 mg/Nm3","2013-12-02","1, 2"]
["1314-06-3","215-217-8","dinikkeltrioxide","dinickel trioxide","Ja",null,null,null,null,"MVP 1","2,5 g/uur","0,5 mg/Nm3","2013-12-02","1, 2"]
["25321-14-6","246-836-1","dinitrotolueen","dinitrotoluene","Ja",null,null,null,null,"MVP 1","0,15 g/uur","0,05 mg/Nm3","2013-12-02"]
["39300-45-3","254–408–0","dinocap","dinocap","Ja",null,null,null,null,"MVP 1","0,15 g/uur","0,05 mg/Nm3","2013-12-02"]
["88-85-7","201-861-7","dinoseb","dinoseb","Ja","Ja",null,null,null,"MVP 1","0,15 g/uur","0,05 mg/Nm3","2013-12-02"]
["1420-07-1","215-813-8","dinoterb","dinoterb","Ja",null,null,null,null,"MVP 1","0,15 g/uur","0,05 mg/Nm3","2013-12-02"]
["131-18-0","205-017-9","di-n-pentylftalaat","di-n-pentyl phthalate","Ja","Ja",null,null,null,"MVP 1","0,15 g/uur","0,05 mg/Nm3","2013-12-02"]
["512-04-9","208-134-3","diosgenin","diosgenin",null,null,null,"Ja",null,"MVP 1","0,15 g/uur","0,05 mg/Nm3","2013-12-02"]
[null,null,"dioxinen en dioxineachtige verbindingen","dioxins and dioxin-like compounds",null,null,"Ja",null,null,"ERS","20 mg TEQ/jaar","0,1 ng TEQ/Nm3","2013-12-02",41]
["12578-12-0","235-702-8","dioxobis(stearaat)trilood","dioxobis(stearato)trilead",null,"Ja",null,null,null,"MVP 1","0,15 g/uur","0,05 mg/Nm3","2013-12-02",3]
["330-54-1","206-354-4","diuron","diuron",null,null,null,null,null,"MVP 1","0,15 g/uur","0,05 mg/Nm3","2013-12-02",9]
["123-73-9","204-647-1","E-2-butenal","(E)-crotonaldehyde",null,null,null,null,null,"MVP 1","0,15 g/uur","0,05 mg/Nm3","2013-12-02",9]
["74869-21-9","278-011-7","Eeen complexe verzameling koolwaterstoffen overwegend C12 tot en met C50. Kan organische zouten van alkali- en aardalkalimetalen en/of aluminiumverbindingen bevatten. Mineraal vet, smeervetten","Lubricating greases, Grease [A complex combination of hydrocarbons having carbon numbers predominantly in the range of C12 through C50. May contain organic salts of alkali metals, alkaline earth metals, and/or aluminium compounds.]","Ja",null,null,null,null,null,null,null,"2013-12-02",20]
["101316-86-3","309-888-7","Een aangezuurd alkalisch extract van bruinkoolteerdestillaat. Bestaat voornamelijk uit fenol en fenolhomologen. Ruwe fenolen Teerzuren bruinkool ruw","Tar acids, brown-coal, crude, Crude Phenols [An acidified alkaline extract of brown coal tar distillate. Composed primarily of phenol and phenol homologs.]","Ja",null,null,null,null,null,null,null,"2013-12-02",20]
["94114-46-2","302-681-2","Een coherent poeder, samengesteld uit minerale stoffen uit kool en onopgeloste kool overblijvend na extractie van kool met een vloeibaar solvent. residuen (kool), vloeibaar solvent extracten","Residues (coal), liq. solvent extn. [A cohesive powder composed of coal mineral matter and undissolved coal remaining after extraction of coal by a liquid solvent.]","Ja",null,null,null,null,null,null,null,"2013-12-02",20]
["68919-12-0","272-885-3","Een combinatie van waterstof en methaan die wordt verkregen door fractionering van de producten uit de unifiner-installatie. Gassen (aardolie), uitstoot unifiner-stripper, Raffinaderijgas","Gases (petroleum), unifiner stripper off, Refinery gas [A combination of hydrogen and methane obtained by fractionation of the products from the unifiner unit.]","Ja",null,null,null,null,null,null,null,"2013-12-02",20]
["90669-76-4","292-658-2","Een complex residu dat afkomstig is uit de vacuümdestillatie van het residu uit de atmosferische destillatie van ruwe olie. Bestaat voornamelijk uit koolwaterstoffen overwegend groter dan C24, kokend boven ongeveer 390°C. Stookolie, residuen (aardolie), vacuüm-, lichte","Residues (petroleum), vacuum, light, Heavy Fuel oil [A complex residuum from the vacuum distillation of the residuum from atmospheric distillation of crude oil. It consists predominantly of hydrocarbons having carbon numbers predominantly greater than C24 and boiling above approximately 390 °C (734 °F).]","Ja",null,null,null,null,null,null,null,"2013-12-02",20]
["68955-36-2","273-272-3","Een complex residu dat wordt verkregen door de destillatie van stoomgekraakte aardolieresiduen. Stookolie, residuen (aardolie), stoomgekraakt, harsachtig","Residues (petroleum), steam-cracked, resinous, Heavy Fuel oil [A complex residuum from the distillation of steam-cracked petroleum residues.]","Ja",null,null,null,null,null,null,null,"2013-12-02",20]
["68478-16-0","270-795-9","Een complex residu, afkomstig uit de atmosferische destillatie van de butaan-butyleenstroom. Bestaat uit alifatische koolwaterstoffen overwegend C4 tot en met C6. Nafta met laag kookpunt - niet gespecifieerd Residu-oliën (aardolie), butaanverwijderingstoren","Residual oils (petroleum), deisobutanizer tower, Low boiling point naphtha - unspecified [A complex residuum from the atmospheric distillation of the butane-butylene stream. It consists of aliphatic hydrocarbons having carbon numbers predominantly in the range of C4 through C6.]","Ja",null,null,null,null,null,null,null,"2013-12-02",20]
["68513-69-9","271-013-9","Een complex residu, afkomstig uit de destillatie van de produkten uit een stoomkraakproces. Bestaat voornamelijk uit aromatische en onverzadigde koolwaterstoffen overwegend groter dan C7, met een kooktraject van ongeveer 101°C tot 555°C. Stookolie, residuen (aardolie), stoomgekraakte lichte","Residues (petroleum), steam-cracked light, Heavy Fuel oil [A complex residuum from the distillation of the products from a steam-cracking process. It consists predominantly of aromatic and unsaturated hydrocarbons having carbon numbers greater than C7 and boiling in the range of approximately 101 °C to 555 °C (214 °F to 1030 °F).]","Ja",null,null,null,null,null,null,null,"2013-12-02",20]
["68478-12-6","270-791-7","Een complex residu, afkomstig uit de destillatie van een butaanstroom. Bestaat uit alifatische koolwaterstoffen overwegend C4 tot en met C6. Nafta met laag kookpunt - niet gespecifieerd Residuen (aardolie), butaansplitter-bodemfracties","Residues (petroleum), butane splitter bottoms, Low boiling point naphtha - unspecified [A complex residuum from the distillation of butane stream. It consists of aliphatic hydrocarbons having carbon numbers predominantly in the range of C4 through C6.]","Ja",null,null,null,null,null,null,null,"2013-12-02",20]
["68478-13-7","270-792-2","Een complex residu, afkomstig uit de destillatie van katalytische reformator-fractioneerderresidu. Kookt boven ongeveer 399°C. Stookolie, residuen (aardolie), katalytische reformator-fractioneerder-residu destillatie-","Residues (petroleum), catalytic reformer fractionator residue distn., Heavy Fuel oil [A complex residuum from the distillation of catalytic reformer fractionator residue. It boils approximately above 399 °C (750 °F).]","Ja",null,null,null,null,null,null,null,"2013-12-02",20]
["68513-66-6","271-010-2","Een complex residu, afkomstig uit de destillatie van stromen uit uiteenlopende raffinagebewerkingen. Bestaat uit koolwaterstoffen C4 tot en met C5, overwegend butaan met een kooktraject van ongeveer -11,7°C tot 27,8°C. Petroleumgas, Residuen (aardolie), alkyleringssplitter, C4-rijk","Residues (petroleum), alkylation splitter, C4-rich, Petroleum gas [A complex residuum from the distillation of streams various refinery operations. It consists of hydrocarbons having carbon numbers in the range of C4 through C5, predominantly butane and boiling in the range of approximately -11.7°C to 27.8°C (11°F to 82°F).]","Ja",null,null,null,null,null,null,null,"2013-12-02",20]
["68478-15-9","270-794-3","Een complex residu, afkomstig uit de katalytische reforming van C6-8-toevoer. Bestaat uit koolwaterstoffen overwegend C2 tot en met C6. Katalytisch gereformde nafta met laag kookpunt, Residuen (aardolie), katalytische reformer C6-8","Residues (petroleum), C6-8 catalytic reformer, Low boiling point cat-reformed naphtha [A complex residuum from the catalytic reforming of C6-8 feed. It consists of hydrocarbons having carbon numbers predominantly in the range of C2 through C6.]","Ja",null,null,null,null,null,null,null,"2013-12-02",20]
["68512-62-9","270-984-6","Een complex residu, afkomstig uit de vacuümdestillatie van het residu van de atmosferische destillatie van ruwe olie. Bestaat uit koolwaterstoffen overwegend groter dan C13, kokend boven ongeveer 230°C. Stookolie, residuen (aardolie), lichte vacuüm-","Residues (petroleum), light vacuum, Heavy Fuel oil [A complex residuum from the vacuum distillation of the residuum from the atmospheric distillation of crude oil. It consists of hydrocarbons having carbon numbers predominantly greater than C13 and boiling above approximately 230 °C (446 °F).]","Ja",null,null,null,null,null,null,null,"2013-12-02",20]
["64741-45-3","265-045-2","Een complex residu, verkregen door atmosferische destillatie van ruwe olie. Bestaat uit koolwaterstoffen overwegend groter dan C20 en kokend boven ongeveer 350°C. Deze stroom bevat waarschijnlijk 5 of meer gewichtsprocenten aromatische koolwaterstoffen met 4- tot 6-voudig gecondenseerde ringen. Stookolie, residuen (aardolie), atmosferische destillatietoren","Residues (petroleum), atm. tower, Heavy Fuel oil [A complex residuum from the atmospheric distillation of crude oil. It consists of hydrocarbons having carbon numbers predominantly greater than C20 and boiling above approximately 350 °C (662 °F). This stream is likely to contain 5 wt. % or more of 4- to 6-membered condensed ring aromatic hydrocarbons.]","Ja",null,null,null,null,"MVP 1","0,15 g/uur","0,05 mg/Nm3","2013-12-02",25]
["68333-22-2","269-777-3","Een complex residu, verkregen uit de atmosferische destillatie van ruwe olie. Bestaat uit koolwaterstoffen overwegend groter dan C11, die koken boven ongeveer 200°C. Deze stroom bevat waarschijnlijk 5 of meer gewichtsprocenten aromatische koolwaterstoffen met 4-tot 6-voudig gecondenseerde ringen. Stookolie, residuen (aardolie), atmosferische destillatie","Residues (petroleum), atmospheric, Heavy Fuel oil [A complex residuum from atmospheric distillation of crude oil. It consists of hydrocarbons having carbon numbers predominantly greater than C11 and boiling above approximately 200 °C (392 °F). This stream is likely to contain 5 wt. % or more of 4-to 6-membered condensed ring aromatic hydrocarbons.]","Ja",null,null,null,null,"MVP 1","0,15 g/uur","0,05 mg/Nm3","2013-12-02",25]
["68477-97-4","270-780-7","Een complexe combinatie die door koeling als gas wordt afgescheiden uit koolwaterstofgassen. Bestaat voornamelijk uit waterstof met uiteenlopende kleine hoeveelheden koolmonoxide, stikstof, methaan en C2-koolwaterstoffen. Gassen (aardolie), waterstof-rijk Raffinaderijgas","Gases (petroleum), hydrogen-rich, Refinery gas [A complex combination separated as a gas from hydrocarbon gases by chilling. It consists primarily of hydrogen with various small amounts of carbon monoxide, nitrogen, methane, and C2 hydrocarbons.]","Ja",null,null,null,null,null,null,null,"2013-12-02",20]
["68527-15-1","271-258-1","Een complexe combinatie die wordt afgescheiden door destillatie van een gasstroom die waterstof, koolmonoxide, kooldioxide en koolwaterstoffen C1 tot en met C6, bevat of verkregen door het kraken van ethaan en propaan. Bestaat uit koolwaterstoffen overwegend C1 tot en met C2, waterstof, stikstof en koolmonoxide. Gassen (aardolie), olieraffinage, uitstoot gasdestillatie, Raffinaderijgas","Gases (petroleum), oil refinery gas distn. off, Refinery gas [A complex combination separated by distillation of a gas stream containing hydrogen, carbon monoxide, carbon dioxide and hydrocarbons having carbon numbers in the range of C1 through C6 or obtained by cracking ethane and propane. It consists of hydrocarbons having carbon numbers predominantly in the range of C1 through C2, hydrogen, nitrogen, and carbon monoxide.]","Ja",null,null,null,null,null,null,null,"2013-12-02",20]
["68478-05-7","270-789-6","Een complexe combinatie die wordt gevormd door destillatie van producten van een thermisch kraakproces. Bestaat uit waterstof, waterstofsulfide, koolmonoxide, kooldioxide en koolwaterstoffen overwegend C1 tot en met C6. Gassen (aardolie), thermisch kraken-destillatie-, Raffinaderijgas","Gases (petroleum), thermal cracking distn., Refinery gas [A complex combination produced by distillation of products from a thermal cracking process. It consists of hydrogen, hydrogen sulfide, carbon monoxide, carbon dioxide and hydrocarbons having carbon numbers predominantly in the range of C1 through C6.]","Ja",null,null,null,null,null,null,null,"2013-12-02",20]
["92045-19-7","295-401-2","Een complexe combinatie die wordt verkregen als mengsel van de niet-condenseerbare delen uit het product van een nafta-stoomkraakproces evenals restgassen die worden verkregen tijdens de bereiding van daaruit voortkomende producten. Bestaat voornamelijk uit waterstof en paraffine- en olefine-koolwaterstoffen overwegend C1 tot en met C5, waarmee aardgas ook kan worden gemengd. Gassen (aardolie), stoomkraken van nafta, hogedruk-restgassen Raffinaderijgas","Gases (petroleum), naphtha steam cracking high-pressure residual, Refinery gas [A complex combination obtained as a reaction mass of the non-condensable portions from the product of a naphtha steam cracking process as well as residual gases obtained during the preparation of subsequent products. It consists predominantly of hydrogen and paraffinic and olefinic hydrocarbons having carbon numbers predominantly in the range of C1 through C5 with which natural gas may also be mixed.]","Ja",null,null,null,null,null,null,null,"2013-12-02",20]
["92045-16-4","295-398-8","Een complexe combinatie die wordt verkregen door afscheiding van de vloeibare fase van de uitstroom uit de hydrogeneringsreactor. Bestaat voornamelijk uit waterstof, waterstofsulfide en alifatische koolwaterstoffen overwegend C1 tot en met C3. Gassen (aardolie), gasolie, uitstroom waterstofontzwaveling, Raffinaderijgas","Gases (petroleum), gas oil hydrodesulfurization effluent, Refinery gas [A complex combination obtained by separation of the liquid phase from the effluent from the hydrogenation reaction. It consists predominantly of hydrogen, hydrogen sulfide and aliphatic hydrocarbons having carbon numbers predominantly in the range of C1 through C3.]","Ja",null,null,null,null,null,null,null,"2013-12-02",20]
["68602-84-6","271-625-6","Een complexe combinatie die wordt verkregen door de fractionering van de topproducten uit het katalytisch kraakproces in de katalytische kraker met wervelbed. Bestaat uit waterstof, stikstof en koolwaterstoffen overwegend C1 tot en met C3. Gassen (aardolie), uitstoot secundaire absorbeerder, fractionering van topproducten uit katalytische kraker wervelbed Raffinaderijgas","Gases (petroleum), secondary absorber off, fluidized catalytic cracker overheads fractionator, Refinery gas [A complex combination produced by the fractionation of the overhead products from the catalytic cracking process in the fluidized catalytic cracker. It consists of hydrogen, nitrogen, and hydrocarbons having carbon numbers predominantly in the range of C1 through C3.]","Ja",null,null,null,null,null,null,null,"2013-12-02",20]
["68919-11-9","272-884-8","Een complexe combinatie die wordt verkregen door de fractionering van gereduceerde ruwe olie. Bestaat uit waterstof en koolwaterstoffen overwegend C1 tot en met C4. Gassen (aardolie), uitstoot teerstripper, Raffinaderijgas","Gases (petroleum), tar stripper off, Refinery gas [A complex combination obtained by the fractionation of reduced crude oil. It consists of hydrogen and hydrocarbons having carbon numbers predominantly in the range of C1 through C4.]","Ja",null,null,null,null,null,null,null,"2013-12-02",20]
["68955-33-9","273-269-7","Een complexe combinatie die wordt verkregen door de fractionering van producten uit de katalytische kraker met wervelbed en de gasolieontzwavelaar. Bestaat uit waterstof en koolwaterstoffen overwegend C1 tot en met C4. Gassen (aardolie), uitstoot sponsabsorptievat, katalytische kraker met wervelbed en gasolieontzwavelaar, fractionering topproducten Raffinaderijgas","Gases (petroleum), sponge absorber off, fluidized catalytic cracker and gas oil desulfurizer overhead fractionation, Refinery gas [A complex combination obtained by the fractionation of products from the fluidized catalytic cracker and gas oil desulfurizer. It consists of hydrogen and hydrocarbons having carbon numbers predominantly in the range of C1 through C4.]","Ja",null,null,null,null,null,null,null,"2013-12-02",20]
["92045-15-3","295-397-2","Een complexe combinatie die wordt verkregen door de ontzwaveling van gasoliën met diethanolamine. Bestaat voornamelijk uit waterstofsulfide, waterstof en alifatische koolwaterstoffen C1 tot en met C5. Gassen (aardolie), gasolie, uitstoot diethanolamine-gaswasser, Raffinaderijgas","Gases (petroleum), gas oil diethanolamine scrubber off, Refinery gas [A complex combination produced by desulfurization of gas oils with diethanolamine. It consists predominantly of hydrogen sulfide, hydrogen and aliphatic hydrocarbons having carbon numbers in the range of C1 through C5.]","Ja",null,null,null,null,null,null,null,"2013-12-02",20]
["68783-06-2","272-182-1","Een complexe combinatie die wordt verkregen door de vloeistof-dampscheiding van de uitstroom uit de waterstofkraker. Bestaat voornamelijk uit waterstof en verzadigde koolwaterstoffen overwegend C1 tot en met C3. Gassen (aardolie), waterstofkraken lagedruk-afscheider, Raffinaderijgas","Gases (petroleum), hydrocracking low-pressure separator, Refinery gas [A complex combination obtained by the liquid-vapor separation of the hydrocracking process reactor effluent. It consists predominantly of hydrogen and saturated hydrocarbons having carbon numbers predominantly in the range of C1 through C3.]","Ja",null,null,null,null,null,null,null,"2013-12-02",20]
["68602-82-4","271-623-5","Een complexe combinatie die wordt verkregen door de waterstofbehandeling van de toevoer uit de benzeeninstallatie in aanwezigheid van een katalysator, gevolgd door pentaanverwijderering. Bestaat voornamelijk uit waterstof, ethaan en propaan met uiteenlopende kleine hoeveelheden stikstof, koolmonoxide, kooldioxide en koolwaterstoffen overwegend C1 tot en met C6. Kan sporen benzeen bevatten. Gassen (aardolie), benzeeninstallatie, waterstofbehandelaar, pentaanverwijdering-topproducten Raffinaderijgas","Gases (petroleum), benzene unit hydrotreater depentanizer overheads, Refinery gas [A complex combination produced by treating the feed from the benzene unit with hydrogen in the presence of a catalyst followed by depentanizing. It consists primarily of hydrogen, ethane and propane with various small amounts of nitrogen, carbon monoxide, carbon dioxide and hydrocarbons having carbon numbers predominantly in the range of C1 through C6. It may contain trace amounts of benzene.]","Ja",null,null,null,null,null,null,null,"2013-12-02",20]
["68952-80-7","273-174-0","Een complexe combinatie die wordt verkregen door de waterstofontzwaveling van direct door fractionering verkregen nafta . Bestaat uit waterstof en koolwaterstoffen overwegend C1 tot en met C5. Raffinaderijgas, Restgas (aardolie), direct door fractionering verkregen nafta, waterstofontzwavelaar","Tail gas (petroleum), straight-run naphtha hydrodesulfurizer, Refinery gas [A complex combination obtained from the hydrodesulfurization of straight-run naphtha. It consists of hydrogen and hydrocarbons having carbon numbers predominantly in the range of C1 through C5.]","Ja",null,null,null,null,null,null,null,"2013-12-02",20]
["68919-02-8","272-874-3","Een complexe combinatie die wordt verkregen door fractionering van het topproduct van het katalytische kraakproces met wervelbed. Bestaat uit waterstof, waterstofsulfide, stikstof en koolwaterstoffen overwegend C1 tot en met C5. Gassen (aardolie), katalytische kraker met wervelbed fractioneringsuitstoot, Raffinaderijgas","Gases (petroleum), fluidized catalytic cracker fractionation off, Refinery gas [A complex combination produced by the fractionation of the overhead product of the fluidized catalytic cracking process. It consists of hydrogen, hydrogen sulfide, nitrogen, and hydrocarbons having carbon numbers predominantly in the range of C1 through C5.]","Ja",null,null,null,null,null,null,null,"2013-12-02",20]
["68477-96-3","270-779-1","Een complexe combinatie die wordt verkregen door het absorberen van waterstof uit een waterstofrijke stroom. Bestaat uit waterstof, koolmonoxide, stikstof en methaan met kleine hoeveelheden C2-koolwaterstoffen. Gassen (aardolie), uitstoot waterstofabsorbeerder, Raffinaderijgas","Gases (petroleum), hydrogen absorber off, Refinery gas [A complex combination obtained by absorbing hydrogen from a hydrogen rich stream. It consists of hydrogen, carbon monoxide, nitrogen, and methane with small amounts of C2 hydrocarbons.]","Ja",null,null,null,null,null,null,null,"2013-12-02",20]
["68513-18-8","271-003-4","Een complexe combinatie die wordt verkregen door het afdampen onder hoge druk van de uitstroom uit de reformingsreactor. Bestaat voornamelijk uit waterstof, met uiteenlopende kleine hoeveelheden methaan ethaan en propaan. Gassen (aardolie), reformeruitstroom uitstoot hogedruk-afdampvat, Raffinaderijgas","Gases (petroleum), reformer effluent high-pressure flash drum off, Refinery gas [A complex combination produced by the high-pressure flashing of the effluent from the reforming reactor. It consists primarily of hydrogen with various small amounts of methane, ethane, and propane.]","Ja",null,null,null,null,null,null,null,"2013-12-02",20]
["68513-19-9","271-005-5","Een complexe combinatie die wordt verkregen door het afdampen onder lage druk van de uitstroom uit de reformingreactor. Bestaat voornamelijk uit waterstof, met uiteenlopende kleine hoeveelheden methaan ethaan en propaan. Gassen (aardolie), reformeruitstroom uitstoot lagedruk-afdampvat, Raffinaderijgas","Gases (petroleum), reformer effluent low-pressure flash drum off, Refinery gas [A complex combination produced by low-pressure flashing of the effluent from the reforming reactor. It consists primarily of hydrogen with various small amounts of methane, ethane, and propane.]","Ja",null,null,null,null,null,null,null,"2013-12-02",20]
["68919-03-9","272-875-9","Een complexe combinatie die wordt verkregen door het wassen van topgas uit de katalytische kraker met wervelbed. Bestaat uit waterstof, stikstof, methaan ethaan en propaan. Gassen (aardolie), katalytische kraker met wervelbed wassing uitstoot secundair absorptievat, Raffinaderijgas","Gases (petroleum), fluidized catalytic cracker scrubbing secondary absorber off, Refinery gas [A complex combination produced by scrubbing the overhead gas from the fluidized catalytic cracker. It consists of hydrogen, nitrogen, methane, ethane and propane.]","Ja",null,null,null,null,null,null,null,"2013-12-02",20]
["68989-88-8","273-563-5","Een complexe combinatie die wordt verkregen door ruwe destillatie en katalytisch kraken. Bestaat uit waterstof, waterstofsulfide, stikstof, koolmonoxide en paraffine- en olefine-koolwaterstoffen overwegend C1 tot en met C6. Gassen (aardolie), ruwe destillatie en katalytisch kraken Raffinaderijgas","Gases (petroleum), crude distn. and catalytic cracking, Refinery gas [A complex combination produced by crude distillation and catalytic cracking processes. It consists of hydrogen, hydrogen sulfide, nitrogen, carbon monoxide and paraffinic and olefinic hydrocarbons having carbon numbers predominantly in the range of C1 through C6.]","Ja",null,null,null,null,null,null,null,"2013-12-02",20]
["68919-08-4","272-881-1","Een complexe combinatie die wordt verkregen in de eerste destillatietoren die wordt gebruikt bij de destillatie van ruwe olie. Bestaat uit stikstof en verzadigde alifatische koolwaterstoffen overwegend C1 tot en met C5. Gassen (aardolie), uitstoot voor-afdampingstoren ruwe destillatie, Raffinaderijgas","Gases (petroleum), preflash tower off, crude distn., Refinery gas [A complex combination produced from the first tower used in the distillation of crude oil. It consists of nitrogen and saturated aliphatic hydrocarbons having carbon numbers predominantly in the range of C1 through C5.]","Ja",null,null,null,null,null,null,null,"2013-12-02",20]
["68814-90-4","272-343-6","Een complexe combinatie die wordt verkregen uit de chemische reforming van naftenen tot aromaten. Bestaat uit waterstof en verzadigde alifatische koolwaterstoffen overwegend C2 tot en met C4. Gassen (aardolie), platformingproducten afscheideruitstoot, Raffinaderijgas","Gases (petroleum), platformer products separator off, Refinery gas [A complex combination obtained from the chemical reforming of naphthenes to aromatics. It consists of hydrogen and saturated aliphatic hydrocarbons having carbon numbers predominantly in the range of C2 through C4.]","Ja",null,null,null,null,null,null,null,"2013-12-02",20]
["68478-01-3","270-784-9","Een complexe combinatie die wordt verkregen uit de reformers. Bestaat voornamelijk uit waterstof met uiteenlopende kleine hoeveelheden koolmonoxide en alifatische koolwaterstoffen overwegend C1 tot en met C5. Gassen (aardolie), reformer-verzamel-, waterstof-rijk Raffinaderijgas","Gases (petroleum), reformer make-up, hydrogen-rich, Refinery gas [A complex combination obtained from the reformers. It consists primarily of hydrogen with various small amounts of carbon monoxide and aliphatic hydrocarbons having carbon numbers predominantly in the range of C1 through C5.]","Ja",null,null,null,null,null,null,null,"2013-12-02",20]
["92045-20-0","295-402-8","Een complexe combinatie die wordt verkregen uit de viscositeitsreductie van residuen in een oven. Bestaat voornamelijk uit waterstofsulfide en paraffine- en olefine-koolwaterstoffen overwegend C1 tot en met C5. Gassen (aardolie), residu visbreaking uitstoot, Raffinaderijgas","Gases (petroleum), residue visbaking off, Refinery gas [A complex combination obtained from viscosity reduction of residues in a furnace. It consists predominantly of hydrogen sulfide and paraffinic and olefinic hydrocarbons having carbon numbers predominantly in the range of C1 through C5.]","Ja",null,null,null,null,null,null,null,"2013-12-02",20]
["68911-59-1","272-776-0","Een complexe combinatie die wordt verkregen uit het afdampvat van de installatie voor de waterstofbehandeling van zwavelhoudende kerosine in aanwezigheid van een katalysator. Bestaat voornamelijk uit waterstof en methaan alsmede uiteenlopende kleine hoeveelheden stikstof, koolmonoxide en koolwaterstoffen overwegend C2 tot en met C5. Gassen (aardolie), waterstofbehandelde zwavelhoudende kerosine, afdampvat, Raffinaderijgas","Gases (petroleum), hydrotreated sour kerosine flash drum, Refinery gas [A complex combination obtained from the flash drum of the unit treating sour kerosine with hydrogen in the presence of a catalyst. It consists primarily of hydrogen and methane with various small amounts of nitrogen, carbon monoxide, and hydrocarbons having carbon numbers predominantly in the range of C2 through C5.]","Ja",null,null,null,null,null,null,null,"2013-12-02",20]
["68478-03-5","270-787-5","Een complexe combinatie die wordt verkregen uit het reformende waterstofbehandelingsproces. Bestaat voornamelijk uit waterstof en methaan met uiteenlopende kleine hoeveelheden koolmonoxide, kooldioxide, stikstof en verzadigde alifatische koolwaterstoffen overwegend C2 tot en met C5. Gassen (aardolie), reformende waterstofbehandelaar, rijk aan waterstof en methaan","Gases (petroleum), reforming hydrotreater, hydrogen-methane-rich, Refinery gas [A complex combination obtained from the reforming hydrotreating process. It consists primarily of hydrogen and methane with various small amounts of carbon monoxide, carbon dioxide, nitrogen and saturated aliphatic hydrocarbons having carbon numbers predominantly in the range of C2 through C5.]","Ja",null,null,null,null,null,null,null,"2013-12-02",20]
["68478-04-6","270-788-0","Een complexe combinatie die wordt verkregen uit het reformende waterstofbehandelingsproces. Bestaat voornamelijk uit waterstof met uiteenlopende kleine hoeveelheden koolmonoxide en alifatische koolwaterstoffen overwegend C1 tot en met C5. Gassen (aardolie), reformende waterstofbehandelaar aanvullings-, waterstof-rijk Raffinaderijgas","Gases (petroleum), reforming hydrotreater make-up, hydrogen-rich, Refinery gas [A complex combination obtained from the reforming hydrotreating process. It consists primarily of hydrogen with various small amounts of carbon monoxide and aliphatic hydrocarbons having carbon numbers predominantly in the range of C1 through C5.]","Ja",null,null,null,null,null,null,null,"2013-12-02",20]
["68478-02-4","270-785-4","Een complexe combinatie die wordt verkregen uit het reformerende waterstofbehandelingsproces. Bestaat voornamelijk uit waterstof, methaan en ethaan met uiteenlopende kleine hoeveelheden waterstofsulfide en alifatische koolwaterstoffen overwegend C3 tot en met C5. Gassen (aardolie), reformende waterstofbehandelaar, Raffinaderijgas","Gases (petroleum), reforming hydrotreater, Refinery gas [A complex combination obtained from the reforming hydrotreating process. It consists primarily of hydrogen, methane, and ethane with various small amounts of hydrogen sulfide and aliphatic hydrocarbons having carbon numbers predominantly in the range of C3 through C5.]","Ja",null,null,null,null,null,null,null,"2013-12-02",20]
["68477-98-5","270-781-2","Een complexe combinatie die wordt verkregen uit teruggevoerde met waterstof behandelde mengolie. Bestaat voornamelijk uit waterstof en stikstof met uiteenlopende kleine hoeveelheden koolmonoxide, kooldioxide en koolwaterstoffen overwegend C1 tot en met C5. Gassen (aardolie), waterstofbehandelaar-mengolie-terugvoer-, rijk aan waterstof en stikstof, Raffinaderijgas","Gases (petroleum), hydrotreater blend oil recycle, hydrogen-nitrogen-rich, Refinery gas [A complex combination obtained from recycled hydrotreated blend oil. It consists primarily of hydrogen and nitrogen with various small amounts of carbon monoxide, carbon dioxide and hydrocarbons having carbon numbers predominantly in the range of C1 through C5.]","Ja",null,null,null,null,null,null,null,"2013-12-02",20]
["68478-00-2","270-783-3","Een complexe combinatie die wordt verkregen uit teruggevoerde reactorgassen. Bestaat voornamelijk uit waterstof met uiteenlopende kleine hoeveelheden koolmonoxide, kooldioxide, stikstof, waterstofsulfide en verzadigde alifatische koolwaterstoffen C1 tot en met C5. Gassen (aardolie), terugvoer-, waterstof-rijk Raffinaderijgas","Gases (petroleum), recycle, hydrogen-rich, Refinery gas [A complex combination obtained from recycled reactor gases. It consists primarily of hydrogen with various small amounts of carbon monoxide, carbon dioxide, nitrogen, hydrogen sulfide, and saturated aliphatic hydrocarbons having carbon numbers in the range of C1 through C5.]","Ja",null,null,null,null,null,null,null,"2013-12-02",20]
["68814-67-5","272-338-9","Een complexe combinatie die wordt verkregen uit verscheidene aardolieraffinageoperaties. Bestaat uit waterstof en koolwaterstoffen overwegend C1 tot en met C3. Raffinaderijgas, gassen (aardolie), raffinage","Gases (petroleum), refinery, Refinery gas [A complex combination obtained from various petroleum refining operations. It consists of hydrogen and hydrocarbons having carbon numbers predominantly in the range of C1 through C3.]","Ja",null,null,null,null,null,null,null,"2013-12-02",20]
["68919-04-0","272-876-4","Een complexe combinatie, gestript uit het vloeibare product van de waterstofontzwaveling van zwaar destillaat. Bestaat uit waterstof, waterstofsulfide en verzadigde alifatische koolwaterstoffen overwegend C1 tot en met C5. Gassen (aardolie), zwaar destillaat, waterstofontzwaveling, stripper-uitstoot, Raffinaderijgas","Gases (petroleum), heavy distillate hydrotreater desulfurization stripper off, Refinery gas [A complex combination stripped from the liquid product of the heavy distillate hydrotreater desulfurization process. It consists of hydrogen, hydrogen sulfide, and saturated aliphatic hydrocarbons having carbon numbers predominantly in the range of C1 through C5.]","Ja",null,null,null,null,null,null,null,"2013-12-02",20]
["68919-01-7","272-873-8","Een complexe combinatie, gestript uit het vloeibare product van het unifiner-ontzwavelingsproces. Bestaat uit waterstofsulfide, methaan ethaan en propaan. Gassen (aardolie), destillaat, unifiner-ontzwaveling, stripperuitstoot, Raffinaderijgas","Gases (petroleum), distillate unifiner desulfurization stripper off, Refinery gas [A complex combination stripped from the liquid product of the unifiner desulfurization process. It consists of hydrogen sulfide, methane, ethane, and propane.]","Ja",null,null,null,null,null,null,null,"2013-12-02",20]
["68919-07-3","272-880-6","Een complexe combinatie, verkregen door fractionering van de lichte eindfracties uit de platinareactoren van de platforminginstallatie. Bestaat uit waterstof, methaan ethaan en propaan. Gassen (aardolie), platforming, stabilisatoruitstoot, fractionering van lichte eindfracties","Gases (petroleum), platformer stabilizer off, light ends fractionation, Refinery gas [A complex combination obtained by the fractionation of the light ends of the platinum reactors of the platformer unit. It consists of hydrogen, methane, ethane and propane.]","Ja",null,null,null,null,null,null,null,"2013-12-02",20]
["68783-07-3","272-183-7","Een complexe combinatie, verkregen uit uiteenlopende raffinageprocessen. Bestaat uit waterstof, waterstofsulfide en koolwaterstoffen overwegend C1 tot en met C5. Gassen (aardolie), raffinage-meng-, Petroleumgas","Gases (petroleum), refinery blend, Petroleum gas [A complex combination obtained from various processes. It consists of hydrogen, hydrogen sulfide and hydrocarbons having carbon numbers predominantly in the range of C1 through C5.]","Ja",null,null,null,null,null,null,null,"2013-12-02",20]
["92045-17-5","295-399-3","Een complexe verzameling gassen die wordt verkregen uit de reformer en van de ontgassing van de hydrogeneringsreactor. Bestaat voornamelijk uit waterstof en alifatische koolwaterstoffen overwegend C1 tot en met C4. Gassen (aardolie), gasolie, ontgassing waterstofontzwaveling, Raffinaderijgas","Gases (petroleum), gas oil hydrodesulfurization purge, Refinery gas [A complex combination of gases obtained from the reformer and from the purges from the hydrogenation reactor. It consists predominantly of hydrogen and aliphatic hydrocarbons having carbon numbers predominantly in the range of C1 through C4.]","Ja",null,null,null,null,null,null,null,"2013-12-02",20]
["92045-18-6","295-400-7","Een complexe verzameling gassen die wordt verkregen uit het afdampen van de uitstroomfracties na de hydrogeneringsreactie. Bestaat voornamelijk uit waterstof en alifatische koolwaterstoffen overwegend C1 tot en met C6. Gassen (aardolie), hydogenatoruitstroom uitstoot afdampvat, Raffinaderijgas","Gases (petroleum), hydrogenator effluent flash drum off, Refinery gas [A complex combination of gases obtained from flash of the effluents after the hydrogenation reaction. It consists predominantly of hydrogen and aliphatic hydrocarbons having carbon numbers predominantly in the range of C1 through C6.]","Ja",null,null,null,null,null,null,null,"2013-12-02",20]
["100683-99-6","309-669-6","Een complexe verzameling koolwaterstoffen die is verkregen door de behandeling van aardolie met bleekaarde voor de verwijdering van sporen polaire bestanddelen en onzuiverheden. Bevat voornamelijk koolwaterstoffen overwegend C16 tot en met C36. Gasolie - niet gespecifieerd destillaten (aardolie), middelste paraffine-houdende, behandeld met klei","Distillates (petroleum), intermediate paraffinic, clay-treated, Gasoil - unspecified [A complex combination of hydrocarbons obtained by the treatment of petroleum with bleaching earth for the removal of trace polar constituents and impurities. It consists predominantly of hydrocarbons having carbon numbers predominantly in the range of C16 through C36.]","Ja",null,null,null,null,null,null,null,"2013-12-02",20]
["100683-98-5","309-668-0","Een complexe verzameling koolwaterstoffen die is verkregen door de behandeling van aardolie met geactiveerde houtskool voor de verwijdering van sporen polaire bestanddelen en onzuiverheden. Bevat voornamelijk koolwaterstoffen overwegend C16 tot en met C36. Gasolie - niet gespecifieerd destillaten (aardolie), middelste paraffine-houdende, behandeld met koolstof","Distillates (petroleum), intermediate paraffinic, carbon-treated, Gasoil - unspecified [A complex combination of hydrocarbons obtained by the treatment of petroleum with activated charcoal for the removal of trace polar constituents and impurities. It consists predominantly of hydrocarbons having carbon numbers predominantly in the range of C16 through C36.]","Ja",null,null,null,null,null,null,null,"2013-12-02",20]
["100683-97-4","309-667-5","Een complexe verzameling koolwaterstoffen die is verkregen door de behandeling van een aardoliefractie met geactiveerde houtskool voor de verwijdering van sporen polaire bestanddelen en onzuiverheden. Bevat voornamelijk koolwaterstoffen overwegend C12 tot en met C28. Gasolie - niet gespecifieerd destillaten (aardolie), met koolstof behandelde lichte paraffine-houdende","Distillates (petroleum), carbon-treated light paraffinic, Gasoil - unspecified [A complex combination of hydrocarbons obtained by the treatment of a petroleum oil fraction with activated charcoal for the removal of traces of polar constituents and impurities. It consists predominantly of hydrocarbons having carbon numbers predominantly in the range of C12 through C28.]","Ja",null,null,null,null,null,null,null,"2013-12-02",20]
["121620-48-2","310-167-4","Een complexe verzameling koolwaterstoffen die resteert na de verwijdering van naftaleen door middel van een kristallisatieproces, uit met alkali gewassen naftaleenolie. Bestaat voornamelijk uit naftaleen en alkylnaftalenen. Extractieresiduen (kool), naftaleenolie, alkalisch naftaleenarm Naftaleenolie, extractieresidu","Extract residues (coal), naphthalene oil, alk., naphthalene-low, Naphthalene Oil Extract Residue [A complex combination of hydrocarbons remaining after the removal of naphthalene from alkali-washed naphthalene oil by a crystallization process. It is composed primarily of naphthalene and alkyl naphthalenes.]","Ja",null,null,null,null,null,null,null,"2013-12-02",20]
["68477-95-2","270-778-6","Een complexe verzameling koolwaterstoffen die wordt gebruikt als grondstof in een Girbatol-installatie, om waterstofsulfide te verwijderen. Bestaat uit alifatische koolwaterstoffen overwegend C2 tot en met C4. Gassen (aardolie), grondstof Girbatol-installatie, Petroleumgas","Gases (petroleum), Girbotol unit feed, Petroleum gas [A complex combination of hydrocarbons that is used as the feed into the Girbatol unit to remove hydrogen sulfide. It consists of aliphatic hydrocarbons having carbon numbers predominantly in the range of C2 through C4.]","Ja",null,null,null,null,null,null,null,"2013-12-02",20]
["68955-28-2","273-265-5","Een complexe verzameling koolwaterstoffen die wordt gevormd door de destillatie van producten van een thermisch kraakproces. Bestaat uit koolwaterstoffen overwegend C4. Gassen (aardolie), lichte stoomgekraakte, butadieenconcentraat, Petroleumgas","Gases (petroleum, light steam-cracked, butadiene conc., Petroleum gas [A complex combination of hydrocarbons produced by the distillation of products from a thermal cracking process. It consists of hydrocarbons having a carbon number predominantly of C4.]","Ja",null,null,null,null,"MVP 2","2,5 g/uur","1 mg/Nm3","2013-12-02",42]
["92201-60-0","295-991-1","Een complexe verzameling koolwaterstoffen die wordt gevormd door de destillatie van produkten uit een katalytisch kraakproces en die is gebruikt als een warmte-overdrachtsvloeistof. Bestaat voornamelijk uit koolwaterstoffen met een kooktraject van ongeveer 190°C tot 340°C. Deze stroom bevat waarschijnlijk organische zwavelverbindingen. Gekraakte gasolie, destillaten (aardolie), katalytisch gekraakte lichte fracties, thermisch gedesintegreerd","Distillates (petroleum), light catalytic cracked, thermally degraded, Cracked gasoil [A complex combination of hydrocarbons produced by the distillation of products from a catalytic cracking process which has been used as a heat transfer fluid. It consists predominantly of hydrocarbons boiling in the range of approximately 190 °C to 340 °C (374 °F to 644 °F). This stream is likely to contain organic sulfur compounds.]","Ja",null,null,null,null,null,null,null,"2013-12-02",20]
["92201-59-7","295-990-6","Een complexe verzameling koolwaterstoffen die wordt gevormd door de destillatie van produkten uit een katalytisch kraakproces en die is gebruikt als een warmte-overdrachtsvloeistof. Bestaat voornamelijk uit koolwaterstoffen met een kooktraject van ongeveer 220°C tot 450°C. Deze stroom bevat waarschijnlijk organische zwavelverbindingen. Stookolie, destillaten (aardolie), katalytisch gekraakte middenfracties, thermisch gedesintegreerd","Distillates (petroleum), intermediate catalytic cracked, thermally degraded, Heavy Fuel oil [A complex combination of hydrocarbons produced by the distillation of products from a catalytic cracking process which has been used as a heat transfer fluid. It consists predominantly of hydrocarbons boiling in the range of approximately 220 °C to 450 °C (428 °F to 842 °F). This stream is likely to contain organic sulfur compounds.]","Ja",null,null,null,null,null,null,null,"2013-12-02",20]
["68918-99-0","272-871-7","Een complexe verzameling koolwaterstoffen die wordt gevormd door de fractionering van ruwe olie. Bestaat uit verzadigde alifatische koolwaterstoffen overwegend C1 tot en met C5. Gassen (aardolie), ruwe olie, fractioneringsuitstoot, Petroleumgas","Gases (petroleum), crude oil fractionation off, Petroleum gas [A complex combination of hydrocarbons produced by the fractionation of crude oil. It consists of saturated aliphatic hydrocarbons having carbon numbers predominantly in the range of C1 through C5.]","Ja",null,null,null,null,null,null,null,"2013-12-02",20]
["68955-27-1","273-263-4","Een complexe verzameling koolwaterstoffen die wordt gevormd door de vacuümdestillatie van het residu dat afkomstig is van de atmosferische destillatie van ruwe olie. Stookolie, destillaten (aardolie), aardolieresiduen vacuüm-","Distillates (petroleum), petroleum residues vacuum, Heavy Fuel oil [A complex combination of hydrocarbons produced by the vacuum distillation of the residuum from the atmospheric distillation of crude oil.]","Ja",null,null,null,null,null,null,null,"2013-12-02",20]
["97675-85-9","307-659-6","Een complexe verzameling koolwaterstoffen die wordt verkregen als de eerste fracties uit de vacuümdestillatie van de vloeistof die wordt verkregen door de behandeling van een middendestillaat met waterstof. Bestaat voornamelijk uit koolwaterstoffen overwegend C16 tot en met C20, met een kooktraject van ongeveer 290°C tot 350°C. Het vormt een voltooide olie met een viscositeit van 2cSt bij 100°C. Gasolie - niet gespecifieerd koolwaterstoffen C16-20-waterstofbehandeld middendestillaat, lichte destillatiefracties","Hydrocarbons, C16-20, hydrotreated middle distillate, distn. lights, Gasoil - unspecified [A complex combination of hydrocarbons obtained as first runnings from the vacuum distillation of effluents from the treatment of a middle distillate with hydrogen. It consists predominantly of hydrocarbons having carbon numbers predominantly in the range of C16 through C20 and boiling in the range of approximately 290 °C to 350 °C (554 °F to 662 °F). It produces a finished oil having a viscosity of 2cSt at 100 °C (212 °F).]","Ja",null,null,null,null,null,null,null,"2013-12-02",20]
["97675-86-0","307-660-1","Een complexe verzameling koolwaterstoffen die wordt verkregen als de eerste fracties uit de vacuümdestillatie van de vloeistoffen die worden verkregen bij de behandeling van zware paraffine met waterstof in de aanwezigheid van een katalysator. Bestaat voornamelijk uit koolwaterstoffen overwegend C12 tot en met C20, met een kooktraject van ongeveer 230°C tot 350°C. Het vormt een voltooide olie met een viscositeit van 2cSt bij 100°C. Gasolie - niet gespecifieerd koolwaterstoffen C12-20-, waterstofbehandelde parafinische, lichte destillatiefracties","Hydrocarbons, C12-20, hydrotreated paraffinic, distn. lights, Gasoil - unspecified [A complex combination of hydrocarbons obtained as first runnings from the vacuum distillation of effluents from the treatment of heavy paraffins with hydrogen in the presence of a catalyst. It consists predominantly of hydrocarbons having carbon numbers predominantly in the range of C12 through C20 and boiling in the range of approximately 230 °C to 350 °C (446 °F to 662 °F). It produces a finished oil having a viscosity of 2cSt at 100 °C (212 °F).]","Ja",null,null,null,null,null,null,null,"2013-12-02",20]
["92061-97-7","295-511-0","Een complexe verzameling koolwaterstoffen die wordt verkregen als de residufractie uit de destillatie van de produkten van een katalytisch kraakproces. Bestaat voornamelijk uit koolwaterstoffen overwegend groter dan C11, kokend boven ongeveer 200°C. Stookolie, residuen (aardolie), katalytische kraak-","Residues (petroleum), catalytic cracking, Heavy Fuel oil [A complex combination of hydrocarbons produced as the residual fraction from the distillation of the products from a catalytic cracking process. It consists predominantly of hydrocarbons having carbon numbers predominantly greater than C11 and boiling above approximately 200 °C (392 °F).]","Ja",null,null,null,null,null,null,null,"2013-12-02",20]
["92045-77-7","295-459-9","Een complexe verzameling koolwaterstoffen die wordt verkregen als een halfvaste stof uit van was ontdane paraffinische residu-olie, die in aanwezigheid van een katalysator met waterstof behandeld is. Bestaat voornamelijk uit verzadigde microkristallijne en vloeibare koolwaterstoffen overwegend groter dan C20. Petrolatum petrolatum (aardolie), met waterstof behandeld","Petrolatum (petroleum), hydrotreated, Petrolatum [A complex combination of hydrocarbons obtained as a semi-solid from dewaxed paraffinic residual oil treated with hydrogen in the presence of a catalyst. It consists predominantly of saturated microcrystalline and liquid hydrocarbons having carbon numbers predominantly greater than C20.]","Ja",null,null,null,null,null,null,null,"2013-12-02",20]
["92062-04-9","295-517-3","Een complexe verzameling koolwaterstoffen die wordt verkregen als een kolombodemfractie uit de scheiding van uitstromen uit het stoomkraken van nafta bij hoge temperatuur. Heeft een kooktraject van ongeveer 147°C tot 300°C en vormt een voltooide olie met een viscositeit van 18cSt bij 50°C. Gekraakte gasolie, residuen (aardolie), stoomgekraakte naftadestillatie","Residues (petroleum), steam-cracked naphtha distn., Cracked gasoil [A complex combination of hydrocarbons obtained as a column bottom from the separation of effluents from steam cracking naphtha at a high temperature. It boils in the range of approximately 147 °C to 300 °C (297 °F to 572 °F) and produces a finished oil having a viscosity of 18cSt at 50 °C.]","Ja",null,null,null,null,null,null,null,"2013-12-02",20]
["90669-77-5","292-659-8","Een complexe verzameling koolwaterstoffen die wordt verkregen als een raffinaat door de behandeling van een olierijke paraffinewas-fractie uit aardolie in een zwavelzuurbehandelingsproces. Bestaat voornamelijk uit verzadigde vertakte en niet-vertakte koolwaterstoffen overwegend groter dan C20. Ruwe paraffinewas, olierijke paraffinewas (aardolie), zuur-behandeld","Slack wax (petroleum), acid-treated, Slack wax [A complex combination of hydrocarbons obtained as a raffinate by treatment of a petroleum slack wax fraction with sulfuric acid treating process. It consists predominantly of saturated straight and branched chain hydrocarbons having carbon numbers predominantly greater than C20.]","Ja",null,null,null,null,null,null,null,"2013-12-02",20]
["92062-00-5","295-514-7","Een complexe verzameling koolwaterstoffen die wordt verkregen als een residufractie uit de destillatie van met waterstof behandelde met stoom gekraakte nafta. Bestaat voornamelijk uit koolwaterstoffen met een kooktraject van ongeveer 200°C tot 350°C. Gekraakte gasolie, residuen (aardolie), gehydrogeneerde met stoom gekraakte nafta-","Residues (petroleum), hydrogenated steam-cracked naphtha, Cracked gasoil [A complex combination of hydrocarbons obtained as a residual fraction from the distillation of hydrotreated steam-cracked naphtha. It consists predominantly of hydrocarbons boiling in the range of approximately 200 °C to 350 °C (32 °F to 662 °F).]","Ja",null,null,null,null,null,null,null,"2013-12-02",20]
["64742-19-4","265-118-9","Een complexe verzameling koolwaterstoffen die wordt verkregen als het raffinaat uit een zwavelzuurbehandelingsproces. Bestaat uit koolwaterstoffen overwegend C15 tot en met C30, en vormt een voltooide olie met een viscositeit die kleiner is dan 19 cSt bij 40°C. Bevat relatief weinig normale paraffinen. Niet of licht geraffineerde basisolie, destillaten (aardolie), zuurbehandelde lichte nafteenhoudende","Distillates (petroleum), acid-treated light naphthenic, Unrefined or mildly refined baseoil [A complex combination of hydrocarbons obtained as a raffinate from a sulfuric acid treating process. It consists of hydrocarbons having carbon numbers predominantly in the range of C15 through C30 and produces a finished oil with a viscosity of less than 100 SUS at 100 °F (19cSt at 40 °C). It contains relatively few normal paraffins.]","Ja",null,null,null,null,null,null,null,"2013-12-02",20]
["64742-21-8","265-121-5","Een complexe verzameling koolwaterstoffen die wordt verkregen als het raffinaat uit een zwavelzuurbehandelingsproces. Bestaat voornamelijk uit aromatische koolwaterstoffen overwegend C15 tot en met C30, en vormt een voltooide olie met een viscositeit die kleiner is dan 19 cSt bij 40°C. Niet of licht geraffineerde basisolie, destillaten (aardolie), zuurbehandelde lichte paraffinehoudende","Distillates (petroleum), acid-treated light paraffinic, Unrefined or mildly refined baseoil [A complex combination of hydrocarbons obtained as a raffinate from a sulfuric acid treating process. It consists predominantly of saturated hydrocarbons having carbon numbers predominantly in the range of C15 through C30 and produces a finished oil having a viscosity of less than 100 SUS at 100 °F (19cSt at 40 °C).]","Ja",null,null,null,null,null,null,null,"2013-12-02",20]
["64742-20-7","265-119-4","Een complexe verzameling koolwaterstoffen die wordt verkregen als het raffinaat uit een zwavelzuurbehandelingsproces. Bestaat voornamelijk uit aromatische koolwaterstoffen overwegend C20 tot en met C50, en vormt een voltooide olie met een viscositeit die minstens 19 cSt is bij 40°C. Niet of licht geraffineerde basisolie, destillaten (aardolie), zuurbehandelde zware paraffinehoudende","Distillates (petroleum), acid-treated heavy paraffinic, Unrefined or mildly refined baseoil [A complex combination of hydrocarbons obtained as a raffinate from a sulfuric acid process. It consists predominantly of saturated hydrocarbons having carbon numbers predominantly in the range of C20 through C50 and produces a finished oil having a viscosity of a least 100 SUS at 100 °F (19cSt at 40 °C).]","Ja",null,null,null,null,null,null,null,"2013-12-02",20]
["93763-85-0","297-905-8","Een complexe verzameling koolwaterstoffen die wordt verkregen als residu uit de destillatie van stoomgekraakte uitputtend verhitte nafta, met een kooktraject van ongeveer 150°C tot 350°C. Gekraakte gasolie, residuen (aardolie), stoomgekraakte uitputtend verhitte nafta","Residues (petroleum), steam-cracked heat-soaked naphtha, Cracked gasoil [A complex combination of hydrocarbons obtained as residue from the distillation of steam cracked heat soaked naphtha and boiling in the range of approximately 150 °C to 350 °C (302 °F to 662 °F).]","Ja",null,null,null,null,null,null,null,"2013-12-02",20]
["121620-47-1","310-166-9","Een complexe verzameling koolwaterstoffen die wordt verkregen bij het alkalisch wassen van naftaleenolie om fenolverbindingen (teerzuren) te verwijderen. Bestaat voornamelijk uit naftaleen en alkylnaftalenen. Extractieresiduen (kool), naftaleenolie, alkalisch Naftaleenolie, extractieresidu","Extract residues (coal), naphthalene oil, alk., Naphthalene Oil Extract Residue [A complex combination of hydrocarbons obtained from the alkali washing of naphthalene oil to remove phenolic compounds (tar acids). It is composed of naphthalene and alkyl naphthalenes.]","Ja",null,null,null,null,null,null,null,"2013-12-02",20]
["97862-98-1","308-150-1","Een complexe verzameling koolwaterstoffen die wordt verkregen door de behandeling van aardolie-petrolatum met geactiveerde kool om sporen polaire bestanddelen en onzuiverheden te verwijderen. Bestaat voornamelijk uit verzadigde koolwaterstoffen overwegend groter dan C20. Petrolatum petrolatum (aardolie), behandeld met kiezelzuur","Petrolatum (petroleum), silicic acid-treated, Petrolatum [A complex combination of hydrocarbons obtained by the treatment of petroleum petrolatum with silicic acid for the removal of trace polar constituents and impurities. It consists predominantly of saturated hydrocarbons having carbon numbers predominantly greater than C20.]","Ja",null,null,null,null,null,null,null,"2013-12-02",20]
["97862-97-0","308-149-6","Een complexe verzameling koolwaterstoffen die wordt verkregen door de behandeling van aardolie-petrolatum met geactiveerde kool om sporen polaire bestanddelen en onzuiverheden te verwijderen. Bestaat voornamelijk uit verzadigde koolwaterstoffen overwegend groter dan C20. Petroleum petrolatum (aardolie), behandeld met kool","Petrolatum (petroleum), carbon-treated, Petrolatum [A complex combination of hydrocarbons obtained by the treatment of petroleum petrolatum with activated carbon for the removal of trace polar constituents and impurities. It consists predominantly of saturated hydrocarbons having carbon numbers predominantly greater than C20.]","Ja",null,null,null,null,null,null,null,"2013-12-02",20]
["92062-11-8","295-525-7","Een complexe verzameling koolwaterstoffen die wordt verkregen door de behandeling van bij lage temperatuur smeltende olierijke paraffine uit aardolie met waterstof en de aanwezigheid van een katalysator. Bestaat voornamelijk uit verzadigde vertakte en niet-vertakte koolwaterstoffen overwegend groter dan C12. Ruwe paraffinewas, olierijke paraffine (aardolie), smeltend bij lage temperatuur, met waterstof behandeld","Slack wax (petroleum), low-melting, hydrotreated, Slack wax [A complex combination of hydrocarbons obtained by treatment of low-melting petroleum slack wax with hydrogen in the presence of a catalyst. It consists predominantly of saturated straight and branched chain hydrocarbons having carbon numbers predominantly greater than C12.]","Ja",null,null,null,null,null,null,null,"2013-12-02",20]
["68333-27-7","269-783-6","Een complexe verzameling koolwaterstoffen die wordt verkregen door de behandeling van de katalytisch gekraakte destillaattussenfracties met waterstof om organisch zwavel om te zetten in waterstofsulfide dat verwijderd wordt. Bestaat uit koolwaterstoffen overwegend C11 tot en met C30, met een kooktraject van ongeveer 205°C tot 450°C. Bevat een relatief grote hoeveelheid tricyclische aromatische koolwaterstoffen. Stookolie, destillaten (aardolie), met waterstof ontzwavelde katalytisch gekraakte tussenfractie","Distillates (petroleum), hydrodesulfurized intermediate catalytic cracked, Heavy Fuel oil [A complex combination of hydrocarbons obtained by treating intermediate catalytic cracked distillates with hydrogen to convert organic sulfur to hydrogen sulfide which is removed. It consists of hydrocarbons having carbon numbers predominantly in the range of C11 through C30 and boiling in the range of approximately 205 °C to 450 °C (401 °F to 842 °F). It contains a relatively large proportion of tricyclic aromatic hydrocarbons.]","Ja",null,null,null,null,null,null,null,"2013-12-02",20]
["101316-57-8","309-863-0","Een complexe verzameling koolwaterstoffen die wordt verkregen door de behandeling van een aardolie-uitgangsstof met waterstof. Bestaat voornamelijk uit koolwaterstoffen overwegend C9 tot en met C25, met een kooktraject van ongeveer 150°C tot a 400°C. Stookolie, destillaten (aardolie), met waterstof ontzwavelde volledig bereik aan middelste","Distillates (petroleum), hydrodesulfurized full-range middle, Heavy Fuel oil [A complex combination of hydrocarbons obtained by treating a petroleum stock with hydrogen. It consists predominantly of hydrocarbons having carbon numbers predominantly in the range of C9 through C25 and boiling in the range of approximately 150 °C to 400 °C (302 °F to 752 °F).]","Ja",null,null,null,null,null,null,null,"2013-12-02",20]
["90669-78-6","292-660-3","Een complexe verzameling koolwaterstoffen die wordt verkregen door de behandeling van een olierijke paraffinewas-fractie uit aardolie met natuurlijke of gemodificeerde klei in een contact- of een filtratieproces. Bestaat voornamelijk uit verzadigde vertakte en niet-vertakte koolwaterstoffen overwegend groter dan C20. Ruwe paraffinewas, olierijke paraffinewas (aardolie), met klei behandeld","Slack wax (petroleum), clay-treated, Slack wax [A complex combination of hydrocarbons obtained by treatment of a petroleum slack wax fraction with natural or modified clay in either a contacting or percolation process. It consists predominantly of saturated straight and branched hydrocarbons having carbon numbers predominantly greater than C20.]","Ja",null,null,null,null,null,null,null,"2013-12-02",20]
["97863-04-2","308-155-9","Een complexe verzameling koolwaterstoffen die wordt verkregen door de behandeling van laag-smeltende olierijke paraffinewas met geactiveerde kool om sporen polaire bestanddelen en onzuiverheden te verwijderen. Bestaat voornamelijk uit verzadigde vertakte en niet-vertakte koolwaterstoffen overwegend groter dan C12. Ruwe paraffinewas, olierijke paraffinewas (aardolie), laagsmeltend behandeld met kool","Slack wax (petroleum), low-melting, carbon-treated, Slack wax [A complex combination of hydrocarbons obtained by the treatment of low-melting slack wax with activated carbon for the removal of trace polar constituents and impurities. It consists predominantly of saturated straight and branched chain hydrocarbons having carbon numbers predominantly greater than C12.]","Ja",null,null,null,null,null,null,null,"2013-12-02",20]
["97863-05-3","308-156-4","Een complexe verzameling koolwaterstoffen die wordt verkregen door de behandeling van laag-smeltende olierijke paraffinewas uit aardolie met bentoniet om sporen polaire bestanddelen en onzuiverheden te verwijderen. Bestaat voornamelijk uit verzadigde vertakte en niet-vertakte koolwaterstoffen overwegend groter dan C12. Ruwe paraffinewas, olierijke paraffinewas (aardolie), laagsmeltend behandeld met klei","Slack wax (petroleum), low-melting, clay-treated, Slack wax [A complex combination of hydrocarbons obtained by the treatment of low-melting petroleum slack wax with bentonite for removal of trace polar constituents and impurities. It consists predominantly of saturated straight and branched chain hydrocarbons having carbon numbers predominantly greater than C12.]","Ja",null,null,null,null,null,null,null,"2013-12-02",20]
["97863-06-4","308-158-5","Een complexe verzameling koolwaterstoffen die wordt verkregen door de behandeling van laag-smeltende olierijke paraffinewas uit aardolie met kiezelzuur om sporen polaire bestanddelen en onzuiverheden te verwijderen. Bestaat voornamelijk uit verzadigde vertakte en niet-vertakte koolwaterstoffen overwegend groter dan C12. Ruwe paraffinewas, olierijke paraffinewas (aardolie), laag-smeltend behandeld met kiezelzuur","Slack wax (petroleum), low-melting, silicic acid-treated, Slack wax [A complex combination of hydrocarbons obtained by the treatment of low-melting petroleum slack wax with silicic acid for the removal of trace polar constituents and impurities. It consists predominantly of saturated straight and branched chain hydrocarbons having carbon numbers predominantly greater than C12.]","Ja",null,null,null,null,null,null,null,"2013-12-02",20]
["97926-77-7","308-297-1","Een complexe verzameling koolwaterstoffen die wordt verkregen door de behandeling van lignietcarbonisatie teer met bentoniet om sporenbestanddelen en onzuiverheden te verwijderen. Bestaat voornamelijk uit verzadigde vertakte en niet-vertakte koolwaterstoffen overwegend groter dan C12. Steenkoolteer extract, paraffinewassen (kool), bruinkool hoge temperatuur teer, behandeld met klei","Paraffin waxes (coal), brown-coal high-temp tar, clay-treated, Coal Tar Extract [A complex combination of hydrocarbons obtained by the treatment of lignite carbonization tar with bentonite for removal of trace constituents and impurities. It consists predominantly of saturated straight and branched chain hydrocarbons having carbon numbers predominantly greater than C12.]","Ja",null,null,null,null,null,null,null,"2013-12-02",20]
["97926-76-6","308-296-6","Een complexe verzameling koolwaterstoffen die wordt verkregen door de behandeling van lignietcarbonisatie teer met geacti-veerde kool om sporenbestanddelen en onzuiverheden te verwijderen. Bestaat voornamelijk uit verzadigde vertakte en niet-vertakte koolwaterstoffen overwegend groter dan C12. Steenkoolteer extract, paraffinewassen (kool), bruinkool hoge temperatuur teer, behandeld met kool","Paraffin waxes (coal), brown-coal high-temp. tar, carbon-treated, Coal Tar Extract [A complet combination of hydrocarbons obtained by the treatment of lignite carbonization tar with activated carbon for removal of trace constituents and impurities. It consists predominantly of saturated straight and branched chain hydrocarbons having carbon numbers predominantly greater than C12.]","Ja",null,null,null,null,null,null,null,"2013-12-02",20]
["97926-78-8","308-298-7","Een complexe verzameling koolwaterstoffen die wordt verkregen door de behandeling van lignietcarbonisatie teer met kiezelzuur om sporenbestanddelen en onzuiverheden te verwijderen. Bestaat voornamelijk uit verzadigde vertakte en niet-vertakte koolwaterstoffen overwegend groter dan C12. Steenkoolteer extract, paraffinewassen (kool), bruinkool hoge temperatuur teer, behandeld met kiezelzuur","Paraffin waxes (coal), brown-coal high-temp tar, silicic acid-treated, Coal Tar Extract [A complex combination of hydrocarbons obtained by the treatment of lignite carbonization tar with silicic acid for removal of trace constituents and impurities. It consists predominantly of saturated straight and branched chain hydrocarbons having carbon numbers predominantly greater than C12.]","Ja",null,null,null,null,null,null,null,"2013-12-02",20]
["100684-49-9","309-723-9","Een complexe verzameling koolwaterstoffen die wordt verkregen door de behandeling van olierijke paraffinewas uit aardolie met geactiveerde kool teneinde sporen van polaire bestanddelen en onzuiverheden te verwijderen. Ruwe paraffinewas, olierijke paraffinewas (aardolie), behandeld met koolstof","Slack wax (petroleum), carbon-treated, Slack wax [A complex combination of hydrocarbons obtained by treatment of petroleum slack wax with activated charcoal for the removal of trace polar constituents and impurities.]","Ja",null,null,null,null,null,null,null,"2013-12-02",20]
["100684-33-1","309-706-6","Een complexe verzameling koolwaterstoffen die wordt verkregen door de behandeling van petrolatum met bleekaarde teneinde sporen van polaire bestanddelen en onzuiverheden te verwijderen. Bestaat voornamelijk uit koolwaterstoffen overwegend groter dan C25. Petrolatum petrolatum (aardolie), behandeld met klei","Petrolatum (petroleum), clay-treated, Petrolatum [A complex combination of hydrocarbons obtained by treatment of petrolatum with bleaching earth for the removal of traces of polar constituents and impurities. It consists predominantly of hydrocarbons having carbon numbers predominantly in the range of greater than C25.]","Ja",null,null,null,null,null,null,null,"2013-12-02",20]
["92045-23-3","295-405-4","Een complexe verzameling koolwaterstoffen die wordt verkregen door de destillatie van de producten uit een stoomkraakproces. Bestaat voornamelijk uit C4-koolwaterstoffen overwegend 1-buteen en 2-buteen bevat ook butaan en isobuteen en heeft een kooktraject van ongeveer -12°C tot 5°C. Koolwaterstoffen C4-, stoomkrakerdestillaat, Petroleumgas","Hydrocarbons, C4, steam-cracker distillate, Petroleum gas [A complex combination of hydrocarbons produced by the distillation of the products of a steam cracking process. It consists predominantly of hydrocarbons having a carbon number of C4, predominantly 1-butene and 2-butene, containing also butane and isobutene and boiling in the range of approximately minus 12°C to 5°C (10.4°F to 41°F).]","Ja",null,null,null,null,null,null,null,"2013-12-02",20]
["84650-02-2","283-482-7","Een complexe verzameling koolwaterstoffen die wordt verkregen door de destillatie van koolteer. Bestaat uit koolwaterstoffen overwegend C4 tot en met C10, met een destillatietraject van ongeveer 80°C tot 160°C. Lichte teerolie, destillaten (koolteer), benzolfractie","Distillates (coal tar), benzole fraction, Light Oil [A complex combination of hydrocarbons obtained by the distillation of coal tar. It consists of hydrocarbons having carbon numbers primarily in the range of C4 to C10 and distilling in the approximate range of 80 °C to 160 °C (175 °F to 320 °F).]","Ja",null,null,null,null,null,null,null,"2013-12-02",20]
["92045-22-2","295-404-9","Een complexe verzameling koolwaterstoffen die wordt verkregen door de destillatie van producten uit een stoomkraakproces. Bestaat voornamelijk uit propyleen met wat propaan en heeft een kooktraject van ongeveer -70°C tot 0°C. Gassen (aardolie), stoomkraker, rijk aan C3, Petroleumgas","Gases (petroleum), steam-cracker C3-rich, Petroleum gas [A complex combination of hydrocarbons produced by the distillation of products from a steam cracking process. It consists predominantly of propylene with some propane and boils in the range of approximately -70°C to 0°C (-94°F to 32°F).]","Ja",null,null,null,null,null,null,null,"2013-12-02",20]
["92045-14-2","295-396-7","Een complexe verzameling koolwaterstoffen die wordt verkregen door de destillatie van ruwe aardolie. Bestaat voornamelijk uit alifatische, aromatische en cyclo-alifatische koolwaterstoffen overwegend groter dan C25 en kokend boven ongeveer 400°C. Stookolie, zware stookolie, hoog zwavelgehalte","Fuel oil, heavy, high-sulfur, Heavy Fuel oil [A complex combination of hydrocarbons obtained by the distillation of crude petroleum. It consists predominantly of aliphatic, aromatic and cycloaliphatic hydrocarbons having carbon numbers predominantly higher than C25 and boiling above approximately 400 °C (752 °F).]","Ja",null,null,null,null,null,null,null,"2013-12-02",20]
["68919-20-0","272-893-7","Een complexe verzameling koolwaterstoffen die wordt verkregen door de fractionering van de invoer van de C3-C4-splitter. Bestaat voornamelijk uit C3-koolwaterstoffen. Gassen (aardolie), katalytische kraker met wervelbed splitter-topproducten Petroleumgas","Gases (petroleum), fluidized catalytic cracker splitter overheads, Petroleum gas [A complex combination of hydrocarbons produced by the fractionation of the charge to the C3 -C4 splitter. It consists predominantly of C3 hydrocarbons.]","Ja",null,null,null,null,null,null,null,"2013-12-02",20]
["68919-05-1","272-878-5","Een complexe verzameling koolwaterstoffen die wordt verkregen door de fractionering van direct door fractionering verkregen lichte benzine. Bestaat uit verzadigde alifatische koolwaterstoffen overwegend C1 tot en met C5. Gassen (aardolie), direct door fractionering verkregen lichte benzine, stabilisatoruitstoot, Petroleumgas","Gases (petroleum), light straight run gasoline fractionation stabilizer off, Petroleum gas [A complex combination of hydrocarbons obtained by the fractionation of light straight-run gasoline. It consists of saturated aliphatic hydrocarbons having carbon numbers predominantly in the range of C1 through C5.]","Ja",null,null,null,null,null,null,null,"2013-12-02",20]
["68919-00-6","272-872-2","Een complexe verzameling koolwaterstoffen die wordt verkregen door de fractionering van gecombineerde naftastromen. Bestaat uit verzadigde alifatische koolwaterstoffen overwegend C1 tot en met C5. Gassen (aardolie), hexaanverwijdering-uitstoot, Petroleumgas","Gases (petroleum), dehexanizer off, Petroleum gas [A complex combination of hydrocarbons obtained by the fractionation of combined naphtha streams. It consists of saturated aliphatic hydrocarbons having carbon numbers predominantly in the range of C1 through C5.]","Ja",null,null,null,null,null,null,null,"2013-12-02",20]
["68952-77-2","273-170-9","Een complexe verzameling koolwaterstoffen die wordt verkregen door de fractionering van katalytisch gekraakte nafta en destillaat. Bestaat voornamelijk uit koolwaterstoffen overwegend C1 tot en met C4. Petroleumgas, Restgas (aardolie), katalytisch gekraakt destillaat, naftastabilisator","Tail gas (petroleum), catalytic cracked distillate and naphtha stabilizer, Petroleum gas [A complex combination of hydrocarbons obtained by the fractionation of catalytic cracked naphtha and distillate. It consists predominantly of hydrocarbons having carbon numbers predominantly in the range of C1 through C4.]","Ja",null,null,null,null,null,null,null,"2013-12-02",20]
["101316-63-6","309-868-8","Een complexe verzameling koolwaterstoffen die wordt verkregen door de herdestillatie van het destillaat van hoge-temperatuur-koolteer (teerzuur- en teerbase-vrij). Bestaat voornamelijk uit ongesubstitueerde en gesubstitueerde monocyclische aromatische koolwaterstoffen met een kooktraject van 85°C tot 195°C. Extractieresiduen (koolteer), benzolfractie alkalisch zuurextract, Lichte olie, extractieresidu, laagkokende fractie","Extract residues (coal tar), benzole fraction alk., acid ext., Light Oil Extract Residues, low boiling [A complex combination of hydrocarbons obtained by the redistillation of the distillate of high temperature coal tar (tar acid and tar base free). It consists predominantly of unsubstituted and substituted mononuclear aromatic hydrocarbons boiling in the range of 85°C to 195°C (185°F to 383°F).]","Ja",null,null,null,null,null,null,null,"2013-12-02",20]
["68955-34-0","273-270-2","Een complexe verzameling koolwaterstoffen die wordt verkregen door de katalytische reforming van direct door fractionering verkregen nafta en de fractionering van de totale uitstroom. Bestaat uit verzadigde alifatische koolwaterstoffen overwegend C2 tot en met C4. Gassen (aardolie), direct door fractionering verkregen nafta, katalytische reformer, stabilisator-topproducten Petroleumgas","Gases (petroleum), straight-run naphtha catalytic reformer stabilizer overhead, Petroleum gas [A complex combination of hydrocarbons obtained by the catalytic reforming of straight-run naphtha and the fractionation of the total effluent. It consists of saturated aliphatic hydrocarbons having carbon numbers predominantly in the range of C2 through C4.]","Ja",null,null,null,null,null,null,null,"2013-12-02",20]
["68919-09-5","272-882-7","Een complexe verzameling koolwaterstoffen die wordt verkregen door de katalytische reforming van direct door fractionering verkregen nafta en fractionering van de totale uitstroom. Bestaat uit methaan ethaan en propaan. Gassen (aardolie), direct door fractionering verkregen nafta, katalytische reforming, uitstoot, Petroleumgas","Gases (petroleum), straight-run naphtha catalytic reforming off, Petroleum gas [A complex combination of hydrocarbons obtained by the catalytic reforming of straight-run naphtha and fractionation of the total effluent. It consists of methane, ethane, and propane.]","Ja",null,null,null,null,null,null,null,"2013-12-02",20]
["68477-93-0","270-776-5","Een complexe verzameling koolwaterstoffen die wordt verkregen door destillatie van producten van gecombineerde gasstromen in een gasconcentratie-herabsorbeerder. Bestaat voornamelijk uit waterstof, koolmonoxide, kooldioxide, stikstof, waterstofsulfide en koolwaterstoffen C1 tot en met C3. Gassen (aardolie), destillatie gasconcentratie-herabsorbeerder, Raffinaderijgas","Gases (petroleum), gas concn. reabsorber distn., Refinery gas [A complex combination of hydrocarbons produced by distillation of products from combined gas streams in a gas concentration reabsorber. It consists predominantly of hydrogen, carbon monoxide, carbon dioxide, nitrogen, hydrogen sulfide and hydrocarbons having carbon numbers in the range of C1 through C3.]","Ja",null,null,null,null,null,null,null,"2013-12-02",20]
["101631-14-5","309-939-3","Een complexe verzameling koolwaterstoffen die wordt verkregen door destillatie van stoomgekraakte zware residuen. Bestaat voornamelijk uit in hoge mate gealkyleerde zware aromatische koolwaterstoffen met een kooktraject van ongeveer 250°C tot 400°C. Gekraakte gasolie, destillaten (aardolie), zware stoomgekraakte","Distillates (petroleum), heavy steam-cracked, Cracked gasoil [A complex combination of hydrocarbons obtained by distillation of steam cracking heavy residues. It consists predominantly of highly alkylated heavy aromatic hydrocarbons boiling in the range of approximately 250 °C to 400 °C (482 °F to 752 °F).]","Ja",null,null,null,null,null,null,null,"2013-12-02",20]
["68919-06-2","272-879-0","Een complexe verzameling koolwaterstoffen die wordt verkregen door een nafta-unifiner-ontzwavelingsproces en gestript van het naftaproduct. Bestaat uit verzadigde alifatische koolwaterstoffen overwegend C1 tot en met C4. Gassen (aardolie), nafta-unifiner-ontzwaveling stripperuitstoot, Petroleumgas","Gases (petroleum), naphtha unifiner desulfurization stripper off, Petroleum gas [A complex combination of hydrocarbons produced by a naphtha unifiner desulfurization process and stripped from the naphtha product. It consists of saturated aliphatic hydrocarbons having carbon numbers predominantly in the range of C1 through C4.]","Ja",null,null,null,null,null,null,null,"2013-12-02",20]
["97722-08-2","307-757-9","Een complexe verzameling koolwaterstoffen die wordt verkregen door extractie van de aromaten uit een licht naftenisch destillaat met een viscositeit van 2,2 cSt bij 40°C. Bestaat voornamelijk uit koolwaterstoffen overwegend C11 tot en met C17, met een kooktraject van ongeveer 200°C tot 300°C, Gasolie - niet gespecifieerd koolwaterstoffen C11-17-, solvent-geëxtraheerde lichte naftenische","Hydrocarbons, C11-17, solvent-extd. light naphthenic, Gasoil - unspecified [A complex combination of hydrocarbons obtained by extraction of the aromatics from a light naphthenic distillate having a visciosity of 2.2 cSt at 40 °C (104 °F). It consists predominantly of hydrocarbons having carbon numbers predominantly in the range of C11 through C17 and boiling in the range of approximately 200 °C to 300 °C (392 °F to 572 °F).]","Ja",null,null,null,null,null,null,null,"2013-12-02",20]
["101316-59-0","309-865-1","Een complexe verzameling koolwaterstoffen die wordt verkregen door fractionering van met waterstof ontzwavelde verkookser-destillaatuitgangsstoffen. Bestaat voornamelijk uit koolwaterstoffen overwegend C12 tot en met C21, met een kooktraject van ongeveer 200°C tot 360°C. Gekraakte gasolie, destillaten (aardolie), met waterstof ontzwaveld middelste verkookser-","Distillates (petroleum), hydrodesulfurized middle coker, Cracked gasoil [A complex combination of hydrocarbons by fractionation from hydrodesulfurised coker distillate stocks. Is consists of hydro-carbons having carbon numbers predominantly in the range of C12 through C21 and boiling in the range of approximately 200 °C to 360 °C (392 °F to 680 °F).]","Ja",null,null,null,null,null,null,null,"2013-12-02",20]
["97862-78-7","308-128-1","Een complexe verzameling koolwaterstoffen die wordt verkregen door herdestillatie van de vloeistoffen die worden verkregen bij de behandeling van paraffinen met waterstof in aanwezigheid van een katalysator. Bestaat voornamelijk uit koolwaterstoffen overwegend C17 tot en met C27, met een kooktraject van ongeveer 330°C tot 340°C. Gasolie - niet gespecifieerd gasoliën waterstofbehandeld","Gas oils, hydrotreated, Gasoil - unspecified [A complex combination of hydrocarbons obtained from the redistillation of the effluents from the treatment of paraffins with hydrogen in the presence of a catalyst. It consists predominantly of hydrocarbons having carbon numbers predominantly in the range of C17 through C27 and boiling in the range of approximately 330 °C to 340 °C (626 °F to 644 °F).]","Ja",null,null,null,null,null,null,null,"2013-12-02",20]
["92062-09-4","295-523-6","Een complexe verzameling koolwaterstoffen die wordt verkregen door het behandelen van olierijke paraffine met waterstof in de aanwezigheid van een katalysator. Bestaat voornamelijk uit verzadigde vertakte en niet-vertakte koolwaterstoffen overwegend groter dan C20. Ruwe paraffinewas, olierijke paraffine (aardolie), met waterstof behandeld","Slack wax (petroleum), hydrotreated, Slack wax [A complex combination of hydrocarbons obtained by treating slack wax with hydrogen in the presence of a catalyst. It consists predominantly of saturated straight and branched chain hydrocarbons having carbon numbers predominantly greater than C20.]","Ja",null,null,null,null,null,null,null,"2013-12-02",20]
["68783-65-3","272-205-5","Een complexe verzameling koolwaterstoffen die wordt verkregen door het onderwerpen van een aardoliedestillaat aan een stankverwijderingsproces om mercaptanen om te zetten of zure verontreinigingen te verwijderen. Bestaat voornamelijk uit verzadigde en onverzadigde koolwaterstoffen overwegend C2 tot en met C4, met een kooktraject van ongeveer -51°C tot -34°C. Gassen (aardolie), C2-4-, stankvrij gemaakt, Petroleumgas","Gases (petroleum), C2-4, sweetened, Petroleum gas [A complex combination of hydrocarbons obtained by subjecting a petroleum distillate to a sweetening process to convert mercaptans or to remove acidic impurities. It consists predominantly of saturated and unsaturated hydrocarbons having carbon numbers predominantly in the range of C2 through C4 and boiling in the range of approximately -51°C to -34°C (-60°F to -30°F).]","Ja",null,null,null,null,null,null,null,"2013-12-02",20]
["90640-93-0","292-615-8","Een complexe verzameling koolwaterstoffen die wordt verkregen door het onderwerpen van een aardoliefractie aan verscheidene van de volgende stappen: filtratie, centrifugatie, atmosferische destillatie, vacuümdestillatie, verzuring, neutralisatie en behandeling met klei. Bestaat voornamelijk uit koolwaterstoffen overwegend C10 tot en met C20. Gasolie - niet gespecifieerd destillaten (aardolie), hooggezuiverde midden-","Distillates (petroleum), highly refined middle, Gasoil - unspecified [A complex combination of hydrocarbons obtained by the subjection of a petroleum fraction to several of the following steps: filtration, centrifugation, atmospheric distillation, vacuum distillation, acidification, neutralization and clay treatment. It consists predominantly of hydrocarbons having carbon numbers predominantly in the range of C10 through C20.]","Ja",null,null,null,null,null,null,null,"2013-12-02",20]
["97926-59-5","308-278-8","Een complexe verzameling koolwaterstoffen die wordt verkregen door katalytische verwijdering van zwavelwaterstofgroepen uit thermisch gekraakte lichte vacuüm aardoliefracties. Bestaat voornamelijk uit koolwaterstoffen overwegend C14 tot en met C20, met een kooktraject van ongeveer 270°C tot 370°C. Gekraakte gasolie, gasoliën (aardolie), lichte vacuüm-, thermisch gekraakt met waterstof ontzwaveld","Gas oils (petroleum), light vacuum, thermal-cracked hydrodesulfurized, Cracked gasoil [A complex combination of hydrocarbons obtained by catalytic dehydrosulfurization of thermal-cracked light vacuum petroleum. It consists predominantly of hydrocarbons having carbon numbers predominantly in the range of C14 through C20 and boiling in the range of approximately 270 °C to 370 °C (518 °F to 698 °F).]","Ja",null,null,null,null,null,null,null,"2013-12-02",20]
["68952-79-4","273-173-5","Een complexe verzameling koolwaterstoffen die wordt verkregen door waterstof-ontzwaveling van nafta. Bestaat uit waterstof, methaan ethaan en propaan. Raffinaderijgas, Restgas (aardolie), katalytisch waterstof-ontzwavelde nafta, afscheider","Tail gas (petroleum), catalytic hydrodesulfurized naphtha separator, Refinery gas [A complex combination of hydrocarbons obtained from the hydrodesulfurization of naphtha. It consists of hydrogen, methane, ethane, and propane.]","Ja",null,null,null,null,null,null,null,"2013-12-02",20]
["90669-75-3","292-657-7","Een complexe verzameling koolwaterstoffen die wordt verkregen tvdens de produktie van gezuiverde aardolieteer door de destillatie van stoomgekraakte teer. Bestaat voornamelijk uit aromatische en andere koolwaterstoffen en organische zwavelverbindingen. Stookolie, residuen (aardolie), stoomgekraakt, destillaten","Residues (petroleum), steam-cracked, distillates, Heavy Fuel oil [A complex combination of hydrocarbons obtained during the production of refined petroleum tar by the distillation of steam cracked tar. It consists predominantly of aromatic and other hydrocarbons and organic sulfur compounds.]","Ja",null,null,null,null,null,null,null,"2013-12-02",20]
["68527-21-9","271-262-3","Een complexe verzameling koolwaterstoffen die wordt verkregen uit de behandeling van de totaalfractie van direct door fractionering verkregen nafta met natuurlijke of gemodificeerde klei, meestal in een percolatieproces, om de aanwezige sporen polaire verbindingen en verontreinigingen te verwijderen. Bestaat uit koolwaterstoffen overwegend C4 tot en met C11, met een kooktraject van ongeveer -20°C tot 220°C. Nafta (aardolie), met klei behandelde totaalfractie direct door fractionering verkregen Nafta met laag kookpunt - niet gespecifieerd","Naphtha (petroleum), clay-treated full-range straight-run, Low boiling point naphtha - unspecified [A complex combination of hydrocarbons resulting from treatment of full-range straight-run naphtha with natural or modified clay, usually in a percolation process to remove the trace amounts of polar compounds and impurities present. It consists of hydrocarbons having carbon numbers predominantly in the range of C4 through C11 and boiling in the range of approximately -20°C to 220°C (-4°F to 429°F).]","Ja",null,null,null,null,null,null,null,"2013-12-02",20]
["68783-64-2","272-203-4","Een complexe verzameling koolwaterstoffen die wordt verkregen uit de destillatie van de producten van een katalytisch kraakproces. Bestaat voornamelijk uit koolwaterstoffen overwegend C3 tot en met C5. Gassen (aardolie), katalytisch kraken Petroleumgas","Gases (petroleum), catalytic cracking, Petroleum gas [A complex combination of hydrocarbons produced by the distillation of the products from a catalytic cracking process. It consists predominantly of hydrocarbons having carbon numbers predominantly in the range of C3 through C5.]","Ja",null,null,null,null,null,null,null,"2013-12-02",20]
["91995-34-5","295-294-2","Een complexe verzameling koolwaterstoffen die wordt verkregen uit de destillatie van een katalytisch gereformeerde aardoliefractie. Bestaat voornamelijk uit aromatische koolwaterstoffen overwegend C10 tot en met C16, met een kooktraject van ongeveer 200°C tot 300°C. Gasolie - niet gespecifieerd destillaten (aardolie), katalytische reformator, concentraat van zware aromaten","Distillates (petroleum) catalytic reformer, heavy arom. conc., Gasoil - unspecified [A complex combination of hydrocarbons obtained from the distillation of a catalytically reformed petroleum cut. It consists predominantly of aromatic hydrocarbons having carbon numbers predominantly in the range of C10 through C16 and boiling in the range of approximately 200 °C to 300 °C (392 °F to 572 °F).]","Ja",null,null,null,null,null,null,null,"2013-12-02",20]
["68919-10-8","272-883-2","Een complexe verzameling koolwaterstoffen die wordt verkregen uit de fractionering van de vloeistof uit de eerste destillatietoren die wordt gebruikt bij de destillatie van ruwe olie. Bestaat uit verzadigde alifatische koolwaterstoffen overwegend C1 tot en met C4. Gassen (aardolie), directe fractionering, stabilisatoruitstoot, Petroleumgas","Gases (petroleum), straight-run stabilizer off, Petroleum gas [A complex combination of hydrocarbons obtained from the fractionation of the liquid from the first tower used in the distillation of crude oil. It consists of saturated aliphatic hydrocarbons having carbon numbers predominantly in the range of C1 through C4.]","Ja",null,null,null,null,null,null,null,"2013-12-02",20]
["68478-33-1","270-814-0","Een complexe verzameling koolwaterstoffen die wordt verkregen uit de fractionering van destillatierestgas, van door directe fractionering verkregen nafta en van stabilisator-restgas van katalytisch gereformde nafta. Bestaat voornamelijk uit koolwaterstoffen C1 tot en met C5, overwegend methaan en ethaan. Petroleumgas, Restgas (aardolie), verzadigd- gasterugwinningsinstallatie, rijk aan C1-2","Tail gas (petroleum), saturate gas recovery plant, C1-2-rich, Petroleum gas [A complex combination of hydrocarbons obtained from fractionation of distillate tail gas, straight-run naphtha, catalytic reformed naphtha stabilizer tail gas. It consists predominantly of hydrocarbons having carbon numbers in the range of C1through C5, predominantly methane and ethane.]","Ja",null,null,null,null,null,null,null,"2013-12-02",20]
["68952-76-1","273-169-3","Een complexe verzameling koolwaterstoffen die wordt verkregen uit de fractionering van katalytisch gekraakte nafta. Bestaat uit koolwaterstoffen overwegend C1 tot en met C4. Gassen (aardolie), katalytisch gekraakte nafta, butaanverwijdering, Petroleumgas","Gases (petroleum), catalytic cracked naphtha debutanizer, Petroleum gas [A complex combination of hydrocarbons obtained from fractionation of catalytic cracked naphtha. It consists of hydrocarbons having carbon numbers predominantly in the range of C1 through C4.]","Ja",null,null,null,null,null,null,null,"2013-12-02",20]
["68478-32-0","270-813-5","Een complexe verzameling koolwaterstoffen die wordt verkregen uit de fractioneringsstabilisatie van door directe fractionering verkregen nafta, van destillatierestgas en van stabilisator-restgas van katalytisch gereformde nafta. Bestaat uit koolwaterstoffen C3 tot en met C6, overwegend butaan en isobutaan. Petroleumgas, Restgas (aardolie), gemengde stroom uit de verzadigd-gasinstallatie, rijk aan C4","Tail gas (petroleum), saturate gas plant mixed stream, C4-rich, Petroleum gas [A complex combination of hydrocarbons obtained from the fractionation stabilization of straight-run naphtha, distillation tail gas and catalytic reformed naphtha stabilizer tail gas. It consists of hydrocarbons having carbon numbers in the range of C3 through C6, predominantly butane and isobutane.]","Ja",null,null,null,null,null,null,null,"2013-12-02",20]
["68952-82-9","273-176-1","Een complexe verzameling koolwaterstoffen die wordt verkregen uit de fractioneringsstabilisatie van thermisch gekraakte koolwaterstoffen die afkomstig zijn uit het aardolieverkooksingproces. Bestaat uit koolwaterstoffen overwegend C1 tot en met C6. Petroleumgas, Restgas (aardolie), thermisch gekraakte koolwaterstof, fractioneringsstabilisator, aardolieverkooksing","Tail gas (petroleum), thermal cracked hydrocarbon fractionation stabilizer, petroleum coking, Petroleum gas [A complex combination of hydrocarbons obtained from the fractionation stabilization of thermal cracked hydrocarbons from petroleum coking process. It consists of hydrocarbons having carbon numbers predominantly in the range of C1 through C6.]","Ja",null,null,null,null,null,null,null,"2013-12-02",20]
["101794-75-6","309-957-1","Een complexe verzameling koolwaterstoffen die wordt verkregen uit de pyrolyse van gemengde koolteerpek en polyethyleen. Voornamelijk samengesteld uit polycyclische aromatische koolwaterstoffen overwegend C20 tot en met C28, met een verwekingstraject van 100°C tot 220°C volgens DIN 52025. Pyrolise producten aromatische koolwaterstoffen C20-28-, polycyclisch afkomstig uit de pyrolyse van gemengde koolteerpek en polyethyleen","Aromatic hydrocarbons, C20-28, polycyclic, mixed coal-tar pitch-polyethylene pyrolysis-derived. Pyrolysis Products [A complex combination of hydrocarbons obtained from mixed coal tar pitch-polyethylene pyrolysis. Composed primarily of polycyclic aromatic hydrocarbons having carbon numbers predominantly in the range of C20 through C28 and having a softening point of 100 °C to 220 °C (212 °F to 428 °F) according to DIN 52025.]","Ja",null,null,null,null,null,null,null,"2013-12-02",20]
["101794-76-7","309-958-7","Een complexe verzameling koolwaterstoffen die wordt verkregen uit de pyrolyse van gemengde koolteerpek en polystyreen. Voornamelijk samengesteld uit polycyclische aromatische koolwaterstoffen overwegend C20 tot en met C28, met een verwekingstraject van 100°C tot 220°C volgens DIN 52025. Pyrolise producten aromatische koolwaterstoffen C20-28-, polycyclisch afkomstig uit de pyrolyse van gemengde koolteerpek en polystyreen","Aromatic hydrocarbons, C20-28, polycyclic, mixed coal-tar pitch-polystyrene pyrolysis-derived, Pyrolysis Products [A complex combination of hydrocarbons obtained from mixed coal tar pitch-polystyrene pyrolysis. Composed primarily of polycyclic aromatic hydrocarbons having carbon numbers predominantly in the range of C20 through C28 and having a softening point of 100 °C to 220 °C (212 °F to 428 °F) according to DIN 52025.]","Ja",null,null,null,null,null,null,null,"2013-12-02",20]
["101794-74-5","309-956-6","Een complexe verzameling koolwaterstoffen die wordt verkregen uit de pyrolyse van gemengde koolteerpek polyethyleen en polypropyleen. Voornamelijk samengesteld uit polycyclische aromatische koolwaterstoffen overwegend C20 tot en met C28, met een verwekingstraject van 100°C tot 220°C volgens DIN 52025. Pyrolise producten aromatische koolwaterstoffen C20-28-, polycyclisch afkomstig uit de pyrolyse van gemengde koolteerpek polyethyleen en polypropyleen","Aromatic hydrocarbons, C20-28, polycyclic, mixed coal-tar pitch-polyethylene-polypropylene pyrolysis-derived, Pyrolysis Products [A complex combination hydrocarbons obtained from mixed coal tar pitch-polyethylene-polypropylene pyrolysis. Composed primarily of polycyclic aromatic hydrocarbons having carbon numbers predominantly in the range of C20 through C28 and having a softening point of 100 °C to 220 °C (212 °F to 428 °F) according to DIN 52025.]","Ja",null,null,null,null,null,null,null,"2013-12-02",20]
["68952-81-8","273-175-6","Een complexe verzameling koolwaterstoffen die wordt verkregen uit de scheiding van thermisch gekraakte destillaten nafta en gasolie. Bestaat voornamelijk uit koolwaterstoffen overwegend C1 tot en met C6. Petroleumgas, Restgas (aardolie), thermisch gekraakt destillaat, gasolie en nafta-absorptievat","Tail gas (petroleum), thermal-cracked distillate, gas oil and naphtha absorber, petroleum gas [A complex combination of hydrocarbons obtained from the separation of thermal-cracked distillates, naphtha and gas oil. It consists pedrominantly of hydrocarbons having carbon numbers predominantly in the range of C1 through C6.]","Ja",null,null,null,null,null,null,null,"2013-12-02",20]
["92062-10-7","295-524-1","Een complexe verzameling koolwaterstoffen die wordt verkregen uit een aardoliefractie door solvent-deparaffinering. Bestaat voornamelijk uit verzadigde vertakte en niet-vertakte koolwaterstoffen overwegend groter dan C12. Ruwe paraffinewas, olierijke paraffine (aardolie), smeltend bij lage temperaturen","Slack wax (petroleum), low-melting, Slack wax [A complex combination of hydrocarbons obtained from a petroleum fraction by solvent deparaffination. It consists predominantly of saturated straight and branched chain hydrocarbons having carbon numbers predominantly greater than C12.]","Ja",null,null,null,null,null,null,null,"2013-12-02",20]
["64742-35-4","265-136-7","Een complexe verzameling koolwaterstoffen die wordt verkregen uit een behandelingsproces waarbij zure materialen worden verwijderd. Bestaat uit koolwaterstoffen overwegend C15 tot en met C30, en vormt een voltooide olie met een viscositeit die kleiner is dan 19 cSt bij 40°C. Bevat relatief weinig normale paraffinen. Niet of licht geraffineerde basisolie, destillaten (aardolie), chemisch geneutraliseerde lichte nafteenhoudende","Distillates (petroleum), chemically neutralized light naphthenic, Unrefined or mildly refined baseoil [A complex combination of hydrocarbons produced by a treating process to remove acidic materials. It consists of hydrocarbons having carbon numbers predominantly in the range of C15 through C30 and produces a finished oil with a viscosity of less than 100 SUS a 100 °F (19cSt at 40 °C). It contains relatively few normal paraffins.]","Ja",null,null,null,null,null,null,null,"2013-12-02",20]
["64742-28-5","265-128-3","Een complexe verzameling koolwaterstoffen die wordt verkregen uit een behandelingsproces waarbij zure materialen worden verwijderd. Bestaat uit koolwaterstoffen overwegend C15 tot en met C30, en vormt een voltooide olie met een viscositeit die kleiner is dan 19cSt bij 40°C. Niet of licht geraffineerde basisolie, destillaten (aardolie), chemisch geneutraliseerde lichte paraffinehoudende","Distillates (petroleum), chemically neutralized light paraffinic, Unrefined or mildly refined baseoil [A complex combination of hydrocarbons produced by a treating process to remove acidic materials. It consists of hydrocarbons having carbon numbers predominantly in the range of C15 through C30 and produces a finished oil with a viscosity less than 100 SUS at 100 °F (19cSt at 40 °C).]","Ja",null,null,null,null,null,null,null,"2013-12-02",20]
["64742-34-3","265-135-1","Een complexe verzameling koolwaterstoffen die wordt verkregen uit een behandelingsproces waarbij zure materialen worden verwijderd. Bestaat uit koolwaterstoffen overwegend C20 tot en met C50, en vormt een voltooide olie met een viscositeit die minstens 19 cSt is bij 40°C. Bevat relatief weinig normale paraffinen. Niet of licht geraffineerde basisolie, destillaten (aardolie), chemisch geneutraliseerde zware nafteenhoudende","Distillates (petroleum), chemically neutralized heavy naphthenic, Unrefined or mildly refined baseoil [A complex combination of hydrocarbons produced by a treating process to remove acidic materials. It consists of hydrocarbons having carbon numbers predominantly in the range of C20 through C50 and produces a finished oil with a viscosity of at least 100 SUS at 100 °F (19cSt at 40 °C). It contains relatively few normal paraffins.]","Ja",null,null,null,null,null,null,null,"2013-12-02",20]
["64742-27-4","265-127-8","Een complexe verzameling koolwaterstoffen die wordt verkregen uit een behandelingsproces waarbij zure materialen worden verwijderd. Bestaat voornamelijk uit koolwaterstoffen overwegend C20 tot en met C50, en vormt een voltooide olie met een viscositeit die minstens 19cSt is bij 40°C. Bevat een relatief grote hoeveelheid alifatische koolwaterstoffen. Niet of licht geraffineerde basisolie, destillaten (aardolie), chemisch geneutraliseerde zware paraffinehoudende","Distillates (petroleum), chemically neutralized heavy paraffinic, Unrefined or mildly refined baseoil [A complex combination of hydrocarbons obtained from a treating process to remove acidic materials. It consists predominantly of hydrocarbons having carbon numbers predominantly in the range of C20 through C50 and produces a finished oil with a viscosity of at least 100 SUS at 100 °F (19cSt at 40 °C). It contains a relatively large proportion of aliphatic hydrocarbons.]","Ja",null,null,null,null,null,null,null,"2013-12-02",20]
["92045-72-2","295-455-7","Een complexe verzameling koolwaterstoffen die wordt verkregen uit lignietcarbonisatieteer door solventkristallisatie (solvent-ontoliën), door uitzweting of een adductieproces behandeld met waterstof in de aanwezigheid van een katalysator. Bestaat voornamelijk uit vertakte en niet-vertakte verzadigde koolwaterstoffen overwegend groter dan C12. Steenkoolteer extract, paraffinewassen (kool), bruinkool hoge temperatuur teer, waterstofbehandeld","Paraffin waxes (coal), brown-coal-high-temp. tar, hydrotreated, Coal Tar Extract [A complex combination of hydrocarbons obtained from lignite carbonization tar by solvent crystallisation (solvent deoiling), by sweating or an adducting process treated with hydrogen in the presence of a catalyst. It consists predominantly of straight and branched chain saturated hydrocarbons having carbon numbers predominantly greater than C12.]","Ja",null,null,null,null,null,null,null,"2013-12-02",20]
["92045-71-1","295-454-1","Een complexe verzameling koolwaterstoffen die wordt verkregen uit lignietcarbonisatieteer door solventkristallisatie (solvent-ontoliën), door uitzweting of een adductieproces. Bestaat voornamelijk uit vertakte en niet-vertakte verzadigde koolwaterstoffen overwegend groter dan C12. Steenkoolteer extract, paraffinewassen (kool), bruinkool hoge temperatuur teer","Paraffin waxes (coal), brown-coal-high-temp. tar, Coal Tar Extract [A complex combination of hydrocarbons obtained from lignite carbonization tar by solvent crystallisation (solvent deoiling), by sweating or an adducting process. It consists predominantly of straight and branched chain saturated hydrocarbons having carbon numbers predominantly greater than C12.]","Ja",null,null,null,null,null,null,null,"2013-12-02",20]
["64741-62-4","265-064-6","Een complexe verzameling koolwaterstoffen geproduceerd als de residu-fractie van de destillatie van produkten uit een katalytisch kraakproces. Bestaat uit koolwaterstoffen overwegend groter dan C20, kokend boven ongeveer 350°C. Deze stroom bevat waarschijnlijk 5 of meer gewichtsprocenten aromatische koolwaterstoffen met 4- tot 6-voudig gecondenseerde ringen. Stookolie, geklaarde oliën (aardolie), katalytisch gekraakt","Clarified oils (petroleum), catalytic cracked, Heavy Fuel oil [A complex combination of hydrocarbons produced as the residual fraction from distillation of the products from a catalytic cracking process. It consists of hydrocarbons having carbon numbers predominantly greater than C20 and boiling above approximately 350 °C (662 °F). This stream is likely to contain 5 wt. % or more of 4- to 6-membered condensed ring aromatic hydrocarbons.]","Ja",null,null,null,null,"MVP 1","0,15 g/uur","0,05 mg/Nm3","2013-12-02",25]
["64741-57-7","265-058-3","Een complexe verzameling koolwaterstoffen geproduceerd door vacuümdestillatie van het residu van de atmosferische destillatie van ruwe olie. Bestaat uit koolwaterstoffen overwegend C20 tot en met C50, met een kooktraject van ongeveer 350°C tot 600°C. Deze stroom bevat waarschijnlijk 5 of meer gewichtsprocenten aromatische koolwaterstoffen met 4- tot 6-voudig gecondenseerde ringen. Stookolie, gasoliën (aardolie), zware vacuümdestillatiefractie","Gas oils (petroleum), heavy vacuum, Heavy Fuel oil [A complex combination of hydrocarbons produced by the vacuum distillation of the residuum from atmospheric distillation of crude oil. It consists of hydrocarbons having carbon numbers predominantly in the range of C20 through C50 and boiling in the range of approximately 350 °C to 600 °C (662 °F to 1112 °F). This stream is likely to contain 5 wt. % or more of 4-to 6-membered condensed ring aromatic hydrocarbons.]","Ja",null,null,null,null,"MVP 1","0,15 g/uur","0,05 mg/Nm3","2013-12-02",25]
["68478-17-1","270-796-4","Een complexe verzameling koolwaterstoffen gevormd als de residufractie uit de destillatie van zware gasolie uit een verkookser en vacuümgasolie. Bestaat voornamelijk uit koolwaterstoffen overwegend groter dan C13, en kookt boven ongeveer 230°C. Stookolie, residuen (aardolie), zware uit verkookser afkomstige gasolie- en vacuümgasolie-","Residues (petroleum), heavy coker gas oil and vacuum gas oil, Heavy Fuel oil [A complex combination of hydrocarbons produced as the residual fraction from the distillation of heavy coker gas oil and vacuum gas oil. It predominantly consists of hydrocarbons having carbon numbers predominantly greater than C13 and boiling above approximately 230 °C (446 °F).]","Ja",null,null,null,null,null,null,null,"2013-12-02",20]
["68512-61-8","270-983-0","Een complexe verzameling koolwaterstoffen gevormd als de residufractie uit de destillatie van zware verkookser-gasolie en lichte vacuümgasolie. Bestaat voornamelijk uit koolwaterstoffen overwegend groter dan C13, kokend boven ongeveer 230°C. Stookolie, residuen (aardolie), zware verkookser- en lichte vacuüm-","Residues (petroleum), heavy coker and light vacuum, Heavy Fuel oil [A complex combination of hydrocarbons produced as the residual fraction from the distillation of heavy coker gas oil and light vacuum gas oil. It consists predominantly of hydrocarbons having carbon numbers predominantly greater than C13 and boiling above approximately 230 °C (446 °F).]","Ja",null,null,null,null,null,null,null,"2013-12-02",20]
["68477-75-8","270-757-1","Een complexe verzameling koolwaterstoffen gevormd door de destillatie van producten van een katalytisch kraakproces. Bestaat uit alifatische koolwaterstoffen C1 tot en met C6, overwegend C1 tot en met C5. Gassen (aardolie), katalytische kraker, C1-5-rijk Petroleumgas","Gases (petroleum), catalytic cracker, C1-5-rich, Petroleum gas [A complex combination of hydrocarbons produced by the distillation of products from a catalytic cracking process. It consists of aliphatic hydrocarbons having carbon numbers in the range of C1 through C6, predominantly C1 through C5.]","Ja",null,null,null,null,null,null,null,"2013-12-02",20]
["68477-81-6","270-762-9","Een complexe verzameling koolwaterstoffen gevormd door destillatie van producten van de katalytische reforming van C6-8-toevoer. Bestaat uit koolwaterstoffen C1 tot en met C5, en waterstof. Gassen (aardolie), C6-8-katalytische reformer, Raffinaderijgas","Gases (petroleum), C6-8 catalytic reformer, Refinery gas [A complex combination of hydrocarbons produced by distillation of products from catalytic reforming of C6-C8feed. It consists of hydrocarbons having carbon numbers in the range of C1 through C5 and hydrogen.]","Ja",null,null,null,null,null,null,null,"2013-12-02",20]
["68514-31-8","271-032-2","Een complexe verzameling koolwaterstoffen gevormd door thermische kraak- en absorptieprocessen en door destillatie van ruwe olie. Bestaat uit koolwaterstoffen overwegend C1 tot en met C4, met een kooktraject van ongeveer -164°C tot -0,5°C. Koolwaterstoffen C1-4, Petroleumgas","Hydrocarbons, C1-4, Petroleum gas [A complex combination of hydrocarbons provided by thermal cracking and absorber operations and by distillation of crude oil. It consists of hydrocarbons having carbon numbers predominantly in the range of C1 through C4 and boiling in the range of approximately minus 164°C to minus 0.5°C (-263°F to 31°F).]","Ja",null,null,null,null,null,null,null,"2013-12-02",20]
["68607-30-7","271-763-7","Een complexe verzameling koolwaterstoffen met laag zwavelgehalte, gevomd als de residufractie uit de destillatie in de aftopinrichting van ruwe olie. Dit residu wordt gevormd na verwijdering van de aftap van direct door fractionering verkregen gasoline, kerosine en gasolie. Stookolie, residuen (aardolie), aftopinrichting, laag zwavelgehalte","Residues (petroleum), topping plant, low-sulfur, Heavy Fuel oil [A low-sulfur complex combination of hydrocarbons produced as the residual fraction from the topping plant distillation of crude oil. It is the residuum after the straight-run gasoline cut, kerosene cut and gas oil cut have been removed.]","Ja",null,null,null,null,null,null,null,"2013-12-02",20]
["85116-59-2","285-510-3","Een complexe verzameling koolwaterstoffen overblijvend na de verwijdering van aromatische verbindingen uit katalytisch gereformde lichte nafta bij een selectief absorptieproces. Bestaat voornamelijk uit paraffine- en cyclische verbindingen overwegend C5 tot C8, met een kooktraject van ongeveer 66°C tot 121°C. Nafta (aardolie), katalytisch gereformde lichte, aromaatvrije fractie, Nafta met laag kookpunt - niet gespecifieerd","Naphtha (petroleum), catalytic reformed light, arom.-free fraction, Low boiling point naphtha - unspecified [A complex combination of hydrocarbons remaining after removal of aromatic compounds from catalytic reformed light naphtha in a selective absorption process. It consists predominantly of paraffinic and cyclic compounds having carbon numbers predominantly in the range of C5 to C8 and boiling in the range of approximately 66°C to 121°C (151°F to 250°F).]","Ja",null,null,null,null,null,null,null,"2013-12-02",20]
["68527-16-2","271-259-7","Een complexe verzameling koolwaterstoffen overwegend C1 tot en met C3, met een kooktraject van ongeveer -164°C tot -42°C. Petroleumgas, koolwaterstoffen C1-3","Hydrocarbons, C1-3, Petroleum gas [A complex combination of hydrocarbons having carbon numbers predominantly in the range of C1 through C3 and boiling in the range of approximately minus 164°C to minus 42°C (-263°F to -44°F).]","Ja",null,null,null,null,null,null,null,"2013-12-02",20]
["64741-67-9","265-069-3","Een complexe verzameling koolwaterstoffen verkregen als de residu-fractie bij destillatie van het produkt van een katalytisch reformeringsproces. Bestaat hoofdzakelijk uit aromatische koolwaterstoffen overwegend C10 tot en met C25, met een kooktraject van ongeveer 160°C tot 400°C. Deze stroom bevat waarschijnlijk 5 of meer gewichtsprocenten aromatische koolwaterstoffen met 4- tot 6-voudig gecondenseerde ringen. Stookolie, residuen (aardolie), katalytische reformator-fractioneerder","Residues (petroleum), catalytic reformer fractionator, Heavy Fuel oil [A complex combination of hydrocarbons produced as the residual fraction from distillation of the product from a catalytic reforming process. It consists of predominantly aromatic hydrocarbons having carbon numbers predominantly in the range of C10 through C25 and boiling in the range of approximately 160 °C to 400 °C (320 °F to 725 °F). This stream is likely to contain 5 wt. % or more of 4- or 6-membered condensed ring aromatic hydrocarbons.]","Ja",null,null,null,null,"MVP 1","0,15 g/uur","0,05 mg/Nm3","2013-12-02",25]
["64741-75-9","265-076-1","Een complexe verzameling koolwaterstoffen verkregen als de residu-fractie uit de destillatie van de produkten van een waterstofkraakproces. Bestaat uit koolwaterstoffen overwegend groter dan C20 , kokend boven ongeveer 350°C. Stookolie, residuen (aardolie), waterstofgekraakt","Residues (petroleum), hydrocracked, Heavy Fuel oil [A complex combination of hydrocarbons produced as the residual fraction from distillation of the products of a hydrocracking process. It consists of hydrocarbons having carbon numbers predominantly greater than C20 and boiling above approximately 350 °C (662 °F).]","Ja",null,null,null,null,null,null,null,"2013-12-02",20]
["64742-90-1","265-193-8","Een complexe verzameling koolwaterstoffen verkregen als de residu-fractie van de destillatie van de produkten van een stoomkraakproces (inclusief stoomkraken voor de produktie van ethyleen). Bestaat voornamelijk uit onverzadigde koolwaterstoffen overwegend groter dan C14, kokend boven ongeveer 260°C. Deze stroom bevat waarschijnlijk 5 of meer gewichtsprocenten aromatische koolwaterstoffen met 4- tot 6-voudig gecondenseerde ringen. Stookolie, residuen (aardolie), stoomgekraakt","Residues (petroleum), steam-cracked, Heavy Fuel oil [A complex combination of hydrocarbons obtained as the residual fraction from the distillation of the products of a steam cracking process (including steam cracking to produce ethylene). It consists predominantly of unsaturated hydrocarbons having carbon numbers predominantly greater than C14 and boiling above approximately 260 °C (500 °F). This stream is likely to contain 5 wt. % or more of 4- to 6-membered condensed ring aromatic hydrocarbons.]","Ja",null,null,null,null,"MVP 1","0,15 g/uur","0,05 mg/Nm3","2013-12-02",25]
["64741-80-6","265-081-9","Een complexe verzameling koolwaterstoffen verkregen als de residu-fractie van de destillatie van het produkt van een thermisch kraakproces. Bestaat voornamelijk uit onverzadigde koolwaterstoffen overwegend groter dan C20, kokend boven ongeveer 350°C. Deze stroom bevat waarschijnlijk 5 of meer gewichtsprocenten aromatische koolwaterstoffen met 4- tot 6- voudig gecondenseerde ringen. Stookolie, residuen (aardolie), thermisch gekraakt","Residues (petroleum), thermal cracked, Heavy Fuel oil [A complex combination of hydrocarbons produced as the residual fraction from distillation of the product from a thermal cracking process. It consists predominantly of unsaturated hydrocarbons having carbon numbers predominantly greater than C20 and boiling above approximately 350 °C (662 °F). This stream is likely to contain 5 wt. % or more of 4- to 6-membered condensed ring aromatic hydrocarbons.]","Ja",null,null,null,null,"MVP 1","0,15 g/uur","0,05 mg/Nm3","2013-12-02",25]
["64742-12-7","265-112-6","Een complexe verzameling koolwaterstoffen verkregen als een raffinaat uit een zwavelzuurbehandelingsproces. Bestaat uit koolwaterstoffen overwegend C13 tot en met C25, met een kooktraject van ongeveer 230°C tot 400°C. Gasolie - niet gespecifieerd gasoliën (aardolie), met zuur behandeld","Gas oils (petroleum), acid-treated, Gasoil - unspecified [A complex combination of hydrocarbons obtained as a raffinate from a sulfuric acid treating process. It consists of hydrocarbons having carbon numbers predominantly in the range of C13 through C25 and boiling in the range of approximately 230 °C to 400 °C (446 °F to 752 °F).]","Ja",null,null,null,null,null,null,null,"2013-12-02",20]
["91995-38-9","295-298-4","Een complexe verzameling koolwaterstoffen verkregen als eerste fracties uit de pentaanverwijderingkolom voorafgaand aan de waterstofbehandeling van de aromatische belading. Bestaat voornamelijk uit koolwaterstoffen overwegend C4 tot en met C6, vooral pentanen en pentenen met een kooktraject van ongeveer 25°C tot 40°C. Koolwaterstoffen C4-6-, lichte fracties pentaanverwijdering, aromatische waterstofbehandelaar, Nafta met laag kookpunt - niet gespecifieerd","Hydrocarbons, C4-6, depentanizer lights, arom. hydrotreater, Low boiling point naphtha - unspecified [A complex combination of hydrocarbons obtained as first runnings from the depentanizer column before hydrotreatment of the aromatic charges. It consists predominantly of hydrocarbons having carbon numbers predominantly in the range of C4 through C6, predominantly pentanes and pentenes, and boiling in the range of approximately 25°C to 40°C (77°F to 104°F).]","Ja",null,null,null,null,null,null,null,"2013-12-02",20]
["91995-68-5","295-331-2","Een complexe verzameling koolwaterstoffen verkregen als extract uit de oplosmiddelextractie van een katalytisch gereformde aardoliefractie. Bestaat voornamelijk uit aromatische koolwaterstoffen overwegend C7 en C8, met een kooktraject van ongeveer 100°C tot 200°C. Extracten (aardolie), oplosmiddel-, katalytisch gereformde lichte nafta, Nafta met laag kookpunt - niet gespecifieerd","Extracts (petroleum), catalytic reformed light naphtha solvent, Low boiling point naphtha - unspecified [A complex combination of hydrocarbons obtained as the extract from the solvent extraction of a catalytically reformed petroleum cut. It consists predominantly of aromatic hydrocarbons having carbon numbers predominantly in the range of C7 through C8 and boiling in the range of approximately 100°C to 200°C (212°F to 392°F).]","Ja",null,null,null,null,null,null,null,"2013-12-02",20]
["64742-13-8","265-113-1","Een complexe verzameling koolwaterstoffen verkregen als het raffinaat uit een zwavelzuurbehandelingsproces. Bestaat uit koolwaterstoffen overwegend C11 tot en met C20, met een kooktraject van ongeveer 205°C tot 345°C. Gasolie - niet gespecifieerd destillaten (aardolie), met zuur behandelde middenfractie","Distillates (petroleum), acid-treated middle, Gasoil - unspecified [A complex combination of hydrocarbons obtained as a raffinate from a sulfuric acid treating process. It consists of hydrocarbons having carbon numbers predominantly in the range of C11 through C20 and boiling in the range of approximately 205 °C to 345 °C (401 °F to 653 °F).]","Ja",null,null,null,null,null,null,null,"2013-12-02",20]
["64742-14-9","265-114-7","Een complexe verzameling koolwaterstoffen verkregen als het raffinaat uit een zwavelzuurbehandelingsproces. Bestaat uit koolwaterstoffen overwegend C9 tot en met C16, met een kooktraject van ongeveer 150°C tot 290°C. Gasolie - niet gespecifieerd destillaten (aardolie), met zuur behandelde lichte fractie","Distillates (petroleum), acid-treated light, Gasoil - unspecified [A complex combination of hydrocarbons obtained as a raffinate from a sulfuric acid treating process. It consists of hydrocarbons having carbon numbers predominantly in the range of C9 through C16 and boiling in the range of approximately 150 °C to 290 °C (302 °F to 554 °F).]","Ja",null,null,null,null,null,null,null,"2013-12-02",20]
["64741-90-8","265-092-9","Een complexe verzameling koolwaterstoffen verkregen als het raffinaat van een solvent-extractieproces. Bestaat voornamelijk uit alifatische koolwaterstoffen overwegend C11 tot en met C25, met een kooktraject van ongeveer 205°C tot 400°C. Gasolie - niet gespecifieerd gasoliën (aardolie), solvent-geraffineerd","Gas oils (petroleum), solvent-refined, Gasoil - unspecified [A complex combination of hydrocarbons obtained as the raffinate from a solvent extraction process. It consists predominantly of aliphatic hydrocarbons having carbon numbers predominantly in the range of C11 through C25 and boiling in the range of approximately 205 °C to 400 °C (401 °F to 752 °F).]","Ja",null,null,null,null,null,null,null,"2013-12-02",20]
["64741-91-9","265-093-4","Een complexe verzameling koolwaterstoffen verkregen als het raffinaat van een solvent-extractieproces. Bestaat voornamelijk uit alifatische koolwaterstoffen overwegend C9 tot en met C20, met een kooktraject van ongeveer 150°C tot 345°C. Gasolie - niet gespecifieerd destillaten (aardolie), solvent-geraffineerd middelste fractie","Distillates (petroleum), solvent-refined middle, Gasoil - unspecified [A complex combination of hydrocarbons obtained as the raffinate from a solvent extraction process. It consists predominantly of aliphatic hydrocarbons having carbon numbers predominantly in the range of C9 through C20 and boiling in the range of approximately 150 °C to 345 °C (302 °F to 653 °F).]","Ja",null,null,null,null,null,null,null,"2013-12-02",20]
["93763-33-8","297-852-0","Een complexe verzameling koolwaterstoffen verkregen als oplosmiddelen die zijn onderworpen aan een waterstofbehandeling teneinde aromaten door katalytische hydrogenering om te zetten in naftenen. Gehydrogeneerde nafta met laag kookpunt, Koolwaterstoffen C6-11-, waterstofbehandeld gedearomatiseerd","Hydrocarbons, C6-11, hydrotreated, dearomatized, Low boiling point hydrogen treated naphtha [A complex combination of hydrocarbons obtained as solvents which have been subjected to hydrotreatment in order to convert aromatics to naphthenes by catalytic hydrogenation.]","Ja",null,null,null,null,null,null,null,"2013-12-02",20]
["93763-34-9","297-853-6","Een complexe verzameling koolwaterstoffen verkregen als oplosmiddelen die zijn onderworpen aan een waterstofbehandeling teneinde aromaten door katalytische hydrogenering om te zetten in naftenen. Gehydrogeneerde nafta met laag kookpunt, Koolwaterstoffen C9-12-, waterstofbehandeld gedearomatiseerd","Hydrocarbons, C9-12, hydrotreated, dearomatized, Low boiling point hydrogen treated naphtha [A complex combination of hydrocarbons obtained as solvents which have been subjected to hydrotreatment in order to convert aromatics to naphthenes by catalytic hydrogenation.]","Ja",null,null,null,null,null,null,null,"2013-12-02",20]
["64742-15-0","265-115-2","Een complexe verzameling koolwaterstoffen verkregen als raffinaat uit een zwavelzuurbehandeling. Bestaat uit koolwaterstoffen overwegend C7 tot en met C12, met een kooktraject van ongeveer 90°C tot 230°C. Nafta (aardolie), met zuur behandeld Nafta met laag kookpunt - niet gespecifieerd","Naphtha (petroleum), acid-treated, Low boiling point naphtha - unspecified [A complex combination of hydrocarbons obtained as a raffinate from a sulfuric acid treating process. It consists of hydrocarbons having carbon numbers predominantly in the range of C7 through C12 and boiling in the range of approximately 90°C to 230°C (194°F to 446°F).]","Ja",null,null,null,null,null,null,null,"2013-12-02",20]
["64742-18-3","265-117-3","Een complexe verzameling koolwaterstoffen verkregen als raffinaat uit een zwavelzuurbehandelingsproces. Bestaat uit koolwaterstoffen overwegend C20 tot en met C50, en vormt een voltooide olie met een viscositeit van minstens 19 cSt bij 40°C. Bevat relatief weinig normale paraffinen. Niet of licht geraffineerde basisolie, destillaten (aardolie), met zuur behandelde zware nafteenhoudende fractie","Distillates (petroleum), acid-treated heavy naphthenic, Unrefined or mildly refined baseoil [A complex combination of hydrocarbons obtained as a raffinate from a sulfuric acid treating process. It consists of hydrocarbons having carbon numbers predominantly in the range of C20 through C50 and produces a finished oil with a viscosity of at least 100 SUS at 100 °F (19cSt at 40 °C). It contains relatively few normal paraffins.]","Ja",null,null,null,null,null,null,null,"2013-12-02",20]
["64741-84-0","265-086-6","Een complexe verzameling koolwaterstoffen verkregen als raffinaat van een oplosmiddelextractieproces. Bestaat voornamelijk uit alifatische koolwaterstoffen overwegend C5 tot en met C11, met een kooktraject van ongeveer 35°C tot 190°C. Gemodificeerde nafta met laag kookpunt, Nafta (aardolie), oplosmiddelgeraffineerde lichte","Naphtha (petroleum), solvent-refined light, Low boiling point modified naphtha [A complex combination of hydrocarbons obtained as the raffinate from a solvent extraction process. It consists predominantly of aliphatic hydrocarbons having carbon numbers predominantly in the range of C5 through C11 and boiling in the range of approximately 35°C to 190°C (95°F to 374°F).]","Ja",null,null,null,null,null,null,null,"2013-12-02",20]
["64741-92-0","265-095-5","Een complexe verzameling koolwaterstoffen verkregen als raffinaat van een oplosmiddelextractieproces. Bestaat voornamelijk uit alifatische koolwaterstoffen overwegend C7 tot en met C12, met een kooktraject van ongeveer 90°C tot 230°C. Gemodificeerde nafta met laag kookpunt, Nafta (petroleum), oplosmiddelgeraffineerde zware","Naphtha (petroleum), solvent-refined heavy, Low boiling point modified naphtha [A complex combination of hydrocarbons obtained as the raffinate from a solvent extraction process. It consists predominantly of aliphatic hydrocarbons having carbon numbers predominantly in the range of C7 through C12 and boiling in the range of approximately 90°C to 230°C (194°F to 446°F).]","Ja",null,null,null,null,null,null,null,"2013-12-02",20]
["68410-71-9","270-088-5","Een complexe verzameling koolwaterstoffen verkregen als raffinaat van een Udex-extractie van de stroom uit de katalytische reformer. Bestaat uit verzadigde koolwaterstoffen overwegend C6 tot en met C9. Gemodificeerde nafta met laag kookpunt, Raffinaten (aardolie), katalytische reformer, ethyleenglycol-water-tegenstroomextractie","Raffinates (petroleum), catalytic reformer ethylene glycol-water countercurrent exts., Low boiling point modified naphtha [A complex combination of hydrocarbons obtained as the raffinate from the UDEX extraction process on the catalytic reformer stream. It consists of saturated hydrocarbons having carbon numbers predominantly in the range of C6 through C9.]","Ja",null,null,null,null,null,null,null,"2013-12-02",20]
["101316-66-9","309-870-9","Een complexe verzameling koolwaterstoffen verkregen bij de sorptie van tolueen uit een koolwaterstoffractie van gekraakte benzine die in aanwezigheid van een katalysator met waterstof is behandeld. Bestaat voornamelijk uit koolwaterstoffen overwegend C6 tot en met C8, met een kooktraject van ongeveer 80°C tot 135°C. Koolwaterstoffen C6-8-, gehydrogeneerde, door sorptie gedearomatiseerde, tolueenraffinage, Nafta met laag kookpunt - niet gespecifieerd","Hydrocarbons, C6-8, hydrogenated sorption-dearomatized, toluene raffination, Low boiling point naphtha - unspecified [A complex combination of hydrocarbons obtained during the sorptions of toluene from a hydrocarbon fraction from cracked gasoline treated with hydrogen in the presence of a catalyst. It consists predominantly of hydrocarbons having carbon numbers predominantly in the range of C6 through C8 and boiling in the range of approximately 80°C to 135°C (176°F to 275°F).]","Ja",null,null,null,null,null,null,null,"2013-12-02",20]
["93572-36-2","297-466-2","Een complexe verzameling koolwaterstoffen verkregen door afscheiding uit de platformate-houdende fractie. Bestaat voornamelijk uit niet-aromatische koolwaterstoffen overwegend C5 tot en met C11, met een kooktraject van ongeveer 35°C tot 125°C, benzeen en tolueen. Katalytisch gereformde nafta met laag kookpunt, Koolwaterstoffen C5-11-, rijk aan niet-aromaten lichte fractie uit reforming","Hydrocarbons, C5-11, nonaroms.-rich, reforming light fraction, Low boiling point cat-reformed naphtha [A complex combination of hydrocarbons obtained by separation from the platformate-containing fraction. It consists predominantly of nonaromatic hydrocarbons having carbon numbers predominantly in the range of C5 through C11 and boiling in the range of approximately 35°C to 125°C (94°F to 257°F), benzene and toluene.]","Ja",null,null,null,null,null,null,null,"2013-12-02",20]
["93572-35-1","297-465-7","Een complexe verzameling koolwaterstoffen verkregen door afscheiding uit de platformate-houdende fractie. Bestaat voornamelijk uit niet-aromatische koolwaterstoffen overwegend C7 tot en met C12, met een kooktraject van ongeveer 120°C tot 210°C, en uit aromatische koolwaterstoffen C9 en hoger. Katalytisch gereformde nafta met laag kookpunt, Koolwaterstoffen C7-12-, rijk aan C groter dan 9aromaten zware fractie uit reforming","Hydrocarbons, C7-12, C≥9-arom.-rich, reforming heavy fraction, Low boiling point cat-reformed naphtha [A complex combination of hydrocarbons obtained by separation from the platformate-containing fraction. It consists predominantly of nonaromatic hydrocarbons having carbon numbers predominantly in the range of C7 through C12 and boiling in the range of approximately 120°C to 210°C (248°F to 380°F) and C9 and higher aromatic hydrocarbons.]","Ja",null,null,null,null,null,null,null,"2013-12-02",20]
["92045-49-3","295-430-0","Een complexe verzameling koolwaterstoffen verkregen door alkylering van butanen. Bestaat voornamelijk uit koolwaterstoffen overwegend C4 tot en met C12, rijk aan isooctaan met een kooktraject van ongeveer 35°C tot 210°C. Gemodificeerde nafta met laag kookpunt, Nafta (aardolie), C4-12-butaanalkylaat, rijk aan isooctaan","Naphtha (petroleum), C4-12, butane-alkylate, isooctane-rich, Low boiling point modified naphtha [A complex combination of hydrocarbons obtained by alkylation of butanes. It consists predominantly of hydrocarbons having carbon numbers predominantly in the range of C4 through C12, rich in isooctane, and boiling in the range of approximately 35°C to 210°C (95°F to 410°F).]","Ja",null,null,null,null,null,null,null,"2013-12-02",20]
["98219-46-6","308-713-1","Een complexe verzameling koolwaterstoffen verkregen door behandeling en destillatie van lichte stoomgekraakte aardolienafta, ontdaan van benzeen. Bestaat voornamelijk uit koolwaterstoffen overwegend C7 tot en met C12, met een kooktraject van ongeveer 95°C tot 200°C. Nafta (aardolie), lichte stoomgekraakte, van benzeen ontdaan thermisch behandeld Nafta met laag kookpunt - niet gespecifieerd","Naphtha (petroleum), light steam-cracked, debenzenized, thermally treated, Low boiling point naphtha - unspecified [A complex combination of hydrocarbons obtained by the treatment and distillation of debenzenized light steam-cracked petroleum naphtha. It consists predominantly of hydrocarbons having carbon numbers predominantly in the range of C7 through C12 and boiling in the range of approximately 95°C to 200°C (203°F to 392°F).]","Ja",null,null,null,null,null,null,null,"2013-12-02",20]
["98219-47-7","308-714-7","Een complexe verzameling koolwaterstoffen verkregen door behandeling en destillatie van lichte stoomgekraakte aardolienafta. Bestaat voornamelijk uit koolwaterstoffen overwegend C5 tot en met C6, met een kooktraject van ongeveer 35°C tot 80°C). Nafta (aardolie), lichte stoomgekraakte, thermisch behandeld Nafta met laag kookpunt - niet gespecifieerd","Naphtha (petroleum), light steam-cracked, thermally treated, Low boiling point naphtha - unspecified [A complex combination of hydrocarbons obtained by the treatment and distillation of light steam-cracked petroleum naphtha. It consists predominantly of hydrocarbons having carbon numbers predominantly in the range of C5 through C6 and boiling in the range of approximately 35°C to 80°C (95°F to 176°F).]","Ja",null,null,null,null,null,null,null,"2013-12-02",20]
["64742-49-0","265-151-9","Een complexe verzameling koolwaterstoffen verkregen door behandeling van een aardoliefractie met waterstof in aanwezigheid van een katalysator. Bestaat uit koolwaterstoffen overwegend C4 tot en met C11, met een kooktraject van ongeveer -20°C tot 190°C. Gehydrogeneerde nafta met laag kookpunt, Nafta (aardolie), waterstofbehandelde lichte","Naphtha (petroleum), hydrotreated light, Low boiling point hydrogen treated naphtha [A complex combination of hydrocarbons obtained by treating a petroleum fraction with hydrogen in the presence of a catalyst. It consists of hydrocarbons having carbon numbers predominantly in the range of C4 through C11 and boiling in the range of approximately minus 20°C to 190°C (-4°F to 374°F).]","Ja",null,null,null,null,null,null,null,"2013-12-02",20]
["64742-48-9","265-150-3","Een complexe verzameling koolwaterstoffen verkregen door behandeling van een aardoliefractie met waterstof in aanwezigheid van een katalysator. Bestaat uit koolwaterstoffen overwegend C6 tot en met C13, met een kooktraject van ongeveer 65°C tot 230°C. Gehydrogeneerde nafta met laag kookpunt, Nafta (aardolie), waterstofbehandelde zware","Naphtha (petroleum), hydrotreated heavy, Low boiling point hydrogen treated naphtha [A complex combination of hydrocarbons obtained by treating a petroleum fraction with hydrogen in the presence of a catalyst. It consists of hydrocarbons having carbon numbers predominantly in the range of C6 through C13 and boiling in the range of approximately 65°C to 230°C (149°F to 446°F).]","Ja",null,null,null,null,null,null,null,"2013-12-02",20]
["68512-78-7","270-988-8","Een complexe verzameling koolwaterstoffen verkregen door behandeling van een aardoliefractie met waterstof in aanwezigheid van een katalysator. Bestaat voornamelijk uit aromatische koolwaterstoffen overwegend C8 tot en met C10, met een kooktraject van ongeveer 135°C tot 210°C. Gehydrogeneerde nafta met laag kookpunt, Oplosmiddelnafta (aardolie), lichte aromatische, waterstofbehandeld","Solvent naphtha (petroleum), light arom., hydrotreated, Low boiling point hydrogen treated naphtha [A complex combination of hydrocarbons obtained by treating a petroleum fraction with hydrogen in the presence of a catalyst. It consists predominantly of aromatic hydrocarbons having carbon numbers predominantly in the range of C8 through C10 and boiling in the range of approximately 135°C to 210°C (275°F to 410°F).]","Ja",null,null,null,null,null,null,null,"2013-12-02",20]
["64742-46-7","265-148-2","Een complexe verzameling koolwaterstoffen verkregen door behandeling van een aardoliefractie met waterstof in de aanwezigheid van een katalysator. Bestaat uit koolwaterstoffen overwegend C11 tot en met C25, met een kooktraject van ongeveer 205°C tot 400°C. Gasolie - niet gespecifieerd destillaten (aardolie), met waterstof behandelde middenfractie","Distillates (petroleum), hydrotreated middle, Gasoil - unspecified [A complex combination of hydrocarbons obtained by treating a petroleum fraction with hydrogen in the presence of a catalyst. It consists of hydrocarbons having carbon numbers predominantly in the range of C11 through C25 and boiling in the range of approximately 205 °C to 400 °C (401 °F to 752 °F).]","Ja",null,null,null,null,null,null,null,"2013-12-02",20]
["64742-59-2","265-162-9","Een complexe verzameling koolwaterstoffen verkregen door behandeling van een aardoliefractie met waterstof in de aanwezigheid van een katalysator. Bestaat uit koolwaterstoffen overwegend C13 tot en met C50 , met een kooktraject van ongeveer 230°C tot 600°C. Deze stroom bevat waarschijnlijk 5 of meer gewichtsprocenten aromatische koolwaterstofen met 4- tot 6-voudig gecondenseerde ringen. Stookolie, gasoliën (aardolie), met waterstof behandelde vacuümdestillatiefractie","Gas oils (petroleum), hydrotreated vacuum, Heavy Fuel oil [A complex combination of hydrocarbons obtained by treating a petroleum fraction with hydrogen in the presence of a catalyst. It consists of hydrocarbons having carbon numbers predominantly in the range of C13 through C50 and boiling in the range of approximately 230 °C to 600 °C (446 °F to 1112 °F). This stream is likely to contain 5 wt.% or more of 4- to 6-membered condensed ring aromatic hydrocarbons.]","Ja",null,null,null,null,null,null,null,"2013-12-02",20]
["64742-78-5","265-181-2","Een complexe verzameling koolwaterstoffen verkregen door behandeling van een residu uit een atmosferische destillatietoren met waterstof in de aanwezigheid van een katalysator onder omstandigheden primair bedoeld om organische zwavelverbindingen te verwijderen. Bestaat uit koolwaterstoffen overwegend groter dan C20, kokend boven ongeveer 350°C. Deze stroom bevat waarschijnlijk 5 of meer gewichtsprocenten aromatische koolwaterstoffen met 4- tot 6-voudig gecondenseerde ringen. Stookolie, residuen (aardolie), met waterstof ontzwaveld atmosferische destillatietoren","Residues (petroleum), hydrodesulfurized atmospheric tower, Heavy Fuel oil [A complex combination of hydrocarbons obtained by treating an atmospheric tower residuum with hydrogen in the presence of a catalyst under conditions primarily to remove organic sulfur compounds. It consists of hydrocarbons having carbon numbers predominantly greater than C20 and boiling above approximately 350 °C (662 °F). This stream is likely to contain 5 wt. % or more of 4- to 6-membered condensed ring aromatic hydrocarbons.]","Ja",null,null,null,null,"MVP 1","0,15 g/uur","0,05 mg/Nm3","2013-12-02",25]
["68333-25-5","269-781-5","Een complexe verzameling koolwaterstoffen verkregen door behandeling van lichte katalytisch gekraakte destillaten met waterstof, om organisch zwavel om te zetten in waterstofsulfide, dat wordt verwijderd. Bestaat uit koolwaterstoffen overwegend C9 tot en met C25, met een kooktraject van ongeveer 150°C tot 400°C. Bevat een relatief grote hoeveelheid bicyclische aromatische koolwaterstoffen. Gekraakte gasolie, destillaten (aardolie), waterstofontzwavelde lichte fractie katalytisch gekraakt","Distillates (petroleum), hydrodesulfurized light catalytic cracked, Cracked gasoil [A complex combination of hydrocarbons obtained by treating light catalytic cracked distillates with hydrogen to convert organic sulfur to hydrogen sulfide which is removed. It consists of hydrocarbons having carbon numbers predominantly in the range of C9 through C25 and boiling in the range of approximately 150 °C to 400 °C (302 °F to 752 °F). It contains a relatively large proportion of bicyclic aromatic hydrocarbons.]","Ja",null,null,null,null,null,null,null,"2013-12-02",20]
["68477-87-2","270-769-7","Een complexe verzameling koolwaterstoffen verkregen door de atmosferische destillatie van een butaan-butyleenstroom. Bestaat uit alifatische koolwaterstoffen overwegend C3 tot en met C4. Gassen (aardolie), topproducten van isobutaanverwijdering-toren Petroleumgas","Gases (petroleum), deisobutanizer tower overheads, Petroleum gas [A complex combination of hydrocarbons produced by the atmospheric distillation of a butane-butylene stream. It consists of aliphatic hydrocarbons having carbon numbers predominantly in the range of C3 through C4.]","Ja",null,null,null,null,null,null,null,"2013-12-02",20]
["97926-43-7","308-261-5","Een complexe verzameling koolwaterstoffen verkregen door de behandeling van een zwaar naftaoplosmiddel-aardolieextract met bleekaarde. Bestaat voornamelijk uit koolwaterstoffen overwegend C6 tot en met C10, met een kooktraject van ongeveer 80°C tot 180°C. Extracten (aardolie), zware naftaoplosmiddeL met klei behandeld Nafta met laag kookpunt - niet gespecifieerd","Extracts (petroleum) heavy naphtha solvent, clay-treated, Low boiling point naphtha - unspecified [A complex combination of hydrocarbons obtained by the treatment of heavy naphthic solvent petroleum extract with bleaching earth. It consists predominantly of hydrocarbons having carbon numbers predominantly in the range of C6 through C10 and boiling in the range of approximately 80°C to 180°C (175°F to 356°F).]","Ja",null,null,null,null,null,null,null,"2013-12-02",20]
["68478-29-5","270-809-3","Een complexe verzameling koolwaterstoffen verkregen door de behandeling van gekraakte destillaten met waterstof in aanwezigheid van een katalysator. Bestaat uit waterstof en verzadigde alifatische koolwaterstoffen overwegend C1 tot en met C5. Raffinaderijgas, Restgas (aardolie), gekraakt destillaat, waterstofbehandelaar, afscheider","Tail gas (petroleum), cracked distillate hydrotreater separator, Refinery gas [A complex combination of hydrocarbons obtained by treating cracked distillates with hydrogen in the presence of a catalyst. It consists of hydrogen and saturated aliphatic hydrocarbons having carbon numbers predominantly in the range of C1 through C5.]","Ja",null,null,null,null,null,null,null,"2013-12-02",20]
["68333-26-6","269-782-0","Een complexe verzameling koolwaterstoffen verkregen door de behandeling van katalytisch gekraakte geklaarde olie met waterstof, om organisch zwavel om te zetten in waterstofsulfide dat verwijderd wordt. Bestaat uit koolwaterstoffen overwegend groter dan C20, die koken boven ongeveer 350°C. Deze stroom bevat waarschijnlijk 5 of meer gewichtsprocenten aromatische koolwaterstoffen samengesteld uit 4- tot 6-voudig gecondenseerde ringen. Stookolie, geklaarde oliën (aardolie), met waterstof ontzwavelde katalytisch gekraakte","Clarified oils (petroleum), hydrodesulfurized catalytic cracked, Heavy Fuel oil [A complex combination of hydrocarbons obtained by treating catalytic cracked clarified oil with hydrogen to convert organic sulfur to hydrogen sulfide which is removed. It consists of hydrocarbons having carbon numbers predominantly greater than C20 and boiling above approximately 350 °C (662 °F). This stream is likely to contain 5 wt. % or more of 4-to 6-membered condensed ring aromatic hydrocarbons.]","Ja",null,null,null,null,"MVP 1","0,15 g/uur","0,05 mg/Nm3","2013-12-02",25]
["68527-22-0","271-263-9","Een complexe verzameling koolwaterstoffen verkregen door de behandeling van lichte direct door fractionering verkregen nafta met natuurlijke of gemodificeerde klei, meestal in een percolatieproces, om de aanwezige sporen polaire verbindingen en verontreinigingen te verwijderen. Bestaat uit koolwaterstoffen overwegend C7 tot en met C10, met een kooktraject van ongeveer 93°C tot 180°C. Nafta (aardolie), met klei behandelde lichte direct door fractionering verkregen Nafta met laag kookpunt - niet gespecifieerd","Naphtha (petroleum), clay-treated light straight-run, Low boiling point naphtha - unspecified [A complex combination of hydrocarbons resulting from treatment of light straight-run naphtha with a natural or modified clay, usually in a percolation process to remove the trace amounts of polar compounds and impurities present. It consists of hydrocarbons having carbon numbers predominantly in the range of C7 through C10 and boiling in the range of approximately 93°C to 180°C (200°F to 356°F).]","Ja",null,null,null,null,null,null,null,"2013-12-02",20]
["68477-86-1","270-768-1","Een complexe verzameling koolwaterstoffen verkregen door de destillatie van de gas- en benzinefracties uit een katalytisch kraakproces. Bevat voornamelijk ethaan en ethyleen. Gassen (aardolie), topproducten van ethaanverwijdering, Petroleumgas","Gases (petroleum), deethanizer overheads, Petroleum gas [A complex combination of hydrocarbons produced from distillation of the gas and gasoline fractions from the catalytic cracking process. It contains predominantly ethane and ethylene.]","Ja",null,null,null,null,null,null,null,"2013-12-02",20]
["68477-74-7","270-756-6","Een complexe verzameling koolwaterstoffen verkregen door de destillatie van de producten van een katalytisch kraakproces. Bestaat voornamelijk uit alifatische koolwaterstoffen overwegend C1 tot en met C6. Gassen (aardolie), katalytische kraker, Petroleumgas","Gases (petroleum), catalytic cracker, Petroleum gas [A complex combination of hydrocarbons produced by the distillation of the products from a catalytic cracking process. It consists predominantly of aliphatic hydrocarbons having carbon numbers predominantly in the range of C1 through C6.]","Ja",null,null,null,null,null,null,null,"2013-12-02",20]
["68477-91-8","270-773-9","Een complexe verzameling koolwaterstoffen verkregen door de destillatie van producten uit de gas- en benzinefracties van een katalytisch kraakproces. Bestaat uit alifatische koolwaterstoffen overwegend C2 tot en met C4. Gassen (aardolie), topproducten van propaanverwijdering, Petroleumgas","Gases (petroleum), depropanizer overheads, Petroleum gas [A complex combination of hydrocarbons produced by distillation of products from the gas and gasoline fractions of a catalytic cracking process. It consists of aliphatic hydrocarbons having carbon numbers predominantly in the range of C2 through C4.]","Ja",null,null,null,null,null,null,null,"2013-12-02",20]
["68477-90-7","270-772-3","Een complexe verzameling koolwaterstoffen verkregen door de destillatie van producten uit de gas- en benzinefracties van een katalytisch kraakproces. Bestaat voornamelijk uit propyleen met wat ethaan en propaan. Gassen (aardolie), propaanverwijdering droog, rijk aan propeen Petroleumgas","Gases (petroleum), depropanizer dry, propene-rich, Petroleum gas [A complex combination of hydrocarbons produced by the distillation of products from the gas and gasoline fractions of a catalytic cracking process. It consists predominantly of propylene with some ethane and propane.]","Ja",null,null,null,null,null,null,null,"2013-12-02",20]
["68477-85-0","270-767-6","Een complexe verzameling koolwaterstoffen verkregen door de destillatie van producten uit een katalytisch fractioneringsproces. Bestaat uit alifatische koolwaterstoffen C3 tot en met C5, hoofdzakelijk C4. Gassen (aardolie), C4-rijk Petroleumgas","Gases (petroleum), C4-rich, Petroleum gas [A complex combination of hydrocarbons produced by distillation of products from a catalytic fractionation process. It consists of aliphatic hydrocarbons having carbon numbers in the range of C3 through C5, predominantly C4.]","Ja",null,null,null,null,null,null,null,"2013-12-02",20]
["68477-79-2","270-760-8","Een complexe verzameling koolwaterstoffen verkregen door de destillatie van producten uit een katalytisch reformingsproces. Bestaat uit koolwaterstoffen C1 tot en met C6, overwegend C1 tot en met C4. Gassen (aardolie), katalytische reformer, C1-4-rijk Petroleumgas","Gases (petroleum), catalytic reformer, C1-4-rich, Petroleum gas [A complex combination of hydrocarbons produced by distillation of products from a catalytic reforming process. It consists of hydrocarbons having carbon numbers in the range of C1 through C6, predominantly C1 through C4.]","Ja",null,null,null,null,null,null,null,"2013-12-02",20]
["68513-16-6","271-001-3","Een complexe verzameling koolwaterstoffen verkregen door de destillatie van producten van een waterstofkraakproces. Bestaat voornamelijk uit koolwaterstoffen overwegend C1 tot en met C4. Kan ook kleine hoeveelheden waterstof en waterstofsulfide bevatten. Gassen (aardolie), waterstofkraken uitstoot van propaanverwijdering, koolwaterstofrijk Petroleumgas","Gases (petroleum), hydrocracking depropanizer off, hydrocarbon-rich, Petroleum gas [A complex combination of hydrocarbon produced by the distillation of products from a hydrocracking process. It consists predominantly of hydrocarbons having carbon numbers predominantly in the range of C1 through C4. It may also contain small amounts of hydrogen and hydrogen sulfide.]","Ja",null,null,null,null,null,null,null,"2013-12-02",20]
["68602-83-5","271-624-0","Een complexe verzameling koolwaterstoffen verkregen door de destillatie van ruwe olie en/of het kraken van gasolie uit een fractioneringstoren. Bestaat uit koolwaterstoffen overwegend C1 tot en met C5. Gassen (aardolie), C1-5, nat, Petroleumgas","Gases (petroleum), C1-5, wet, Petroleum gas [A complex combination of hydrocarbons produced by the distillation of crude oil and/or the cracking of tower gas oil. It consists of hydrocarbons having carbon numbers predominantly in the range of C1 through C5.]","Ja",null,null,null,null,null,null,null,"2013-12-02",20]
["68477-84-9","270-766-0","Een complexe verzameling koolwaterstoffen verkregen door de extractie van waterstof uit een gasstroom die voornamelijk bestaat uit waterstof met kleine hoeveelheden stikstof, koolmonoxide, methaan ethaan en ethyleen. Bevat voornamelijk koolwaterstoffen als methaan ethaan en ethyleen met kleine hoeveelheden waterstof, stikstof en koolmonoxide. Gassen (aardolie), C2-terugstroom Raffinaderijgas","Gases (petroleum), C2-return stream, Refinery gas [A complex combination of hydrocarbons obtained by the extraction of hydrogen from a gas stream which consists primarily of hydrogen with small amounts of nitrogen, carbon monoxide, methane, ethane, and ethylene. It contains predominantly hydrocarbons such as methane, ethane, and ethylene with small amounts of hydrogen, nitrogen and carbon monoxide.]","Ja",null,null,null,null,null,null,null,"2013-12-02",20]
["68477-76-9","270-758-7","Een complexe verzameling koolwaterstoffen verkregen door de fractionele stabilisatie van katalytisch gepolymeriseerde nafta. Bevat alifatische koolwaterstoffen C2 tot en met C6, overwegend C2 tot en met C4. Gassen (aardolie), katalytisch gepolymeriseerde nafta, stabilisator-topfractie, C2-4-rijk Petroleumgas","Gases (petroleum), catalytic polymd. naphtha stabilizer overhead, C2-4-rich, Petroleum gas [A complex combination of hydrocarbons obtained from the fractionation stabilization of catalytic polymerized naphtha. It consists of aliphatic hydrocarbons having carbon numbers in the range of C2 through C6, predominantly C2 through C4.]","Ja",null,null,null,null,null,null,null,"2013-12-02",20]
["68478-24-0","270-804-6","Een complexe verzameling koolwaterstoffen verkregen door de fractionering van producten van katalytisch kraken katalytische reforming en waterstofontzwavelingsprocessen en behandeld om zure verontreinigingen te verwijderen. Bestaat voornamelijk uit koolwaterstoffen overwegend C1 tot en met C5. Petroleumgas, Restgas (aardolie), fractionator van gecombineerde producten uit katalytische kraker, katalytische reformer en waterstofontzwavelaar","Tail gas (petroleum), catalytic cracker, catalytic reformer and hydrodesulfurizer combined fractionater, Petroleum gas [A complex combination of hydrocarbons obtained from the fractionation of products from catalytic cracking, catalytic reforming and hydrodesulfurizing processes treated to remove acidic impurities. It consists predominantly of hydrocarbons having cabon numbers predominantly in the range of C1 through C5.]","Ja",null,null,null,null,null,null,null,"2013-12-02",20]
["68477-94-1","270-777-0","Een complexe verzameling koolwaterstoffen verkregen door de fractionering van uiteenlopende koolwaterstofstromen. Bestaat voornamelijk uit koolwaterstoffen C1 tot en met C4, overwegend propaan. Gassen (aardolie), gasterugwinning-installatie, topproducten van propaanverwijdering, Petroleumgas","Gases (petroleum), gas recovery plant depropanizer overheads, Petroleum gas [A complex combination of hydrocarbons obtained by fractionation of miscellaneous hydrocarbon streams. It consists predominantly of hydrocarbons having carbon numbers in the range of C1 through C4, predominantly propane.]","Ja",null,null,null,null,null,null,null,"2013-12-02",20]
["68513-14-4","270-999-8","Een complexe verzameling koolwaterstoffen verkregen door de katalytische reforming van door directe fractionering verkregen nafta, gevolgd door fractionering van de totale uitstroom. Bestaat uit waterstof, methaan ethaan en propaan. Gassen (aardolie), katalytische reforming van door directe fractionering verkregen nafta, stabilisator-topproducten Raffinaderijgas","Gases (petroleum), catalytic reformed straight-run naphtha stabilizer overheads, Refinery gas [A complex combination of hydrocarbons obtained from the catalytic reforming of straight-run naphtha followed by fractionation of the total effluent. It consists of hydrogen, methane, ethane and propane.]","Ja",null,null,null,null,null,null,null,"2013-12-02",20]
["68513-17-7","271-002-9","Een complexe verzameling koolwaterstoffen verkregen door de stabilisering van lichte door directe fractionering verkregen nafta. Bestaat uit verzadigde alifatische koolwaterstoffen overwegend C2 tot en met C6. Gassen (aardolie), lichte door directe fractionering verkregen nafta, stabilisatoruitstoot, Petroleum-gas","Gases (petroleum), light straight-run naphtha stabilizer off, Petroleum gas [A complex combination of hydrocarbons obtained by the stabilization of light straight-run naphtha. It consists of saturated aliphatic hydrocarbons having carbon numbers predominantly in the range of C2 through C6.]","Ja",null,null,null,null,null,null,null,"2013-12-02",20]
["70592-77-7","274-684-6","Een complexe verzameling koolwaterstoffen verkregen door de vacuümdestillatie van het residu van de atmosferische destillatie van ruwe olie. Bestaat uit koolwaterstoffen overwegend C11 tot en met C35, met een kooktraject van ongeveer 250°C tot 545°C. Stookolie, destillaten (aardolie), lichte vacuüm-","Distillates (petroleum), light vacuum, Heavy Fuel oil [A complex combination of hydrocarbons produced by the vacuum distillation of the residuum from atmospheric distillation of crude oil. It consists of hydrocarbons having carbon numbers predominantly in the range of C11 through C35 and boiling in the range of approximately 250 °C to 545 °C (482 °F to 1013 °F).]","Ja",null,null,null,null,null,null,null,"2013-12-02",20]
["70592-76-6","274-683-0","Een complexe verzameling koolwaterstoffen verkregen door de vacuümdestillatie van het residu van de atmosferische destillatie van ruwe olie. Bestaat uit koolwaterstoffen overwegend C14 tot en met C42, met een kooktraject van ongeveer 250°C tot 545°C. Deze stroom bevat waarschijnlijk 5 of meer gewichtsprocenten aromatische koolwaterstoffen met 4- tot 6-voudig gecondenseerde ringen. Stookolie, destillaten (aardolie), middelste vacuüm-","Distillates (petroleum), intermediate vacuum, Heavy Fuel oil [A complex combination of hydrocarbons produced by the vacuum, distillation of the residuum from atmospheric distillation of crude oil. It consists of hydrocarbons having carbon numbers predominantly in the range of C14 through C42 and boiling in the range of approximately 250 °C to 545 °C (482 °F to 1013 °F). This stream is likely to contain 5 wt. % or more of 4- to 6-membered condensed ring aromatic hydrocarbons.]","Ja",null,null,null,null,"MVP 1","0,15 g/uur","0,05 mg/Nm3","2013-12-02",25]
["70592-78-8","274-685-1","Een complexe verzameling koolwaterstoffen verkregen door de vacuümdestillatie van het residu van de atmosferische destillatie van ruwe olie. Bestaat uit koolwaterstoffen overwegend C15 tot en met C50, met een kooktraject van ongeveer 270°C tot 600°C. Deze stroom bevat waarschijnlijk 5 of meer gewichtsprocenten aromatische koolwaterstoffen met 4- tot 6-voudig gecondenseerde ringen. Stookolie, destillaten (aardolie), vacuüm-","Distillates (petroleum), vacuum, Heavy Fuel oil [A complex combination of hydrocarbons produced by the vacuum distillation of the residuum from atmospheric distillation of crude oil. It consists of hydrocarbons having numbers predominantly in the range of C15 through C50 and boiling in the range of approximately 270 °C to 600 °C (518 °F to 1112 °F). This stream is likely to contain 5 wt.% or more of 4- to 6-membered condensed ring aromatic hydrocarbons.]","Ja",null,null,null,null,"MVP 1","0,15 g/uur","0,05 mg/Nm3","2013-12-02",25]
["68512-91-4","270-990-9","Een complexe verzameling koolwaterstoffen verkregen door destillatie en condensatie van ruwe olie. Bestaat uit koolwaterstoffen C3 tot en met C5, overwegend C3 tot en met C4. Koolwaterstoffen C3-4-rijk aardoliedestillaat, Petroleumgas","Hydrocarbons, C3-4-rich, petroleum distillate, Petroleum gas [A complex combination of hydrocarbons produced by distillation and condensation of crude oil. It consists of hydrocarbons having carbon numbers in the range of C3 through C5, predominantly C3 through C4.]","Ja",null,null,null,null,null,null,null,"2013-12-02",20]
["92045-62-0","295-444-7","Een complexe verzameling koolwaterstoffen verkregen door destillatie uit voorgehydrogeneerde gekraakte nafta. Bestaat voornamelijk uit koolwaterstoffen overwegend C8 tot en met C11, met een kooktraject van ongeveer 130°C tot 205°C. Koolwaterstoffen C8-11-, naftakraken tolueenfractie, Nafta met laag kookpunt - niet gespecifieerd","Hydrocarbons, C8-11, naphtha-cracking, toluene cut, Low boiling point naphtha - unspecified [A complex combination of hydrocarbons obtained by distillation from prehydrogenated cracked naphtha. It consists predominantly of hydrocarbons having carbon numbers predominantly in the range of C8 through C11 and boiling in the range of approximately 130°C to 205°C (266°F to 401°F).]","Ja",null,null,null,null,null,null,null,"2013-12-02",20]
["64742-95-6","265-199-0","Een complexe verzameling koolwaterstoffen verkregen door destillatie van aromatische stromen. Bestaat voornamelijk uit aromatische koolwaterstoffen overwegend C8 tot en met C10, met een kooktraject van ongeveer 135°C tot 210°C. Nafta met laag kookpunt - niet gespecifieerd Oplosmiddelnafta (aardolie), lichte aromatische","Solvent naphtha (petroleum), light arom., Low boiling point naphtha - unspecified [A complex combination of hydrocarbons obtained from distillation of aromatic streams. It consists predominantly of aromatic hydrocarbons having carbon numbers predominantly in the range of C8 through C10 and boiling in the range of approximately 135°C to 210°C (275°F to 410°F).]","Ja",null,null,null,null,null,null,null,"2013-12-02",20]
["68477-69-0","270-750-3","Een complexe verzameling koolwaterstoffen verkregen door destillatie van de butaanstroom. Bestaat uit alifatische koolwaterstoffen overwegend C3 tot en met C4. Gassen (aardolie), topproducten butaansplitter, Petroleumgas","Gases (petroleum), butane splitter overheads, Petroleum gas [A complex combination of hydrocarbons obtained from the distillation of the butane stream. It consists of aliphatic hydrocarbons having carbon numbers predominantly in the range of C3 through C4.]","Ja",null,null,null,null,null,null,null,"2013-12-02",20]
["102110-15-6","310-013-6","Een complexe verzameling koolwaterstoffen verkregen door destillatie van de producten uit een stoomkraakproces. Bestaat voornamelijk uit C5-koolwaterstoffen en dicyclopentadieen en heeft een kooktraject van ongeveer 30°C tot 170°C. Koolwaterstoffen rijk aan C5, dicyclopentadieen bevattend Nafta met laag kookpunt - niet gespecifieerd","Hydrocarbons, C5-rich, dicyclopentadiene-contg., Low boiling point naphtha - unspecified [A complex combination of hydrocarbons obtained by distillation of the products from a steam-cracking process. It consists predominantly of hydrocarbons having carbon numbers of C5 and dicyclopentadiene and boiling in the range of approximately 30°C to 170°C (86°F to 338°F).]","Ja",null,null,null,null,null,null,null,"2013-12-02",20]
["102110-55-4","310-057-6","Een complexe verzameling koolwaterstoffen verkregen door destillatie van de producten uit stoomkraak- of vergelijkbare processen na verwijdering van de zeer lichte producten resulterend in een residu dat begint met koolwaterstoffen groter dan C5. Bestaat voornamelijk uit aromatische koolwaterstoffen groter dan C5 en kookt boven ongeveer 40°C. Nafta met laag kookpunt - niet gespecifieerd Residuen (aardolie), stoomgekraakte lichte, aromatisch","Residues (petroleum), steam-cracked light, arom., Low boiling point naphtha - unspecified [A complex combination of hydrocarbons obtained by the distillation of the products of steam cracking or similar processes after taking off the very light products resulting in a residue starting with hydrocarbons having carbon numbers greater than C5. It consists predominantly of aromatic hydrocarbons having carbon numbers greater than C5 and boiling above approximately 40°C (104°F).]","Ja",null,null,null,null,null,null,null,"2013-12-02",20]
["64742-83-2","265-187-5","Een complexe verzameling koolwaterstoffen verkregen door destillatie van de producten van een stoomkraakproces. Bestaat voornamelijk uit onverzadigde koolwaterstoffen overwegend C4 tot en met C11, met een kooktraject van ongeveer -20°C tot 190°C. Deze stroom bevat waarschijnlijk 10 of meer volumeprocent benzeen. Nafta (aardolie), lichte stoomgekraakte, Nafta met laag kookpunt - niet gespecifieerd","Naphtha (petroleum), light steam-cracked, Low boiling point naphtha - unspecified [A complex combination of hydrocarbons obtained by the distillation of the products from a steam cracking process. It consists predominantly of unsaturated hydrocarbons having carbon numbers predominantly in the range of C4 through C11 and boiling in the range of approximately minus 20°C to 190°C (-4°F to 374°F). This stream is likely to contain 10 vol. % or more benzene.]","Ja",null,null,null,null,"MVP 2","2,5 g/uur","1 mg/Nm3","2013-12-02",26]
["64741-83-9","265-085-0","Een complexe verzameling koolwaterstoffen verkregen door destillatie van de producten van een thermisch kraakproces. Bestaat voornamelijk uit onverzadigde koolwaterstoffen overwegend C6 tot en met C12, met een kooktraject van ongeveer 65°C tot 220°C. Nafta (aardolie), zware thermisch gekraakte, Thermisch gekraakte nafta met laag kookpunt","Naphtha (petroleum), heavy thermal cracked, Low boiling point thermally cracked naphtha [A complex combination of hydrocarbons from distillation of the products from a thermal cracking process. It consists predominantly of unsaturated hydrocarbons having carbon numbers predominantly in the range of C6 through C12 and boiling in the range of approximately 65°C to 220°C (148°F to 428°F).]","Ja",null,null,null,null,null,null,null,"2013-12-02",20]
["64741-69-1","265-071-4","Een complexe verzameling koolwaterstoffen verkregen door destillatie van de producten van een waterstofkraakproces. Bestaat voornamelijk uit verzadigde koolwaterstoffen overwegend C4 tot en met C10, met een kooktraject van ongeveer -20°C tot 180°C. Nafta (aardolie), lichte waterstofgekraakte, Nafta met laag kookpunt - niet gespecifieerd","Naphtha (petroleum), light hydrocracked, Low boiling naphtha - unspecified [A complex combination of hydrocarbons from distillation of the products from a hydrocracking process. It consists predominantly of saturated hydrocarbons having carbon numbers predominantly in the range of C4 through C10, and boiling in the range of approximately -20°C to 180°C (-4°F to 356°F).]","Ja",null,null,null,null,null,null,null,"2013-12-02",20]
["64741-78-2","265-079-8","Een complexe verzameling koolwaterstoffen verkregen door destillatie van de producten van een waterstofkraakproces. Bestaat voornamelijk uit verzadigde koolwaterstoffen overwegend C6 tot en met C12, met een kooktraject van ongeveer 65°C tot 230°C. Nafta (aardolie), zware waterstofgekraakte, Nafta met laag kookpunt - niet gespecifieerd","Naphtha (petroleum), heavy hydrocracked, Low boiling point naphtha - unspecified [A complex combination of hydrocarbons from distillation of the products from a hydrocracking process. It consists predominantly of saturated hydrocarbons having carbon numbers predominantly in the range of C6 through C12, and boiling in the range of approximately 65°C to 230°C (148°F to 446°F).]","Ja",null,null,null,null,null,null,null,"2013-12-02",20]
["64741-82-8","265-084-5","Een complexe verzameling koolwaterstoffen verkregen door destillatie van de produkten van een thermisch kraakproces. Bestaat voornamelijk uit onverzadigde koolwaterstoffen overwegend C10 tot en met C22, met een kooktraject van ongeveer 160°C tot 370°C. Gekraakte gasolie, destillaten (aardolie), licht thermisch gekraakt","Distillates (petroleum), light thermal cracked, Cracked gasoil [A complex combination of hydrocarbons from the distillation of the products from a thermal cracking process. It consists predominantly of unsaturated hydrocarbons having carbon numbers predominantly in the range of C10 through C22 and boiling in the range of approximately 160 °C to 370 °C (320 °F to 698 °F).]","Ja",null,null,null,null,null,null,null,"2013-12-02",20]
["64741-81-7","265-082-4","Een complexe verzameling koolwaterstoffen verkregen door destillatie van de produkten van een thermisch kraakproces. Bestaat voornamelijk uit onverzadigde koolwaterstoffen overwegend C15 tot en met C36, met een kooktraject van ongeveer 260°C tot 480°C. Deze stroom bevat waarschijnlijk 5 of meer gewichtsprocenten aromatische koolwaterstoffen met 4- tot 6-voudig gecondenseerde ringen. Stookolie, destillaten (aardolie), zwaar thermisch gekraakt","Distillates (petroleum), heavy thermal cracked, Heavy Fuel oil [A complex combination of hydrocarbons from the distillation of the products from a thermal cracking process. It consists predominantly of unsaturated hydrocarbons having carbon numbers predominantly in the range of C15 through C36 and boiling in the range of approximately 260 °C to 480 °C (500 °F to 896 °F). This stream is likely to contain 5 wt. % or more of 4- to 6-membered condensed ring aromatic hydrocarbons.]","Ja",null,null,null,null,"MVP 1","0,15 g/uur","0,05 mg/Nm3","2013-12-02",25]
["64741-66-8","265-068-8","Een complexe verzameling koolwaterstoffen verkregen door destillatie van de reactieproducten van isobutaan met enkelvoudig onverzadigde koolwaterstoffen overwegend C3 tot en met C5. Bestaat voornamelijk uit verzadigde koolwaterstoffen met vertakte keten overwegend C7 tot en met C10, met een kooktraject van ongeveer 90°C tot 160°C. Gemodificeerde nafta met laag kookpunt, Nafta (aardolie), licht, gealkyleerd","Naphtha (petroleum), light alkylate, Low boiling point modified naphtha [A complex combination of hydrocarbons produced by distillation of the reaction products of isobutane with monoolefinic hydrocarbons usually ranging in carbon numbers from C3 through C5. It consists of predominantly branched chain saturated hydrocarbons having carbon numbers predominantly in the range of C7 through C10 and boiling in the range of approximately 90°C to 160°C (194°F to 320°F).]","Ja",null,null,null,null,null,null,null,"2013-12-02",20]
["68527-27-5","271-267-0","Een complexe verzameling koolwaterstoffen verkregen door destillatie van de reactieproducten van isobutaan met enkelvoudig onverzadigde koolwaterstoffen overwegend C3 tot en met C5. Bestaat voornamelijk uit verzadigde koolwaterstoffen met vertakte keten overwegend C7 tot en met C12, en enkele butanen. Heeft een kooktraject van ongeveer 35°C tot 200°C. Gemodificeerde nafta met laag kookpunt, Nafta (aardolie), totaalfractie gealkyleerd butaan bevattend","Naphtha (petroleum), full-range alkylate, butane-contg., Low boiling point modified naphta [A complex combination of hydrocarbons produced by the distillation of the reaction products of isobutane with monoolefinic hydrocarbons usually ranging in carbon numbers from C3 through C5. It consists of predominantly branched chain saturated hydrocarbons having carbon numbers predominantly in the range of C7 through C12 with some butanes and boiling in the range of approximately 35°C to 200°C (95°F to 428°F).]","Ja",null,null,null,null,null,null,null,"2013-12-02",20]
["64741-64-6","265-066-7","Een complexe verzameling koolwaterstoffen verkregen door destillatie van de reactieproducten van isobutaan met enkelvoudig onverzadigde koolwaterstoffen overwegend C3 tot en met C5. Bestaat voornamelijk uit verzadigde koolwaterstoffen met vertakte keten overwegend C7 tot en met C12, met een kooktraject van ongeveer 90°C tot 220°C. Gemodificeerde nafta met laag kookpunt, Nafta (aardolie), totaalfractie, gealkyleerd","Naphtha (petroleum), full-range alkylate, Low boiling point modified naphtha [A complex combination of hydrocarbons produced by distillation of the reaction products of isobutane with monoolefinic hydrocarbons usually ranging in carbon numbers from C3 through C5 It consists of predominantly branched chain saturated hydrocarbons having carbon numbers predominantly in the range of C7 through C12 and boiling in the range of approximately 90°C to 220°C (194°F to 428°F).]","Ja",null,null,null,null,null,null,null,"2013-12-02",20]
["64741-65-7","265-067-2","Een complexe verzameling koolwaterstoffen verkregen door destillatie van de reactieproducten van isobutaan met enkelvoudig onverzadigde koolwaterstoffen overwegend C3 tot en met C5. Bestaat voornamelijk uit verzadigde koolwaterstoffen met vertakte keten overwegend C9 tot en met C12, met een kooktraject van ongeveer 150°C tot 220°C. Gemodificeerde nafta met laag kookpunt, Nafta (aardolie), zwaar, gealkyleerd","Naphtha (petroleum), heavy alkylate, Low boiling point modified naphtha [A complex combination of hydrocarbons produced by distillation of the reaction products of isobutane with monoolefinic hydrocarbons usually ranging in carbon numbers from C3 to C5. It consists of predominantly branched chain saturated hydrocarbons having carbon numbers predominantly in the range of C9 through C12 and boiling in the range of approximately 150°C to 220°C (302°F to 428°F).]","Ja",null,null,null,null,null,null,null,"2013-12-02",20]
["68308-11-2","269-631-9","Een complexe verzameling koolwaterstoffen verkregen door destillatie van de reactieproducten van propaan met propyleen. Bestaat uit koolwaterstoffen overwegend C1 tot en met C4. Petroleumgas, Restgas (aardolie), propaan-propyleenalkyleringstoevoer, preparatieve ethaanverwijdering","Tail gas (petroleum), propane-propylene alkylation feed prep deethanizer, Petroleum gas [A complex combination of hydrocarbons obtained from the distillation of the reaction products of propane with propylene. It consists of hydrocarbons having carbon numbers predominantly in the range of C1 through C4.]","Ja",null,null,null,null,null,null,null,"2013-12-02",20]
["85116-61-6","285-512-4","Een complexe verzameling koolwaterstoffen verkregen door destillatie van een aardoliefractie. Bestaat voornamelijk uit alkanen en cycloalkanen met een kooktraject van ongeveer -20°C tot 190°C. Gehydrogeneerde nafta met laag kookpunt, Nafta (aardolie), waterstofbehandelde lichte fractie, cycloalkaan bevattend","Naphtha (petroleum), hydrotreated light, cycloalkane-contg., Low boiling point hydrogen treated naphtha [A complex combination of hydrocarbons obtained from the distillation of a petroleum fraction. It consists predominantly of alkanes and cycloalkanes boiling in the range of approximately -20°C to 190°C (-4°F to 374°F).]","Ja",null,null,null,null,null,null,null,"2013-12-02",20]
["92128-94-4","295-794-0","Een complexe verzameling koolwaterstoffen verkregen door destillatie van een fractie uit een katalytisch kraakproces, die alkalisch gewassen is. Bestaat voornamelijk uit koolwaterstoffen overwegend C8 tot en met C12, met een kooktraject van ongeveer 130°C tot 210°C. Katalytisch gekraakte nafta met laag kookpunt, Koolwaterstoffen C8-12-, katalytisch gekraakte, chemisch geneutraliseerde","Hydrocarbons, C8-12, catalytic-cracking, chem. neutralized, Low boiling point cat-cracked naphtha [A complex combination of hydrocarbons produced by the distillation of a cut from the catalytic cracking process, having undergone an alkaline washing. It consists predominantly of hydrocarbons having carbon numbers in the range of C8 through C12 and boiling in the range of approximately 130°C to 210°C (266°F to 410°F).]","Ja",null,null,null,null,null,null,null,"2013-12-02",20]
["92045-58-4","295-440-5","Een complexe verzameling koolwaterstoffen verkregen door destillatie van een katalytisch geïsomeriseerde benzine. Bestaat voornamelijk uit hexaanisomeren met een kooktraject van ongeveer 60°C tot 66°C. Gemodificeerde nafta met laag kookpunt, Nafta (aardolie), isomerisatie-, C6-fractie","Naphtha (petroleum), isomerization, C6-fraction, Low boiling point modified naphtha [A complex combination of hydrocarbons obtained by distillation of a gasoline which has been catalytically isomerized. It consists predominantly of hexane isomers boiling in the range of approximately 60°C to 66°C (140°F to 151°F).]","Ja",null,null,null,null,null,null,null,"2013-12-02",20]
["68477-68-9","270-749-8","Een complexe verzameling koolwaterstoffen verkregen door destillatie van een mengolie. Bestaat voornamelijk uit waterstof en stikstof, met uiteenlopende kleine hoeveelheden koolmonoxide, kooldioxide en alifatische koolwaterstoffen overwegend C1 tot en met C5. Gassen (aardolie), mengolie, rijk aan waterstof en stikstof, Raffinaderijgas","Gases (petroleum), blend oil, hydrogen-nitrogen-rich, Refinery gas [A complex combination of hydrocarbons obtained by distillation of a blend oil. It consists primarily of hydrogen and nitrogen with various small amounts of carbon monoxide, carbon dioxide, and aliphatic hydrocarbons having carbon numbers predominantly in the range of C1 through C5.]","Ja",null,null,null,null,null,null,null,"2013-12-02",20]
["92045-61-9","295-443-1","Een complexe verzameling koolwaterstoffen verkregen door destillatie van het product uit een nafta-stoomkraakproces, gevolgd door katalytische selectieve hydrogenering van gomvormers. Bestaat uit koolwaterstoffen overwegend C4 tot en met C12, met een kooktraject van ongeveer 30°C tot 230°C. Gehydrogeneerde nafta met laag kookpunt, Koolwaterstoffen C4-12-, naftakraken waterstofbehandeld","Hydrocarbons, C4-12, naphtha-cracking, hydrotreated, Low boiling point hydrogen treated naphtha [A complex combination of hydrocarbons obtained by distillation from the product of a naphtha steam cracking process and subsequent catalytic selective hydrogenation of gum formers. It consists of hydrocarbons having carbon numbers predominantly in the range of C4 through C12 and boiling in the range of approximately 30°C to 230°C (86°F to 446°F).]","Ja",null,null,null,null,null,null,null,"2013-12-02",20]
["101316-67-0","309-871-4","Een complexe verzameling koolwaterstoffen verkregen door destillatie van met waterstof behandelde nafta, gevolgd door oplosmiddelextractie. Bestaat voornamelijk uit verzadigde koolwaterstoffen met een kooktraject van ongeveer 65°C tot 70°C. Gemodificeerde nafta met laag kookpunt, Koolwaterstoffen rijk aan C6, waterstofbehandelde lichte naftadestillaten oplosmiddelgeraffineerd","Hydrocarbons, C6-rich, hydrotreated light naphtha distillates, solvent-refined, Low boiling point modified naphtha [A complex combination of hydrocarbons obtained by distillation of hydrotreated naphtha followed by solvent extraction. It consists predominantly of saturated hydrocarbons and boiling in the range of approximately 65°C to 70°C (149°F to 158°F).]","Ja",null,null,null,null,null,null,null,"2013-12-02",20]
["68783-12-0","272-186-3","Een complexe verzameling koolwaterstoffen verkregen door destillatie van naftastromen uit verscheidene raffinageprocessen. Bestaat uit koolwaterstoffen overwegend C5 tot en met C12, met een kooktraject van ongeveer 0°C tot 230°C. Nafta (aardolie), niet stankvrij gemaakt, Nafta met laag kookpunt","Naphtha (petroleum), unsweetened, Low boiling point naphtha [A complex combination of hydrocarbons produced from the distillation of naphtha streams from various refinery processes. It consists of hydrocarbons having carbon numbers predominantly in the range of C5 through C12 and boiling in the range of approximately 0°C to 230°C (25°F to 446°F).]","Ja",null,null,null,null,null,null,null,"2013-12-02",20]
["68476-46-0","270-686-6","Een complexe verzameling koolwaterstoffen verkregen door destillatie van producten uit een katalytisch kraakproces. Bestaat uit koolwaterstoffen overwegend C3 tot en met C11, met een kooktraject tot ongeveer 204°C. Katalytisch gekraakte nafta met laag kookpunt, Koolwaterstoffen C3-11, destillaten uit katalytische kraker","Hydrocarbons, C3-11, catalytic cracker distillates, Low boiling point cat-cracked naphtha [A complex combination of hydrocarbons produced by the distillations of products from a catalytic cracking process. It consists of hydrocarbons having carbon numbers predominantly in the range of C3 through C11 and boiling in a range approximately up to 204°C (400°F).]","Ja",null,null,null,null,null,null,null,"2013-12-02",20]
["101794-97-2","309-974-4","Een complexe verzameling koolwaterstoffen verkregen door destillatie van producten uit een katalytisch kraakproces. Bestaat voornamelijk uit koolwaterstoffen overwegend C8 tot en met C12, met een kooktraject van ongeveer 140°C tot 210°C. Katalytisch gekraakte nafta met laag kookpunt, Koolwaterstoffen C8-12-, destillaten uit katalytische kraker","Hydrocarbons, C8-12, catalytic cracker distillates, Low boiling point cat-cracked naphtha [A complex combination of hydrocarbons obtained by distillation of products from a catalytic cracking process. It consists predominantly of hydrocarbons having carbon numbers predominantly in the range of C8 through C12 and boiling in the range of approximately 140°C to 210°C (284°F to 410°F).]","Ja",null,null,null,null,null,null,null,"2013-12-02",20]
["68919-37-9","272-895-8","Een complexe verzameling koolwaterstoffen verkregen door destillatie van producten uit een katalytisch reformingproces. Bestaat uit koolwaterstoffen overwegend C5 tot en met C12, met een kooktraject van ongeveer 35°C tot 230°C. Katalytisch gereformde nafta met laag kookpunt, Nafta (aardolie), totaalfractie gereformde","Naphtha (petroleum), full-range reformed, Low boiling point cat-reformed naphtha [A complex combination of hydrocarbons produced by the distillation of the products from a catalytic reforming process. It consists of hydrocarbons having carbon numbers predominantly in the range of C5 through C12 and boiling in the range of approximately 35°C to 230°C (95°F to 446°F).]","Ja",null,null,null,null,null,null,null,"2013-12-02",20]
["68513-03-1","270-993-5","Een complexe verzameling koolwaterstoffen verkregen door destillatie van producten uit een katalytisch reformingproces. Bestaat voornamelijk uit koolwaterstoffen overwegend C5 tot en met C8, met een kooktraject van ongeveer 35°C tot 120°C. Bevat een relatief grote hoeveelheid vertakte koolwaterstoffen en de aromatische bestanddelen zijn verwijderd. Katalytisch gereformde nafta met laag kookpunt, Nafta (aardolie), lichte katalytisch gereformde, vrij van aromaten","Naphtha (petroleum), light catalytic reformed, arom.-free, Low boiling point cat-reformed naphtha [A complex combination of hydrocarbons obtained from distillation of products from a catalytic reforming process. It consists predominantly of hydrocarbons having carbon numbers predominantly in the range of C5 through C8 and boiling in the range of approximately 35°C to 120°C (95°F to 248°F). It contains a relatively large proportion of branched chain hydrocarbons with the aromatic components removed.]","Ja",null,null,null,null,null,null,null,"2013-12-02",20]
["68516-20-1","271-138-9","Een complexe verzameling koolwaterstoffen verkregen door destillatie van producten uit een stoomkraakproces. Bestaat voornamelijk uit aromatische koolwaterstoffen overwegend C7 tot en met C12, met een kooktraject van ongeveer 130°C tot 220°C. Nafta (aardolie), stoomgekraakte aromatische middenfracties, Nafta met laag kookpunt - niet gespecifieerd","Naphtha (petroleum), steam-cracked middle arom., Low boiling point naphtha - unspecified [A complex combination of hydrocarbons produced by the distillation of products from a steam-cracking process. It consists predominantly of aromatic hydrocarbons having carbon numbers predominantly in the range of C7 through C12 and boiling in the range of approximately 130°C to 220°C (266°F to 428°F).]","Ja",null,null,null,null,null,null,null,"2013-12-02",20]
["68527-23-1","271-264-4","Een complexe verzameling koolwaterstoffen verkregen door destillatie van producten uit een stoomkraakproces. Bestaat voornamelijk uit aromatische koolwaterstoffen overwegend C7 tot en met C9, met een kooktraject van ongeveer 110°C tot 165°C. Nafta (aardolie), lichte stoomgekraakte aromatische, Nafta met laag kookpunt - niet gespecifieerd","Naphtha (petroleum), light steam-cracked arom., Low boiling point naphtha - unspecified [A complex combination of hydrocarbons produced by distillation of products from a steam-cracking process. It consists predominantly of aromatic hydrocarbons having carbon numbers predominantly in the range of C7 through C9 and boiling in the range of approximately 110°C to 165°C (230°F to 329°F).]","Ja",null,null,null,null,null,null,null,"2013-12-02",20]
["68527-26-4","271-266-5","Een complexe verzameling koolwaterstoffen verkregen door destillatie van producten uit een stoomkraakproces. Bestaat voornamelijk uit koolwaterstoffen overwegend C4 tot en met C12, met een kooktraject van ongeveer 80°C tot 218°C. Nafta (aardolie), lichte stoomgekraakte, van benzeen ontdaan Nafta met laag kookpunt - niet gespecifieerd","Naphtha (petroleum), light steam-cracked, debenzenized, Low boiling point naphtha - unspecified [A complex combination of hydrocarbons produced by distillation of products from a steam-cracking process. It consists predominantly of hydrocarbons having carbon numbers predominantly in the range of C4 through C12 and boiling in the range of approximately 80°C to 218°C (176°F to 424°F).]","Ja",null,null,null,null,null,null,null,"2013-12-02",20]
["68513-02-0","270-991-4","Een complexe verzameling koolwaterstoffen verkregen door destillatie van producten uit een wervelbedverkookser. Bestaat voornamelijk uit onverzadigde koolwaterstoffen overwegend C4 tot en met C15, met een kooktraject van ongeveer 43°C tot 250°C. Nafta (aardolie), totaalfractie verkookser, Nafta met laag kookpunt - niet gespecifieerd","Naphtha (petroleum), full-range coker, Low boiling point naphtha - unspecified [A complex combination of hydrocarbons produced by the distillation of products from a fluid coker. It consists predominantly of unsaturated hydrocarbons having carbon numbers predominantly in the range of C4 through C15 and boiling in the range of approximately 43°C to 250°C (110°F-500°F).]","Ja",null,null,null,null,null,null,null,"2013-12-02",20]
["68308-05-4","269-625-6","Een complexe verzameling koolwaterstoffen verkregen door destillatie van producten uit verscheidene koolwaterstofstromen. Bestaat uit koolwaterstoffen overwegend C1 tot en met C4. Petroleumgas, Restgas (aardolie), gasterugwinning-installatie, ethaanverwijdering","Tail gas (petroleum), gas recovery plant deethanizer, Petroleum gas [A complex combination of hydrocarbons from the distillation of products from miscellaneous hydrocarbon streams. It consists of hydrocarbons having carbon numbers predominantly in the range of C1 through C4.]","Ja",null,null,null,null,null,null,null,"2013-12-02",20]
["68477-80-5","270-761-3","Een complexe verzameling koolwaterstoffen verkregen door destillatie van producten van de katalytische reforming van C6-8-toevoer en teruggevoerd om waterstof te behouden. Bestaat voornamelijk uit waterstof. Kan ook uiteenlopende kleine hoeveelheden koolmonoxide, kooldioxide, stikstof en koolwaterstoffen overwegend C1 tot en met C6, bevatten. Gassen (aardolie), terugvoer C6-8-katalytische reformer, Raffinaderijgas","Gases (petroleum), C6-8 catalytic reformer recycle, Refinery gas [A complex combination of hydrocarbons produced by distillation of products from catalytic reforming of C6-C8 feed and recycled to conserve hydrogen. It consists primarily of hydrogen. It may also contain various small amounts of carbon monoxide, carbon dioxide, nitrogen, and hydrocarbons having carbon numbers predominantly in the range of C1 through C6.]","Ja",null,null,null,null,null,null,null,"2013-12-02",20]
["68477-70-3","270-751-9","Een complexe verzameling koolwaterstoffen verkregen door destillatie van producten van een katalytisch fractioneringsproces. Bevat voornamelijk ethaan ethyleen propaan en proplyleen. Gassen (aardolie), C2-3, Petroleumgas","Gases (petroleum), C2-3-, Petroleum gas [A complex combination of hydrocarbons produced by the distillation of products from a catalytic fractionation process. It contains predominantly ethane, ethylene, propane, and propylene.]","Ja",null,null,null,null,null,null,null,"2013-12-02",20]
["68783-09-5","272-185-8","Een complexe verzameling koolwaterstoffen verkregen door destillatie van producten van een katalytisch kraakproces. Bestaat uit koolwaterstoffen overwegend C1 tot en met C5. Katalytisch gekraakte nafta met laag kookpunt, Nafta (aardolie), katalytisch gekraakte lichte destillaten","Naphtha (petroleum), catalytic cracked light distd., Low boiling point cat-cracked naphtha [A complex combination of hydrocarbons produced by the distillation of products from a catalytic cracking process. It consists of hydrocarbons having carbon numbers predominantly in the range of C1 through C5.]","Ja",null,null,null,null,null,null,null,"2013-12-02",20]
["68409-99-4","270-071-2","Een complexe verzameling koolwaterstoffen verkregen door destillatie van producten van een katalytisch kraakproces. Bestaat uit koolwaterstoffen overwegend C3 tot en met C5, met een kooktraject van ongeveer -48°C tot 32°C. Gassen (aardolie), katalytisch gekraakte topfracties, Petroleumgas","Gases (petroleum), catalytic cracked overheads, Petroleum gas [A complex combination of hydrocarbons produced by the distillation of products from the catalytic cracking process. It consists of hydrocarbons having carbon numbers predominantly in the range of C3 through C5 and boiling in the range of approximately -48°C to 32°C (-54°F to 90°F).]","Ja",null,null,null,null,null,null,null,"2013-12-02",20]
["64741-55-5","265-056-2","Een complexe verzameling koolwaterstoffen verkregen door destillatie van producten van een katalytisch kraakproces. Bestaat uit koolwaterstoffen overwegend C4 tot en met C11, met een kooktraject van ongeveer -20°C tot 190°C. Bevat een relatief grote hoeveelheid onverzadigde koolwaterstoffen. Katalytisch gekraakte nafta met laag kookpunt, Nafta (aardolie), lichte katalytisch gekraakte","Naphtha (petroleum), light catalytic cracked, Low boiling point cat-cracked naphtha [A complex combination of hydrocarbons produced by the distillation of products from a catalytic cracking process. It consists of hydrocarbons having carbon numbers predominantly in the range of C4 through C11 and boiling in the range of approximately -20°C to 190°C (-4°F to 374°F). It contains a relatively large proportion of unsaturated hydrocarbons.]","Ja",null,null,null,null,null,null,null,"2013-12-02",20]
["64741-54-4","265-055-7","Een complexe verzameling koolwaterstoffen verkregen door destillatie van producten van een katalytisch kraakproces. Bestaat uit koolwaterstoffen overwegend C6 tot en met C12, met een kooktraject van ongeveer 65°C tot 230°C. Bevat een relatief grote hoeveelheid onverzadigde koolwaterstoffen. Katalytisch gekraakte nafta met laag kookpunt, Nafta (aardolie), zware katalytisch gekraakte","Naphtha (petroleum), heavy catalytic cracked, Low boiling point cat-cracked naphtha [A complex combination of hydrocarbons produced by a distillation of products from a catalytic cracking process. It consists of hydrocarbons having carbon numbers predominantly in the range of C6 through C12 and boiling in the range of approximately 65°C to 230°C (148°F to 446°F). It contains a relatively large proportion of unsaturated hydrocarbons.]","Ja",null,null,null,null,null,null,null,"2013-12-02",20]
["68955-35-1","273-271-8","Een complexe verzameling koolwaterstoffen verkregen door destillatie van producten van een katalytisch reformingproces. Bestaat uit koolwaterstoffen overwegend C4 tot en met C12, met een kooktraject van ongeveer 30°C tot 220°C. Bevat een relatief grote hoeveelheid aromatische en vertakte koolwaterstoffen. Deze stroom kan 10 of meer volumeprocent benzeen bevatten. Katalytisch gereformde nafta met laag kookpunt, Nafta (aardolie), katalytisch gereformde","Naphtha (petroleum), catalytic reformed, Low boiling point cat-reformed naphtha [A complex combination of hydrocarbons produced by the distillation of products from a catalytic reforming process. It consists of hydrocarbons having carbon numbers predominantly in the range of C4 through C12 and boiling in the range of approximately 30°C to 220°C (90°F to 430°F). It contains a relatively large proportion of aromatic and branched chain hydrocarbons. This stream may contain 10 vol. % or more benzene.]","Ja",null,null,null,null,"MVP 2","2,5 g/uur","1 mg/Nm3","2013-12-02",26]
["64741-63-5","265-065-1","Een complexe verzameling koolwaterstoffen verkregen door destillatie van producten van een katalytisch reformingproces. Bestaat uit koolwaterstoffen overwegend C5 tot en met C11, met een kooktraject van ongeveer 35°C tot 190°C. Bevat een relatief grote hoeveelheid aromatische en vertakte koolwaterstoffen. Deze stroom kan 10 of meer volumeprocent benzeen bevatten. Katalytisch gereformde nafta met laag kookpunt, Nafta (aardolie), lichte katalytisch gereformde","Naphtha (petroleum), light catalytic reformed, Low boiling point cat-reformed naphtha [A complex combination of hydrocarbons produced from the distillation of products from a catalytic reforming process. It consists of hydrocarbons having carbon numbers predominantly in the range of C5 through C11 and boiling in the range of approximately 35°C to 190°C (95°F to 374°F). It contains a relatively large proportion of aromatic and branched chain hydrocarbons. This stream may contain 10 vol. % or more benzene.]","Ja",null,null,null,null,"MVP 2","2,5 g/uur","1 mg/Nm3","2013-12-02",26]
["64741-68-0","265-070-9","Een complexe verzameling koolwaterstoffen verkregen door destillatie van producten van een katalytisch reformingproces. Bestaat voornamelijk uit aromatische koolwaterstoffen overwegend C7 tot en met C12, met een kooktraject van ongeveer 90°C tot 230°C. Katalytisch gereformde nafta met laag kookpunt, Nafta (aardolie), zware katalytisch gereformde","Naphtha (petroleum), heavy catalytic reformed, Low boiling point cat-reformed naphtha [A complex combination of hydrocarbons produced from the distillation of products from a catalytic reforming process. It consists of predominantly aromatic hydrocarbons having carbon numbers predominantly in the range of C7 through C12 and boiling in the range of approximately 90°C to 230°C (194°F to 446°F).]","Ja",null,null,null,null,null,null,null,"2013-12-02",20]
["64741-74-8","265-075-6","Een complexe verzameling koolwaterstoffen verkregen door destillatie van producten van een thermisch kraakproces. Bestaat voornamelijk uit onverzadigde koolwaterstoffen overwegend C4 tot en met C8, met een kooktraject van ongeveer -10°C tot 130°C. Nafta (aardolie), lichte thermisch gekraakte, Thermisch gekraakte nafta met laag kookpunt","Naphtha (petroleum), light thermal cracked, Low boiling point thermally cracked naphtha [A complex combination of hydrocarbons from distillation of products from a thermal cracking process. It consists predominantly of unsaturated hydrocarbons having carbon numbers predominantly in the range of C4 through C8 and boiling in the range of approximately -10 °C to 130 °C (14 °F to 266 °F).]","Ja",null,null,null,null,null,null,null,"2013-12-02",20]
["68308-03-2","269-623-5","Een complexe verzameling koolwaterstoffen verkregen door destillatie van producten van het katalytisch kraken van gasolie. Bestaat voornamelijk uit koolwaterstoffen overwegend C1 tot en met C5. Petroleumgas, Restgas (aardolie), katalytisch kraken van gasolie, absorptievat","Tail gas (petroleum), gas oil catalytic cracking absorber, Petroleum gas [A complex combination of hydrocarbons obtained from the distillation of products from the catalytic cracking of gas oil. It consists predominantly of hydrocarbons having carbon numbers predominantly in the range of C1 through C5.]","Ja",null,null,null,null,null,null,null,"2013-12-02",20]
["68308-04-3","269-624-0","Een complexe verzameling koolwaterstoffen verkregen door destillatie van producten van verscheidene koolwaterstofstromen. Bestaat voornamelijk uit koolwaterstoffen overwegend C1 tot en met C5. Petroleumgas, Restgas (aardolie), gasterugwinning-installatie","Tail gas (petroleum), gas recovery plant, Petroleum gas [A complex combination of hydrocarbons from the distillation of products from miscellaneous hydrocarbon streams. It consists predominantly of hydrocarbons having carbon numbers predominantly in the range of C1 through C5.]","Ja",null,null,null,null,null,null,null,"2013-12-02",20]
["64741-60-2","265-062-5","Een complexe verzameling koolwaterstoffen verkregen door destillatie van produkten van een katalytisch kraakproces. Bestaat uit koolwaterstoffen overwegend C11 tot en met C30, met een kooktraject van ongeveer 205°C tot 450°C. Bevat een relatief grote hoeveelheid tricyclische aromatische koolwaterstoffen. Gekraakte gasolie, destillaten (aardolie), middenfractie katalytisch gekraakt","Distillates (petroleum), intermediate catalytic cracked, Cracked gasoil [A complex combination of hydrocarbons produced by the distillation of products from a catalytic cracking process. It consists of hydrocarbons having carbon numbers predominantly in the range of C11 through C30 and boiling in the range of approximately 205 °C to 450 °C (401 °F to 842 °F). It contains a relatively large proportion of tricyclic aromatic hydrocarbons.]","Ja",null,null,null,null,null,null,null,"2013-12-02",20]
["64741-61-3","265-063-0","Een complexe verzameling koolwaterstoffen verkregen door destillatie van produkten van een katalytisch kraakproces. Bestaat uit koolwaterstoffen overwegend C15 tot en met C35, met een kooktraject van ongeveer 260°C tot 500°C. Deze stroom bevat waarschijnlijk 5 of meer gewichtsprocenten aromatische koolwaterstoffen met 4- tot 6-voudig gecondenseerde ringen. Stookolie, destillaten (aardolie), zwaar katalytisch gekraakt","Distillates (petroleum), heavy catalytic cracked, Heavy Fuel oil [A complex combination of hydrocarbons produced by the distillation of products from a catalytic cracking process. It consists of hydrocarbons having carbon numbers predominantly in the range of C15 through C35 and boiling in the range of approximately 260 °C to 500 °C (500 °F to 932 °F). This stream is likely to contain 5 wt. % or more of 4- to 6-membered condensed ring aromatic hydrocarbons.]","Ja",null,null,null,null,"MVP 1","0,15 g/uur","0,05 mg/Nm3","2013-12-02",25]
["64741-59-9","265-060-4","Een complexe verzameling koolwaterstoffen verkregen door destillatie van produkten van een katalytisch kraakproces. Bestaat uit koolwaterstoffen overwegend C9 tot en met C25, met een kooktraject van ongeveer 150°C tot 400°C. Bevat een relatief grote hoeveelheid bicyclische aromatische koolwaterstoffen. Gekraakte gasolie, destillaten (aardolie), licht katalytisch gekraakte","Distillates (petroleum), light catalytic cracked, Cracked gasoil [A complex combination of hydrocarbons produced by the distillation of products from a catalytic cracking process. It consists of hydrocarbons having carbon numbers predominantly in the range of C9 through C25 and boiling in the range of approximately 150 °C to 400 °C (302 °F to 752 °F). It contains a relatively large proportion of bicyclic aromatic hydrocarbons.]","Ja",null,null,null,null,null,null,null,"2013-12-02",20]
["64742-89-8","265-192-2","Een complexe verzameling koolwaterstoffen verkregen door destillatie van ruwe olie of natuurlijke benzine. Bestaat voornamelijk uit verzadigde koolwaterstoffen overwegend C5 tot en met C10, met een kooktraject van ongeveer 35°C tot 160°C. Nafta met laag kookpunt, Oplosmiddelnafta (aardolie), lichte alifatische","Solvent naphtha (petroleum), light aliph., Low boiling point naphtha [A complex combination of hydrocarbons obtained from the distillation of crude oil or natural gasoline. It consists predominantly of saturated hydrocarbons having carbon numbers predominantly in the range of C5 through C10 and boiling in the range of approximately 35°C to 160°C (95°F to 320°F).]","Ja",null,null,null,null,null,null,null,"2013-12-02",20]
["68476-85-7","270-704-2","Een complexe verzameling koolwaterstoffen verkregen door destillatie van ruwe olie. Bestaat uit koolwaterstoffen overwegend C3 tot en met C7, met een kooktraject van ongeveer - 40°C tot 80°C. Petroleumgas, Petroleumgassen vloeibaar gemaakt","Petroleum gases, liquefied, Petroleum gas [A complex combination of hydrocarbons produced by the distillation of crude oil. It consists of hydrocarbons having carbon numbers predominantly in the range of C3 through C7 and boiling in the range of approximately -40 °C to 80 °C (-40 °F to 176 °F).]","Ja",null,null,null,null,null,null,null,"2013-12-02",20]
["64741-42-0","265-042-6","Een complexe verzameling koolwaterstoffen verkregen door destillatie van ruwe olie. Bestaat uit koolwaterstoffen overwegend C4 tot en met C11, met een kooktraject van ongeveer -20°C tot 220°C. Nafta (aardolie), totaalfractie direct uit fractionering verkregen Nafta met laag kookpunt","Naphtha (petroleum), full-range straight-run, Low boiling point naphtha [A complex combination of hydrocarbons produced by distillation of crude oil. It consists of hydrocarbons having carbon numbers predominantly in the range of C4 through C11 and boiling in the range of approximately -20°C to 220°C (-4°F to 428°F).]","Ja",null,null,null,null,null,null,null,"2013-12-02",20]
["64741-41-9","265-041-0","Een complexe verzameling koolwaterstoffen verkregen door destillatie van ruwe olie. Bestaat uit koolwaterstoffen overwegend C6 tot en met C12, met een kooktraject van ongeveer 65°C tot 230°C. Nafta (aardolie), zware direct uit fractionering verkregen Nafta met laag kookpunt","Naphtha (petroleum), heavy straight-run, Low boiling point naphtha [A complex combination of hydrocarbons produced by distillation of crude oil. It consists of hydrocarbons having carbon numbers predominantly in the range of C6 through C12 and boiling in the range of approximately 65°C to 230°C (149°F to 446°F).]","Ja",null,null,null,null,null,null,null,"2013-12-02",20]
["64741-46-4","265-046-8","Een complexe verzameling koolwaterstoffen verkregen door destillatie van ruwe olie. Bestaat voornamelijk uit alifatische koolwaterstoffen overwegend C4 tot en met C10, met een kooktraject van ongeveer -20°C tot 180°C. Nafta (aardolie), lichte direct uit fractionering verkregen Nafta met laag kookpunt","Naphtha (petroleum), light straight-run, Low boiling point naphtha [A complex combination of hydrocarbons produced by distillation of crude oil. It consists predominantly of aliphatic hydrocarbons having carbon numbers predominantly in the range of C4 through C10 and boiling in the range of approximately -20°C to 180°C (-4°F to 356°F).]","Ja",null,null,null,null,null,null,null,"2013-12-02",20]
["102110-14-5","310-012-0","Een complexe verzameling koolwaterstoffen verkregen door destillatie van stoomgekraakte nafta. Bestaat voornamelijk uit koolwaterstoffen overwegend C3 tot en met C6, hoofdzakelijk C5. Koolwaterstoffen C3-6-, rijk aan C5, stoomgekraakte nafta, Nafta met laag kookpunt - niet gespecifieerd","Hydrocarbons, C3-6, C5-rich, steam-cracked naphtha, Low boiling point naphtha - unspecified [A complex combination of hydrocarbons obtained by distillation of steam-cracked naphtha. It consists predominantly of hydrocarbons having carbon numbers in the range of C3 through C6, predominantly C5.]","Ja",null,null,null,null,null,null,null,"2013-12-02",20]
["68477-33-8","270-724-1","Een complexe verzameling koolwaterstoffen verkregen door destillatie van verzadigde en onverzadigde koolwaterstoffen meestal C3 tot en met C6, overwegend butaan en isobutaan. Bestaat uit verzadigde en onverzadigde koolwaterstoffen C3 tot en met C4, overwegend isobutaan. Gassen (aardolie), C3-4, rijk aan isobutaan Petroleumgas","gases (petroleum), C3-4, isobutane-rich, Petroleum gas [A complex combination of hydrocarbons from the distillation of saturated and unsaturated hydrocarbons usually ranging in carbon numbers from C3 through C6, predominantly butane and isobutane. It consists of saturated and unsaturated hydrocarbons having carbon numbers in the range of C3 through C4, predominantly isobutane.]","Ja",null,null,null,null,null,null,null,"2013-12-02",20]
["92045-53-9","295-434-2","Een complexe verzameling koolwaterstoffen verkregen door destillatie van waterstofontzwavelde en gedearomatiseerde lichte aardoliefracties. Bestaat voornamelijk uit C7-paraffinen en cycloparaffinen met een kooktraject van ongeveer 90°C tot 100°C. Nafta (aardolie), waterstofontzwavelde lichte, gedearomatiseerd Nafta met laag kookpunt - niet gespecifieerd","Naphtha (petroleum), hydrodesulfurized light, dearomatized, Low boiling point naphtha - unspecified [A complex combination of hydrocarbons obtained by distillation of hydrodesulfurized and dearomatized light petroleum fractions. It consists predominantly of C7 paraffins and cycloparaffins boiling in a range of approximately 90°C to 100°C (194°F to 212°F).]","Ja",null,null,null,null,null,null,null,"2013-12-02",20]
["64741-86-2","265-088-7","Een complexe verzameling koolwaterstoffen verkregen door een aardoliedestillaat een stankverwijderend proces te laten ondergaan waarbij mercaptanen worden omgezet of zure onzuiverheden worden verwijderd. Bestaat uit koolwaterstoffen overwegend C9 tot en met C20, met een kooktraject van ongeveer 150°C tot 345°C. Gasolie - niet gespecifieerd destillaten (aardolie), stankvrij gemaakt midden fractie","Distillates (petroleum), sweetened middle, Gasoil - unspecified [A complex combination of hydrocarbons obtained by subjecting a petroleum distillate to a sweetening process to convert mercaptans or to remove acidic impurities. It consists of hydrocarbons having carbon numbers predominantly in the range of C9 through C20 and boiling in the range of approximately 150 °C to 345 °C (302 °F to 653 °F).]","Ja",null,null,null,null,null,null,null,"2013-12-02",20]
["64742-23-0","265-123-6","Een complexe verzameling koolwaterstoffen verkregen door een behandeling om zure materialen te verwijderen. Bestaat uit koolwaterstoffen overwegend C4 tot en met C11, met een kooktraject van ongeveer -20°C tot 190°C. Nafta (aardolie), chemisch geneutraliseerde lichte, Nafta met laag kookpunt - niet gespecifieerd","Naphtha (petroleum), chemically neutralized light, Low boiling point naphtha - unspecified [A complex combination of hydrocarbons produced by a treating process to remove acidic materials. It consists of hydrocarbons having carbon numbers predominantly in the range of C4 through C11 and boiling in the range of approximately -20°C to 190°C (-4°F to 374°F).]","Ja",null,null,null,null,null,null,null,"2013-12-02",20]
["64742-22-9","265-122-0","Een complexe verzameling koolwaterstoffen verkregen door een behandeling om zure materialen te verwijderen. Bestaat uit koolwaterstoffen overwegend C6 tot en met C12, met een kooktraject van ongeveer 65°C tot 230°C. Nafta (aardolie), chemisch geneutraliseerde zware, Nafta met laag kookpunt - niet gespecifieerd","Naphtha (petroleum), chemically neutralized heavy, Low boiling point naphtha - unspecified [A complex combination of hydrocarbons produced by a treating process to remove acidic materials. It consists of hydrocarbons having carbon numbers predominantly in the range of C6 through C12 and boiling in the range of approximately 65°C to 230°C (149°F to 446°F).]","Ja",null,null,null,null,null,null,null,"2013-12-02",20]
["8032-32-4","232-453-7","Een complexe verzameling koolwaterstoffen verkregen door fractionele destillatie van aardolie. Deze fractie heeft een kooktraject van ongeveer 20°C tot 135°C. Ligroïne, Nafta met laag kookpunt","Ligroine, Low boiling point naphtha [A complex combination of hydrocarbons obtained by the fractional distillation of petroleum. This fraction boils in a range of approximately 20°C to 135°C (58°F to 275°F).]","Ja",null,null,null,null,null,null,null,"2013-12-02",20]
["68477-71-4","270-752-4","Een complexe verzameling koolwaterstoffen verkregen door fractionering van de katalytisch gekraakte gasolie-koolwaterstofstroom en behandeld om waterstofsulfide en andere zure bestanddelen te verwijderen. Bestaat uit koolwaterstoffen C3 tot en met C5, overwegend C4. Gassen (aardolie), katalytisch gekraakte gasolie, bodemfracties uit propaanverwijdering, C4-rijk zuurvrij, Petroleumgas","Gases (petroleum), catalytic-cracked gas oil depropanizer bottoms, C4-rich acid-free, Petroleum gas [A complex combination of hydrocarbons obtained from fractionation of catalytic cracked gas oil hydrocarbon stream and treated to remove hydrogen sulfide and other acidic components. It consists of hydrocarbons having carbon numbers in the range of C3 through C5, predominantly C4.]","Ja",null,null,null,null,null,null,null,"2013-12-02",20]
["68513-15-5","271-000-8","Een complexe verzameling koolwaterstoffen verkregen door fractionering van de totaalfractie van door directe fractionering verkregen nafta. Bestaat uit koolwaterstoffen overwegend C2 tot en met C6. Gassen (aardolie), totaalfractie door directe fractionering verkregen nafta, uitstoot van hexaanverwijdering, Petroleumgas","Gases (petroleum), full-range straight-run naphtha dehexanizer off, petroleum gas [A complex combination of hydrocarbons obtained by the fractionation of the full-range straight-run naphtha. It consists of hydrocarbons having carbon numbers predominantly in the range of C2 through C6.]","Ja",null,null,null,null,null,null,null,"2013-12-02",20]
["68478-21-7","270-802-5","Een complexe verzameling koolwaterstoffen verkregen door fractionering van katalytisch gekraakte geklaarde olie en thermisch gekraakt vacuümresidu. Bestaat voornamelijk uit koolwaterstoffen overwegend C1 tot en met C6. Petroleumgas, Restgas (aardolie), katalytisch gekraakte geklaarde olie en thermisch gekraakt vacuümresidu, fractioneringsterugloopvat","Tail gas (petroleum), catalytic cracked clarified oil and thermal cracked vacuum residue fractionation reflux drum, Petroleum gas [A complex combination of hydrocarbons obtained from fractionation of catalytic cracked clarified oil and thermal cracked vacuum residue. It consists predominantly of hydrocarbons having carbon numbers predominantly in the range of C1 through C6.]","Ja",null,null,null,null,null,null,null,"2013-12-02",20]
["68477-73-6","270-755-0","Een complexe verzameling koolwaterstoffen verkregen door fractionering van katalytisch gekraakte koolwaterstoffen en behandeld om zure verontreinigingen te verwijderen. Bestaat uit C2- tot en met C4-koolwaterstoffen overwegend C3. Gassen (aardolie), katalytisch gekraakte nafta, propaanverwijdering-topproducten C3-rijke zuurvrije, Petroleumgas","Gases (petroleum), catalytic cracked naphtha depropanizer overhead, C3-rich acid-free, Petroleum gas [A complex combination of hydrocarbons obtained from fractionation of catalytic cracked hydrocarbons and treated to remove acidic impurities. It consists of hydrocarbons having carbon numbers in the range of C2 through C4, predominantly C3.]","Ja",null,null,null,null,null,null,null,"2013-12-02",20]
["85116-60-5","285-511-9","Een complexe verzameling koolwaterstoffen verkregen door fractionering van met waterstof ontzwaveld thermisch gekraakt destillaat. Bestaat voornamelijk uit koolwaterstoffen overwegend C5 tot C11, met een kooktraject van ongeveer 23°C tot 195°C. Gehydrogeneerde nafta met laag kookpunt, Nafta (aardolie), waterstofontzwavelde thermisch gekraakte lichte fractie","Naphtha (petroleum), hydrodesulfurized thermal cracked light, Low boiling point hydrogen treated naphtha [A complex combination of hydrocarbons obtained by fractionation of hydrodesulfurized thermal cracker distillate. It consists predominantly of hydrocarbons having carbon numbers predominantly in the range of C5 to C11 and boiling in the range of approximately 23°C to 195°C (73°F to 383°F).]","Ja",null,null,null,null,null,null,null,"2013-12-02",20]
["101316-76-1","309-879-8","Een complexe verzameling koolwaterstoffen verkregen door fractionering van met waterstof ontzwaveld verkookserdestillaat. Bestaat voornamelijk uit koolwaterstoffen overwegend C5 tot C11, met een kooktraject van ongeveer 23°C tot 196°C. Nafta (aardolie), waterstofontzwaveld totaalfractie uit verkookser, Nafta met laag kookpunt - niet gespecifieerd","Naphtha (petroleum), hydrodesulfurised full-range coker, Low boiling point naphtha - unspecified [A complex combination of hydrocarbons obtained by fractionation from hydrodesulfurised coker distillate. It consists predominantly of hydrocarbons having carbon numbers predominantly in the range of C5 to C11 and boiling in the range of approximately 23°C to 196°C (73°F to 385°F).]","Ja",null,null,null,null,null,null,null,"2013-12-02",20]
["85116-53-6","285-505-6","Een complexe verzameling koolwaterstoffen verkregen door fractionering van met waterstof ontzwavelde thermische kraker destillaatgrondstoffen. Het bestaat voornamelijk uit koolwaterstoffen C11 tot C25, met een kooktraject van ongeveer 205°C tot 400°C. Gekraakte gasolie, destillaten (aardolie), met waterstof ontzwavelde thermisch gekraakte middenfractie","Distillates (petroleum), hydrodesulfurized thermal cracked middle, Cracked gasoil [A complex combination of hydrocarbons obtained by fractionation from hydrodesulfurized themal cracker distillate stocks. It consists predominantly of hydrocarbons having carbon numbers predominantly in the range of C11 to C25 and boiling in the range of approximately 205 °C to 400 °C (401 °F to 752 °F).]","Ja",null,null,null,null,null,null,null,"2013-12-02",20]
["92201-97-3","296-028-8","Een complexe verzameling koolwaterstoffen verkregen door fractionering van stoomgekraakte nafta na terugwinning uit een hitteverzadigingsproces. Bestaat voornamelijk uit koolwaterstoffen overwegend C4 tot en met C6, met een kooktraject van ongeveer 0°C tot 80°C. Nafta (aardolie), lichte hitteverzadigde, stoomgekraakt, Nafta met laag kookpunt - niet gespecifieerd","Naphtha (petroleum), light heat-soaked, steam-cracked, Low boiling point naphtha - unspecified [A complex combination of hydrocarbons obtained by the fractionation of steam cracked naphtha after recovery from a heat soaking process. It consists predominantly of hydrocarbons having a carbon number predominantly in the range of C4 through C6 and boiling in the range of approximately 0°C to 80°C (32°F to 176°F).]","Ja",null,null,null,null,null,null,null,"2013-12-02",20]
["68308-06-5","269-626-1","Een complexe verzameling koolwaterstoffen verkregen door fractionering van waterstofontzwavelde nafta- en destillaatkoolwaterstofstromen en behandeld om zure verontreinigingen te verwijderen. Bestaat voornamelijk uit koolwaterstoffen onverwegend C1 tot en met C5. Petroleumgas, Restgas (aardolie), fractionator van waterstofontzwaveld destillaat en waterstofontzwavelde nafta, zuurvrij","Tail gas (petroleum), hydrodesulfurized distillate and hydrodesulfurized naphtha fractionator, acid-free, Petroleum gas [A complex combination of hydrocarbons obtained from fractionation of hydrodesulfurized naphtha and distillate hydrocarbon streams and treated to remove acidic impurities. It consists predominantly of hydrocarbons having carbon numbers predominantly in the range of C1 through C5.]","Ja",null,null,null,null,null,null,null,"2013-12-02",20]
["68308-09-8","269-629-8","Een complexe verzameling koolwaterstoffen verkregen door fractioneringsstabilisatie van lichte, direct uit fractionering verkregen nafta, waaruit waterstofsulfide door een aminebehandeling is verwijderd. Bestaat voornamelijk uit koolwaterstoffen overwegend C1 tot en met C5. Petroleumgas, Restgas (aardolie), stabilisator van lichte direct uit fractionering verkregen nafta, vrij van waterstofsulfide","Tail gas (petroleum), light straight-run naphtha stabilizer, hydrogen sulfide-free, Petroleum gas [A complex combination of hydrocarbons obtained from fractionation stabilization of light straight run naphtha and from which hydrogen sulfide has been removed by amine treatment. It consists predominantly of hydrocarbons having carbon numbers predominantly in the range of C1 through C5.]","Ja",null,null,null,null,null,null,null,"2013-12-02",20]
["92062-15-2","295-529-9","Een complexe verzameling koolwaterstoffen verkregen door het behandelen van een aardoliefractie met waterstof in aanwezigheid van een katalysator. Bestaat voornamelijk uit cycloparaffine-koolwaterstoffen overwegend C6 tot en met C7, met een kooktraject van ongeveer 73°C tot 85°C. Gehydrogeneerde nafta met laag kookpunt, Oplosmiddelnafta (aardolie), waterstofbehandelde lichte, nafteenhoudend","Solvent naphtha (petroleum), hydrotreated light naphthenic, Low boiling point hydrogen treated naphtha [A complex combination of hydrocarbons obtained by treating a petroleum fraction with hydrogen in the presence of a catalyst. It consists predominantly of cycloparaffinic hydrocarbons having carbon numbers predominantly in the range of C6 through C7 and boiling in the range of approximately 73°C to 85°C (163°F to 185°F).]","Ja",null,null,null,null,null,null,null,"2013-12-02",20]
["68477-38-3","270-727-8","Een complexe verzameling koolwaterstoffen verkregen door het destilleren van gekraakt stoomgekraakt destillaat en/of fractione-ringsprodukten daarvan. Bestaat uit koolwaterstoffen overwegend C10 tot polymeren met klein molecuulgewicht. Gekraakte gasolie, destillaten (aardolie), gekraakte stoomgekraakte aardoliedestillaten","Distillates (petroleum), cracked steam-cracked petroleum distillates, Cracked gasoil [A complex combination of hydrocarbons produced by distilling cracked steam cracked distillate and/or its fractionation products. It consists of hydrocarbons having carbon numbers predominently in the range of C10 to low molecular weight polymers.]","Ja",null,null,null,null,null,null,null,"2013-12-02",20]
["68606-27-9","271-737-5","Een complexe verzameling koolwaterstoffen verkregen door het katalytisch kraken van gasolie. Bestaat uit koolwaterstoffen overwegend C3 tot en met C4. Gassen (aardolie), alkyleringsinvoer, Petroleumgas","Gases (petroleum), alkylation feed, Petroleum gas [A complex combination of hydrocarbons produced by the catalytic cracking of gas oil. It consists of hydrocarbons having carbon numbers predominantly in the range of C3 through C4.]","Ja",null,null,null,null,null,null,null,"2013-12-02",20]
["64742-66-1","265-170-2","Een complexe verzameling koolwaterstoffen verkregen door het katalytisch verwijderen van was uit een aardoliefractie. Bestaat voornamelijk uit koolwaterstoffen overwegend C5 tot en met C12, met een kooktraject van ongeveer 35°C tot 230°C. Nafta (aardolie), katalytisch van was ontdaan Nafta met laag kookpunt - niet gespecifieerd","Naphtha (petroleum), catalytic dewaxed, Low boiling point naphtha - unspecified [A complex combination of hydrocarbons obtained from the catalytic dewaxing of a petroleum fraction. It consists predominantly of hydrocarbons having carbon numbers predominantly in the range of C5 through C12 and boiling in the range of approximately 35°C to 230°C (95°F to 446°F).]","Ja",null,null,null,null,null,null,null,"2013-12-02",20]
["64741-87-3","265-089-2","Een complexe verzameling koolwaterstoffen verkregen door het onderwerpen van aardolienafta aan een stankverwijderingsproces om mercaptanen om te zetten of zure verontreinigingen te verwijderen. Bestaat uit koolwaterstoffen overwegend C4 tot en met C12, met een kooktraject van ongeveer 10°C tot 230°C. Nafta (aardolie), stankvrij gemaakt, Nafta met laag kookpunt - niet gespecifieerd","Naphtha (petroleum), sweetened, Low boiling point naphtha - unspecified [A complex combination of hydrocarbons obtained by subjecting a petroleum naphtha to a sweetening process to convert mercaptans or to remove acidic impurities. It consists of hydrocarbons having carbon numbers predominantly in the range of C4 through C12 and boiling in the range of approximately -10°C to 230°C (14°F to 446°F).]","Ja",null,null,null,null,null,null,null,"2013-12-02",20]
["68783-66-4","272-206-0","Een complexe verzameling koolwaterstoffen verkregen door het onderwerpen van een aardoliedestillaat aan een stankverwijderingsproces om mercaptanen om te zetten of zure verontreinigingen te verwijderen. Bestaat voornamelijk uit verzadigde en onverzadigde koolwaterstoffen overwegend C3 tot en met C6, met een kooktraject van ongeveer -20°C tot 100°C. Nafta (aardolie), lichte, stankvrij gemaakt, Nafta met laag kookpunt - niet gespecifieerd","Naphtha (petroleum), light, sweetened, Low boiling point naphtha - unspecified [A complex combination of hydrocarbons obtained by subjecting a petroleum distillate to a sweetening process to convert mercaptans or to remove acidic impurities. It consists predominantly of saturated and unsaturated hydrocarbons having carbon numbers predominantly in the range of C3 through C6 and boiling in the range of approximately -20°C to 100°C (-4°F to 212°F).]","Ja",null,null,null,null,null,null,null,"2013-12-02",20]
["92045-65-3","295-447-3","Een complexe verzameling koolwaterstoffen verkregen door het onderwerpen van een aardoliedestillaat, afkomstig uit het thermisch kraken bij hoge temperatuur van zware oliefracties, aan een stankverwijderingsproces om mercaptanen om te zetten. Bestaat voornamelijk uit aromaten olefinen en verzadigde koolwaterstoffen en heeft een kooktraject van ongeveer 20°C tot 100°C. Nafta (aardolie), lichte thermisch gekraakte, stankvrij gemaakt, Thermisch gekraakte nafta met laag kookpunt","Naphtha (petroleum), light thermal cracked, sweetened, Low boiling point thermally cracked naphtha [A complex combination of hydrocarbons obtained by subjecting a petroleum distillate from the high temperature thermal cracking of heavy oil fractions to a sweetening process to convert mercaptans. It consists predominantly of aromatics, olefins and saturated hydrocarbons boiling in the range of approximately 20°C to 100°C (68°F to 212°F).]","Ja",null,null,null,null,null,null,null,"2013-12-02",20]
["101795-01-1","309-976-5","Een complexe verzameling koolwaterstoffen verkregen door het onderwerpen van een aardolienafta aan een stankverwijderingsproces om mercaptanen om te zetten of zure verontreinigingen te verwijderen. Bestaat voornamelijk uit koolwaterstoffen overwegend C5 tot en met C8, met een kooktraject van ongeveer 20°C tot 130°C. Nafta (aardolie), lichte, stankvrij gemaakt, Nafta met laag kookpunt - niet gespecifieerd","Naphtha (petroleum), sweetened light, Low boiling point naphtha - unspecified [A complex combination of hydrocarbons obtained by subjecting a petroleum naphtha to a sweetening process to convert mercaptans or to remove acidic impurities. It consists predominantly of hydrocarbons having carbon numbers predominantly in the range of C5 through C8 and boiling in the range of approximately 20°C to 130°C (68°F to 266°F).]","Ja",null,null,null,null,null,null,null,"2013-12-02",20]
["92045-50-6","295-431-6","Een complexe verzameling koolwaterstoffen verkregen door het onderwerpen van een katalytisch gekraakt aardoliedestillaat aan een stankverwijderingsproces om mercaptanen om te zetten of zure verontreinigingen te verwijderen. Bestaat voornamelijk uit koolwaterstoffen overwegend C6 tot en met C12, met een kooktraject van ongeveer 60°C tot 200°C. Katalytisch gekraakte nafta met laag kookpunt, Nafta (aardolie), zware katalytisch gekraakte, stankvrij gemaakt","Naphtha (petroleum), heavy catalytic cracked, sweetened, Low boiling point cat-cracked naphtha [A complex combination of hydrocarbons obtained by subjecting a catalytic cracked petroleum distillate to a sweetening process to convert mercaptans or to remove acidic impurities. It consists predominantly of hydrocarbons having carbon numbers predominantly in the range of C6 through C12 and boiling in the range of approximately 60°C to 200°C (140°F to 392°F).]","Ja",null,null,null,null,null,null,null,"2013-12-02",20]
["92045-59-5","295-441-0","Een complexe verzameling koolwaterstoffen verkregen door het onderwerpen van katalytisch gekraakte nafta aan een stankverwijderingsproces om mercaptanen om te zetten of zure verontreinigingen te verwijderen. Bestaat voornamelijk uit koolwaterstoffen met een kooktraject van ongeveer 35°C tot 210°C. Katalytisch gekraakte nafta met laag kookpunt, Nafta (aardolie), lichte katalytisch gekraakte, stankvrij gemaakt","Naphtha (petroleum), light catalytic cracked sweetened, Low boiling point cat-cracked naphtha [A complex combination of hydrocarbons obtained by subjecting naphtha from a catalytic cracking process to a sweetening process to convert mercaptans or to remove acidic impurities. It consists predominantly of hydrocarbons boiling in a range of approximately 35°C to 210°C (95°F to 410°F).]","Ja",null,null,null,null,null,null,null,"2013-12-02",20]
["92045-60-8","295-442-6","Een complexe verzameling koolwaterstoffen verkregen door het onderwerpen van nafta uit aardolie aan een stankverwijderingsproces om mercaptanen om te zetten of zure verontreinigingen te verwijderen. Bestaat uit koolwaterstoffen overwegend C4 tot en met C5, hoofdzakelijk C5, met een kooktraject van ongeveer -10°C tot 35°C. Nafta (aardolie), lichte, rijk aan C5, stankvrij gemaakt, Nafta met laag kookpunt - niet gespecifieerd","Naphtha (petroleum), light, C5-rich, sweetened, Low boiling point naphtha - unspecified [A complex combination of hydrocarbons obtained by subjecting a petroleum naphtha to a sweetening process to convert mercaptans or to remove acidic impurities. It consists of hydrocarbons having carbon numbers predominantly in the range of C4 through C5, predominantly C5, and boiling in the range of approximately minus 10°C to 35°C (14°F to 95°F).]","Ja",null,null,null,null,null,null,null,"2013-12-02",20]
["68476-86-8","270-705-8","Een complexe verzameling koolwaterstoffen verkregen door het stankvrij maken van een vloeibaar petroleumgasmengsel om mercaptanen om te zetten of zure verontreinigingen te verwijderen. Bestaat uit koolwaterstoffen overwegend C3 tot en met C7, met een kooktraject van ongeveer - 40°C tot 80°C. Petroleumgas, Petroleumgassen vloeibaar gemaakt, stankvrij gemaakt","Petroleum gases, liquefied, sweetened, Petroleum gas [A complex combination of hydrocarbons obtained by subjecting liquefied petroleum gas mix to a sweetening process to convert mercaptans or to remove acidic impurities. It consists of hydrocarbons having carbon numbers predominantly in the range of C3 through C7 and boiling in the range of approximately -40 °C to 80 °C (-40 °F to 176 °F).]","Ja",null,null,null,null,null,null,null,"2013-12-02",20]
["64741-70-4","265-073-5","Een complexe verzameling koolwaterstoffen verkregen door katalytische isomerisatie van onvertakte paraffine-koolwaterstoffen C4 tot en met C6. Bestaat voornamelijk uit verzadigde koolwaterstoffen als isobutaan isopentaan 2,2-dimethylbutaan 2-methylpentaan en 3-methylpentaan. Gemodificeerde nafta met laag kookpunt, Nafta (aardolie), isomerisatie-","Naphtha (petroleum), isomerization, Low boiling point modified naphtha [A complex combination of hydrocarbons obtained from catalytic isomerization of straight chain paraffinic C4 through C6 hydrocarbons. It consists predominantly of saturated hydrocarbons such as isobutane, isopentane, 2,2-dimethylbutane, 2-methylpentane, and 3-methylpentane.]","Ja",null,null,null,null,null,null,null,"2013-12-02",20]
["68308-10-1","269-630-3","Een complexe verzameling koolwaterstoffen verkregen door katalytische waterstofontzwaveling van direct uit fractionering verkregen destillaten waaruit waterstofsulfide door een aminebehandeling is verwijderd. Bestaat voornamelijk uit koolwaterstoffen overwegend C1 tot en met C4. Petroleumgas, Restgas (aardolie), direct uit fractionering verkregen destillaat, waterstofontzwavelaar, waterstofsulfide-vrij","Tail gas (petroleum), straight-run distillate hydrodesulfurizer, hydrogen sulfide-free, Petroleum gas [A complex combination of hydrocarbons obtained from catalytic hydrodesulfurization of straight run distillates and from which hydrogen sulfide has been removed by amine treatment. It consists predominantly of hydrocarbons having carbon numbers predominantly in the range of C1 through C4.]","Ja",null,null,null,null,null,null,null,"2013-12-02",20]
["68308-12-3","269-632-4","Een complexe verzameling koolwaterstoffen verkregen door katalytische waterstofontzwaveling van gasolie uit vacuümdestillatie, waaruit waterstofsulfide door aminebehandeling is verwijderd. Bestaat voornamelijk uit koolwaterstoffen overwegend C1 tot en met C6. Petroleumgas, Restgas (aardolie), waterstofontzwavelaar van gasolie uit vacuümdestillatie, vrij van waterstofsulfide","Tail gas (petroleum), vacuum gas oil hydrodesulfurizer, hydrogen sulfide-free, Petroleum gas [A complex combination of hydrocarbons obtained from catalytic hydrodesulfurization of vacuum gas oil and from which hydrogen sulfide has been removed by amine treatment. It consists predominantly of hydrocarbons having carbon numbers predominantly in the range of C1 through C6.]","Ja",null,null,null,null,null,null,null,"2013-12-02",20]
["92045-52-8","295-433-7","Een complexe verzameling koolwaterstoffen verkregen door katalytische waterstofontzwaveling. Bestaat voornamelijk uit koolwaterstoffen overwegend C4 tot en met C11, met een kooktraject van ongeveer 30°C tot 250°C. Gehydrogeneerde nafta met laag kookpunt, Nafta (aardolie), waterstofontzwaveld totaalfractie","Naphtha (petroleum), hydrodesulfurized full-range, Low boiling point hydrogen treated naphtha [A complex combination of hydrocarbons obtained from a catalytic hydrodesulfurization process. It consists predominantly of hydrocarbons having carbon numbers predominantly in the range of C4 through C11 and boiling in the range of approximately 30°C to 250°C (86°F to 482°F).]","Ja",null,null,null,null,null,null,null,"2013-12-02",20]
["68514-36-3","271-038-5","Een complexe verzameling koolwaterstoffen verkregen door koolwaterstofgassen te onderwerpen aan een stankverwijderingsproces waarbij mercaptanen worden omgezet of zure verontreinigingen worden verwijderd. Bestaat uit koolwaterstoffen overwegend C1 tot en met C4, met een kooktraject van ongeveer -164°C tot -0,5°C. Koolwaterstoffen C1-4-, stankvrij gemaakt, Petroleumgas","Hydrocarbons, C1-4, sweetened, Petroleum gas [A complex combination of hydrocarbons obtained by subjecting hydrocarbon gases to a sweetening process to convert mercaptans or to remove acidic impurities. It consists of hydrocarbons having carbon numbers predominantly in the range of C1 through C4 and boiling in the range of approximately -164°C to -0.5°C (-263°F to 31°F).]","Ja",null,null,null,null,null,null,null,"2013-12-02",20]
["85117-03-9","285-555-9","Een complexe verzameling koolwaterstoffen verkregen door ontzwaveling met waterstof van zware destillaatgrondstoffen uit de verkookser. Het bestaat voornamelijk uit koolwaterstoffen overwegend C18 tot C44, met een kooktraject van ongeveer 304°C tot 548°C. Bevat waarschijnlijk 5procent of meer aromatische koolwaterstoffen met 4- tot 6-voudige gecondenseerde ringen. Stookolie, gasoliën (aardolie), met waterstof ontzwavelde verkookser zware vacuümdestillatiefractie","Gas oils (petroleum), hydrodesulfurized coker heavy vacuum, Heavy Fuel oil [A complex combination of hydrocarbons obtained by hydrodesulfurization of heavy coker distillate stocks, It consists predominantly of hydrocarbons having carbon numbers predominantly in the range C18 to C44 and boiling in the range of approximately 304 °C to 548 °C (579 °F to 1018 °F). Likely to contain 5 % or more of 4- to 6-membered condensed ring aromatic hydrocarbons.]","Ja",null,null,null,null,"MVP 1","0,15 g/uur","0,05 mg/Nm3","2013-12-02",25]
["68478-25-1","270-805-1","Een complexe verzameling koolwaterstoffen verkregen door refractionering van producten uit een katalytisch kraakproces. Bestaat uit waterstof en koolwaterstoffen overwegend C1 tot en met C3. Raffinaderijgas, Restgas (aardolie), katalytisch krakenrefractioneringsabsorbeerder","Tail gas (petroleum), catalytic cracker refractionation absorber, Refinery gas [A complex combination of hydrocarbons obtained from refractionation of products from a catalytic cracking process. It consists of hydrogen and hydrocarbons having carbon numbers predominantly in the range of C1 through C3.]","Ja",null,null,null,null,null,null,null,"2013-12-02",20]
["93165-55-0","296-942-7","Een complexe verzameling koolwaterstoffen verkregen door scheiding en daaropvolgende hydrogenering van de producten van een stoomkraakproces om ethyleen te produceren. Bestaat voornamelijk uit verzadigde en onverzadigde paraffinen cyclische paraffinen en cyclische aromatische koolwaterstoffen overwegend C4 tot en met C10, met een kooktraject van ongeveer 50°C tot 200°C. Het aandeel van benzeen-koolwaterstoffen kan oplopen tot 30 gewichtsprocenten en de stroom kan ook kleine hoeveelheden zwavel- en zuurstofverbindingen bevatten. Gehydrogeneerde nafta met laag kookpunt, Nafta (aardolie), met stoom gekraakte lichte, gehydrogeneerd","Naphtha (petroleum), light steam-cracked, hydrogenated, Low boiling point hydrogen treated naphtha [A complex combination of hydrocarbons produced from the separation and subsequent hydrogenation of the products of a steam-cracking process to produce ethylene. It consists predominantly of saturated and unsaturated paraffins, cyclic paraffins and cyclic aromatic hydrocarbons having carbon numbers predominantly in the range of C4 through C10 and boiling in the range of approximately 50°C to 200°C (122°F to 392°F). The proportion of benzene hydrocarbons may vary up to 30 wt. % and the stream may also contain small amounts of sulfur and oxygenated compounds.]","Ja",null,null,null,null,"MVP 2","2,5 g/uur","1 mg/Nm3","2013-12-02",26]
["92045-64-2","295-446-8","Een complexe verzameling koolwaterstoffen verkregen door sorptie van benzeen uit een katalytisch volledig gehydrogeneerde benzeenrijke koolwaterstoffractie die door destillatie is verkregen uit voorgehydrogeneerde gekraakte nafta. Bestaat voornamelijk uit paraffine- en nafteenkoolwaterstoffen overwegend C6 en C7, met een kooktraject van ongeveer 70°C tot 100°C. Gemodificeerde nafta met laag kookpunt, Koolwaterstoffen C6-7, naftakraken oplosmiddelgeraffineerd","Hydrocarbons, C6-7, naphtha-cracking, solvent-refined, Low boiling point modified naphtha [A complex combination of hydrocarbons obtained by the sorption of benzene from a catalytically fully hydrogenated benzene-rich hydrocarbon cut that was distillatively obtained from prehydrogenated cracked naphtha. It consists predominantly of paraffinic and naphthenic hydrocarbons having carbon numbers predominantly in the range of C6 through C7 and boiling in the range of approximately 70°C to 100°C (158°F to 212°F).]","Ja",null,null,null,null,null,null,null,"2013-12-02",20]
["68308-07-6","269-627-7","Een complexe verzameling koolwaterstoffen verkregen door stabilisatie door stripping van katalytisch met waterstof ontzwavelde gasolie uit vacuümdestillatie, waaruit waterstofsulfide door een aminebehandeling is verwijderd. Bestaat voornamelijk uit koolwaterstoffen overwegend C1 tot en met C6. Petroleumgas, Restgas (aardolie), stripper van waterstofontzwavelde gasolie uit vacuümdestillatie, vrij van waterstofsulfide","Tail gas (petroleum), hydrodesulfurized vacuum gas oil stripper, hydrogen sulfide-free, Petroleum gas [A complex combination of hydrocarbons obtained from stripping stabilization of catalytic hydrodesulfurized vacuum gas oil and from which hydrogen sulfide has been removed by amine treatment. It consists predominantly of hydrocarbons having carbon numbers predominantly in the range of C1 through C6.]","Ja",null,null,null,null,null,null,null,"2013-12-02",20]
["68477-72-5","270-754-5","Een complexe verzameling koolwaterstoffen verkregen door stabilisatie van katalytisch gekraakte nafta. Bestaat uit alifatische koolwaterstoffen overwegend C3 tot en met C5. Gassen (aardolie), katalytisch gekraakte nafta, butaanverwijdering-bodemfracties, C3-5-rijk Petroleumgas","Gases (petroleum), catalytic-cracked naphtha debutanizer bottoms, C3-5-rich, Petroleum gas [A complex combination of hydrocarbons obtained from the stabilization of catalytic cracked naphtha. It consists of aliphatic hydrocarbons having carbon numbers predominantly in the range of C3 through C5.]","Ja",null,null,null,null,null,null,null,"2013-12-02",20]
["68477-67-8","270-748-2","Een complexe verzameling koolwaterstoffen verkregen door terugvoer van de gassen uit de benzeeninstallatie. Bestaat voornamelijk uit waterstof, met uiteenlopende kleine hoeveelheden koolmonoxide en koolwaterstoffen C1 tot en met C6. Gassen (aardolie), terugvoer benzeeninstallatie, rijk aan waterstof, Raffinaderijgas","Gases (petroleum), benzene unit recycle, hydrogen-rich, Refinery gas [A complex combination of hydrocarbons obtained by recycling the gases of the benzene unit. It consists primarily of hydrogen with various small amounts of carbon monoxide and hydrocarbons having carbon numbers in the range of C1 through C6.]","Ja",null,null,null,null,null,null,null,"2013-12-02",20]
["64741-50-0","265-051-5","Een complexe verzameling koolwaterstoffen verkregen door vacuümdestillatie van het residu van de atmosferische destillatie van ruwe olie. Bestaat uit koolwaterstoffen overwegend C15 tot en met C30, en vormt een voltooide olie met een viscositeit van minder dan 19cSt bij 40°C. Bevat een relatief grote hoeveelheid alifatische koolwaterstoffen die normaal aanwezig zijn in dit destillatietraject van ruwe olie. Niet of licht geraffineerde basisolie, destillaten (aardolie), lichte paraffinehoudende","Distillates (petroleum), light paraffinic, Unrefined or mildly refined baseoil [A complex combination of hydrocarbons produced by vacuum distillation of the residuum from atmospheric distillation of crude oil. It consists of hydrocarbons having carbon numbers predominantly in the range of C15 through C30 and produces a finished oil with a viscosity of less than 100 SUS at 100 °F (19cSt at 40 °C). It contains a relatively large proportion of saturated aliphatic hydrocarbons normally present in this distillation range of crude oil.]","Ja",null,null,null,null,null,null,null,"2013-12-02",20]
["64741-53-3","265-054-1","Een complexe verzameling koolwaterstoffen verkregen door vacuümdestillatie van het residu van de atmosferische destillatie van ruwe olie. Bestaat uit koolwaterstoffen overwegend C20 tot en met C50, en vormt een voltooide olie met een viscositeit van minstens 19 cSt bij 40°C. Bevat relatief weinig normale paraffinen. Niet of licht geraffineerde basisolie, destillaten (aardolie), zware nafteenhoudende","Distillates (petroleum), heavy naphthenic, Unrefined or mildly refined baseoil [A complex combination of hydrocarbons produced by vacuum distillation of the residuum from atmospheric distillation of crude oil. It consists of hydrocarbons having carbon numbers predominantly in the range of C20 through C50 and produces a finished oil with a viscosity of at least 100 SUS at 100 °F (19cSt at 40 °C). It contains relatively few normal paraffins.]","Ja",null,null,null,null,null,null,null,"2013-12-02",20]
["64741-51-1","265-052-0","Een complexe verzameling koolwaterstoffen verkregen door vacuümdestillatie van het residu van de atmosferische destillatie van ruwe olie. Bestaat uit koolwaterstoffen overwegend C20 tot en met C50, en vormt een voltooide olie met een viscositeit vn minstens 19cSt bij 40°C. Bevat een relatief grote hoeveelheid alifatische koolwaterstoffen. Niet of licht geraffineerde basisolie, destillaten (aardolie), zware paraffinehoudende","Distillates (petroleum), heavy paraffinic, Unrefined or mildly refined baseoil [A complex combination of hydrocarbons produced by vacuum distillation of the residuum from atmospheric distillation of crude oil. It consists of hydrocarbons having carbon numbers predominantly in the range of C20 through C50 and produces a finished oil with a viscosity of at least 100 SUS at 100 °F (19cSt at 40 °C). It contains a relatively large proportion of saturated aliphatic hydrocarbons.]","Ja",null,null,null,null,null,null,null,"2013-12-02",20]
["64741-52-2","265-053-6","Een complexe verzameling koolwaterstoffen verkregen door vacuümdestillatie van het residu van de atmosferische destillatie van ruwe olie. Bestaat uit koolwaterstoffen overwegende C15 tot en met C30, en vormt een voltooide olie met een viscositeit die minder is dan 19cSt bij 40°C. bij relatief weinig normale paraffinen. Niet of licht geraffineerde basisolie, destillaten (aardolie), lichte nafteenhoudende","Distillates (petroleum), light naphthenic, Unrefined or mildly refined baseoil [A complex combination of hydrocarbons produced by vacuum distillation of the residuum from atmospheric distillation of crude oil. It consists of hydrocarbons having carbon numbers predominantly in the range of C15 through C30 and produces a finished oil with a viscosity of less than 100 SUS at 100 °F (19cSt at 40 °C). It contains relatively few normal paraffins.]","Ja",null,null,null,null,null,null,null,"2013-12-02",20]
["92045-57-3","295-438-4","Een complexe verzameling koolwaterstoffen verkregen door waterstofbehandeling van een aardoliefractie, afkomstig uit een pyrolyseproces, in aanwezigheid van een katalysator. Bestaat voornamelijk uit onverzadigde koolwaterstoffen overwegend C5 tot en met C11, met een kooktraject van ongeveer 35°C tot 190°C. Gehydrogeneerde nafta met laag kookpunt, Nafta (aardolie), met stoom gekraakte lichte fractie, waterstofbehandeld","Naphtha (petroleum), hydrotreated light steam-cracked, Low boiling point hydrogen treated naphtha [A complex combination of hydrocarbons obtained by treating a petroleum fraction, derived from a pyrolysis process, with hydrogen in the presence of a catalyst. It consists predominantly of unsaturated hydrocarbons having carbon numbers predominantly in the range of C5 through C11 and boiling in the range of approximately 35°C to 190°C (95°F to 374°F).]","Ja",null,null,null,null,null,null,null,"2013-12-02",20]
["68308-01-0","269-620-9","Een complexe verzameling koolwaterstoffen verkregen door waterstofbehandeling van thermisch gekraakte destillaten in aanwezigheid van een katalysator. Bestaat voornamelijk uit verzadigde koolwaterstoffen overwegend C1 tot en met C6. Petroleumgas, Restgas (aardolie), gekraakt destillaat, waterstofbehandelingsstripper","Tail gas (petroleum), cracked distillate hydrotreater stripper, Petroleum gas [A complex combination of hydrocarbons obtained by treating thermal cracked distillates with hydrogen in the presence of a catalyst. It consists predominantly of saturated hydrocarbons having carbon numbers predominantly in the range of C1 through C6.]","Ja",null,null,null,null,null,null,null,"2013-12-02",20]
["98219-64-8","308-733-0","Een complexe verzameling koolwaterstoffen verkregen uit de behandeling en destillatie van ruwe stoomgekraakte nafta. Bestaat voornamelijk uit onverzadigde koolwaterstoffen kokend boven ongeveer 180°C. Stookolie, residuen stoomgekraakt, thermisch behandeld","Residues, steam cracked, thermally treated, Heavy Fuel oil [A complex combination of hydrocarbons obtained by the treatment and distillation of raw steam-cracked naphtha. It consists predominantly of unsaturated hydrocarbons boiling in the range above approximately 180 °C (356 °F).]","Ja",null,null,null,null,null,null,null,"2013-12-02",20]
["64742-38-7","265-139-3","Een complexe verzameling koolwaterstoffen verkregen uit de behandeling van een aardoliefractie met natuurlijke of gemodificeerde klei, gewoonlijk in een filtratieproces om sporen van polaire verbindingen en onzuiverheden te verwijderen. Bestaat uit koolwaterstoffen overwegend C9 tot en met C20 met een kooktraject van ongeveer 150°C tot 345°C. Gasolie - niet gespecifieerd destillaten (aardolie), met klei behandelde middenfractie","Distillates (petroleum), clay-treated middle, Gasoil - unspecified [A complex combination of hydrocarbons resulting from treatment of a petroleum fraction with natural or modified clay, usually in a percolation process to remove the trace amounts of polar compounds and impurities present. It consists of hydrocarbons having carbon numbers predominantly in the range of C9 through C20 and boiling in the range of approximately 150 °C to 345 °C (302 °F to 653 °F).]","Ja",null,null,null,null,null,null,null,"2013-12-02",20]
["68333-28-8","269-784-1","Een complexe verzameling koolwaterstoffen verkregen uit de behandeling van zware katalytisch gekraakte destillaten met waterstof, waarbij organisch zwavel wordt omgezet in waterstofsulfide dat verwijderd wordt. Bestaat uit koolwaterstoffen overwegend C15 tot en met C35, met een kooktraject van ongeveer 260°C tot 500°C. Deze stroom bevat waarschijnlijk 5 of meer gewichtsprocenten aromatische koolwaterstoffen met 4- tot 6-voudig gecondenseerde ringen. Stookolie, destillaten (aardolie), met waterstof ontzwavelde zware katalytisch gekraakte fractie","Distillates (petroleum), hydrodesulfurized heavy catalytic cracked, Heavy Fuel oil [A complex combination of hydrocarbons obtained by treatment of heavy catalytic cracked distillates with hydrogen to convert organic sulfur to hydrogen sulfide which is removed. It consists of hydrocarbons having carbon numbers predominantly in the range of C15 through C35 and boiling in the range of approximately 260 °C to 500 °C (500 °F to 932 °F). This stream is likely to contain 5 wt. % or more of 4- to 6-membered condensed ring aromatic hydrocarbons.]","Ja",null,null,null,null,"MVP 1","0,15 g/uur","0,05 mg/Nm3","2013-12-02",25]
["68477-29-2","270-719-4","Een complexe verzameling koolwaterstoffen verkregen uit de destillatie van katalytische reformator-fractioneerderresidu. Het heeft een kooktraject van ongeveer 343°C tot 399°C. Gasolie - niet gespecifieerd destillaten (aardolie), katalytische reformator-fractioneerderresidu, hoogkokend","Distillates (petroleum), catalytic reformer fractionator residue, high-boiling, Gasoil - unspecified [A complex combination of hydrocarbons from the distillation of catalytic reformer fracftionator residue. It boils in the range of approximately 343 °C to 399 °C (650 °F to 750 °F).]","Ja",null,null,null,null,null,null,null,"2013-12-02",20]
["68131-75-9","268-629-5","Een complexe verzameling koolwaterstoffen verkregen uit de destillatie van kraakproducten van ruwe olie. Bestaat uit koolwaterstoffen C3 tot en met C4, voornamelijk propaan en propyleen met een kooktraject van ongeveer -51°C tot -1°C. Gassen (aardolie), C3-4, Petroleumgas","Gases (petroleum), C3-4, Petroleum gas [A complex combination of hydrocarbons produced by distillation of products from the cracking of crude oil. It consists of hydrocarbons having carbon numbers in the range of C3 through C4, predominantly of propane and propylene, and boiling in the range of approximately -51°C to -1°C (-60°F to 30°F.)]","Ja",null,null,null,null,null,null,null,"2013-12-02",20]
["68527-18-4","271-260-2","Een complexe verzameling koolwaterstoffen verkregen uit de destillatie van produkten van een stroomkraakproces. Bestaat uit koolwaterstoffen overwegend groter dan C9, met een kooktraject van ongeveer 205°C tot 400°C. Gekraakte gasolie, gasoliën (aardolie), stoomgekraakt","Gas oils (petroleum), steam-cracked, Cracked gasoil [A complex combination of hydrocarbons produced by distillation of the products from a steam cracking process. It consists of hydrocarbons having carbon numbers predominantly greater than C9 and boiling in the range of from approximately 205 °C to 400 °C (400 °F to 752 °F).]","Ja",null,null,null,null,null,null,null,"2013-12-02",20]
["68477-30-5","270-721-5","Een complexe verzameling koolwaterstoffen verkregen uit de destillatie van reformator-fractioneerderresidu. Heeft een kooktraject van ongeveer 288°C to 371°C. Gasolie - niet gespecifieerd destillaten (aardolie), katalytische reformator-fractioneerderresidu, bij middentemperaturen kokend","Distillates (petroleum), catalytic reformer fractionator residue, intermediate-boiling, Gasoil - unspecified [A complex combination of hydrocarbons from the distillation of catalytic reformer fractionator residue. It boils in the range of approximately 288 °C to 371 °C (550 °F to 700 °F).]","Ja",null,null,null,null,null,null,null,"2013-12-02",20]
["68783-08-4","272-184-2","Een complexe verzameling koolwaterstoffen verkregen uit de destillatie van ruwe olie. Bestaat uit koolwaterstoffen overwegend C7 tot en met C35, met een kooktraject van ongeveer 121°C tot 510°C. Stookolie, gasoliën (aardolie), zwaar atmosferische destillatie","Gas oils (petroleum), heavy atmospheric, Heavy Fuel oil [A complex combination of hydrocarbons obtained by the distillation of crude oil. It consists of hydrocarbons having carbon numbers predominantly in the range of C7 through C35 and boiling in the range of approximately 121 °C to 510 °C (250 °F to 950 °F).]","Ja",null,null,null,null,null,null,null,"2013-12-02",20]
["68606-34-8","271-742-2","Een complexe verzameling koolwaterstoffen verkregen uit de fractionering van propaanverwijdering -bodemfracties. Bestaat voornamelijk uit butaan isobutaan en butadieen. Gassen (aardolie), propaanverwijdering-bodemfracties, fractioneringsuitstoot, Petroleumgas","Gases (petroleum), depropanizer bottoms fractionation off, Petroleum gas [A complex combination of hydrocarbons obtained from the fractionation of depropanizer bottoms. It consists predominantly of butane, isobutane and butadiene.]","Ja",null,null,null,null,"MVP 2","2,5 g/uur","1 mg/Nm3","2013-12-02",42]
["68308-00-9","269-619-3","Een complexe verzameling koolwaterstoffen verkregen uit de fractioneringsstabilisatie van katalytisch gereformde nafta, waaruit waterstofsulfide door een aminebehandeling is verwijderd. Bestaat voornamelijk uit koolwaterstoffen overwegend C1 tot en met C4. Petroleumgas, Restgas (aardolie), katalytisch gereformde nafta, fractioneringsstabilisator, waterstofsulfide-vrij","Tail gas (petroleum), catalytic reformed naphtha fractionation stabilizer, hydrogen sulfide-free, Petroleum gas [A complex combination of hydrocarbons obtained from fractionation stabilization of catalytic reformed naphtha and from which hydrogen sulfide has been removed by amine treatment. It consists predominantly of hydrocarbons having carbon numbers predominantly in the range of C1 through C4.]","Ja",null,null,null,null,null,null,null,"2013-12-02",20]
["68478-26-2","270-806-7","Een complexe verzameling koolwaterstoffen verkregen uit de fractioneringsstabilisatie van katalytisch gereformde nafta. Bestaat voornamelijk uit koolwaterstoffen overwegend C1 tot en met C4. Petroleumgas, Restgas (aardolie), katalytisch gereformde nafta, fractioneringsstabilisator","Tail gas (petroleum), catalytic reformed naphtha fractionation stabilizer, Petroleum gas [A complex combination of hydrocarbons obtained from the fractionation stabilization of catalytic reformed naphtha. It consists predominantly of hydrocarbons having carbon numbers predominantly in the range of C1 through C4.]","Ja",null,null,null,null,null,null,null,"2013-12-02",20]
["68307-99-3","269-618-8","Een complexe verzameling koolwaterstoffen verkregen uit de fractioneringsstabilisatie-producten van de polymerisatie van nafta. Bestaat voornamelijk uit koolwaterstoffen C1 tot en met C4. Petroleumgas, Restgas (aardolie), katalytische polymerisatie van nafta, fractioneringsstabilisator","Tail gas (petroleum), catalytic polymn. naphtha fractionation stabilizer, Petroleum gas [A complex combination of hydrocarbons from the fractionation stabilization products from polymerization of naphtha. It consists predominantly of hydrocarbons having carbon numbers in the range of C1 through C4.]","Ja",null,null,null,null,null,null,null,"2013-12-02",20]
["68308-08-7","269-628-2","Een complexe verzameling koolwaterstoffen verkregen uit de fractioneringsstabilisatieproducten van geïsomeriseerde nafta. Bestaat voornamelĳk uit koolwaterstoffen overwegend C1 tot en met C4. Petroleumgas, Restgas (aardolie), geïsomeriseerde nafta, fractioneringsstabilisator","Tail gas (petroleum), isomerized naphtha fractionation stabilizer, Petroleum gas [A complex combination of hydrocarbons obtained from the fractionation stabilization products from isomerized naphtha. It consists predominantly of hydrocarbons having carbon numbers predominantly in the range of C1 through C4.]","Ja",null,null,null,null,null,null,null,"2013-12-02",20]
["68478-27-3","270-807-2","Een complexe verzameling koolwaterstoffen verkregen uit de katalytische reforming van door directe fractionering verkregen nafta. Bestaat uit waterstof en koolwaterstoffen overwegend C1 tot en met C6. Raffinaderijgas, Restgas (aardolie), katalytisch gereformde, nafta-afscheider","Tail gas (petroleum), catalytic reformed naphtha separator, Refinery gas [A complex combination of hydrocarbons obtained from the catalytic reforming of straight run naphtha. It consists of hydrogen and hydrocarbons having carbon numbers predominantly in the range of C1 through C6.]","Ja",null,null,null,null,null,null,null,"2013-12-02",20]
["68475-80-9","270-662-5","Een complexe verzameling koolwaterstoffen verkregen uit de meervoudige destillatie van produkten uit een stoomkraakproces. Bestaat uit koolwaterstoffen overwegend C10 tot en met C18. Gekraakte gasolie, destillaten (aardolie), lichte stoomgekraakte nafta","Distillates (petroleum), light steam-cracked naphtha, Cracked gasoil [A complex combination of hydrocarbons from the multiple distillation of products from a steam cracking process. It consists of hydrocarbons having carbon numbers predominantly in the range of C10 through C18.]","Ja",null,null,null,null,null,null,null,"2013-12-02",20]
["68478-22-8","270-803-0","Een complexe verzameling koolwaterstoffen verkregen uit de stabilisatie van katalytisch gekraakte nafta. Bestaat voornamelijk uit koolwaterstoffen overwegend C1 tot en met C6. Petroleumgas, Restgas (aardolie), katalytisch gekraakte nafta, stabilisatie-absorbeerder","Tail gas (petroleum), catalytic cracked naphtha stabilization absorber, Petroleum gas [A complex combination of hydrocarbons obtained from the stabilization of catalytic cracked naphtha. It consists predominantly of hydrocarbons having carbon numbers predominantly in the range of C1 through C6.]","Ja",null,null,null,null,null,null,null,"2013-12-02",20]
["68478-28-4","270-808-8","Een complexe verzameling koolwaterstoffen verkregen uit de stabilisatie van katalytisch gereformde nafta. Bestaat uit waterstof en koolwaterstoffen overwegend C1 tot en met C6. Raffinaderijgas, Restgas (aardolie), katalytisch gereformde nafta-stabilisator","Tail gas (petroleum), catalytic reformed naphtha stabilizer, Refinery gas [A complex combination of hydrocarbons obtained from the stabilization of catalytic reformed naphtha. It consists of hydrogen and hydrocarbons having carbon numbers predominantly in the range of C1 through C6.]","Ja",null,null,null,null,null,null,null,"2013-12-02",20]
["68477-77-0","270-759-2","Een complexe verzameling koolwaterstoffen verkregen uit de stabilisatie van katalytisch gereformde nafta. Bestaat uit waterstof en verzadigde alifatische koolwaterstoffen overwegend C1 tot en met C4. Gassen (aardolie), katalytisch gereformde nafta, stripper-topproducten Raffinaderijgas","Gases (petroleum), catalytic reformed naphtha stripper overheads, Refinery gas [A complex combination of hydrocarbons obtained from stabilization of catalytic reformed naphtha. Its consists of hydrogen and saturated hydrocarbons having carbon numbers predominantly in the range of C1 through C4.]","Ja",null,null,null,null,null,null,null,"2013-12-02",20]
["122384-77-4","310-189-4","Een complexe verzameling koolwaterstoffen verkregen uit de van basen ontdane destillatiefractie van koolteer, met een kooktraject van ongeveer 250°C tot 280°C. Bestaat voornamelijk uit bifenyl en isomere difenylnaftalenen. Extractieresiduen (kool), creosootolie, zure, Wasolie, extractieresidu","Extract residues (coal), creosote oil acid, Wash Oil Extract Residue [A complex combination of hydrocarbons from the base-freed fraction from the distillation of coal tar, boiling in the range of approximately 250°C to 280°C (482°F to 536°F). It consists predominantly of biphenyl and isomeric diphenylnaphthalenes.]","Ja",null,null,null,null,null,null,null,"2013-12-02",20]
["68478-30-8","270-810-9","Een complexe verzameling koolwaterstoffen verkregen uit de waterstofontzwaveling van door directe fractionering verkregen nafta. Bestaat uit waterstof en verzadigde alifatische koolwaterstoffen overwegend C1 tot en met C6. Raffinaderijgas, Restgas (aardolie), waterstofontzwaveling van door directe fractionering verkregen nafta, afscheider","Tail gas (petroleum), hydrodesulfurized straight-run naphtha separator, Refinery gas [A complex combination of hydrocarbons obtained from hydrodesulfurization of straight-run naphtha. It consists of hydrogen and saturated aliphatic hydrocarbons having carbon numbers predominantly in the range of C1 through C6.]","Ja",null,null,null,null,null,null,null,"2013-12-02",20]
["64742-61-6","265-165-5","Een complexe verzameling koolwaterstoffen verkregen uit een aardoliefractie door solventkristallisatie (met solvent van was ontdoen) of als een destillatiefractie uit een zeer wasachtige ruwe olie. Bestaat voornamelijk uit verzadigde vertakte en niet-vertakte koolwaterstoffen overwegend groter dan C20. Ruwe paraffinewas, olierijke paraffinewas (aardolie)","Slack wax (petroleum), Slack wax [A complex combination of hydrocarbons obtained from a petroleum fraction by solvent crystallization (solvent dewaxing) or as a distillation fraction from a very waxy crude. It consists predominantly of saturated straight and branched chain hydrocarbons having carbon numbers predominantly greater than C20.]","Ja",null,null,null,null,null,null,null,"2013-12-02",20]
["64742-80-9","265-183-3","Een complexe verzameling koolwaterstoffen verkregen uit een aardoliegrondstof door behandeling met waterstof om organische zwavel om te zetten in waterstofsulfide dat wordt verwijderd. Bestaat uit koolwaterstoffen overwegende C11 tot en met C25, met een kooktraject van ongeveer 205°C tot 400°C. Gasolie - niet gespecifieerd destillaten (aardolie), met waterstof ontzwavelde middenfractie","Distillates (petroleum), hydrodesulfurized middle, Gasoil - unspecified [A complex combination of hydrocarbons obtained from a petroleum stock by treating with hydrogen to convert organic sulfur to hydrogen sulfide which is removed. It consists of hydrocarbons having carbon numbers predominantly in the range of C11 through C25 and boiling in the range of approximately 205 °C to 400 °C (401 °F to 752 °F).]","Ja",null,null,null,null,null,null,null,"2013-12-02",20]
["64742-30-9","265-130-4","Een complexe verzameling koolwaterstoffen verkregen uit een behandelingsproces om zure materialen te verwijderen. Bestaat uit koolwaterstoffen overwegend C11 tot en met C20, met een kooktraject van ongeveer 205°C tot 345°C. Gasolie - niet gespecifieerd destillaten (aardolie), chemisch geneutraliseerd middenfractie","Distillates (petroleum), chemically neutralized middle, Gasoil - unspecified [A complex combination of hydrocarbons produced by a treating process to remove acidic materials. It consists of hydrocarbons having carbon numbers predominantly in the range of C11 through C20 and boiling in the range of approximately 205 °C to 345 °C (401 °F to 653 °F).]","Ja",null,null,null,null,null,null,null,"2013-12-02",20]
["64742-29-6","265-129-9","Een complexe verzameling koolwaterstoffen verkregen uit een behandelingsproces om zure materialen te verwijderen. Bestaat uit koolwaterstoffen overwegend C13 tot en met C25, met een kooktraject van ongeveer 230°C tot 400°C. Gasolie - niet gespecifieerd gasoliën (aardolie), chemisch geneutraliseerd","Gas oils (petroleum), chemically neutralized, Gasoil - unspecified [A complex combination of hydrocarbons produced by a treating process to remove acidic materials. It consists of hydrocarbons having carbon numbers predominantly in the range of C13 through C25 and boiling in the range of approximately 230 °C to 400 °C (446 °F to 752 °F).]","Ja",null,null,null,null,null,null,null,"2013-12-02",20]
["101631-20-3","309-945-6","Een complexe verzameling koolwaterstoffen verkregen uit een destillatieproces van ruwe aardolie. Bestaat voornamelijk uit koolwaterstoffen overwegend C8 tot en met C12, met een kooktraject van ongeveer 130°C tot 210°C. Nafta (aardolie), zware direct door fractionering verkregen aromaathoudend Nafta met laag kookpunt","Naphtha (petroleum), heavy straight run, arom.-contg., Low boiling point naphtha [A complex combination of hydrocarbons obtained from a distillation process of crude petroleum. It consists predominantly of hydrocarbons having carbon numbers in the range of C8 through C12 and boiling in the range of approximately 130°C to 210°C (266°F to 410°F).]","Ja",null,null,null,null,null,null,null,"2013-12-02",20]
["64742-86-5","265-189-6","Een complexe verzameling koolwaterstoffen verkregen uit een katalytisch waterstofontzwavelingsproces. Bestaat uit koolwaterstoffen overwegend C20 tot en met C50, met een kooktraject van ongeveer 350°C tot 600°C. Deze stroom bevat waarschijnlijk 5 of meer gewichtsprocenten aromatische koolwaterstoffen met 4- tot 6-voudig gecondenseerde ringen. Stookolie, gasoliën (aardolie), met waterstof ontzwaveld zwaar vacuümdestillatiefractie","Gas oils (petroleum), hydrodesulfurized heavy vacuum, Heavy Fuel oil [A complex combination of hydrocarbons obtained from a catalytic hydrodesulfurization process. It consists of hydrocarbons having carbon numbers predominantly in the range of C20 through C50 and boiling in the range of approximately 350 °C to 600 °C (662 °F to 1112 °C). This stream is likely to contain 5 wt. % or more of 4- to 6-membered condensed ring aromatic hydrocarbons.]","Ja",null,null,null,null,"MVP 1","0,15 g/uur","0,05 mg/Nm3","2013-12-02",25]
["64742-73-0","265-178-6","Een complexe verzameling koolwaterstoffen verkregen uit een katalytisch waterstofontzwavelingsproces. Bestaat uit koolwaterstoffen overwegend C4 tot en met C11, met een kooktraject van ongeveer -20°C tot 190°C. Gehydrogeneerde nafta met laag kookpunt, Nafta (aardolie), waterstofontzwavelde lichte","Naphtha (petroleum), hydrodesulfurized light, Low boiling point hydrogen treated naphtha [A complex combination of hydrocarbons obtained from a catalytic hydrodesulfurization process. It consists of hydrocarbons having carbon numbers predominantly in the range of C4 through C11 and boiling in the range of approximately -20°C to 190°C (-4°F to 374°F).]","Ja",null,null,null,null,null,null,null,"2013-12-02",20]
["64742-82-1","265-185-4","Een complexe verzameling koolwaterstoffen verkregen uit een katalytisch waterstofontzwavelingsproces. Bestaat uit koolwaterstoffen overwegend C7 tot en met C12, met een kooktraject van ongeveer 90°C tot 230°C. Gehydrogeneerde nafta met laag kookpunt, Nafta (aardolie), waterstofontzwavelde zware","Naphtha (petroleum), hydrodesulfurized heavy, Low boiling point hydrogen treated naphtha [A complex combination of hydrocarbons obtained from a catalytic hydrodesulfurization process. It consists of hydrocarbons having carbon numbers predominantly in the range of C7 through C12 and boiling in the range of approximately 90°C to 230°C (194°F to 446°F).]","Ja",null,null,null,null,null,null,null,"2013-12-02",20]
["68478-34-2","270-815-6","Een complexe verzameling koolwaterstoffen verkregen uit het thermisch kraken van vacuümresiduen. Bestaat uit koolwaterstoffen overwegend C1 tot en met C5. Petroleumgas, Restgas (aardolie), thermische vacuümresiduenkraker","Tail gas (petroleum), vacuum residues thermal cracker, Petroleum gas [A complex combination of hydrocarbons obtained from the thermal cracking of vacuum residues. It consists of hydrocarbons having carbon numbers predominantly in the range of C1 through C5.]","Ja",null,null,null,null,null,null,null,"2013-12-02",20]
["92045-63-1","295-445-2","Een complexe verzameling koolwaterstoffen verkregen uit voorgehydrogeneerde gekraakte nafta na destillatie-scheiding van benzeen- en tolueenhoudende koolwaterstoffracties en een hoger kokende fractie. Bestaat voornamelijk uit koolwaterstoffen overwegend C4 tot en met C11, met een kooktraject van ongeveer 30°C tot 205°C. Koolwaterstoffen C4-11-, naftakraken aromaatvrij, Nafta met laag kookpunt - niet gespecifieerd","Hydrocarbons, C4-11, naphtha-cracking, arom.-free, Low boiling point naphtha - unspecified [A complex combination of hydrocarbons obtained from prehydrogenated cracked naphtha after distillative separation of benzene- and toluene-containing hydrocarbon cuts and a higher boiling fraction. It consists predominantly of hydrocarbons having carbon numbers predominantly in the range of C4 through C11 and boiling in the range of approximately 30°C to 205°C (86°F to 401°F).]","Ja",null,null,null,null,null,null,null,"2013-12-02",20]
["85029-74-9","285-098-5","Een complexe verzameling koolwaterstoffen verkregen wanneer petrolatum wordt behandeld met Al2O3 om polaire componenten en onzuiverheden te verwijderen. Het bestaat voornamelijk uit verzadigde, kristallijne en vloeibare koolwaterstoffen overwegend groter dan C25. Petrolatum petrolatum (aardolie), met alumina behandeld","Petrolatum (petroleum), alumina-treated, Petrolatum [A complex combination of hydrocarbons obtained when petrolatum is treated with Al2O3 to remove polar components and impurities. It consists predominantly of saturated, crystalline, and liquid hydrocarbons having carbon numbers predominantly greater than C25.]","Ja",null,null,null,null,null,null,null,"2013-12-02",20]
["93821-66-0","298-754-0","Een complexe verzameling koolwaterstoffen zwavelverbindingen en metaalhoudende organische verbindingen verkregen als het residu van een fractioneringskraakproces in een raffinaderv. Het vormt een voltooide olie met een viscositeit boven 2cSt. bij 100°C, Stookolie, residu-oliën (aardolie)","Residual oils (petroleum), Heavy Fuel oil [A complex combination of hydrocarbons, sulfur compounds and metal-containing organic compounds obtained as the residue from refinery fractionation cracking processes. It produces a finished oil with a viscosity above 2cSt. at 100 °C.]","Ja",null,null,null,null,null,null,null,"2013-12-02",20]
["68477-83-8","270-765-5","Een complexe verzameling olefine- en paraffine-koolwaterstoffen overwegend C3 tot en met C5, die worden gebruikt als alkyleringsreagens. De kritische temperatuur van deze mengsels ligt meestal lager dan de kamertemperatuur. Gassen (aardolie), C3-5 olefine-paraffine-alkyleringsreagens, Petroleumgas","Gases (petroleum), C3-5 olefinic-paraffinic alkylation feed, Petroleum gas [A complex combination of olefinic and paraffinic hydrocarbons having carbon numbers in the range of C3 through C5 which are used as alkylation feed. Ambient temperatures normally exceed the critical temperature of these combinations.]","Ja",null,null,null,null,null,null,null,"2013-12-02",20]
["92062-26-5","295-540-9","Een complexe verzameling organische verbindingen die wordt verkregen uit bruinkool met een kooktraject van ongeveer 200 °C tot 230 °C. Bestaat voornamelijk uit fenolen en pyridinebasen. Gedestilleerde fenolen Teerzuren kresylhoudend","Tar acids, cresylic, Distillate Phenols [A complex combination of organic compounds obtained from brown coal and boiling in the range of approximately 200°C to 230°C (392°F to 446°F). It contains chiefly phenols and pyridine bases.]","Ja",null,null,null,null,null,null,null,"2013-12-02",20]
["92062-22-1","295-536-7","Een complexe verzameling organische verbindingen die wordt verkregen uit de bruinkoolvergassing. Bestaat voornamelijk uit C6-10-hydroxyaromaatfenolen en homologen daarvan. Ruwe fenolen Teerzuren bruinkoolvergassing","Tar acids, brown-coal gasification, Crude Phenols [A complex combination of organic compounds obtained from brown coal gasification. Composed primarily of C6-10 hydroxy aromatic phenols and their homologs.]","Ja",null,null,null,null,null,null,null,"2013-12-02",20]
["68477-61-2","270-741-4","Een complexe verzameling organische verbindingen gevormd door de extractie met koud zuur van verzadigde en onverzadigde alifatische koolwaterstoffen meestal C3 tot en met C6, overwegend pentanen en amylenen. Bestaat voornamelijk uit verzadigde en onverzadigde koolwaterstoffen C4 tot en met C6, overwegend C5. Extracten (aardolie), koud zuur, C4-6, Nafta met laag kookpunt - niet gespecifieerd","Extracts (petroleum), cold-acid, C4-6, Low boiling point naphtha - unspecified [A complex combination of organic compounds produced by cold acid unit extraction of saturated and unsaturated aliphatic hydrocarbons usually ranging in carbon numbers from C3 through C6, predominantly pentanes and amylenes. It consists predominantly of saturated and unsaturated hydrocarbons having carbon numbers in the range of C4 through C6, predominantly C5.]","Ja",null,null,null,null,null,null,null,"2013-12-02",20]
["64743-01-7","265-206-7","Een complexe verzameling organische verbindingen voornamelijk carbonzuren met hoog molecuulgewicht, verkregen door de oxidatie aan lucht van petrolatum. Petrolatum petrolatum (aardolie), geoxideerd","Petrolatum (petroleum), oxidized, Petrolatum [A complex combination of organic compounds, predominantly high molecular weight carboxylic acids, obtained by the air oxidation of petrolatum.]","Ja",null,null,null,null,null,null,null,"2013-12-02",20]
["8009-03-8","232-373-2","Een complexe verzameling van koolwaterstoffen verkregen als een halfvaste stof bij het van was ontdoen van paraffinische residu-olie. Het bestaat voornamelijk uit verzadigde kristallijne en vloeibare koolwaterstoffen overwegend groter dan C25. Petrolatum","Petrolatum, Petrolatum [A complex combination of hydrocarbons obtained as a semi-solid from dewaxing paraffinic residual oil. It consists predominantly of saturated crystalline and liquid hydrocarbons having carbon numbers predominantly greater than C25.]","Ja",null,null,null,null,null,null,null,"2013-12-02",20]
["8002-05-9",null,"Een complexe verzameling van koolwaterstoffen. Bestaat voornamelijk uit alifatische, alicyclische en aromatische koolwaterstoffen. Kan ook kleine hoeveelheden stikstof-, zuurstof- en zwavelverbindingen bevatten. Deze categorie omvat lichte, middelzware en zware aardoliën alsmede oliën gewonnen uit teerzand. Koolwaterstofmaterialen die ingrvpende chemische veranderingen vereisen om te worden gewonnen of te worden omgezet in grondstoffen voor aardolieraffinage, zoals ruwe schalieolie, verbeterde schalieolie en vloeibare kolenbrandstof, zijn niet opgenomen in deze definitie. Ruwe aardolie, aardolie","Petroleum, Crude oil [A complex combination of hydrocarbons, It consists predominantly of aliphatic, alicyclic and aromatic hydrocarbons. It may also contain small amounts of nitrogen, oxygen and sulfur compounds. This category encompasses light, medium, and heavy petroleums, as well as the oils extended from tar sands. Hydrocarbonaceous materials requiring major chemical changes for their recovery or conversion to petroleum refinery feedstocks such as crude shale oils, upgraded shale oils and liquid coal fuels are not included in this definition.]","Ja",null,null,null,null,null,null,null,"2013-12-02",20]
["64742-79-6","265-182-8","Een complexe vezameling koolwaterstoffen verkregen uit een aardoliegrondstof door behandeling met waterstof om organische zwavel om te zetten in waterstofsulfide dat wordt verwijderd. Bestaat voornamelijk uit koolwaterstoffen overwegend C13 tot en met C25, met en kooktraject van ongeveer 230°C tot 400°C. Gasolie - niet gespecifieerd gasoliën (aardolie), met waterstof ontzwaveld","Gas oils (petroleum), hydrodesulfurized, Gasoil - unspecified [A complex combination of hydrocarbons obtained from a petroleum stock by treating with hydrogen to convert organic sulfur to hydrogen sulfide which is removed. It consists predominantly of hydrocarbons having carbon numbers predominantly in the range of C13 through C25 and boiling in the range of approximately 230 °C to 400 °C (446 °F to 752 °F).]","Ja",null,null,null,null,null,null,null,"2013-12-02",20]
["90669-57-1","292-651-4","Een complexe zwarte vaste of halfvaste stof die wordt verkregen uit de destillatie van een lage temperatuur-koolteer. Verweekt in het traject van 40°C tot 180°C. Voornamelijk samengesteld uit een complex mengsel van koolwaterstoffen. pek residu, pek koolteer, lage temperatuur","Pitch, coal tar, low-temp, Pitch Residue [A complex black solid or semi-solid obtained from the distillation of a low temperature coal tar. It has a softening point within the approximate range of 40 °C to 180 °C (104 °F to 356 °F). Composed primarily of a complex mixture of hydrocarbons.]","Ja",null,null,null,null,null,null,null,"2013-12-02",20]
["90669-58-2","292-653-5","Een complexe zwarte vaste stof die wordt verkregen door de warmte-behandeling van lage temperatuur-koolteerpek. Heeft een verwekingstraject van ongeveer 50°C tot 140°C. Voornamelijk samengesteld uit een complex mengsel van aromatische verbindingen. pek residu, geoxydeerd pek residu, thermisch behandeld pek koolteer, lage temperatuur, met warmte behandeld","Pitch, coal tar, low-temp., heat-treated, Pitch Residue, oxidised. Pitch Residue, heat-treated [A complex black solid obtained by the heat treatment of low temperature coal tar pitch. It has a softening point within the approximate range of 50 °C to 140 °C (122 °F to 284 °F). Composed primarily of a complex mixture of aromatic compounds.]","Ja",null,null,null,null,null,null,null,"2013-12-02",20]
["101316-87-4","309-889-2","Een destillaat uit lage-temperatuur-koolteer. Bestaat voornamelijk uit koolwaterstoffen fenolverbindingen en aromatische stikstofbasen met een kooktraject van ongeveer 160 °C tot 340 °C. Teerolie, hoogkokend Teeroliën kool lage temperatuur","Tar oils, coal, low-temp., Tar Oil, high boiling [A distillate from low-temperature coal tar. Composed primarily of hydrocarbons, phenolic compounds and aromatic nitrogen bases boiling in the range of approximately 160°C to 340°C (320°F to 644°F).]","Ja",null,null,null,null,null,null,null,"2013-12-02",20]
["93924-33-5","300-227-8","Een destillaat, verkregen uit de herdestillatie van een complexe verzameling koolwaterstoffen verkregen door destillatie van de vloeistoffen verkregen na een grondige katalytische waterstofbehandeling van paraffinen. Het heeft een kooktraject van ongeveer 190°C tot 330°C. Gasolie - niet gespecifieerd gasoliën paraffinehoudend","Gas oils, paraffinic, Gasoil - unspecified [A distillate obtained from the redistillation of a complex combination of hydrocarbons obtained by the distillation of the effluents from a severe catalytic hydrotreatment of paraffins. It boils in the range of approximately 190 °C to 330 °C (374 °F to 594 °F).]","Ja",null,null,null,null,null,null,null,"2013-12-02",20,"De getoonde waarde voor de emissiegrenswaarde wijkt af van de algemene waarde voor de MVP 1 en 2 stofklassen. De getoonde waarde geldt tot 1 januari 2025, daarna wordt de algemene waarde van kracht."]
["8052-41-3","232-489-3","Een kleurloos, geraffineerd aardoliedestillaat, vrij van ranzige of onaangename geuren met een kooktraject van ongeveer 148,8°C tot 204,4°C. Nafta met laag kookpunt - niet gespecifieerd Stoddard-oplosmiddel","Stoddard solvent, Low boiling point naphtha - unspecified [A colorless, refined petroleum distillate that is free from rancid or objectionable odors and that boils in a range of approximately 148.8°C to 204.4°C. (300°F to 400°F).]","Ja",null,null,null,null,null,null,null,"2013-12-02",20]
["122070-79-5","310-170-0","Een neutrale olie, die wordt verkregen door het van basen en fenolen ontdoen van de olie afkomstig uit de destillatie van hoge-temperatuur-teer en pyrolyse-residuoliën met een kooktraject van 225 °C tot 255 °C. Bestaat voornamelijk uit gesubstitueerde bicyclische aromatische koolwaterstoffen. Extractie-oliën (kool), koolteer en pyrolyse-residuoliën naftaleenoliën Geherdestilleerde fracties","Extract oils (coal), coal tar-residual pyrolysis oils, naphthalene oils, Redistillates [A neutral oil obtained by debasing and dephenolating the oil obtained from the distillation of high temperature tar and pyrolysis residual oils which has a boiliing range of 225°C to 255°C (437°F to 491°F). Composed primarily of substituted dinuclear aromatic hydrocarbons.]","Ja",null,null,null,null,null,null,null,"2013-12-02",20]
["101316-83-0","309-885-0","Een olie die is gedestilleerd uit bruinkoolteer. Voornamelijk samengesteld uit alifatische, naftenische en één- tot drie-rings aromatische koolwaterstoffen de alkylderivaten daarvan heteroaromaten en één- en twee-rings fenolen met een kooktraject van ongeveer 150°C tot 360°C. teer, bruinkool","Tar brown-coal [An oil distilled from brown-coal tar. Composed primarily of aliphatic, naphthenic and one- to three-ring aromatic hydrocarbons, their alkyl derivates, heteroaromatics and one- and two-ring phenols boiling in the range of approximately 150 °C to 360 °C (302 °F to 680 °F).]","Ja",null,null,null,null,"MVP 1","0,15 g/uur","0,05 mg/Nm3","2013-12-02",37]
["68553-00-4","271-384-7","Een stookolie met een minimale viscositeit van 900 SUS bij 37,7°C en een maximale viscositeit van 9000 SUS bij 37,7°C. Stookolie, brandstofolie, nr. 6","Fuel oil, No 6, Heavy Fuel oil [A distillate oil having a minimum viscosity of 900 SUS at 37.7 °C (100 °F) to a maximum of 9000 SUS at 37.7 °C (100 °F).]","Ja",null,null,null,null,null,null,null,"2013-12-02",20,"De getoonde waarde voor de emissiegrenswaarde wijkt af van de algemene waarde voor de MVP 1 en 2 stofklassen. De getoonde waarde geldt tot 1 januari 2025, daarna wordt de algemene waarde van kracht."]
["101316-84-1","309-886-6","Een teer die wordt verkregen uit de carbonisatie bij lage temperatuur en vergassing bij lage temperatuur van bruinkool. Voornamelijk samengesteld uit alifatische, naftenische en cyclische aromatische koolwaterstoffen heteroaromatische koolwaterstoffen en cyclische fenolen. teer, bruinkool lage temperatuur","Tar, brown-coal, low-temp. [A tar obtained from low temperature carbonization and low temperature gasification of brown coal. Composed primarily of aliphatic, naphthenic and cyclic aromatic hydrocarbons, heteroaromatic hydrocarbons and cyclic phenols.]","Ja",null,null,null,null,null,null,null,"2013-12-02",20]
["92045-55-1","295-436-3","Een verzameling koolwaterstoffen verkregen door destillatie van waterstofbehandelde nafta, gevolgd door een oplosmiddelextractie- en destillatieproces. Bestaat voornamelijk uit verzadigde koolwaterstoffen met een kooktraject van ongeveer 94°C tot 99°C. Gemodificeerde nafta met laag kookpunt, Koolwaterstoffen waterstofbehandelde lichte naftadestillaten oplosmiddelgeraffineerd","Hydrocarbons, hydrotreated light naphtha distillates, solvent-refined, Low boiling point modified naphtha [A combination of hydrocarbons obtained from the distillation of hydrotreated naphtha followed by a solvent extraction and distillation process. It consists predominantly of saturated hydrocarbons boiling in the range of approximately 94°C to 99°C (201°F to 210°F).]","Ja",null,null,null,null,null,null,null,"2013-12-02",20]
["68783-13-1","272-187-9","Een zeer complexe verzameling koolwaterstoffen die wordt gevormd als de residufractie uit de destillatie van vacuümresidu en de produkten uit een thermisch kraakproces. Bestaat voornamelijk uit koolwaterstoffen overwegend groter dan C20, en kookt boven 350°C. Deze stroom bevat waarschijnlijk 5 of meer gewichtsprocenten aromatische koolwaterstoffen met 4- tot 6-voudig gecondenseerde ringen. Stookolie, residuen (aardolie), verkookser-gasreiniger, bevat aromaten met gecondenseerde ringen","Residues (petroleum), coker scrubber, Condensed-ring-arom.-contg., Heavy Fuel oil [A very complex combination of hydrocarbons produced as the residual fraction from the distillation of vaccum residuum and the products from a thermal cracking process. It consists predominantly of hydrocarbons having carbon numbers predominantly greater than C20 and boiling above approximately 350 °C (662 °F). This stream is likely to contain 5 wt.% or more of 4- to 6-membered condensed rind aromatic hydrocarbons.]","Ja",null,null,null,null,"MVP 1","0,15 g/uur","0,05 mg/Nm3","2013-12-02",25]
["93821-38-6","298-725-2","Een zuur bezinksel dat als bijproduct gevormd wordt bij de zuivering met zwavelzuur van ruwe hoge-temperatuur-kool. Bestaat voornamelijk uit zwavelzuur en organische verbindingen. Extractieresiduen (kool), benzolfractie zuur, Lichte olie, extractieresidu, laagkokende fractie","Extract residues (coal), benzole fraction acid, Light Oil Extract Residues, low boiling [An acid sludge by-product of the sulfuric acid refining of crude high temperature coal. Composed primarily of sulfuric acid and organic compounds.]","Ja",null,null,null,null,null,null,null,"2013-12-02",20]
[null,null,"e-glasvezels met een representatieve samenstelling","e-glass microfibres of representative composition","Ja",null,null,null,null,"MVP 1","0,15 g/uur","0,05 mg/Nm3","2017-01-04",4]
["115-29-7","204-079-4","endosulfan","endosulfan",null,null,"Ja","Ja","Ja","MVP 1","0,15 g/uur","0,05 mg/Nm3","2013-12-02"]
["72-20-8","200-775-7","endrin","endrin",null,null,null,null,"Ja","MVP 1","0,15 g/uur","0,05 mg/Nm3","2013-12-02"]
["133855-98-8","406-850-2","epoxiconazool","epoxiconazole","Ja",null,null,null,null,"MVP 1","0,15 g/uur","0,05 mg/Nm3","2013-12-02"]
["12510-42-8",null,"erioniet","erionite","Ja",null,null,null,null,"MVP 1","0,15 g/uur","0,05 mg/Nm3","2013-12-02"]
["37894-46-5","253-704-7","etacelasil","etacelasil","Ja",null,null,null,null,"MVP 1","0,15 g/uur","0,05 mg/Nm3","2013-12-02"]
["6108-12-09",null,"eta-hexachloorcyclohexaan","eta-hexachlorocyclohexane",null,null,null,"Ja",null,"MVP 1","0,15 g/uur","0,05 mg/Nm3","2016-07-26",39]
["51000-52-3","256-905-8","ethenyl ester van neodecaanzuur","vinyl neodecanoate",null,null,null,"Ja",null,"MVP 2","100 g/uur","20 mg/Nm3","2013-12-02","1, 2"]
["103112-35-2","401-290-5","ethyl-1-(2,4-dichloorfenyl)-5-(trichloormethyl)-1H-1,2,4-triazool-3-carboxylaat","ethyl 1-(2,4-dichlorophenyl)-5-(trichloromethyl)-1H-1,2,4-triazole-3-carboxylate","Ja",null,null,null,null,"MVP 1","0,15 g/uur","0,05 mg/Nm3","2013-12-02"]
["96-45-7","202-506-9","ethyleenthioureum","ethylene thiourea","Ja","Ja",null,null,null,"MVP 1","0,15 g/uur","0,05 mg/Nm3","2013-12-02"]
["2104-64-5","218-276-8","ethyl-p-nitrofenylthiobenzeenfosfenaat","O-ethyl O-4-nitrophenyl phenylphosphonothioate",null,null,null,"Ja",null,"MVP 1","0,15 g/uur","0,05 mg/Nm3","2013-12-02"]
["71720-48-4","275-897-7","ethylwaterstofsulfaat, nikkel(II)zout","ethyl hydrogen sulfate, nickel(II) salt","Ja",null,null,null,null,"MVP 1","2,5 g/uur","0,5 mg/Nm3","2013-12-02","1, 2"]
["64742-03-6","265-102-1","extracten (aardolie), licht nafteenhoudend destillaat-solvent","Extracts (petroleum), light naphthenic distillate solvent","Ja",null,null,null,null,null,null,null,"2013-12-02",20]
["64742-05-8","265-104-2","extracten (aardolie), lichte paraffinehoudend destillaat-solvent","Extracts (petroleum), light paraffinic distillate solvent","Ja",null,null,null,null,null,null,null,"2013-12-02",20]
["91995-78-7","295-341-7","extracten (aardolie), lichte vacuümgasoliesolvent","Extracts (petroleum), light vacuum gas oil solvent","Ja",null,null,null,null,null,null,null,"2013-12-02",20]
["64742-11-6","265-111-0","extracten (aardolie), zwaar nafteenhoudend destillaat-solvent","Extracts (petroleum), heavy naphthenic distillate solvent","Ja",null,null,null,null,null,null,null,"2013-12-02",20,"Deze stof staat zelf niet in bijlage 12a van de Activiteitenregeling milieubeheer maar valt onder de groepsvermelding voor PAKs, de getoonde stofklasse is die van de groepsvermelding. De weergegeven grensmassastroom en emissiegrenswaarde zijn een voorstel op basis van de voormalige indeling als sO. De getoonde grenswaarden waarden zullen waarschijnlijk tot 1 januari 2025 gelden, daarna worden de algemene waarden van kracht.","Voor deze stof geldt: a) Alle bronnen in de inrichting mogen afzonderlijk ten hoogste 5 mg/Nm3 emitteren, indien de massastroom van een stof of de som van de onder normale procesomstandigheden gedurende één uur optredende massastromen van stoffen binnen deze stofklasse vanuit al die puntbronnen, groter of gelijk is aan 200 gram per uur. Indien voor een bron geen filtrerende afscheider kan worden toegepast, emitteert deze bron afzonderlijk niet meer dan 20 milligram per normaal kubieke meter; of b) Alle bronnen in de inrichting mogen afzonderlijk ten hoogste 20 mg/Nm3emitteren, indien de massastroom van een stof of de som van de onder normale procesomstandigheden gedurende één uur optredende massastromen van stoffen binnen deze stofklasse vanuit al die puntbronnen, kleiner is dan 200 gram per uur."]
["64742-04-7","265-103-7","extracten (aardolie), zwaar paraffinehoudend destillaat-solvent","Extracts (petroleum), heavy paraffinic distillate solvent","Ja",null,null,null,null,null,null,null,"2013-12-02",20]
["122070-80-8","310-171-6","Extractieoliën (kool), koolteer en pyrolyse-residuoliën naftaleenolie, destillatieresiduen Geherdestilleerde fracties, Residu van de destillatie van van fenolen en basen ontdane, methylnaftaleenolie (afkomstig uit bitumineuze koolteer en pyrolyse-residuoliën) met een kooktraject van 240 °C tot 260 °C. Bestaat voornamelijk uit gesubstitueerde bicyclische aromatische en heterocyclische koolwaterstoffen.","Extract oils (coal), coal tar residual pyrolysis oils, naphthalene oil, distn. residues, Redistillates [Residue from the distillation of dephenolated and debased methylnaphthalene oil (from bituminous coal tar and pyrolysis residual oils) with a boiling range of 240°C to 260°C (464°F to 500°F). Composed primarily of substituted dinuclear aromatic and heterocyclic hydrocarbons.]","Ja",null,null,null,null,null,null,null,"2013-12-02",20,"De getoonde waarde voor de emissiegrenswaarde wijkt af van de algemene waarde voor de MVP 1 en 2 stofklassen. De getoonde waarde geldt tot 1 januari 2025, daarna wordt de algemene waarde van kracht.","Deze stof staat zelf niet in bijlage 12a van de Activiteitenregeling milieubeheer maar valt onder een groepsvermelding, de getoonde stofklasse, grensmassastroom en emissiegrenswaarde zijn die van de groepsvermelding.","Deze stof wordt niet als individuele stof als ZZS geïdentificeerd maar valt onder de ZZS-stofgroep organische tinverbindingen"]
["90640-99-6","292-622-6","Extractieoliën (kool), lichte olie, Het waterige extract dat wordt verkregen door alkalisch gewassen fenololie met zuur te wassen. Bestaat voornamelijk uit zure zouten van verschillende aromatische stikstofbasen zoals pyridine en chinoline en alkylderivaten daarvan. zuurextract","Extract oils (coal), light oil, Acid Extract [The aqueous extract produced by an acidic wash of alkali-washed carbolic oil. Composed primarily of acid salts of various aromatic nitrogen bases including pyridine, quinoline and their alkyl derivatives.]","Ja",null,null,null,null,null,null,null,"2013-12-02",20]
["91995-66-3","295-329-1","Extractieoliën (kool), residuele pyrolyseoliën uit koolteer, naftaleenolie, herdestillaat, Geherdestilleerde fracties, Het herdestillaat dat afkomstig is uit de fractionele destillatie van van basen en fenolen ontdane, methylnaftaleenolie die wordt verkregen uit bitumineuze hoge-temperatuur-koolteer en residuele pyrolyseoliën met een kooktraject van ongeveer 220°C tot 230°C. Bestaat voornamelijk uit ongesubstitueerde en gesubstitueerde bicyclische aromatische koolwaterstoffen.","Extract oils (coal), coal tar-residual pyrolysis oils, naphthalene oil, redistillate, Redistillates [The redistillate from the fractional distillation of dephenolated and debased methylnaphthalene oil obtained from bituminous coal high temperature tar and pyrolysis residual oils boiling in the approximate range of 220°C to 230°C (428°F to 446°F). It consists predominantly of unsubstituted and substituted dinuclear aromatic hydrocarbons.]","Ja",null,null,null,null,null,null,null,"2013-12-02",20]
["68937-63-3","273-077-3","Extractieoliën (kool), teerbase, collidinefractie, Gedestilleerde teerbasen Het extract dat wordt gevormd door de zure extractie van basen uit aromatische oliën die afkomstig zijn uit ruwe koolteer, neutralisatie alsmede destillatie van de basen. Bestaat voornamelijk uit collidinen aniline, toluïdinen lutidinen en xylidinen.","Extract oils (coal), tar base, collidine fraction, Distillate Bases [The extract produced by the acidic extraction of bases from crude coal tar aromatic oils, neutralization, and distillation of the bases. Composed primarily of collidines, aniline, toluidines, lutidines, xylidines.]","Ja",null,null,null,null,null,null,null,"2013-12-02",20]
["65996-86-3","266-020-9","Extractieoliën (kool), teerbasen Het extract uit het alkalisch extractieresidu van koolteerolie dat wordt verkregen door te wassen met zuur, zoals verdund zwavelzuur, na destillatie om naftaleen te verwijderen. Bestaat voornamelijk uit de zure zouten van verschillende aromatische stikstofbasen zoals pyridine en chinoline en alkylderivaten daarvan. zuurextract","Extract oils (coal), tar base, Acid Extract [The extract from coal tar oil alkaline extract residue produced by an acidic wash such as aqueous sulfuric acid after distillation to remove naphthalene. Composed primarily of the acid salts of various aromatic nitrogen bases including pyridine, quinoline, and their alkyl derivatives.]","Ja",null,null,null,null,null,null,null,"2013-12-02",20]
["91995-61-8","295-323-9","Extractieresiduen (kool), benzolfractie alkalisch zuurextract, Het herdestillaat dat afkomstig is uit het destillaat, ontdaan van teerzuren en teerbasen uit bitumineuze hoge-temperatuur-koolteer en dat een kooktraject heeft van ongeveer 90°C tot 160°C. Bestaat voornamelijk uit benzeen tolueen en xylenen. Lichte olie, extractieresidu, laagkokende fractie","Extract residues (coal), benzole fraction alk., acid ext., Light Oil Extract Residues, low boiling [The redistillate from the distillate, freed of tar acids and tar bases, from bituminous coal high temperature tar boiling in the approximate range of 90°C to 160°C (194°F to 320°F). It consists predominantly of benzene, toluene and xylenes.]","Ja",null,null,null,null,null,null,null,"2013-12-02",20]
["90641-03-5","292-626-8","Extractieresiduen (kool), lichte olie alkalisch indeen-naftafractie, Het destillaat van voorfractioneringsbodemfracties, rijk aan aromatische koolwaterstoffen cumaroon naftaleen en indeen of gewassen fenololiën met een kooktraject van ongeveer 155 °C tot 180 °C. Bestaat voornamelijk uit indeen indaan en trimethylbenzenen. Lichte olie, extractieresidu, hoogkokende fractie","Extract residues (coal), light oil alk., indene naphtha fraction, Light Oil Extract Residues, high boiling [The distillate from aromatic hydrocarbons, coumarone, naphthalene and indene rich prefractionator bottoms or washed carbolic oils, having an approximate boiling range of 155°C to 180°C (311°F to 356°F). Composed primarily of indene, indan and trimethylbenzenes.]","Ja",null,null,null,null,null,null,null,"2013-12-02",20]
["101316-62-5","309-867-2","Extractieresiduen (kool), lichte olie alkalisch zuurextract, indeenfractie, Lichte olie, extractieresidu, middenfractie","Extract residues (coal), light oil alk., acid ext., indene fraction, Light Oil Extract Residues, intermediate boiling","Ja",null,null,null,null,null,null,null,"2013-12-02",20]
["90641-05-7","292-628-9","Extractieresiduen (kool), naftaleenolie alkalisch destillatieresiduen Het residu dat afkomstig is uit de destillatie van met alkali gewassen naftaleenolie, met een destillatietraject van ongeveer 220 °C tot 300 °C. Bestaat voornamelijk uit naftaleen alkylnaftalenen en aromatische stikstofbasen. Methylnaftaleenolie, extractieresidu","Extract residues (coal), naphthalene oil alk., distn. residues, Methylnaphthalene Oil Extract Residue [The residue from the distillation of alkali-washed naphthalene oil having an approximate distillation range of 220°C to 300°C (428°F to 572°F). Composed primarily of naphthalene, alkylnaphthalenes and aromatic nitrogen bases.]","Ja",null,null,null,null,null,null,null,"2013-12-02",20]
["90641-04-6","292-627-3","Extractieresiduen (kool), naftaleenolie, alkalisch destillatietopproducten Het destillaat van met alkali gewassen naftaleenolie met een kooktraject van ongeveer 180°C tot 220°C. Bestaat voornamelijk uit naftaleen alkylbenzenen indeen en indaan. Naftaleenolie, extractieresidu","Extract residues (coal), naphthalene oil alk., distn. overheads, Naphthalene Oil Extract Residue [The distillate from alkali-washed naphthalene oil having an approximate distillation range of 180°C to 220°C (356°F to 428°F). Composed primarily of naphthalene, alkylbenzenes, indene and indan.]","Ja",null,null,null,null,null,null,null,"2013-12-02",20,"Deze stof wordt niet als individuele stof als ZZS geïdentificeerd maar valt onder de ZZS-stofgroep kwikverbindingen"]
["65996-87-4","266-021-4","Extractieresiduen (kool), teerolie alkalisch fenololie, extractieresidu, Het residu dat wordt verkregen uit koolteerolie door alkalisch te wassen bijvoorbeeld met verdund natriumhydroxide, na de verwijdering van ruwe koolteerzuren. Bestaat voornamelijk uit naftalenen en aromatische stikstofbasen.","Extract residues (coal), tar oil alk., Carbolic Oil Extract Residue [The residue obtained from coal tar oil by an alkaline wash such as aqueous sodium hydroxide after the removal of crude coal tar acids. Composed primarily of naphthalenes and aromatic nitrogen bases.]","Ja",null,null,null,null,null,null,null,"2013-12-02",20,"Deze stof wordt niet als individuele stof als ZZS geïdentificeerd maar valt onder de ZZS-stofgroep kwikverbindingen"]
["90641-06-8","292-629-4","Extractieresiduen (kool), teerolie alkalisch gecarboneerd met ongebluste kalk behandeld Het product dat wordt verkregen door de behandeling van een alkalisch extract van koolteerolie met CO2 en CaO. Bestaat voornamelijk uit CaCO3, Ca(OH)2, Na2CO3 en andere organische en anorganische verontreinigingen. Ruwe fenolen","Extract residues (coal), tar oil alk., carbonated, limed, Crude Phenols [The product obtained by treatment of coal tar oil alkaline extract with CO2 and CaO. Composed primarily of CaCO3, Ca(OH)2, Na2CO3 and other organic and inorganic impurities.]","Ja",null,null,null,null,null,null,null,"2013-12-02",20,"Deze stof wordt niet als individuele stof als ZZS geïdentificeerd maar valt onder de ZZS-stofgroep kwikverbindingen"]
["73665-18-6","277-567-8","Extractieresiduen (kool), teerolie, alkalische, naftaleendestillatieresiduen Het residu dat wordt verkregen uit chemische olie die is geëxtraheerd na verwijdering van naftaleen door destillatie. Bestaat voornamelijk uit aromatische koolwaterstoffen met twee tot vier gecondenseerde ringen en aromatische stikstofbasen. Naftaleenolie, extractieresidu","Extract residues (coal), tar oil alk., naphthalene distn. residues, Naphthalene Oil Extract Residue [The residue obtained from chemical oil extracted after the removal of naphthalene by distillation composed primarily of two to four membered condensed ring aromatic hydrocarbons and aromatic nitrogen bases.]","Ja",null,null,null,null,"MVP 1","0,15 g/uur","0,05 mg/Nm3","2013-12-02",37,"Deze stof wordt niet als individuele stof als ZZS geïdentificeerd maar valt onder de ZZS-stofgroep kwikverbindingen"]
["90641-00-2","292-623-1","Extract-oliën (kool), naftaleenoliën Het waterige extract dat wordt verkregen door wassen met zuur van alkalisch gewassen naftaleenolie. Bestaat voornamelijk uit zure zouten van uiteenlopende aromatische stikstofbasen met inbegrip van pyridine, chinoline en alkylderivaten daarvan. zuur extract","Extract oils (coal), naphthalene oils, Acid Extract [The aqueous extract produced by an acidic wash of alkali-washed naphthalene oil. Composed primarily of acid salts of various aromatic nitrogen bases including pyridine, quinoline and their alkyl derivatives.]","Ja",null,null,null,null,null,null,null,"2013-12-02",20,"Deze stof wordt niet als individuele stof als ZZS geïdentificeerd maar valt onder de ZZS-stofgroep kwikverbindingen"]
["85-01-8","201-581-5","fenantreen","phenanthrene",null,null,null,null,null,"sO",null,"5 mg/Nm3","2016-05-27","5, 11, 21","Deze stof wordt niet als individuele stof als ZZS geïdentificeerd maar valt onder de ZZS-stofgroep kwikverbindingen"]
["229-87-8","205-934-4","fenantridine","phenanthridine",null,null,null,null,null,"MVP 1","0,15 g/uur","0,05 mg/Nm3","2016-05-27",19,"Deze stof wordt niet als individuele stof als ZZS geïdentificeerd maar valt onder de ZZS-stofgroep kwikverbindingen"]
["13356-08-6","236-407-7","fenbutatin","bis(tris(2-methyl-2-phenylpropyl)tin) oxide",null,null,null,null,null,"MVP 2","100 g/uur","20 mg/Nm3","2013-12-02","1, 2, 3, 36","Deze stof wordt niet als individuele stof als ZZS geïdentificeerd maar valt onder de ZZS-stofgroep kwikverbindingen"]
["74499-35-7",null,"fenol, (tetrapropenyl)- derivaten","phenol, (tetrapropenyl) derivs.","Ja",null,null,null,null,"MVP 1","0,15 g/uur","0,05 mg/Nm3","2017-01-04",4]
[null,null,"fenol, 2-dodecyl-, vertakt","phenol, 2-dodecyl-, branched","Ja",null,null,null,null,"MVP 1","0,15 g/uur","0,05 mg/Nm3","2017-01-04",4]
[null,null,"fenol, 3-dodecyl-, vertakt","phenol, 3-dodecyl-, branched","Ja",null,null,null,null,"MVP 1","0,15 g/uur","0,05 mg/Nm3","2017-01-04",4]
["210555-94-5",null,"fenol, 4-dodecyl-, vertakt","phenol, 4-dodecyl-, branched","Ja",null,null,null,null,"MVP 1","0,15 g/uur","0,05 mg/Nm3","2017-01-04",4]
["121158-58-5","310-154-3","fenol, dodecyl-, vertakt","phenol, dodecyl-, branched","Ja",null,null,null,null,"MVP 1","0,15 g/uur","0,05 mg/Nm3","2017-01-04",4]
["91079-47-9","293-435-2","fenolen C9-11","phenols, C9-11","Ja",null,null,null,null,"MVP 1","0,15 g/uur","0,05 mg/Nm3","2013-12-02"]
["77-09-8","201-004-7","fenolftaleïne","phenolphthalein","Ja","Ja",null,null,null,"MVP 1","0,15 g/uur","0,05 mg/Nm3","2013-12-02"]
["65996-82-9","266-016-7","Fenololie, Het destillaat van hoge-temperatuur-koolteer, met een destillatietraject van ongeveer 130°C tot 250°C. Bestaat voornamelijk uit naftaleen alkylnaftalenen fenolverbindingen en aromatische stikstofbasen. Teeroliën kool","Tar oils, coal, Carbolic Oil [The distillate from high temperature coal tar having an approximate distillation range of 130°C to 250°C (266°F to 410°F). Composed primarily of naphthalene, alkylnaphthalenes, phenolic compounds, and aromatic nitrogen bases.]","Ja",null,null,null,null,null,null,null,"2013-12-02",20]
["76-87-9","200-990-6","fentinhydroxide","fentin hydroxide",null,null,null,null,null,"MVP 1","0,15 g/uur","0,05 mg/Nm3","2014-04-30",18]
["100-63-0","202-873-5","fenylhydrazine","phenylhydrazine","Ja",null,null,null,null,"MVP 1","0,15 g/uur","0,05 mg/Nm3","2013-12-02",null,"De getoonde waarde voor de emissiegrenswaarde wijkt af van de algemene waarde voor de MVP 1 en 2 stofklassen. De getoonde waarde geldt tot 1 januari 2025, daarna wordt de algemene waarde van kracht."]
["59-88-1","200-444-7","fenylhydrazinechloride","phenylhydrazinium chloride","Ja",null,null,null,null,"MVP 1","0,15 g/uur","0,05 mg/Nm3","2013-12-02"]
["27140-08-5","248-259-0","fenylhydrazinehydrochloride","phenylhydrazine hydrochloride","Ja",null,null,null,null,"MVP 1","0,15 g/uur","0,05 mg/Nm3","2013-12-02"]
["52033-74-6","257-622-2","fenylhydrazinesulfaat","phenylhydrazinium sulphate","Ja",null,null,null,null,"MVP 1","0,15 g/uur","0,05 mg/Nm3","2013-12-02",null,"De getoonde waarde voor de emissiegrenswaarde wijkt af van de algemene waarde voor de MVP 1 en 2 stofklassen. De getoonde waarde geldt tot 1 januari 2025, daarna wordt de algemene waarde van kracht."]
["13302-00-6","236-326-7","fenylkwik-2-ethylhexanoaat","phenylmercury 2-ethylhexanoate",null,null,"Ja","Ja",null,"MVP 1","0,15 g/uur","0,05 mg/Nm3","2016-07-04","3, 22"]
["62-38-4","200-532-5","fenylkwikacetaat","phenylmercury acetate",null,null,"Ja","Ja",null,"MVP 1","0,15 g/uur","0,05 mg/Nm3","2016-07-04","3, 22"]
["100-57-2","202-866-7","fenylkwikhydroxide","phenylmercury hydroxide",null,null,"Ja","Ja",null,"MVP 1","0,15 g/uur","0,05 mg/Nm3","2016-07-04","3, 22"]
["26545-49-3","247-783-7","fenylkwikneodecanoaat","phenylmercury neodecanoate",null,null,"Ja","Ja",null,"MVP 1","0,15 g/uur","0,05 mg/Nm3","2016-07-04","3, 22"]
["55-68-5","200-242-9","fenylkwiknitraat","phenylmercury nitrate",null,null,"Ja","Ja",null,"MVP 1","0,15 g/uur","0,05 mg/Nm3","2016-07-04","3, 22"]
["13864-38-5",null,"fenylkwikoctanoaat","phenylmercury octanoate",null,null,"Ja","Ja",null,"MVP 1","0,15 g/uur","0,05 mg/Nm3","2016-07-04","3, 22"]
["103-27-5","203-094-3","fenylkwikpropionaat","phenylmercury propionate",null,null,"Ja","Ja",null,"MVP 1","0,15 g/uur","0,05 mg/Nm3","2016-07-04","3, 22"]
[null,null,"fenylkwikverbinding","penylmercury compound",null,null,"Ja","Ja",null,"MVP 1","0,15 g/uur","0,05 mg/Nm3","2016-07-04","3, 22","Alleen tetra-, penta-, hexa- en heptabroomdifenylether (respectievelijk CAS-nummers 40088-47-9, 32534-81-9, 36483-60-0, 68928-80-3)."]
["90035-08-8","421-960-0","flocumafen","flocoumafen","Ja",null,null,null,null,"MVP 1","0,15 g/uur","0,05 mg/Nm3","2017-01-04",4]
["69806-50-4","274-125-6","fluazifop-butyl","fluazifop-butyl","Ja",null,null,null,null,"MVP 1","0,15 g/uur","0,05 mg/Nm3","2013-12-02"]
["70124-77-5","274-322-7","flucythrinaat","flucythrinate",null,null,null,"Ja",null,"MVP 1","0,15 g/uur","0,05 mg/Nm3","2013-12-02"]
["103361-09-7",null,"flumioxazine","flumioxazin","Ja",null,null,null,null,"MVP 1","0,15 g/uur","0,05 mg/Nm3","2013-12-02"]
["206-44-0","205-912-4","fluoranteen","fluoranthene",null,null,null,null,null,"MVP 1","0,15 g/uur","0,05 mg/Nm3","2014-08-12",18]
["86-73-7","201-695-5","fluoreen","fluorene",null,null,null,null,null,"MVP 1","0,15 g/uur","0,05 mg/Nm3","2016-05-27",11]
["85509-19-9",null,"flusilazool","flusilazole","Ja",null,null,null,null,"MVP 1","0,15 g/uur","0,05 mg/Nm3","2013-12-02"]
["50-00-0","200-001-8","formaldehyde","formaldehyde","Ja",null,null,null,null,"gO.1","100 g/uur","20 mg/Nm3","2015-02-03",5]
["25214-70-4","500-036-1","formaldehyde, oligomere reactieproducten met aniline (technisch MDA)","formaldehyde, oligomeric reaction products with aniline",null,"Ja",null,null,null,"MVP 1","0,15 g/uur","0,05 mg/Nm3","2013-12-02"]
["75-12-7","200-842-0","formamide","formamide","Ja","Ja",null,null,null,"MVP 1","0,15 g/uur","0,05 mg/Nm3","2013-12-02"]
["17169-61-8",null,"fosforzuur calciumnikkelzout","phosphoric acid, calcium nickel salt","Ja",null,null,null,null,"MVP 1","2,5 g/uur","0,5 mg/Nm3","2013-12-02","1, 2"]
["94114-54-2","302-690-1","Fractie van het destillaat dat wordt verkregen door het met waterstof kraken van koolextraxt of de oplossing die wordt verkregen door extractie met vloeibaar oplosmiddel of met superkritisch gas, met een kooktraject van ongeveer 30 °C tot 180 °C. Bestaat voornamelijk uit aromatische, gehydrogeneerde aromatische en nafteenverbindingen alkylderivaten daarvan en alkanen overwegend C4 tot en met C9. Bevat eveneens stikstof-, zwavel- en zuurstofhoudende aromatische en gehydrogeneerde aromatische verbindingen. nafta (kool), oplosmiddelextractie, waterstofgekraakt","Naphtha (coal), solvent extn., hydrocracked [Fraction of the distillate obtained by hydrocracking of coal extract or solution produced by the liquid solvent extraction or supercritical gas extraction processes and boiling in the range of approximately 30°C to 180°C (86°F to 356°F). Composed primarily of aromatic, hydrogenated aromatic and naphthenic compounds, their alkyl derivatives and alkanes with carbon numbers predominantly in the range of C4 to C9. Nitrogen, sulfur and oxygen-containing aromatic and hydrogenated aromatic compounds are also present.]","Ja",null,null,null,null,null,null,null,"2013-12-02",20]
["110-00-9","203-727-3","furaan","furan","Ja","Ja",null,null,null,"MVP 2","2,5 g/uur","1 mg/Nm3","2013-12-02"]
["1303-00-0","215-114-8","galliumarsenide","gallium arsenide","Ja",null,null,null,null,"MVP 1","0,25 g/uur","0,05 mg/Nm3","2013-12-02","1, 2"]
["134237-52-8",null,"gamma-hexabroomcyclododecaan","gamma-hexabromocyclododecane",null,"Ja","Ja","Ja",null,"MVP 1","0,15 g/uur","0,05 mg/Nm3","2013-12-02"]
["58-89-9","200-401-2","gamma-hexachloorcyclohexaan","gamma-HCH",null,null,"Ja","Ja","Ja","MVP 1","0,15 g/uur","0,05 mg/Nm3","2013-12-02"]
["97488-96-5","307-035-3","Gasolie - niet gespecifieerd nafta (aardolie), solvent-geraffineerd met waterstof ontzwaveld zwaar","Naphtha (petroleum), solvent-refined hydrodesulfurized heavy, Gasoil - unspecified","Ja",null,null,null,null,null,null,null,"2013-12-02",20]
["68477-99-6","270-782-8","Gassen (aardolie), geïsomeriseerde naftafractionator, rijk aan C4, vrij van waterstofsulfide, Petroleumgas","Gases (petroleum), isomerized naphtha fractionator, C4-rich, hydrogen sulfide-free, Petroleum gas","Ja",null,null,null,null,null,null,null,"2013-12-02",20,"De getoonde waarde voor de emissiegrenswaarde wijkt af van de algemene waarde voor de MVP 1 en 2 stofklassen. De getoonde waarde geldt tot 1 januari 2025, daarna wordt de algemene waarde van kracht."]
["68477-82-7","270-763-4","Gassen (aardolie), terugvoer C6-8 katalytische reformer, rijk aan waterstof, Raffinaderijgas","Gases (petroleum), C6-8 catalytic reformer recycle, hydrogen-rich, Refinery gas","Ja",null,null,null,null,null,null,null,"2013-12-02",20]
["68477-65-6","270-746-1","Gassen (aardolie), toevoer aminesysteeM Het toevoergas naar het aminesysteem voor de verwijdering van waterstofsulfide. Bestaat uit waterstof. Kan ook koolmonoxide, kooldioxide, waterstofsulfide en alifatische koolwaterstoffen overwegend C1 tot en met C5, bevatten. Raffinaderijgas","Gases (petroleum), amine system feed, Refinery gas [The feed gas to the amine system for removal of hydrogen sulfide. It consists of hydrogen. Carbon monoxide, carbon dioxide, hydrogen sulfide and aliphatic hydrocarbons having carbon numbers predominantly in the range of C1 through C5 may also be present.]","Ja",null,null,null,null,null,null,null,"2013-12-02",20]
[null,null,"gebromeerde brandvertragers","brominated flame retardants",null,null,null,"Ja",null,"MVP 1","0,15 g/uur","0,05 mg/Nm3","2013-12-02"]
[null,null,"gebromeerde difenylethers","brominated diphenyl ethers",null,null,"Ja",null,null,"ERS","20 mg TEQ/jaar","0,1 ng TEQ/Nm3","2013-12-02",6]
["94114-29-1","302-662-9","Gedestilleerde fenolen Het destillaat van de aanzuring van met alkali gewassen bruinkoolteerdestillaat, met een kooktraject van ongeveer 200 °C tot 230 °C. Bestaat voornamelijk uit m- en p-ethylfenol alsmede kresolen en xylenolen. Teerzuren bruinkool C2-alkylfenolfractie","Tar acids, brown-coal, C2-alkylphenol fraction, Distillate Phenols [The distillate from the acidification of alkaline washed lignite tar distillate boiling in the range of approximately 200°C to 230°C (392°F to 446°F). Composed primarily of m- and p-ethylphenol as well as cresols and xylenols.]","Ja",null,null,null,null,null,null,null,"2013-12-02",20]
["68477-23-6","270-713-1","Gedestilleerde fenolen Het residu van de destillatie van lichte fenololie op het kooktraject van 235°C tot 355°C. Teerzuren residuen destillaten voorloop","Tar acids, residues, distillates, first-cut, Distillate Phenols [The residue from the distillation in the range of 235°C to 355°C (481°F to 697°F) of light carbolic oil.]","Ja",null,null,null,null,null,null,null,"2013-12-02",20]
["96690-55-0","306-251-5","Gedestilleerde fenolen Het residu van de destillatie van ruwe fenol uit kool. Bestaat voornamelijk uit fenolen overwegend C8 tot en met C10, met een verwekingstraject van 60 °C tot 80 °C. Teerzuren destillatieresiduen","Tar acids, distn. residues, Distillate Phenols [A residue from the distillation of crude phenol from coal. It consists predominantly of phenols having carbon numbers in the range of C8 through C10 with a softening point of 60°C to 80°C (140°F to 176°F).]","Ja",null,null,null,null,null,null,null,"2013-12-02",20]
["68555-24-8","271-418-0","Gedestilleerde fenolen Het residu van teerzuren afkomstig uit ruwe kool na verwijdering van fenol kresolen en xylenolen en fenolen met een hoger kookpunt. Een zwarte vaste stof met een smeltpunt van ongeveer 80°C. Bestaat voornamelijk uit polyalkylfenolen harsgommen en anorganische zouten. Teerzuren kresylhoudend residuen","Tar acids, cresylic, residues, Distillate Phenols [The residue from crude coal tar acids after removal of phenol, cresols, xylenols and any higher boiling phenols. A black solid with a melting point approximately 80°C (176°F). Composed primarily of polyalkylphenols, resin gums, and inorganic salts.]","Ja",null,null,null,null,null,null,null,"2013-12-02",20]
["92062-29-8","295-544-0","Gedestilleerde teerbasen Het destillatieresidu dat achterblijft na de destillatie van de geneutraliseerde met zuur geëxtraheerde basehoudende teerfracties die worden verkregen door de destillatie van koolteer. Bevat voornamelijk aniline, collidinen chinoline, chinolinederivaten en toluïdinen. Teerbasen kool destillatieresiduen","Tar bases, coal, distn. residues, Distillate Bases [The distillation residue remaining after the distillation of the neutralized, acid-extracted base-containing tar fractions obtained by the distillation of coal tars. It contains chiefly aniline, collidines, quinoline and quinoline derivatives and toluidines.]","Ja",null,null,null,null,null,null,null,"2013-12-02",20]
["92062-33-4","295-548-2","Gedestilleerde teerbasen Pyridinebasen met een kooktraject van ongeveer 125°C tot 160°C die worden verkregen door destillatie van geneutraliseerd zuurextract van de basebevattende teerfractie die wordt verkregen door de destillatie van bitumineuze koolteer. Bestaat voornamelijk uit lutidinen en picolinen. Teerbasen kool picolinefractie","Tar bases, coal, picoline fraction, Distillate Bases [Pyridine bases boiling in the range of approximately 125°C to 160°C (257°F 320°F) obtained by distillation of neutralized acid extract of the base-containing tar fraction obtained by the distillation of bituminous coal tars. Composed chiefly of lutidines and picolines.]","Ja",null,null,null,null,null,null,null,"2013-12-02",20]
["68513-87-1","271-020-7","Gedestilleerde teerbasen Teerbasen chinolinederivaten","Tar bases, quinoline derivs., Distillate Bases","Ja",null,null,null,null,null,null,null,"2013-12-02",20]
["70321-67-4","274-560-1","Gedestilleerde teerbasen Teerbasen kool fractie van chinolinederivaten","Tar bases, coal, quinoline derivs. fraction, Distillate Bases","Ja",null,null,null,null,null,null,null,"2013-12-02",20]
["91082-52-9","293-766-2","Gedestilleerde teerbasen Teerbasen kool lutidinefractie","Tar bases, coal, lutidine fraction, Distillate Bases","Ja",null,null,null,null,null,null,null,"2013-12-02",20]
["91082-53-0","293-767-8","Gedestilleerde teerbasen Teerbasen kool toluïdinefractie","Tar bases, coal, toluidine fraction, Distillate Bases","Ja",null,null,null,null,null,null,null,"2013-12-02",20]
[null,null,"geëthoxyleerd 4-(1,1,3,3-tetramethylbutyl)fenol","ethoxylated 4-(1,1,3,3-tetramethylbutyl)phenol [covering well-defined substances and UVCB substances, polymers and homologues]",null,"Ja",null,null,null,"MVP 1","0,15 g/uur","0,05 mg/Nm3","2013-12-02"]
[null,null,"geëthoxyleerd lineair en vertakt 4-nonylfenol","ethoxylated branched and linear 4-nonylphenol",null,"Ja",null,"Ja",null,"MVP 1","0,15 g/uur","0,05 mg/Nm3","2013-12-02"]
["92045-51-7","295-432-1","Gehydrogeneerde nafta met laag kookpunt, Nafta (aardolie), met stoom gekraakte zware fractie, gehydrogeneerd","Naphtha (petroleum), heavy steam-cracked, hydrogenated, Low boiling point hydrogen treated naphtha","Ja",null,null,null,null,null,null,null,"2013-12-02",20]
["92045-29-9","295-411-7","Gekraakte gasolie, gasoliën (aardolie), thermisch gekraakt, met water ontzwaveld","Gas oils (petroleum), thermal-cracked, hydrodesulfurized, Cracked gasoil","Ja",null,null,null,null,null,null,null,"2013-12-02",20]
["8030-30-6","232-443-2","Geraffineerde, deels geraffineerde of ongeraffineerde aardolieproducten verkregen door destillatie van aardgas. Bestaat uit koolwaterstoffen overwegend C5 tot en met C6, met een kooktraject van ongeveer 100°C tot 200°C. Nafta, Nafta met laag kookpunt","Naphtha, Low boiling point naphtha [Refined, partly refined, or unrefined petroleum products produced by the distillation of natural gas. It consists of hydrocarbons having carbon numbers predominantly in the range of C5 through C6 and boiling in the range of approximately 100°C to 200°C (212°F to 392°F).]","Ja",null,null,null,null,null,null,null,"2013-12-02",20]
["77182-82-2","278-636-5","glufosinaat-ammonium","ammonium 2-amino-4-(hydroxymethylphosphinyl)butyrate","Ja",null,null,null,null,"MVP 1","0,15 g/uur","0,05 mg/Nm3","2013-12-02"]
["556-52-5","209-128-3","glycidol","2,3-epoxypropan-1-ol","Ja",null,null,null,null,"MVP 2","2,5 g/uur","1 mg/Nm3","2013-12-02"]
[null,null,"HCH-verbindingen som","hexachlorocyclohexane isomers",null,null,null,"Ja",null,"MVP 1","0,15 g/uur","0,05 mg/Nm3","2016-07-26"]
["12035-71-1",null,"heazlewoodiet","heazlewoodite","Ja",null,null,null,null,"MVP 1","2,5 g/uur","0,5 mg/Nm3","2013-12-02","1, 2"]
["68928-80-3","273-031-2","heptabroomdifenylether","heptabromodiphenyl ether",null,null,"Ja","Ja","Ja","ERS","20 mg TEQ/jaar","0,1 ng TEQ/Nm3","2014-08-12",6]
["76-44-8","200-962-3","heptachloor","heptachlor",null,null,"Ja",null,"Ja","MVP 1","0,15 g/uur","0,05 mg/Nm3","2013-12-02"]
["1024-57-3","213-831-0","heptachloorepoxide","heptachlor epoxide",null,null,"Ja",null,null,"MVP 1","0,15 g/uur","0,05 mg/Nm3","2013-12-02"]
["32241-08-0","250-969-0","heptachloornaftaleen","heptachloronaphthalene",null,null,null,"Ja","Ja","ERS","20 mg TEQ/jaar","0,1 ng TEQ/Nm3","2013-12-02"]
["28680-45-7","249-153-7","heptachloornorborneen","heptachlorobicyclo[2.2.1]hept-2-ene",null,null,null,"Ja",null,"MVP 1","0,15 g/uur","0,05 mg/Nm3","2013-12-02"]
["91082-50-7","293-764-1","Het bezinksel dat wordt verwijderd uit ruwe koolteeropslag. Voornamelijk samengesteld uit koolteer en koolstofhoudend deeltjesmateriaal. Steenkoolteer, vaste bestanddelen teer, kool opslagresiduen","Tar, coal, storage residues, Coal Tar Solids Residue [The deposit removed from crude coal tar storages. Composed primarily of coal tar and carbonaceous particulate matter.]","Ja",null,null,null,null,null,null,null,"2013-12-02",20]
["8007-45-2","232-361-7","Het bijprodukt van de destructieve destillatie van steenkool. Nagenoeg zwarte halfvaste stof. Een complexe verzameling van aromatische koolwaterstoffen fenolische verbindingen stikstofbasen en thiofeen. Koolteer, teer, steenkool","Tar, coal, Coal tar [The by-product from the destructive distillation of coal. Almost black semisolid. A complex combination of aromatic hydro-carbons, phenolic compounds, nitrogen bases and thiophene.]","Ja",null,null,null,null,null,null,null,"2013-12-02",20]
["65996-89-6","266-024-0","Het condensatieprodukt dat wordt verkregen door afkoeling tot ongeveer omgevingstemperatuur van het gas dat vrijkomt bij de destructieve destillatie van kool bij hoge temperatuur (hoger dan 700°C). Een zwarte viskeuze vloeistof met een dichtheid groter dan water. Voornamelijk samengesteld uit een complex mengsel van aromatische koolwaterstoffen met gecondenseerde ringen. Kan ondergeschikte hoeveelheden fenolhoudende verbindingen en aromatische stikstofbasen bevatten. Koolteer, teer, kool hoge temperatuur","Tar, coal, high-temp., Coal tar [The condensation product obtained by cooling, to approximately ambient temperature, the gas evolved in the high temperature (greater than 700 °C (1292 °F)) destructive distillation of coal. A black viscous liquid denser than water. Composed primarily of a complex mixture of condensed ring aromatic hydrocarbons. May contain minor amounts of phenolic compounds and aromatic nitrogen bases.]","Ja",null,null,null,null,"MVP 1","0,15 g/uur","0,05 mg/Nm3","2013-12-02",37]
["65996-90-9","266-025-6","Het condensatieprodukt dat wordt verkregen door afkoeling tot ongeveer omgevingstemperatuur van het gas dat vrijkomt bij de destructieve destillatie van kool bij lage temperatuur (lager dan 700°C). Een zwarte viskeuze vloeistof met een grotere dichtheid dan water. Voornamelijk samengesteld uit aromatische koolwaterstoffen met gecondenseerde ringen fenolhoudende verbindingen en aromatische stikstofbasen en hun alkylderivaten. Petroleum teer, kool lage temperatuur","Tar, coal, low-temp., Coal oil [The condensation product obtained by cooling, to approximately ambient temperature, the gas evolved in low temperature (less than 700 °C (1292 °F)) destructive distillation of coal. A black viscous liquid denser than water. Composed primarily of condensed ring aromatic hydrocarbons, phenolic compounds, aromatic nitrogen bases, and their alkyl derivatives.]","Ja",null,null,null,null,"MVP 1","0,15 g/uur","0,05 mg/Nm3","2013-12-02",37]
["68990-61-4","273-615-7","Het condensatieprodukt dat wordt verkregen door koelen tot ongeveer omgevingstemperatuur, van het gas dat vrijkomt bij de destructieve destillatie bij hoge temperatuur (boven 700°C) van kool. Voornamelijk samengesteld uit een complex mengsel van aromatische koolwaterstoffen met gecondenseerde ringen en heeft een hoog gehalte aan vaste kool- en cokesachtige materialen. Steenkoolteer, vaste bestanddelen teer, kool-, hoge temperatuur, hoge gehaltes aan vaste stof","Tar, coal, high-temp., high-solids, Coal Tar Solids Residue [The condensation product obtained by cooling, to approximately ambient temperature, the gas evolved in the high temperature (greater than 700 °C (1292 °F)) destructive distillation of coal. Composed primarily of a complex mixture of condensed ring aromatic hydrocarbons with a high solid content of coal-type materials.]","Ja",null,null,null,null,"MVP 1","0,15 g/uur","0,05 mg/Nm3","2013-12-02",37]
["91995-51-6","295-312-9","Het destillaat dat afkomstig is uit de destillatie van de pek die wordt verkregen uit bitumineuze hoge temperatuur teer. Voornamelijk samengesteld uit tri- en polynucleaire aromatische koolwaterstoffen met een kooktraject van ongeveer 300°C tot 470°C. Het produkt kan tevens hetero-atomen bevatten. Zware anthraceen olie, destillaten (koolteer), pek zware oliën","Distillates (coal tar), pitch, heavy oils, Heavy Anthracene Oil [The distillate from the distillation of the pitch obtained from bituminous high temperature tar. Composed primarily of tri- and polynuclear aromatic hydrocarbons and boiling in the range of approximately 300 °C to 470 °C (572 °F to 878 °F). The product may also contain heteroatoms.]","Ja",null,null,null,null,null,null,null,"2013-12-02",20]
["65996-79-4","266-013-0","Het destillaat dat wordt verkregen uit het alkalische extractieresidu van hoge-temperatuur-koolteer, lichte olie uit de cokesoven of koolteerolie, met een destillatietraject van ongeveer 130°C tot 210°C. Bestaat voornamelijk uit indeen en andere polycyclische ringsystemen die één aromatische ring bevatten. Kan fenolverbindingen en aromatische stikstofbasen bevatten. Lichte olie, extractieresidu, hoogkokende fractie, Solventnafta (kool)","Solvent naphtha (coal), Light Oil Extract Residues, high boiling [The distillate from either high temperature coal tar, coke oven light oil, or coal tar oil alkaline extract residue having an approximate distillation range of 130°C to 210°C (266°F to 410°F). Composed primarily of indene and other polycyclic ring systems containing a single aromatic ring. May contain phenolic compounds and aromatic nitrogen bases.]","Ja",null,null,null,null,null,null,null,"2013-12-02",20]
["94114-40-6","302-674-4","Het destillaat van bruinkoolteer, met een kooktraject van ongeveer 80°C tot 250°C. Bestaat voornamelijk uit alifatische en aromatische koolwaterstoffen en monobasische fenolen. Lichte olie, Teeroliën bruinkool","Tar oils, brown-coal, Light Oil [The distillate from lignite tar boiling in the range of approximately 80°C to 250°C (176°F to 482°F). Composed primarily of aliphatic and aromatic hydrocarbons and monobasic phenols.]","Ja",null,null,null,null,null,null,null,"2013-12-02",20]
["65996-92-1","266-027-7","Het destillaat van koolteer met een destillatietraject van ongeveer 100°C tot 450°C. Voornamelijk samengesteld uit aromatische koolwaterstoffen met twee- tot viervoudig condenseerde ringen fenolhoudende verbindingen en aromatische stikstofbasen. Zware anthraceen olie, destillaten (koolteer)","Distillates (coal tar), Heavy Anthracene Oil [The distillate from coal tar having an approximate distillation range of 100 °C to 450 °C (212 °F to 842 °F). Composed primarily of two to four membered condensed ring aromatic hydrocarbons, phenolic compounds, and aromatic nitrogen bases.]","Ja",null,null,null,null,"MVP 1","0,15 g/uur","0,05 mg/Nm3","2013-12-02",37]
["91995-52-7","295-313-4","Het herdestillaat dat wordt verkregen uit de gefractioneerde destillatie van pekdestillaat en een kooktraject heeft van ongeveer 380°C tot 410°C. Voornamelijk samengesteld uit tri- en polynucleaire aromatische koolwaterstoffen en heterocyclische verbindingen. Zware anthraceen olie, destillaat, destillaten (koolteer), pek pyreenfractie","Distillates (coal tar), pitch, pyrene fraction, Heavy Anthracene Oil Redistillate [The redistillate obtained from the fractional distillation of pitch distillate and boiling in the range of approximately 380 °C to 410 °C (7160 to 770 °F). Composed primarily of tri- and polynuclear aromatic hydrocarbons and heterocyclic compounds.]","Ja",null,null,null,null,null,null,null,"2013-12-02",20]
["91995-42-5","295-304-5","Het herdestillaat dat wordt verkregen uit de gefractioneerde destillatie van pekdestillaat met een kooktraject van ongeveer 350°C tot 400°C. Bestaat voornamelijk uit tri- en polynucleaire aromaten en heterocyclische koolwaterstoffen. Zware anthraceen olie, destillaat, destillaten (koolteer), zware oliën pyreenfractie","Distillates (coal tar), heavy oils, pyrene fraction, Heavy Anthracene Oil Redistillate [The redistillate obtained from the fractional distillation of pitch distillate boiling in the range of approximately 350 °C to 400 °C (662 °F to 752 °F). Consists predominantly of tri- and polynuclear aromatics and heterocyclic hydrocarbons.]","Ja",null,null,null,null,null,null,null,"2013-12-02",20]
["94114-48-4","302-683-3","Het in wezen solvent-vrije produkt, verkregen bij de destillatie van het solvent van een gefilterde koolextractie oplossing, geproduceerd door kool op te lossen in een vloeibaar solvent. Een zwarte halfvaste stof, voornamelijk samengesteld uit een complexe verzameling aromatische koolwaterstoffen met gecondenseerde ringsystemen aromatische stikstofverbindingen fenolachtige verbindingen en andere aromatische zuurstofverbindingen en de alkylderivaten daarvan. koolvloeistoffen vloeibaar solvent-extracten","Coal liquids, liq. solvent extn. [The substantially solvent-free product obtained by the distillation of the solvent from filtered coal extract solution produced by digesting coal in a liquid solvent. A black semi-solid, composed primarily of a complex combination of condensed-ring aromatic hydrocarbons, aromatic nitrogen compounds, aromatic sulfur compounds, phenolic compounds and other aromatic oxygen compounds, and their alkyl derivatives.]","Ja",null,null,null,null,"MVP 1","0,15 g/uur","0,05 mg/Nm3","2013-12-02",37]
["121575-60-8","310-162-7","Het met warmte behandelde residu van de destillatie van hoge-temperatuur-koolteer. Het is een zwarte vaste stof met een verwekingstraject van ongeveer 80°C tot 180°C. Voornamelijk samengesteld uit een complex mengsel van aromatische koolwaterstoffen met drie of meer gecondenseerde ringen. pek pek koolteer, hoge temperatuur, warmte-behandeld","Pitch, coal tar, high-temp., heat-treated, Pitch [The heat treated residue from the distillation of high temperature coal tar. A black solid with an approximate softening point from 80 °C to 180 °C (176 °F to 356 °F). Composed primarily of a complex mixture of three or more membered condensed ring aromatic hydrocarbons.]","Ja",null,null,null,null,"MVP 1","0,15 g/uur","0,05 mg/Nm3","2013-12-02",37]
["90669-59-3","292-654-0","Het produkt dat wordt verkregen door het doorblazen met lucht, bij verhoogde temperatuur, van lage temperatuur-koolteerpek. Heeft een verwekingstraject van ongeveer 70°C tot 180°C. Voornamelijk samengesteld uit een complex mengsel van koolwaterstoffen. pek residu, geoxydeerd pek koolteer, lage temperatuur, geoxideerd","Pitch, coal tar, low-temp., oxidized, Pitch Residue, oxidised [The product obtained by air-blowing, at elevated temperature, low-temperature coal tar pitch. It has a softening-point within the approximate range of 70 °C to 180 °C (158 °F to 356 °F). Composed primarily of a complex mixture of hydrocarbons.]","Ja",null,null,null,null,null,null,null,"2013-12-02",20]
["94114-47-3","302-682-8","Het produkt verkregen na filtratie van minerale stoffen uit kool en onopgeloste kool van een koolextract oplossing geproduceerd door kool op te lossen in een vloeibaar solvent. Een zwarte, viskeuze, zeer complexe vloeibare combinatie, voornamelijk samengesteld uit aromatische en gedeeltelijk gehydrogeneerde aromatische koolwaterstoffen aromatische stikstofverbindingen aromatische zwavelverbindingen fenolische en andere aromatische zuurstofverbindingen en de alkylderivaten daarvan. koolvloeistoffen vloeibaar solventextractie oplossing","Coal liquids, liq. solvent extn. soln. [The product obtained by filtration of coal mineral matter and undissolved coal from coal extract solution produced by digesting coal in a liquid solvent. A black, viscous, highly complex liquid combination composed primarily of aromatic and partly hydro-genated aromatic hydrocarbons, aromatic nitrogen compounds, aromatic sulfur compounds, phenolic and other aromatic oxygen compounds and their alkyl derivatives.]","Ja",null,null,null,null,null,null,null,"2013-12-02",20]
["65996-84-1","266-018-8","Het reactieproduct dat wordt verkregen door extractieolie uit koolteerbase met een alkalische oplossing, zoals verdund natriumhydroxide, te neutraliseren om de vrije basen te verkrijgen. Bestaat voornamelijk uit organische basen zoals acridine, fenantridine, pyridine, chinoline en hun alkylderivaten. Ruwe teerbasen Teerbasen kool ruw","Tar bases, coal, crude, Crude Tar Bases [The reaction product obtained by neutralizing coal tar base extract oil with an alkaline solution, such as aqueous sodium hydroxide, to obtain the free bases. Composed primarily of such organic bases as acridine, phenanthridine, pyridine, quinoline and their alkyl derivatives.]","Ja",null,null,null,null,null,null,null,"2013-12-02",20]
["91697-23-3","294-285-0","Het residu dat afkomstig is van de tolueenextractie van gedroogde bruinkool. Steenkoolteer extract, extractresiduen (kool), bruin","Extract residues (coal), brown, Coal Tar Extract [The residue from extraction of dried coal.]","Ja",null,null,null,null,null,null,null,"2013-12-02",20]
["90641-12-6","292-636-2","Het residu dat resteert uit de destillatie van herwonnen nafta. Bestaat voornamelijk uit naftaleen en condensatieproducten van indeen en styreen. Lichte olie, herdestillaat, hoogkokende fractie, Nafta (kool), destillatieresiduen","Naphtha (coal), distn. residues, Light Oil Redistillate, high boiling [The residue remaining from the distillation of recovered naphtha. Composed primarily of naphthalene and condensation products of indene and styrene.]","Ja",null,null,null,null,null,null,null,"2013-12-02",20]
["92061-93-3","295-506-3","Het residu van de fractionele destillatie van wasolie, met een kooktraject van ongeveer 270°C tot 330°C. Bestaat voornamelijk uit bicyclische aromatische en heterocyclische koolwaterstoffen. Residuen (koolteer), creosootolie-destillatie, Wasolie, herdestillaat","Residues (coal tar), creosote oil distn., Wash Oil Redistillate [The residue from the fractional distillation of wash oil boiling in the approximate range of 270°C to 330°C (518°F to 626°F). It consists predominantly of dinuclear aromatic and heterocyclic hydrocarbons.]","Ja",null,null,null,null,null,null,null,"2013-12-02",20]
["94114-13-3","302-650-3","Het residu, verkregen tvdens de destillatie van hoogkokende fracties uit hoge temperatuur teer uit bitumineuze kool en/of pek-cokes-olie, met een verwekingspunt van 140°C tot 170°C volgens DIN 52025. Bestaat voornamelijk uit tri- en meerkernige aromatische verbindingen die ook heteroatomen bevatten. pek destillaat, pek koolteer, hoge temperatuur, secundair","Pitch, coal tar, high-temp., secondary, Pitch Redistillate [The residue obtained during the distillation of high boiling fractions from bituminous coal high temperature tar and/or pitch coke oil, with a softening point of 140 °C to 170 °C (284 °F to 392 °F) according to DIN 52025. Composed primarily of tri- and polynuclear aromatic compounds which also contain heteroatoms.]","Ja",null,null,null,null,null,null,null,"2013-12-02",20]
["68476-33-5","270-675-6","Het vloeibare produkt dat wordt verkregen uit verscheidene raffineringsstromen gewoonlijk residuen. De samenstelling is ingewikkeld en varieert met de herkomst van de ruwe olie. Stookolie, brandstofolie, residuaal","Fuel oil, residual, Heavy Fuel oil [The liquid product from various refinery streams, usually residues. The composition is complex and varies with the source of the crude oil.]","Ja",null,null,null,null,null,null,null,"2013-12-02",20]
["36355-01-8","252-994-2","hexabroombifenyl","hexabromo-1,1'-biphenyl",null,null,null,"Ja","Ja","ERS","20 mg TEQ/jaar","0,1 ng TEQ/Nm3","2013-12-02"]
["36483-60-0","253-058-6","hexabroomdifenylether","hexabromodiphenyl ether",null,null,"Ja","Ja","Ja","ERS","20 mg TEQ/jaar","0,1 ng TEQ/Nm3","2014-08-12",6]
["118-74-1","204-273-9","hexachloorbenzeen","hexachlorobenzene","Ja",null,"Ja",null,"Ja","MVP 1","0,15 g/uur","0,05 mg/Nm3","2013-12-02",43]
["87-68-3","201-765-5","hexachloorbutadieen","hexachlorobuta-1,3-diene",null,null,"Ja",null,"Ja","MVP 1","0,15 g/uur","0,05 mg/Nm3","2013-12-02",null,"De getoonde waarde voor de emissiegrenswaarde wijkt af van de algemene waarde voor de MVP 1 en 2 stofklassen. De getoonde waarde geldt tot 1 januari 2025, daarna wordt de algemene waarde van kracht."]
["608-73-1","210-168-9","hexachloorcyclohexaan","hexachlorocyclohexane (technical)",null,null,"Ja","Ja","Ja","MVP 1","0,15 g/uur","0,05 mg/Nm3","2013-12-02"]
[null,null,"hexachloorcyclohexanen","hexachlorocyclohexanes",null,null,null,"Ja",null,"MVP 1","0,15 g/uur","0,05 mg/Nm3","2016-07-26"]
["77-47-4","201-029-3","hexachloorcyclopentadieen","hexachlorocyclopentadiene",null,null,null,null,null,"MVP 1","0,15 g/uur","0,05 mg/Nm3","2013-12-02",9]
["1335-87-1","215-641-3","hexachloornaftaleen","hexachloronaphthalene",null,null,null,"Ja","Ja","ERS","20 mg TEQ/jaar","0,1 ng TEQ/Nm3","2013-12-02",null,"De getoonde waarde voor de emissiegrenswaarde wijkt af van de algemene waarde voor de MVP 1 en 2 stofklassen. De getoonde waarde geldt tot 1 januari 2025, daarna wordt de algemene waarde van kracht."]
["335-57-9","206-392-1","hexadecafluorheptaan","hexadecafluoroheptane",null,null,null,null,null,"ERS","20 mg TEQ/jaar","0,1 ng TEQ/Nm3","2013-12-02",9,"De getoonde waarde voor de emissiegrenswaarde wijkt af van de algemene waarde voor de MVP 1 en 2 stofklassen. De getoonde waarde geldt tot 1 januari 2025, daarna wordt de algemene waarde van kracht."]
["48122-14-1","256-356-4","hexahydro-1-methylftaalzuur-anhydride","hexahydro-1-methylphthalic anhydride",null,"Ja",null,null,null,"MVP 1","0,15 g/uur","0,05 mg/Nm3","2013-12-02"]
["57110-29-9","260-566-1","hexahydro-3-methylftaalzuur-anhydride","hexahydro-3-methylphthalic anhydride",null,"Ja",null,null,null,"MVP 1","0,15 g/uur","0,05 mg/Nm3","2013-12-02",null,"Deze stof wordt niet als individuele stof als ZZS geïdentificeerd maar valt onder de ZZS-stofgroep kwikverbindingen"]
["85-42-7","201-604-9","hexahydroftaalzuur-anhydride","cyclohexane-1,2-dicarboxylic anhydride",null,"Ja",null,null,null,"MVP 1","0,15 g/uur","0,05 mg/Nm3","2013-12-02",null,"Deze stof wordt niet als individuele stof als ZZS geïdentificeerd maar valt onder de ZZS-stofgroep kwikverbindingen"]
["13149-00-3","236-086-3","hexahydroftaalzuur-anhydride (cis-isomeer)","cis-cyclohexane-1,2-dicarboxylic anhydride",null,"Ja",null,null,null,"MVP 1","0,15 g/uur","0,05 mg/Nm3","2013-12-02"]
["14166-21-3","238-009-9","hexahydroftaalzuur-anhydride (trans-isomeer)","trans-cyclohexane-1,2-dicarboxylic anhydride",null,"Ja",null,null,null,"MVP 1","0,15 g/uur","0,05 mg/Nm3","2013-12-02"]
["680-31-9","211-653-8","hexamethylfosforamide","hexamethylphosphoric triamide","Ja",null,null,null,null,"MVP 1","0,15 g/uur","0,05 mg/Nm3","2013-12-02",null,"De getoonde waarde voor de emissiegrenswaarde wijkt af van de algemene waarde voor de MVP 1 en 2 stofklassen. De getoonde waarde geldt tot 1 januari 2025, daarna wordt de algemene waarde van kracht.","Deze stof staat zelf niet in bijlage 12a van de Activiteitenregeling milieubeheer maar valt onder een groepsvermelding, de getoonde stofklasse, grensmassastroom en emissiegrenswaarde zijn die van de groepsvermelding."]
["7803-57-8","206-114-9","hydraten van hydrazine","hydrates of hydrazine",null,"Ja",null,null,null,"MVP 2","2,5 g/uur","1 mg/Nm3","2013-12-02",null,"De getoonde waarde voor de emissiegrenswaarde wijkt af van de algemene waarde voor de MVP 1 en 2 stofklassen. De getoonde waarde geldt tot 1 januari 2025, daarna wordt de algemene waarde van kracht.","Deze stof staat zelf niet in bijlage 12a van de Activiteitenregeling milieubeheer maar valt onder een groepsvermelding, de getoonde stofklasse, grensmassastroom en emissiegrenswaarde zijn die van de groepsvermelding."]
["302-01-2","206-114-9","hydrazine","hydrazine","Ja","Ja",null,null,null,"MVP 2","2,5 g/uur","1 mg/Nm3","2013-12-02",null,"De getoonde waarde voor de emissiegrenswaarde wijkt af van de algemene waarde voor de MVP 1 en 2 stofklassen. De getoonde waarde geldt tot 1 januari 2025, daarna wordt de algemene waarde van kracht."]
[null,"405-030-1","hydrazinebis(3-carboxy-4-hydroxybenzeensulfonaat)","hydrazine bis(3-carboxy-4-hydroxybenzensulfonate)","Ja",null,null,null,null,"MVP 2","2,5 g/uur","1 mg/Nm3","2013-12-02",null,"De getoonde waarde voor de emissiegrenswaarde wijkt af van de algemene waarde voor de MVP 1 en 2 stofklassen. De getoonde waarde geldt tot 1 januari 2025, daarna wordt de algemene waarde van kracht."]
[null,"414-850-9","hydrazine-tri-nitromethaan","hydrazine-tri-nitromethane","Ja",null,null,null,null,"MVP 2","2,5 g/uur","1 mg/Nm3","2013-12-02",null,"De getoonde waarde voor de emissiegrenswaarde wijkt af van de algemene waarde voor de MVP 1 en 2 stofklassen. De getoonde waarde geldt tot 1 januari 2025, daarna wordt de algemene waarde van kracht."]
["122-66-7","204-563-5","hydrazobenzeen","hydrazobenzene","Ja",null,null,null,null,"MVP 1","0,15 g/uur","0,05 mg/Nm3","2013-12-02",null,"De getoonde waarde voor de emissiegrenswaarde wijkt af van de algemene waarde voor de MVP 1 en 2 stofklassen. De getoonde waarde geldt tot 1 januari 2025, daarna wordt de algemene waarde van kracht."]
["288-32-4","206-019-2","imidazool","imidazole","Ja",null,null,null,null,"MVP 1","0,15 g/uur","0,05 mg/Nm3","2015-09-02",4,"De getoonde waarde voor de emissiegrenswaarde wijkt af van de algemene waarde voor de MVP 1 en 2 stofklassen. De getoonde waarde geldt tot 1 januari 2025, daarna wordt de algemene waarde van kracht."]
["95-13-6","202-393-6","indeen","indene",null,null,null,null,null,"MVP 1","0,15 g/uur","0,05 mg/Nm3","2016-05-27",11,"De getoonde waarde voor de emissiegrenswaarde wijkt af van de algemene waarde voor de MVP 1 en 2 stofklassen. De getoonde waarde geldt tot 1 januari 2025, daarna wordt de algemene waarde van kracht."]
["193-39-5","205-893-2","indeno[1,2,3-cd]pyreen","indeno[1,2,3-cd]pyrene",null,null,"Ja",null,null,"MVP 1","0,15 g/uur","0,05 mg/Nm3","2013-12-02",null,"De getoonde waarde voor de emissiegrenswaarde wijkt af van de algemene waarde voor de MVP 1 en 2 stofklassen. De getoonde waarde geldt tot 1 januari 2025, daarna wordt de algemene waarde van kracht."]
["22398-80-7","244-959-5","indium fosfide","indium phosphide","Ja",null,null,null,null,"MVP 1","0,15 g/uur","0,05 mg/Nm3","2013-12-02",null,"De getoonde waarde voor de emissiegrenswaarde wijkt af van de algemene waarde voor de MVP 1 en 2 stofklassen. De getoonde waarde geldt tot 1 januari 2025, daarna wordt de algemene waarde van kracht."]
["75-28-5","200-857-2","isobutaan","isobutane","Ja",null,null,null,null,"MVP 2","2,5 g/uur","1 mg/Nm3","2013-12-02",30,"De getoonde waarde voor de emissiegrenswaarde wijkt af van de algemene waarde voor de MVP 1 en 2 stofklassen. De getoonde waarde geldt tot 1 januari 2025, daarna wordt de algemene waarde van kracht."]
["542-56-3","208-819-7","isobutylnitriet","isobutyl nitrite","Ja",null,null,null,null,"MVP 2","2,5 g/uur","1 mg/Nm3","2013-12-02",null,"De getoonde waarde voor de emissiegrenswaarde wijkt af van de algemene waarde voor de MVP 1 en 2 stofklassen. De getoonde waarde geldt tot 1 januari 2025, daarna wordt de algemene waarde van kracht."]
["465-73-6","207-366-2","isodrin","isodrin",null,null,null,"Ja",null,"MVP 1","0,15 g/uur","0,05 mg/Nm3","2013-12-02",null,"De getoonde waarde voor de emissiegrenswaarde wijkt af van de algemene waarde voor de MVP 1 en 2 stofklassen. De getoonde waarde geldt tot 1 januari 2025, daarna wordt de algemene waarde van kracht."]
["78-79-5","201-143-3","isopreen","isoprene (stabilised)","Ja",null,null,null,null,"MVP 2","100 g/uur","20 mg/Nm3","2013-12-02","1, 2","De getoonde waarde voor de emissiegrenswaarde wijkt af van de algemene waarde voor de MVP 1 en 2 stofklassen. De getoonde waarde geldt tot 1 januari 2025, daarna wordt de algemene waarde van kracht."]
["119-65-3","204-341-8","isoquinoline","isoquinoline",null,null,null,null,null,"MVP 1","0,15 g/uur","0,05 mg/Nm3","2016-05-27",19]
["183196-57-8","418-260-2","kalium-1-methyl-3-morfolinocarbonyl-4-[3-(1-methyl-3-morfolinocarbonyl-5-oxo-2-pyrazoline-4-ylideen)-1-propenyl]pyrazool-5-olaat [met 0,5 procent of meer N,N-dimethylformamide (EC Nr 200-679-5)]","potassium 1-methyl-3-morpholinocarbonyl-4-[3-(1-methyl-3-morpholinocarbonyl-5-oxo-2-pyrazolin-4-ylidene)-1-propenyl]pyrazole-5-olate, [containing ≥ 0.5 % N,N-dimethylformamide (EC No 200-679-5)]","Ja",null,null,null,null,"MVP 2","2,5 g/uur","1 mg/Nm3","2013-12-02"]
["7758-01-2","231-829-8","kaliumbromaat","potassium bromate","Ja",null,null,null,null,"MVP 1","0,15 g/uur","0,05 mg/Nm3","2013-12-02"]
["7789-00-6","232-140-5","kaliumchromaat","potassium chromate","Ja","Ja",null,null,null,"MVP 1","0,5 g/uur","0,1 mg/Nm3","2013-12-02","1, 2"]
["7778-50-9","231-906-6","kaliumdichromaat","potassium dichromate","Ja","Ja",null,null,null,"MVP 1","0,5 g/uur","0,1 mg/Nm3","2013-12-02","1, 2"]
["2795-39-3","220-527-1","kaliumheptadecafluoroctaan-1-sulfonaat","potassium heptadecafluorooctane-1-sulfonate","Ja",null,"Ja","Ja","Ja","MVP 1","0,15 g/uur","0,05 mg/Nm3","2013-12-02"]
["591-89-9","209-735-3","kalium-kwikcyanide","mercury potassium cyanide",null,null,"Ja",null,null,"MVP 1","0,15 g/uur","0,05 mg/Nm3","2016-07-04","3, 22"]
["7783-33-7","231-990-4","kalium-kwikjodide","potassium mercuric iodide",null,null,"Ja",null,null,"MVP 1","0,15 g/uur","0,05 mg/Nm3","2016-07-04","3, 22"]
["101896-28-0","309-987-5","Katalytisch gekraakte nafta met laag kookpunt, Koolwaterstoffen C8-12-, katalytisch gekraakte, chemisch geneutraliseerde, stankvrij gemaakte","Hydrocarbons, C8-12, catalytic cracking, chem. neutralized, sweetened, Low boiling point cat-cracked naphtha","Ja",null,null,null,null,null,null,null,"2013-12-02",20]
["68476-47-1","270-687-1","Katalytisch gereformde nafta met laag kookpunt, Koolwaterstoffen C2-6-, katalytische reformer C6-8","Hydrocarbons, C2-6, C6-8 catalytic reformer, Low boiling point cat-reformed naphtha","Ja",null,null,null,null,null,null,null,"2013-12-02",20]
["68784-75-8","272-271-5","kiezelzuur (H2Si2O5), bariumzout (1:1), lood-gedompeld [met een lood (Pb) gehalte boven de toepasbare algemene concentratiegrens voor 'giftig voor reproductie' Repr. 1A (CLP) of categorie 1 (DSD), de verbinding is onderdeel van de groep loodverbindingen met index nummer 082-082-001-00-6 in Regulering (EC) No 1272/2008","silicic acid (H2Si2O5), barium salt (1:1), lead-doped [with lead (Pb) content above the applicable generic concentration limit for 'toxicity for reproduction' Repr. 1A (CLP) or category 1 (DSD). The substance is a member of the group entry of lead compounds, with index number 082-001-00-6 in Regulation (EC) No 1272/2008]",null,"Ja",null,null,null,"MVP 1","2,5 g/uur","0,5 mg/Nm3","2013-12-02","1, 2, 3"]
["11120-22-2","234-363-3","kiezelzuur loodzout","silicic acid, lead salt",null,"Ja",null,null,null,"MVP 1","2,5 g/uur","0,5 mg/Nm3","2013-12-02","1, 2, 3"]
["37321-15-6","253-461-7","kiezelzuur nikkelzout","silicic acid, nickel salt","Ja",null,null,null,null,"MVP 1","2,5 g/uur","0,5 mg/Nm3","2013-12-02","1, 2","De getoonde waarde voor de emissiegrenswaarde wijkt af van de algemene waarde voor de MVP 1 en 2 stofklassen. De getoonde waarde geldt tot 1 januari 2025, daarna wordt de algemene waarde van kracht."]
["68130-19-8",null,"kiezelzuur, loodnikkelzout","silicic acid, lead nickel salt","Ja",null,null,null,null,"MVP 1","2,5 g/uur","0,5 mg/Nm3","2013-12-02","1, 2"]
["71-48-7","200-755-8","kobaltacetaat","cobalt(II) diacetate","Ja","Ja",null,null,null,"MVP 1","2,5 g/uur","0,5 mg/Nm3","2013-12-02","1, 2","Deze stof wordt niet als individuele stof als ZZS geïdentificeerd maar valt onder de ZZS-stofgroep kwikverbindingen"]
["513-79-1","208-169-4","kobaltcarbonaat","cobalt(II) carbonate","Ja","Ja",null,null,null,"MVP 1","2,5 g/uur","0,5 mg/Nm3","2013-12-02","1, 2","Deze stof wordt niet als individuele stof als ZZS geïdentificeerd maar valt onder de ZZS-stofgroep kwikverbindingen"]
["7646-79-9","231-589-4","kobaltdichloride","cobalt dichloride","Ja","Ja",null,null,null,"MVP 1","0,25 g/uur","0,05 mg/Nm3","2013-12-02","1, 2","Deze stof wordt niet als individuele stof als ZZS geïdentificeerd maar valt onder de ZZS-stofgroep kwikverbindingen"]
["68016-03-5","268-169-5","kobaltdimolybdeennikkeloctaoxide","cobalt dimolybdenum nickel octaoxide","Ja",null,null,null,null,"MVP 1","2,5 g/uur","0,5 mg/Nm3","2013-12-02","1, 2","Deze stof wordt niet als individuele stof als ZZS geïdentificeerd maar valt onder de ZZS-stofgroep kwikverbindingen"]
[null,"442-750-5","kobaltlithiumnikkeloxide","cobalt lithium nickel oxide","Ja",null,null,null,null,"MVP 1","2,5 g/uur","0,5 mg/Nm3","2013-12-02","1, 2","Deze stof wordt niet als individuele stof als ZZS geïdentificeerd maar valt onder de ZZS-stofgroep kwikverbindingen"]
["68186-89-0","269-051-6","kobaltnikkel grijze periklaas: C.I. Pigment black 25","cobalt nickel gray periclase","Ja",null,null,null,null,"MVP 1","2,5 g/uur","0,5 mg/Nm3","2013-12-02","1, 2","Deze stof wordt niet als individuele stof als ZZS geïdentificeerd maar valt onder de ZZS-stofgroep kwikverbindingen"]
["58591-45-0","261-346-8","kobaltnikkeldioxide","cobalt nickel dioxide","Ja",null,null,null,null,"MVP 1","2,5 g/uur","0,5 mg/Nm3","2013-12-02","1, 2","Deze stof wordt niet als individuele stof als ZZS geïdentificeerd maar valt onder de ZZS-stofgroep kwikverbindingen"]
["12737-30-3",null,"kobaltnikkeloxide","cobalt nickel oxide","Ja",null,null,null,null,"MVP 1","2,5 g/uur","0,5 mg/Nm3","2013-12-02","1, 2","Deze stof wordt niet als individuele stof als ZZS geïdentificeerd maar valt onder de ZZS-stofgroep kwikverbindingen"]
["10141-05-6","233-402-1","kobaltnitraat","cobalt nitrate","Ja","Ja",null,null,null,"MVP 1","2,5 g/uur","0,5 mg/Nm3","2013-12-02","1, 2","Deze stof wordt niet als individuele stof als ZZS geïdentificeerd maar valt onder de ZZS-stofgroep kwikverbindingen"]
["10124-43-3","233-334-2","kobaltsulfaat","cobalt sulphate","Ja","Ja",null,null,null,"MVP 1","0,25 g/uur","0,05 mg/Nm3","2013-12-02","1, 2","Deze stof wordt niet als individuele stof als ZZS geïdentificeerd maar valt onder de ZZS-stofgroep kwikverbindingen"]
["630-08-0","211-128-3","koolmonoxide","carbon monoxide","Ja",null,null,null,null,null,null,null,"2013-12-02",44,"Deze stof wordt niet als individuele stof als ZZS geïdentificeerd maar valt onder de ZZS-stofgroep kwikverbindingen"]
["68476-50-6","270-690-8","Koolwaterstoffen C is 5 of meer, rijk aan C5-6, Nafta met laag kookpunt - niet gespecifieerd","Hydrocarbons, C≥5, C5-6-rich, Low boiling point naphtha - unspecified","Ja",null,null,null,null,null,null,null,"2013-12-02",20,"Deze stof wordt niet als individuele stof als ZZS geïdentificeerd maar valt onder de ZZS-stofgroep kwikverbindingen"]
["68527-19-5","271-261-8","Koolwaterstoffen C1-4, butaanverwijdering-fractie, Petroleumgas","Hydrocarbons, C1-4, debutanizer fraction, Petroleum gas","Ja",null,null,null,null,null,null,null,"2013-12-02",20,"Deze stof wordt niet als individuele stof als ZZS geïdentificeerd maar valt onder de ZZS-stofgroep kwikverbindingen"]
["68606-25-7","271-734-9","Koolwaterstoffen C2-4-, Petroleumgas","Hydrocarbons, C2-4, Petroleum gas","Ja",null,null,null,null,null,null,null,"2013-12-02",20,"Deze stof wordt niet als individuele stof als ZZS geïdentificeerd maar valt onder de ZZS-stofgroep kwikverbindingen"]
["68476-49-3","270-689-2","Koolwaterstoffen C2-4, rijk aan C3, Petroleumgas","Hydrocarbons, C2-4, C3-rich, Petroleum gas","Ja",null,null,null,null,null,null,null,"2013-12-02",20,"Deze stof wordt niet als individuele stof als ZZS geïdentificeerd maar valt onder de ZZS-stofgroep kwikverbindingen"]
["97722-04-8","307-753-7","koolwaterstoffen C26-55, rijk aan aromaten","hydrocarbons C26-55, arom-rich","Ja",null,null,null,null,null,null,null,"2013-12-02",20,"Deze stof wordt niet als individuele stof als ZZS geïdentificeerd maar valt onder de ZZS-stofgroep kwikverbindingen"]
["68606-26-8","271-735-4","Koolwaterstoffen C3-, Petroleumgas","Hydrocarbons, C3, Petroleum gas","Ja",null,null,null,null,null,null,null,"2013-12-02",20,"Deze stof wordt niet als individuele stof als ZZS geïdentificeerd maar valt onder de ZZS-stofgroep kwikverbindingen"]
["68476-40-4","270-681-9","Koolwaterstoffen C3-4, Petroleumgas","Hydrocarbons, C3-4, Petroleum gas","Ja",null,null,null,null,null,null,null,"2013-12-02",20,"Deze stof wordt niet als individuele stof als ZZS geïdentificeerd maar valt onder de ZZS-stofgroep kwikverbindingen"]
["87741-01-3","289-339-5","Koolwaterstoffen C4-, Petroleumgas","Hydrocarbons, C4, Petroleum gas","Ja",null,null,null,null,null,null,null,"2013-12-02",20]
["95465-89-7","306-004-1","Koolwaterstoffen C4-, vrij van 1,3-butadieen en isobuteen petroleumgas","Hydrocarbons, C4, 1,3-butadiene- and isobutene-free, Petroleum gas","Ja",null,null,null,null,null,null,null,"2013-12-02",20]
["68476-42-6","270-682-4","Koolwaterstoffen C4-5-, Petroleumgas","Hydrocarbons, C4-5, Petroleum gas","Ja",null,null,null,null,null,null,null,"2013-12-02",20]
["68476-55-1","270-695-5","Koolwaterstoffen rijk aan C5, Nafta met laag kookpunt - niet gespecifieerd","Hydrocarbons, C5-rich, Low boiling point naphtha - unspecified","Ja",null,null,null,null,null,null,null,"2013-12-02",20]
["16337-84-1","240-408-8","koolzuur nikkelzout","carbonic acid, nickel salt","Ja",null,null,null,null,"MVP 1","2,5 g/uur","0,5 mg/Nm3","2013-12-02","1, 2"]
["7439-97-6","231-106-7","kwik","mercury","Ja",null,"Ja","Ja",null,"MVP 1","0,15 g/uur","0,05 mg/Nm3","2013-12-02"]
["10415-75-5","233-886-4","kwik(I)nitraat","mercury(I) nitrate",null,null,"Ja",null,null,"MVP 1","0,15 g/uur","0,05 mg/Nm3","2016-07-04","3, 22","De getoonde waarde voor de emissiegrenswaarde wijkt af van de algemene waarde voor de MVP 1 en 2 stofklassen. De getoonde waarde geldt tot 1 januari 2025, daarna wordt de algemene waarde van kracht."]
["7784-37-4","232-062-1","kwik(II)arsenaat","mercury(II)arsenate",null,null,"Ja",null,null,"MVP 1","0,15 g/uur","0,05 mg/Nm3","2016-07-04","3, 22","De getoonde waarde voor de emissiegrenswaarde wijkt af van de algemene waarde voor de MVP 1 en 2 stofklassen. De getoonde waarde geldt tot 1 januari 2025, daarna wordt de algemene waarde van kracht."]
["7487-94-7","231-299-8","kwik(II)chloride","mercury(II) chloride",null,null,"Ja",null,null,"MVP 1","0,15 g/uur","0,05 mg/Nm3","2016-07-04","3, 22","De getoonde waarde voor de emissiegrenswaarde wijkt af van de algemene waarde voor de MVP 1 en 2 stofklassen. De getoonde waarde geldt tot 1 januari 2025, daarna wordt de algemene waarde van kracht.","Deze stof staat zelf niet in bijlage 12a van de Activiteitenregeling milieubeheer maar valt onder een groepsvermelding, de getoonde stofklasse, grensmassastroom en emissiegrenswaarde zijn die van de groepsvermelding."]
["10045-94-0","233-152-3","kwik(II)nitraat","mercury(II) nitrate",null,null,"Ja",null,null,"MVP 1","0,15 g/uur","0,05 mg/Nm3","2016-07-04","3, 22"]
["7783-35-9","231-992-5","kwik(II)sulfaat","mercury(II) sulfate",null,null,"Ja",null,null,"MVP 1","0,15 g/uur","0,05 mg/Nm3","2016-07-04","3, 22","De getoonde waarde voor de emissiegrenswaarde wijkt af van de algemene waarde voor de MVP 1 en 2 stofklassen. De getoonde waarde geldt tot 1 januari 2025, daarna wordt de algemene waarde van kracht."]
["1600-27-7","216-491-1","kwikacetaat","mercury acetate",null,null,"Ja",null,null,"MVP 1","0,15 g/uur","0,05 mg/Nm3","2016-07-04","3, 22","De getoonde waarde voor de emissiegrenswaarde wijkt af van de algemene waarde voor de MVP 1 en 2 stofklassen. De getoonde waarde geldt tot 1 januari 2025, daarna wordt de algemene waarde van kracht."]
["583-15-3","209-499-1","kwikbenzoaat","mercury benzoate",null,null,"Ja","Ja",null,"MVP 1","0,15 g/uur","0,05 mg/Nm3","2016-07-04","3, 22","Deze stof wordt niet als individuele stof als ZZS geïdentificeerd maar valt onder de ZZS-stofgroep loodverbindingen."]
[null,null,"kwikbromiden","mercury bromides",null,null,"Ja",null,null,"MVP 1","0,15 g/uur","0,05 mg/Nm3","2016-07-04","3, 22","Deze stof wordt niet als individuele stof als ZZS geïdentificeerd maar valt onder de ZZS-stofgroep loodverbindingen."]
["592-04-1","209-741-6","kwikcyanide","mercury dicyanide",null,null,"Ja",null,null,"MVP 1","0,15 g/uur","0,05 mg/Nm3","2016-07-04","3, 22","De getoonde waarde voor de emissiegrenswaarde wijkt af van de algemene waarde voor de MVP 1 en 2 stofklassen. De getoonde waarde geldt tot 1 januari 2025, daarna wordt de algemene waarde van kracht."]
["628-86-4","211-057-8","kwikfulminaat","mercury fulminate",null,null,"Ja",null,null,"MVP 1","0,15 g/uur","0,05 mg/Nm3","2016-07-04","3, 22","De getoonde waarde voor de emissiegrenswaarde wijkt af van de algemene waarde voor de MVP 1 en 2 stofklassen. De getoonde waarde geldt tot 1 januari 2025, daarna wordt de algemene waarde van kracht.","Deze stof staat zelf niet in bijlage 12a van de Activiteitenregeling milieubeheer maar valt onder een groepsvermelding, de getoonde stofklasse, grensmassastroom en emissiegrenswaarde zijn die van de groepsvermelding.","Deze stof wordt niet als individuele stof als ZZS geïdentificeerd maar valt onder de ZZS-stofgroep loodverbindingen."]
["63937-14-4",null,"kwikgluconate","mercury gluconate",null,null,"Ja","Ja",null,"MVP 1","0,15 g/uur","0,05 mg/Nm3","2016-07-04","3, 22","De getoonde waarde voor de emissiegrenswaarde wijkt af van de algemene waarde voor de MVP 1 en 2 stofklassen. De getoonde waarde geldt tot 1 januari 2025, daarna wordt de algemene waarde van kracht.","Deze stof staat zelf niet in bijlage 12a van de Activiteitenregeling milieubeheer maar valt onder een groepsvermelding, de getoonde stofklasse, grensmassastroom en emissiegrenswaarde zijn die van de groepsvermelding.","Deze stof wordt niet als individuele stof als ZZS geïdentificeerd maar valt onder de ZZS-stofgroep loodverbindingen."]
["7783-30-4","231-988-3","kwikjodide","mercury iodide",null,null,"Ja",null,null,"MVP 1","0,15 g/uur","0,05 mg/Nm3","2016-07-04","3, 22","De getoonde waarde voor de emissiegrenswaarde wijkt af van de algemene waarde voor de MVP 1 en 2 stofklassen. De getoonde waarde geldt tot 1 januari 2025, daarna wordt de algemene waarde van kracht.","Deze stof staat zelf niet in bijlage 12a van de Activiteitenregeling milieubeheer maar valt onder een groepsvermelding, de getoonde stofklasse, grensmassastroom en emissiegrenswaarde zijn die van de groepsvermelding."]
["12002-19-6",null,"kwiknucleaat","mercury nucleate",null,null,"Ja","Ja",null,"MVP 1","0,15 g/uur","0,05 mg/Nm3","2016-07-04","3, 22","De getoonde waarde voor de emissiegrenswaarde wijkt af van de algemene waarde voor de MVP 1 en 2 stofklassen. De getoonde waarde geldt tot 1 januari 2025, daarna wordt de algemene waarde van kracht.","Deze stof staat zelf niet in bijlage 12a van de Activiteitenregeling milieubeheer maar valt onder een groepsvermelding, de getoonde stofklasse, grensmassastroom en emissiegrenswaarde zijn die van de groepsvermelding."]
["1191-80-6","214-741-4","kwikoleaat","mercury oleate",null,null,"Ja","Ja",null,"MVP 1","0,15 g/uur","0,05 mg/Nm3","2016-07-04","3, 22","De getoonde waarde voor de emissiegrenswaarde wijkt af van de algemene waarde voor de MVP 1 en 2 stofklassen. De getoonde waarde geldt tot 1 januari 2025, daarna wordt de algemene waarde van kracht.","Deze stof staat zelf niet in bijlage 12a van de Activiteitenregeling milieubeheer maar valt onder een groepsvermelding, de getoonde stofklasse, grensmassastroom en emissiegrenswaarde zijn die van de groepsvermelding."]
["21908-53-2","244-654-7","kwikoxide","mercury oxide",null,null,"Ja",null,null,"MVP 1","0,15 g/uur","0,05 mg/Nm3","2016-07-04","3, 22","De getoonde waarde voor de emissiegrenswaarde wijkt af van de algemene waarde voor de MVP 1 en 2 stofklassen. De getoonde waarde geldt tot 1 januari 2025, daarna wordt de algemene waarde van kracht.","Deze stof staat zelf niet in bijlage 12a van de Activiteitenregeling milieubeheer maar valt onder een groepsvermelding, de getoonde stofklasse, grensmassastroom en emissiegrenswaarde zijn die van de groepsvermelding.","Deze stof wordt niet als individuele stof als ZZS geïdentificeerd maar valt onder de ZZS-stofgroep loodverbindingen."]
["1335-31-5","215-629-8","kwikoxycyanide","mercury cyanide oxide",null,null,"Ja",null,null,"MVP 1","0,15 g/uur","0,05 mg/Nm3","2016-07-04","3, 22"]
["5970-32-1","227-760-8","kwiksalicylaat","mercury salicylate",null,null,"Ja","Ja",null,"MVP 1","0,15 g/uur","0,05 mg/Nm3","2016-07-04","3, 22","De getoonde waarde voor de emissiegrenswaarde wijkt af van de algemene waarde voor de MVP 1 en 2 stofklassen. De getoonde waarde geldt tot 1 januari 2025, daarna wordt de algemene waarde van kracht.","Deze stof staat zelf niet in bijlage 12a van de Activiteitenregeling milieubeheer maar valt onder een groepsvermelding, de getoonde stofklasse, grensmassastroom en emissiegrenswaarde zijn die van de groepsvermelding.","Deze stof wordt niet als individuele stof als ZZS geïdentificeerd maar valt onder de ZZS-stofgroep loodverbindingen."]
["592-85-8","209-773-0","kwikthiocyanaat","mercury(II) thiocyanate",null,null,"Ja",null,null,"MVP 1","0,15 g/uur","0,05 mg/Nm3","2016-07-04","3, 22","De getoonde waarde voor de emissiegrenswaarde wijkt af van de algemene waarde voor de MVP 1 en 2 stofklassen. De getoonde waarde geldt tot 1 januari 2025, daarna wordt de algemene waarde van kracht.","Deze stof staat zelf niet in bijlage 12a van de Activiteitenregeling milieubeheer maar valt onder een groepsvermelding, de getoonde stofklasse, grensmassastroom en emissiegrenswaarde zijn die van de groepsvermelding.","Deze stof wordt niet als individuele stof als ZZS geïdentificeerd maar valt onder de ZZS-stofgroep loodverbindingen."]
[null,null,"kwikverbindingen","mercury compounds",null,null,"Ja",null,null,"MVP 1","0,15 g/uur","0,05 mg/Nm3","2013-12-02"]
["122384-78-5","310-191-5","lagetemperatuurkoolteerolie, alkalische","low temperature tar oil, alkaline","Ja",null,null,null,null,null,null,null,"2013-12-02",20,"De getoonde waarde voor de emissiegrenswaarde wijkt af van de algemene waarde voor de MVP 1 en 2 stofklassen. De getoonde waarde geldt tot 1 januari 2025, daarna wordt de algemene waarde van kracht.","Deze stof staat zelf niet in bijlage 12a van de Activiteitenregeling milieubeheer maar valt onder een groepsvermelding, de getoonde stofklasse, grensmassastroom en emissiegrenswaarde zijn die van de groepsvermelding."]
["85536-17-0","287-498-5","Lichte olie, herdestillaat, laagkokende fractie, Oplosmiddelnafta (kool), licht","Solvent naphtha (coal), light, Light Oil Redistillate, low boiling","Ja",null,null,null,null,null,null,null,"2013-12-02",20,"De getoonde waarde voor de emissiegrenswaarde wijkt af van de algemene waarde voor de MVP 1 en 2 stofklassen. De getoonde waarde geldt tot 1 januari 2025, daarna wordt de algemene waarde van kracht.","Deze stof wordt niet als individuele stof als ZZS geïdentificeerd maar valt onder een ZZS stofgroep en was onder de NeR een MVP of ERS stof."]
["85536-19-2","287-500-4","Lichte olie, herdestillaat, middenfractie, Oplosmiddelnafta (kool), cumaroon -styreen bevattend","Solvent naphtha (coal), coumarone-styrene contg., Light Oil Redistillate, intermediate boiling","Ja",null,null,null,null,null,null,null,"2013-12-02",20,"De getoonde waarde voor de emissiegrenswaarde wijkt af van de algemene waarde voor de MVP 1 en 2 stofklassen. De getoonde waarde geldt tot 1 januari 2025, daarna wordt de algemene waarde van kracht.","Deze stof staat zelf niet in bijlage 12a van de Activiteitenregeling milieubeheer maar valt onder een groepsvermelding, de getoonde stofklasse, grensmassastroom en emissiegrenswaarde zijn die van de groepsvermelding."]
["330-55-2","206-356-5","linuron","linuron","Ja",null,null,null,null,"MVP 1","0,15 g/uur","0,05 mg/Nm3","2013-12-02",null,"De getoonde waarde voor de emissiegrenswaarde wijkt af van de algemene waarde voor de MVP 1 en 2 stofklassen. De getoonde waarde geldt tot 1 januari 2025, daarna wordt de algemene waarde van kracht.","Deze stof staat zelf niet in bijlage 12a van de Activiteitenregeling milieubeheer maar valt onder een groepsvermelding, de getoonde stofklasse, grensmassastroom en emissiegrenswaarde zijn die van de groepsvermelding."]
["29457-72-5","249-644-6","lithiumheptadecafluoroctaansulfonaat","lithium heptadecafluorooctanesulfonate","Ja",null,"Ja","Ja","Ja","MVP 1","0,15 g/uur","0,05 mg/Nm3","2013-12-02",null,"De getoonde waarde voor de emissiegrenswaarde wijkt af van de algemene waarde voor de MVP 1 en 2 stofklassen. De getoonde waarde geldt tot 1 januari 2025, daarna wordt de algemene waarde van kracht.","Deze stof staat zelf niet in bijlage 12a van de Activiteitenregeling milieubeheer maar valt onder een groepsvermelding, de getoonde stofklasse, grensmassastroom en emissiegrenswaarde zijn die van de groepsvermelding."]
["12031-65-1",null,"lithiumnikkeldioxide","lithium nickel dioxide","Ja",null,null,null,null,"MVP 1","2,5 g/uur","0,5 mg/Nm3","2013-12-02","1, 2","De getoonde waarde voor de emissiegrenswaarde wijkt af van de algemene waarde voor de MVP 1 en 2 stofklassen. De getoonde waarde geldt tot 1 januari 2025, daarna wordt de algemene waarde van kracht.","Deze stof staat zelf niet in bijlage 12a van de Activiteitenregeling milieubeheer maar valt onder een groepsvermelding, de getoonde stofklasse, grensmassastroom en emissiegrenswaarde zijn die van de groepsvermelding."]
["7439-92-1","231-100-4","lood","lead","Ja",null,null,"Ja",null,"MVP 1","2,5 g/uur","0,5 mg/Nm3","2013-12-02","1, 2","De getoonde waarde voor de emissiegrenswaarde wijkt af van de algemene waarde voor de MVP 1 en 2 stofklassen. De getoonde waarde geldt tot 1 januari 2025, daarna wordt de algemene waarde van kracht.","Deze stof staat zelf niet in bijlage 12a van de Activiteitenregeling milieubeheer maar valt onder een groepsvermelding, de getoonde stofklasse, grensmassastroom en emissiegrenswaarde zijn die van de groepsvermelding.","Deze stof wordt niet als individuele stof als ZZS geïdentificeerd maar valt onder de ZZS-stofgroep loodverbindingen."]
["17570-76-2","401-750-5","lood(II)methaansulfonaat","lead(II) methanesulphonate","Ja","Ja",null,null,null,"MVP 1","2,5 g/uur","0,5 mg/Nm3","2013-12-02","1, 2, 3"]
["1335-32-6","215-630-3","loodacetaat","lead, bis(acetato-O)tetrahydroxytri-","Ja",null,null,null,null,"MVP 1","0,15 g/uur","0,05 mg/Nm3","2013-12-02"]
[null,null,"loodalkylen","lead alkyls","Ja",null,null,null,null,"MVP 1","100 g/uur","20 mg/Nm3","2013-12-02","1, 2","De getoonde waarde voor de emissiegrenswaarde wijkt af van de algemene waarde voor de MVP 1 en 2 stofklassen. De getoonde waarde geldt tot 1 januari 2025, daarna wordt de algemene waarde van kracht.","Deze stof staat zelf niet in bijlage 12a van de Activiteitenregeling milieubeheer maar valt onder een groepsvermelding, de getoonde stofklasse, grensmassastroom en emissiegrenswaarde zijn die van de groepsvermelding.","Deze stof wordt niet als individuele stof als ZZS geïdentificeerd maar valt onder de ZZS-stofgroep loodverbindingen."]
["7784-40-9","232-064-2","loodarsenaat","lead hydrogen arsenate","Ja","Ja",null,null,null,"MVP 1","0,25 g/uur","0,05 mg/Nm3","2013-12-02","1, 2","De getoonde waarde voor de emissiegrenswaarde wijkt af van de algemene waarde voor de MVP 1 en 2 stofklassen. De getoonde waarde geldt tot 1 januari 2025, daarna wordt de algemene waarde van kracht.","Deze stof staat zelf niet in bijlage 12a van de Activiteitenregeling milieubeheer maar valt onder een groepsvermelding, de getoonde stofklasse, grensmassastroom en emissiegrenswaarde zijn die van de groepsvermelding.","Deze stof wordt niet als individuele stof als ZZS geïdentificeerd maar valt onder de ZZS-stofgroep loodverbindingen."]
[null,null,"loodarsenaten","lead arsenates",null,null,null,null,null,"MVP 1","0,25 g/uur","0,05 mg/Nm3","2013-12-02","3, 40","De getoonde waarde voor de emissiegrenswaarde wijkt af van de algemene waarde voor de MVP 1 en 2 stofklassen. De getoonde waarde geldt tot 1 januari 2025, daarna wordt de algemene waarde van kracht.","Deze stof staat zelf niet in bijlage 12a van de Activiteitenregeling milieubeheer maar valt onder een groepsvermelding, de getoonde stofklasse, grensmassastroom en emissiegrenswaarde zijn die van de groepsvermelding."]
[null,null,"loodarsenieten","lead arsenites",null,null,null,null,null,"MVP 1","0,25 g/uur","0,05 mg/Nm3","2013-12-02","3, 40","De getoonde waarde voor de emissiegrenswaarde wijkt af van de algemene waarde voor de MVP 1 en 2 stofklassen. De getoonde waarde geldt tot 1 januari 2025, daarna wordt de algemene waarde van kracht.","Deze stof staat zelf niet in bijlage 12a van de Activiteitenregeling milieubeheer maar valt onder een groepsvermelding, de getoonde stofklasse, grensmassastroom en emissiegrenswaarde zijn die van de groepsvermelding."]
["13814-96-5","237-486-0","loodbis(tetrafluorboraat)","lead bis(tetrafluoroborate)",null,"Ja",null,null,null,"MVP 1","2,5 g/uur","0,5 mg/Nm3","2013-12-02","1, 2","De getoonde waarde voor de emissiegrenswaarde wijkt af van de algemene waarde voor de MVP 1 en 2 stofklassen. De getoonde waarde geldt tot 1 januari 2025, daarna wordt de algemene waarde van kracht.","Deze stof staat zelf niet in bijlage 12a van de Activiteitenregeling milieubeheer maar valt onder een groepsvermelding, de getoonde stofklasse, grensmassastroom en emissiegrenswaarde zijn die van de groepsvermelding."]
["598-63-0","209-943-4","loodcarbonaat","lead carbonate",null,null,null,null,null,"MVP 1","2,5 g/uur","0,5 mg/Nm3","2013-12-02","1, 2, 3, 40","Deze vermelding omvat zowel organische als anorganische loodverbindingen, de getoonde emissiegrenswaarde geldt voor anorganische loodverbindingen"]
[null,null,"loodcarbonaten","lead carbonates",null,null,null,null,null,"MVP 1","2,5 g/uur","0,5 mg/Nm3","2013-12-02","1, 2, 3, 40","De getoonde waarde voor de emissiegrenswaarde wijkt af van de algemene waarde voor de MVP 1 en 2 stofklassen. De getoonde waarde geldt tot 1 januari 2025, daarna wordt de algemene waarde van kracht.","Deze stof staat zelf niet in bijlage 12a van de Activiteitenregeling milieubeheer maar valt onder een groepsvermelding, de getoonde stofklasse, grensmassastroom en emissiegrenswaarde zijn die van de groepsvermelding."]
["7758-97-6","231-846-0","loodchromaat","lead chromate","Ja","Ja",null,null,null,"MVP 1","0,5 g/uur","0,1 mg/Nm3","2013-12-02","1, 2, 3"]
["12656-85-8","235-759-9","loodchromaatmolybdaatsulfaat","lead chromate molybdate sulfate","Ja","Ja",null,null,null,"MVP 1","0,5 g/uur","0,1 mg/Nm3","2013-12-02","1, 2, 3"]
["20837-86-9","244-073-9","loodcyanamidaat","lead cyanamidate",null,"Ja",null,null,null,"MVP 1","2,5 g/uur","0,5 mg/Nm3","2013-12-02","1, 2, 3"]
["592-05-2","209-742-1","loodcyanide","lead cyanide",null,null,null,null,null,"MVP 1","2,5 g/uur","0,5 mg/Nm3","2013-12-02","1, 2, 3, 40"]
["301-04-2","206-104-4","looddiacetaat","lead di(acetate)","Ja","Ja",null,null,null,"MVP 1","0,15 g/uur","0,05 mg/Nm3","2013-12-02"]
["13424-46-9","236-542-1","looddiazide","lead diazide","Ja","Ja",null,null,null,"MVP 1","2,5 g/uur","0,5 mg/Nm3","2013-12-02","1, 2, 3, 40"]
["1309-60-0","215-174-5","looddioxide","lead dioxide",null,null,null,null,null,"MVP 1","2,5 g/uur","0,5 mg/Nm3","2013-12-02","1, 2, 3, 40"]
["6477-64-1","229-335-2","looddipicrate","lead dipicrate",null,"Ja",null,null,null,"MVP 1","0,15 g/uur","0,05 mg/Nm3","2013-12-02",3]
["25808-74-6","247-278-1","loodhexafluorsilikaat","lead hexafluorosilicate","Ja",null,null,null,null,"MVP 1","2,5 g/uur","0,5 mg/Nm3","2013-12-02","1, 2, 3"]
["10190-55-3","233-459-2","loodmolybdaat","lead molybdate",null,null,null,null,null,"MVP 1","2,5 g/uur","0,5 mg/Nm3","2014-04-30","1, 2, 18"]
["1317-36-8","215-267-0","loodmonoxide","lead monoxide",null,"Ja",null,null,null,"MVP 1","2,5 g/uur","0,5 mg/Nm3","2013-12-02","1, 2, 3"]
["10099-74-8","233-245-9","loodnitraat","lead dinitrate",null,"Ja",null,null,null,"MVP 1","2,5 g/uur","0,5 mg/Nm3","2013-12-02","1, 2, 3"]
["1314-41-6","215-235-6","loodoranje","orange lead",null,"Ja",null,null,null,"MVP 1","2,5 g/uur","0,5 mg/Nm3","2013-12-02","1, 2, 3","Deze stof wordt niet als individuele stof als ZZS geïdentificeerd maar valt onder de ZZS-stofgroep kwikverbindingen"]
["12036-76-9","234-853-7","loodoxidesulfaat","lead oxide sulfate",null,"Ja",null,null,null,"MVP 1","2,5 g/uur","0,5 mg/Nm3","2013-12-02","1, 2, 3"]
["13637-76-8",null,"loodperchloraat","lead perchlorate",null,null,null,null,null,"MVP 1","2,5 g/uur","0,5 mg/Nm3","2013-12-02","1, 2, 3, 40","De getoonde waarde voor de emissiegrenswaarde wijkt af van de algemene waarde voor de MVP 1 en 2 stofklassen. De getoonde waarde geldt tot 1 januari 2025, daarna wordt de algemene waarde van kracht."]
["37240-96-3","253-421-9","loodrhodiumoxide","dilead dirhodium heptaoxide",null,null,null,null,null,"MVP 1","0,15 g/uur","0,05 mg/Nm3","2014-04-30",18,"De getoonde waarde voor de emissiegrenswaarde wijkt af van de algemene waarde voor de MVP 1 en 2 stofklassen. De getoonde waarde geldt tot 1 januari 2025, daarna wordt de algemene waarde van kracht."]
["15245-44-0","239-290-0","loodstyfnaat","lead styphnate","Ja","Ja",null,null,null,"MVP 1","0,15 g/uur","0,05 mg/Nm3","2013-12-02",3,"De getoonde waarde voor de emissiegrenswaarde wijkt af van de algemene waarde voor de MVP 1 en 2 stofklassen. De getoonde waarde geldt tot 1 januari 2025, daarna wordt de algemene waarde van kracht."]
["7446-14-2","231-198-9","loodsulfaat","lead sulphate",null,null,null,null,null,"MVP 1","2,5 g/uur","0,5 mg/Nm3","2013-12-02","1, 2, 3, 40"]
[null,null,"loodsulfaten","lead sulphates",null,null,null,null,null,"MVP 1","2,5 g/uur","0,5 g/uur","2016-05-31","1, 2, 3, 40","De getoonde waarde voor de emissiegrenswaarde wijkt af van de algemene waarde voor de MVP 1 en 2 stofklassen. De getoonde waarde geldt tot 1 januari 2025, daarna wordt de algemene waarde van kracht."]
["1344-37-2","215-693-7","loodsulfochromaat","lead sulfochromate","Ja","Ja",null,null,null,"MVP 1","2,5 g/uur","0,5 mg/Nm3","2013-12-02","1, 2, 3","De getoonde waarde voor de emissiegrenswaarde wijkt af van de algemene waarde voor de MVP 1 en 2 stofklassen. De getoonde waarde geldt tot 1 januari 2025, daarna wordt de algemene waarde van kracht."]
["12060-00-3","235-038-9","loodtitaniumtrioxide","lead titanium trioxide",null,"Ja",null,null,null,"MVP 1","2,5 g/uur","0,5 mg/Nm3","2013-12-02","1, 2, 3","De getoonde waarde voor de emissiegrenswaarde wijkt af van de algemene waarde voor de MVP 1 en 2 stofklassen. De getoonde waarde geldt tot 1 januari 2025, daarna wordt de algemene waarde van kracht."]
["12626-81-2","235-727-4","loodtitaniumzirconiumoxide","lead titanium zirconium oxide",null,"Ja",null,null,null,"MVP 1","2,5 g/uur","0,5 mg/Nm3","2013-12-02","1, 2, 3"]
[null,null,"loodverbindingen","lead compounds","Ja",null,null,null,null,"MVP 1","2,5 g/uur","0,5 mg/Nm3","2013-12-02","45, 46"]
[null,null,"mengsel van 2-ethylhexyl 10-ethyl-4,4-dioctyl-7-oxo-8-oxa-3,5-dithia-4-stannatetradecanoaat and 2-ethylhexyl 10-ethyl-4-[[2-[(2-ethylhexyl)oxy]-2-oxoethyl]thio]-4-octyl-7-oxo-8-oxa-3,5-dithia-4-stannatetradecanoaat","reaction mass of 2-ethylhexyl 10-ethyl-4,4-dioctyl-7-oxo-8-oxa-3,5-dithia-4-stannatetradecanoate and 2-ethylhexyl 10-ethyl-4-[[2-[(2-ethylhexyl)oxy]-2-oxoethyl]thio]-4-octyl-7-oxo-8-oxa-3,5-dithia-4-stannatetradecanoate",null,"Ja",null,null,null,"MVP 2","100 g/uur","20 mg/Nm3","2013-12-02","1, 2, 3"]
[null,"403-250-2","mengsel van 4-[[bis-(4-fluorfenyl)methylsilyl]methyl]-4H-1,2,4-triazool en 1-[[bis-(4-fluorfenyl)methylsilyl]methyl]-1H-1,2,4-triazool","reaction mass of 4-[[bis-(4-fluorophenyl)methylsilyl]methyl]-4H-1,2,4-triazole and 1-[[bis-(4-fluorophenyl)methylsilyl]methyl]-1H-1,2,4-triazole","Ja",null,null,null,null,"MVP 1","0,15 g/uur","0,05 mg/Nm3","2013-12-02"]
[null,"402-660-9","mengsel van dinatrium-4-(3-ethoxycarbonyl-4-(5-(3-ethoxycarbonyl-5-hydroxy-1-(4-sulfonatofenyl)pyrazool-4-yl)penta-2,4-dienylideen)-4,5-dihydro-5-oxopyrazool-1-yl)benzeensulfonaat en trinatrium-4-(3-ethoxycarbonyl-4-(5-(3-ethoxycarbonyl-5-oxido-1-(4-sulfonatofenyl)pyrazool-4-yl)penta-2,4-dienylideen)-4,5-dihydro-5-oxopyrazool-1-yl)benzeensulfonaat","reaction mass of disodium 4-(3-ethoxycarbonyl-4-(5-(3-ethoxycarbonyl-5-hydroxy-1-(4-sulfonatophenyl)pyrazol-4-yl)penta-2,4-dienylidene)-4,5-dihydro-5-oxopyrazol-1-yl)benzenesulfonate and trisodium 4-(3-ethoxycarbonyl-4-(5-(3-ethoxycarbonyl-5-oxido-1-(4-sulfonatophenyl)pyrazol-4-yl)penta-2,4-dienylidene)-4,5-dihydro-5-oxopyrazol-1-yl)benzenesulfonate","Ja",null,null,null,null,"MVP 1","0,15 g/uur","0,05 mg/Nm3","2013-12-02"]
[null,"412-790-8","mengsel van N-[3-hydroxy-2-(2-methyl-acryloylamino-methoxy)-propoxymethyl]-2-methyl-acrylamide, N-[2,3-bis-(2-methyl-acryloylamino-methoxy)propoxymethyl]-2-methylacrylamide, methacrylamide, 2-methyl-N-(2-methyl-acryloylamino-methoxy-methyl)-acrylamide en N-(2,3-dihydroxy-propoxymethyl)-2-methyl-acrylamide","reaction mass of N-[3-hydroxy-2-(2-methylacryloylaminomethoxy)propoxymethyl]-2-methylacrylamide, N-[2,3-bis-(2-methylacryloylaminomethoxy)propoxymethyl]-2-methylacrylamide; methacrylamide, 2-methyl-N-(2-methylacryloylaminomethoxymethyl)-acrylamide and N-(2,3-dihydroxypropoxymethyl)-2-methylacrylamide","Ja",null,null,null,null,"MVP 1","0,15 g/uur","0,05 mg/Nm3","2013-12-02"]
[null,"421-550-1","mengsel van: 1,3,5-tris(3-aminomethylfenyl)-1,3,5-(1H3H5H)-triazine-2,4,6-trion; mengsel van oligomeren van 3,5-bis(3-aminomethylfenyl)-1-poly[3,5-bis(3-aminomethylfenyl)-2,4,6-trioxo-1,3,5-(1H3H5H)-triazin-1-yl]-1,3,5-(1H3H5H)-triazine-2,4,6-trion","reaction mass of: 1,3,5-tris(3-aminomethylphenyl)-1,3,5-(1H,3H,5H)-triazine-2,4,6-trione; reaction mass of oligomers of 3,5-bis(3-aminomethylphenyl)-1-poly[3,5-bis(3-aminomethylphenyl)-2,4,6-trioxo-1,3,5-(1H,3H,5H)-triazin-1-yl]-1,3,5-(1H,3H,5H)-triazine-2,4,6-trione","Ja",null,null,null,null,"MVP 1","0,15 g/uur","0,05 mg/Nm3","2013-12-02",null,"De getoonde waarde voor de emissiegrenswaarde wijkt af van de algemene waarde voor de MVP 1 en 2 stofklassen. De getoonde waarde geldt tot 1 januari 2025, daarna wordt de algemene waarde van kracht."]
[null,null,"mengsel van: dimethyl(2-(hydroxymethylcarbamoyl)ethyl)fosfonaat, diethyl(2-(hydroxymethylcarbamoyl)ethyl)fosfonaat, methylethyl(2-(hydroxymethylcarbamoyl)ethyl)fosfonaat","reaction mass of dimethyl (2-(hydroxymethylcarbamoyl)ethyl)phosphonate, diethyl (2-(hydroxymethylcarbamoyl)ethyl)phosphonate, methyl ethyl (2-(hydroxymethylcarbamoyl)ethyl)phosphonate","Ja",null,null,null,null,"MVP 1","0,15 g/uur","0,05 mg/Nm3","2013-12-02",null,"De getoonde waarde voor de emissiegrenswaarde wijkt af van de algemene waarde voor de MVP 1 en 2 stofklassen. De getoonde waarde geldt tot 1 januari 2025, daarna wordt de algemene waarde van kracht."]
["625-45-6","210-894-6","methoxyazijnzuur","methoxyacetic acid","Ja","Ja",null,null,null,"MVP 2","2,5 g/uur","1 mg/Nm3","2013-12-02"]
["72-43-5","200-779-9","methoxychloor","methoxychlor",null,null,null,"Ja",null,"MVP 1","0,15 g/uur","0,05 mg/Nm3","2013-12-02"]
["77402-05-2","403-230-3","methylacrylamidoglycolaat [met 0,1 procent of meer acrylamide]","methyl acrylamidoglycolate (containing ≥ 0,1 % acrylamide)","Ja",null,null,null,null,"MVP 1","0,15 g/uur","0,05 mg/Nm3","2013-12-02"]
["77402-03-0","401-890-7","methylacrylamidomethoxyacetaat [met 0,1 procent of meer acrylamide]","methyl acrylamidomethoxyacetate (containing ≥ 0,1 % acrylamid)","Ja",null,null,null,null,"MVP 1","0,15 g/uur","0,05 mg/Nm3","2013-12-02",null,"Deze stof staat zelf niet in bijlage 12a van de Activiteitenregeling milieubeheer maar valt onder de groepsvermelding voor PAKs, de getoonde stofklasse is die van de groepsvermelding. De weergegeven grensmassastroom en emissiegrenswaarde zijn een voorstel op basis van de voormalige indeling als sO. De getoonde grenswaarden waarden zullen waarschijnlijk tot 1 januari 2025 gelden, daarna worden de algemene waarden van kracht.","Voor deze stof geldt: a) Alle bronnen in de inrichting mogen afzonderlijk ten hoogste 5 mg/Nm3 emitteren, indien de massastroom van een stof of de som van de onder normale procesomstandigheden gedurende één uur optredende massastromen van stoffen binnen deze stofklasse vanuit al die puntbronnen, groter of gelijk is aan 200 gram per uur. Indien voor een bron geen filtrerende afscheider kan worden toegepast, emitteert deze bron afzonderlijk niet meer dan 20 milligram per normaal kubieke meter; of b) Alle bronnen in de inrichting mogen afzonderlijk ten hoogste 20 mg/Nm3emitteren, indien de massastroom van een stof of de som van de onder normale procesomstandigheden gedurende één uur optredende massastromen van stoffen binnen deze stofklasse vanuit al die puntbronnen, kleiner is dan 200 gram per uur."]
["19438-60-9","243-072-0","methylcyclohexyl-1,6-dicarbonzuur-anhydride","hexahydro-4-methylphthalic anhydride",null,"Ja",null,null,null,"MVP 1","0,15 g/uur","0,05 mg/Nm3","2013-12-02",null,"De getoonde waarde voor de emissiegrenswaarde wijkt af van de algemene waarde voor de MVP 1 en 2 stofklassen. De getoonde waarde geldt tot 1 januari 2025, daarna wordt de algemene waarde van kracht."]
[null,null,"methylfenyleendiamine","methyl-phenylene diamine","Ja",null,null,null,null,"MVP 1","0,15 g/uur","0,05 mg/Nm3","2013-12-02",null,"De getoonde waarde voor de emissiegrenswaarde wijkt af van de algemene waarde voor de MVP 1 en 2 stofklassen. De getoonde waarde geldt tot 1 januari 2025, daarna wordt de algemene waarde van kracht.","Deze stof staat zelf niet in bijlage 12a van de Activiteitenregeling milieubeheer maar valt onder een groepsvermelding, de getoonde stofklasse, grensmassastroom en emissiegrenswaarde zijn die van de groepsvermelding."]
["25550-51-0","247-094-1","methylhexahydroftaalzuur anhydride (MHHPA)","hexahydromethylphthalic anhydride",null,"Ja",null,null,null,"MVP 1","0,15 g/uur","0,05 mg/Nm3","2013-12-02",null,"De getoonde waarde voor de emissiegrenswaarde wijkt af van de algemene waarde voor de MVP 1 en 2 stofklassen. De getoonde waarde geldt tot 1 januari 2025, daarna wordt de algemene waarde van kracht."]
["22967-92-6",null,"methylkwik","methylmercury",null,null,"Ja","Ja",null,"MVP 1","0,15 g/uur","0,05 mg/Nm3","2016-07-04","3, 22"]
["592-62-1","209-765-7","methyl-ONN-azoxymethylacetaat","methyl-ONN-azoxymethyl acetate","Ja",null,null,null,null,"MVP 1","0,15 g/uur","0,05 mg/Nm3","2013-12-02"]
["15843-02-4","239-946-6","mierenzuur nikkelzout","formic acid, nickel salt","Ja",null,null,null,null,"MVP 1","2,5 g/uur","0,5 mg/Nm3","2013-12-02","1, 2"]
["68134-59-8","268-755-0","mierenzuur, kopernikkelzout","formic acid, copper nickel salt","Ja",null,null,null,null,"MVP 1","2,5 g/uur","0,5 mg/Nm3","2013-12-02","1, 2"]
["1314-04-1",null,"milleriet","millerite","Ja",null,null,null,null,"MVP 1","2,5 g/uur","0,5 mg/Nm3","2013-12-02","1, 2","De getoonde waarde voor de emissiegrenswaarde wijkt af van de algemene waarde voor de MVP 1 en 2 stofklassen. De getoonde waarde geldt tot 1 januari 2025, daarna wordt de algemene waarde van kracht."]
["2385-85-5","219-196-6","mirex","mirex",null,null,null,null,"Ja","MVP 1","0,15 g/uur","0,05 mg/Nm3","2013-12-02"]
["68130-36-9","268-585-7","molybdeennikkelhydroxideoxidefosfaat","molybdenum nickel hydroxide oxide phosphate","Ja",null,null,null,null,"MVP 1","2,5 g/uur","0,5 mg/Nm3","2013-12-02","1, 2","De getoonde waarde voor de emissiegrenswaarde wijkt af van de algemene waarde voor de MVP 1 en 2 stofklassen. De getoonde waarde geldt tot 1 januari 2025, daarna wordt de algemene waarde van kracht.","Nikkel op zichzelf wordt niet als individuele stof als ZZS geïdentificeerd maar gezien het grote aantal nikkelverbindingen dat ZZS is, wordt ook nikkel zelf hier als ZZS genoemd"]
["12673-58-4",null,"molybdeennikkeloxide","molybdenum nickel oxide","Ja",null,null,null,null,"MVP 1","2,5 g/uur","0,5 mg/Nm3","2013-12-02","1, 2","De getoonde waarde voor de emissiegrenswaarde wijkt af van de algemene waarde voor de MVP 1 en 2 stofklassen. De getoonde waarde geldt tot 1 januari 2025, daarna wordt de algemene waarde van kracht."]
["14177-55-0","238-034-5","molybdeennikkeltetraoxide","molybdenum nickel tetraoxide","Ja",null,null,null,null,"MVP 1","2,5 g/uur","0,5 mg/Nm3","2013-12-02","1, 2","De getoonde waarde voor de emissiegrenswaarde wijkt af van de algemene waarde voor de MVP 1 en 2 stofklassen. De getoonde waarde geldt tot 1 januari 2025, daarna wordt de algemene waarde van kracht."]
["94114-55-3","302-691-7","Motorbrandstof, geproduceerd door het omvormen van de gezuiverde naftafractie van de produkten van het met waterstof kraken van koolextract of de oplossing geproduceerd door het vloeibaar solvent extractie- of het superkritisch gas extractieproces, met een kooktraject van ongeveer 30°C tot 180°C. Bestaat voornamelijk uit aromatische en naftenische verbindingen en alkylderivaten daarvan en alkylkoolwaterstoffen overwegend C4 tot en met C9. gasolie, kool solventextractie, met waterstof gekraakte nafta","Gasoline, coal solvent extn., hydrocracked naphtha [Motor fuel produced by the reforming of the refined naphtha fraction of the products of hydrocracking of coal extract or solution produced by the liquid solvent extraction or supercritical gas extraction processes and boiling in the range of approximately 30 °C to 180 °C (86 °F to 356 °F). Composed primarily of aromatic and naphthenic hydrocarbons, their alkyl derivatives and alkyl hydrocarbons having carbon numbers in the range of C4 through C9.]","Ja",null,null,null,null,null,null,null,"2013-12-02",20,"De getoonde waarde voor de emissiegrenswaarde wijkt af van de algemene waarde voor de MVP 1 en 2 stofklassen. De getoonde waarde geldt tot 1 januari 2025, daarna wordt de algemene waarde van kracht."]
["81-15-2","201-329-4","musk xyleen","musk xylene",null,"Ja",null,"Ja",null,"MVP 2",null,"5 mg/Nm3","2013-12-02",24,"De getoonde waarde voor de emissiegrenswaarde wijkt af van de algemene waarde voor de MVP 1 en 2 stofklassen. De getoonde waarde geldt tot 1 januari 2025, daarna wordt de algemene waarde van kracht."]
["793-24-8","212-344-0","N-(1,3-dimethylbutyl)-N'-fenyl-1,4-benzeendiamine","N-1,3-dimethylbutyl-N'-phenyl-p-phenylenediamine",null,null,null,"Ja",null,"MVP 1","0,15 g/uur","0,05 mg/Nm3","2013-12-02",null,"De getoonde waarde voor de emissiegrenswaarde wijkt af van de algemene waarde voor de MVP 1 en 2 stofklassen. De getoonde waarde geldt tot 1 januari 2025, daarna wordt de algemene waarde van kracht."]
["27366-72-9","435-470-1","N,N-(dimethylamino)thioaceetamide hydrochloride","N,N-(dimethylamino)thioacetamide hydrochloride","Ja",null,null,null,null,"MVP 2","2,5 g/uur","1 mg/Nm3","2013-12-02",null,"De getoonde waarde voor de emissiegrenswaarde wijkt af van de algemene waarde voor de MVP 1 en 2 stofklassen. De getoonde waarde geldt tot 1 januari 2025, daarna wordt de algemene waarde van kracht."]
["101-61-1","202-959-2","N,N,N',N'-tetramethyl-4,4'-methyleendianiline","N,N,N',N'-tetramethyl-4,4'-methylendianiline","Ja","Ja",null,null,null,"MVP 1","0,15 g/uur","0,05 mg/Nm3","2013-12-02",null,"De getoonde waarde voor de emissiegrenswaarde wijkt af van de algemene waarde voor de MVP 1 en 2 stofklassen. De getoonde waarde geldt tot 1 januari 2025, daarna wordt de algemene waarde van kracht."]
["613-35-4","210-338-2","N,N'-diacetylbenzidine","N,N'-diacetylbenzidine","Ja",null,null,null,null,"MVP 1","0,15 g/uur","0,05 mg/Nm3","2013-12-02",null,"De getoonde waarde voor de emissiegrenswaarde wijkt af van de algemene waarde voor de MVP 1 en 2 stofklassen. De getoonde waarde geldt tot 1 januari 2025, daarna wordt de algemene waarde van kracht."]
["127-19-5","204-826-4","N,N-dimethylaceetamide","N,N-dimethylacetamide","Ja","Ja",null,null,null,"MVP 2","500 g/uur","50 mg/Nm3","2013-12-02","1, 2","De getoonde waarde voor de emissiegrenswaarde wijkt af van de algemene waarde voor de MVP 1 en 2 stofklassen. De getoonde waarde geldt tot 1 januari 2025, daarna wordt de algemene waarde van kracht."]
["68-12-2","200-679-5","N,N-dimethylformamide","N,N-dimethylformamide","Ja","Ja",null,null,null,"MVP 2","500 g/uur","50 mg/Nm3","2013-12-02","1, 2","De getoonde waarde voor de emissiegrenswaarde wijkt af van de algemene waarde voor de MVP 1 en 2 stofklassen. De getoonde waarde geldt tot 1 januari 2025, daarna wordt de algemene waarde van kracht."]
["57-14-7","200-316-0","N,N-dimethylhydrazine","N,N-dimethylhydrazine","Ja",null,null,null,null,"MVP 2","2,5 g/uur","1 mg/Nm3","2013-12-02",null,"De getoonde waarde voor de emissiegrenswaarde wijkt af van de algemene waarde voor de MVP 1 en 2 stofklassen. De getoonde waarde geldt tot 1 januari 2025, daarna wordt de algemene waarde van kracht."]
["84245-12-5","424-550-1","N-[6,9-dihydro-9-[[2-hydroxy-1-(hydroxymethyl)ethoxy]methyl]-6-oxo-1H-purin-2-yl]acetamide","N-[6,9-dihydro-9-[[2-hydroxy-1-(hydroxymethyl)ethoxy]methyl]-6-oxo-1H-purin-2-yl]acetamide","Ja",null,null,null,null,"MVP 1","0,15 g/uur","0,05 mg/Nm3","2013-12-02",null,"De getoonde waarde voor de emissiegrenswaarde wijkt af van de algemene waarde voor de MVP 1 en 2 stofklassen. De getoonde waarde geldt tot 1 januari 2025, daarna wordt de algemene waarde van kracht."]
["68603-08-7","271-635-0","Nafta (aardolie), aromaathoudend Nafta met laag kookpunt - niet gespecifieerd","Naphtha (petroleum), arom.-contg., Low boiling point naphtha - unspecified","Ja",null,null,null,null,null,null,null,"2013-12-02",20,"De getoonde waarde voor de emissiegrenswaarde wijkt af van de algemene waarde voor de MVP 1 en 2 stofklassen. De getoonde waarde geldt tot 1 januari 2025, daarna wordt de algemene waarde van kracht."]
["91-20-3","202-049-5","naftaleen","naphthalene",null,null,null,null,null,"sO",null,"5 mg/Nm3","2016-05-27","5, 11, 21"]
["7789-12-0","234-190-3","natrium dichromaat dihydraat","sodium dichromate dihydrate",null,"Ja",null,null,null,"MVP 1","0,5 g/uur","0,1 mg/Nm3","2013-12-02","1, 2","De getoonde waarde voor de emissiegrenswaarde wijkt af van de algemene waarde voor de MVP 1 en 2 stofklassen. De getoonde waarde geldt tot 1 januari 2025, daarna wordt de algemene waarde van kracht."]
["3108-42-7","221-470-5","natrium perfluordecanoaat","sodium nonadecafluorodecanoate",null,"Ja",null,null,null,"MVP 1","0,15 g/uur","0,05 mg/Nm3","2017-01-13",4,"De getoonde waarde voor de emissiegrenswaarde wijkt af van de algemene waarde voor de MVP 1 en 2 stofklassen. De getoonde waarde geldt tot 1 januari 2025, daarna wordt de algemene waarde van kracht."]
["7775-11-3","231-889-5","natriumchromaat","sodium chromate","Ja","Ja",null,null,null,"MVP 1","0,5 g/uur","0,1 mg/Nm3","2013-12-02","1, 2, 3","De getoonde waarde voor de emissiegrenswaarde wijkt af van de algemene waarde voor de MVP 1 en 2 stofklassen. De getoonde waarde geldt tot 1 januari 2025, daarna wordt de algemene waarde van kracht."]
["10588-01-9","234-190-3","natriumdichromaat","sodium dichromate","Ja","Ja",null,null,null,"MVP 1","0,5 g/uur","0,1 mg/Nm3","2013-12-02","1, 2","De getoonde waarde voor de emissiegrenswaarde wijkt af van de algemene waarde voor de MVP 1 en 2 stofklassen. De getoonde waarde geldt tot 1 januari 2025, daarna wordt de algemene waarde van kracht."]
["15120-21-5","239-172-9","natriumperboraat","sodium perborate","Ja","Ja",null,null,null,"MVP 1",null,"5 mg/Nm3","2013-12-02",24,"De getoonde waarde voor de emissiegrenswaarde wijkt af van de algemene waarde voor de MVP 1 en 2 stofklassen. De getoonde waarde geldt tot 1 januari 2025, daarna wordt de algemene waarde van kracht."]
["10332-33-9","231-556-4","natriumperoxometaboraat","perboric acid, sodium salt","Ja","Ja",null,null,null,"MVP 1",null,"5 mg/Nm3","2013-12-02",24,"De getoonde waarde voor de emissiegrenswaarde wijkt af van de algemene waarde voor de MVP 1 en 2 stofklassen. De getoonde waarde geldt tot 1 januari 2025, daarna wordt de algemene waarde van kracht."]
["21049-39-8",null,"natriumzouten van perfluornonaanzuur","sodium salts of perfluorononan-1-oic-acid","Ja","Ja",null,null,null,"MVP 2","2,5 g/uur","1 mg/Nm3","2016-02-22",4,"De getoonde waarde voor de emissiegrenswaarde wijkt af van de algemene waarde voor de MVP 1 en 2 stofklassen. De getoonde waarde geldt tot 1 januari 2025, daarna wordt de algemene waarde van kracht."]
["11113-50-1","234-343-4","natuurlijk ruw boorzuur met een gehalte aan H3BO3 van niet meer dan 85 gewichtspercenten berekend op de droge stof","boric acid, crude natural, containing not more than 85 per cent of H3BO3 calculated on the dry weight","Ja","Ja",null,null,null,"MVP 1",null,"5 mg/Nm3","2013-12-02",24,"De getoonde waarde voor de emissiegrenswaarde wijkt af van de algemene waarde voor de MVP 1 en 2 stofklassen. De getoonde waarde geldt tot 1 januari 2025, daarna wordt de algemene waarde van kracht."]
["51818-56-5","257-447-1","neodecaanzuur, nikkelzout","neodecanoic acid, nickel salt","Ja",null,null,null,null,"MVP 1","2,5 g/uur","0,5 mg/Nm3","2013-12-02","1, 2","De getoonde waarde voor de emissiegrenswaarde wijkt af van de algemene waarde voor de MVP 1 en 2 stofklassen. De getoonde waarde geldt tot 1 januari 2025, daarna wordt de algemene waarde van kracht."]
["2687-91-4","220-250-6","N-ethyl-2-pyrrolidon","N-ethyl-2-pyrrolidone","Ja",null,null,null,null,"MVP 2","2,5 g/uur","1 mg/Nm3","2013-12-02",null,"De getoonde waarde voor de emissiegrenswaarde wijkt af van de algemene waarde voor de MVP 1 en 2 stofklassen. De getoonde waarde geldt tot 1 januari 2025, daarna wordt de algemene waarde van kracht."]
["7440-02-0","231-111-4","nikkel","nickel",null,null,null,null,null,"MVP 1","2,5 g/uur","0,5 mg/Nm3","2013-12-02","1, 2, 47","De getoonde waarde voor de emissiegrenswaarde wijkt af van de algemene waarde voor de MVP 1 en 2 stofklassen. De getoonde waarde geldt tot 1 januari 2025, daarna wordt de algemene waarde van kracht."]
["69012-50-6","273-749-6","nikkel mat","nickel matte","Ja",null,null,null,null,"MVP 1","2,5 g/uur","0,5 mg/Nm3","2013-12-02","1, 2","De getoonde waarde voor de emissiegrenswaarde wijkt af van de algemene waarde voor de MVP 1 en 2 stofklassen. De getoonde waarde geldt tot 1 januari 2025, daarna wordt de algemene waarde van kracht."]
["13477-70-8","236-771-7","nikkel(II)arsenaat","trinickel bis(arsenate)","Ja",null,null,null,null,"MVP 1","0,25 g/uur","0,05 mg/Nm3","2013-12-02","1, 2","De getoonde waarde voor de emissiegrenswaarde wijkt af van de algemene waarde voor de MVP 1 en 2 stofklassen. De getoonde waarde geldt tot 1 januari 2025, daarna wordt de algemene waarde van kracht."]
["85508-43-6","287-468-1","nikkel(II)isodecanoaat","nickel(II) isodecanoate","Ja",null,null,null,null,"MVP 1","2,5 g/uur","0,5 mg/Nm3","2013-12-02","1, 2","De getoonde waarde voor de emissiegrenswaarde wijkt af van de algemene waarde voor de MVP 1 en 2 stofklassen. De getoonde waarde geldt tot 1 januari 2025, daarna wordt de algemene waarde van kracht."]
["29317-63-3","249-555-2","nikkel(II)isooctanoaat","nickel(II) isooctanoate","Ja",null,null,null,null,"MVP 1","2,5 g/uur","0,5 mg/Nm3","2013-12-02","1, 2","De getoonde waarde voor de emissiegrenswaarde wijkt af van de algemene waarde voor de MVP 1 en 2 stofklassen. De getoonde waarde geldt tot 1 januari 2025, daarna wordt de algemene waarde van kracht."]
["85508-44-7","287-469-7","nikkel(II)neodecanoaat","nickel(II) neodecanoate","Ja",null,null,null,null,"MVP 1","2,5 g/uur","0,5 mg/Nm3","2013-12-02","1, 2","De getoonde waarde voor de emissiegrenswaarde wijkt af van de algemene waarde voor de MVP 1 en 2 stofklassen. De getoonde waarde geldt tot 1 januari 2025, daarna wordt de algemene waarde van kracht."]
["93920-10-6","300-094-6","nikkel(II)neononanoaat","nickel(II) neononanoate","Ja",null,null,null,null,"MVP 1","2,5 g/uur","0,5 mg/Nm3","2013-12-02","1, 2","De getoonde waarde voor de emissiegrenswaarde wijkt af van de algemene waarde voor de MVP 1 en 2 stofklassen. De getoonde waarde geldt tot 1 januari 2025, daarna wordt de algemene waarde van kracht."]
["93920-09-3","300-093-0","nikkel(II)neoundecanoaat","nickel(II) neoundecanoate","Ja",null,null,null,null,"MVP 1","2,5 g/uur","0,5 mg/Nm3","2013-12-02","1, 2","De getoonde waarde voor de emissiegrenswaarde wijkt af van de algemene waarde voor de MVP 1 en 2 stofklassen. De getoonde waarde geldt tot 1 januari 2025, daarna wordt de algemene waarde van kracht."]
["2223-95-2","218-744-1","nikkel(II)octadecanoaat","nickel(II) stearate","Ja",null,null,null,null,"MVP 1","2,5 g/uur","0,5 mg/Nm3","2013-12-02","1, 2","De getoonde waarde voor de emissiegrenswaarde wijkt af van de algemene waarde voor de MVP 1 en 2 stofklassen. De getoonde waarde geldt tot 1 januari 2025, daarna wordt de algemene waarde van kracht."]
["4995-91-9","225-656-7","nikkel(II)octanoaat","nickel(II) octanoate","Ja",null,null,null,null,"MVP 1","2,5 g/uur","0,5 mg/Nm3","2013-12-02","1, 2","De getoonde waarde voor de emissiegrenswaarde wijkt af van de algemene waarde voor de MVP 1 en 2 stofklassen. De getoonde waarde geldt tot 1 januari 2025, daarna wordt de algemene waarde van kracht."]
["13654-40-5","237-138-8","nikkel(II)palmitaat","nickel(II) palmitate","Ja",null,null,null,null,"MVP 1","2,5 g/uur","0,5 mg/Nm3","2013-12-02","1, 2","De getoonde waarde voor de emissiegrenswaarde wijkt af van de algemene waarde voor de MVP 1 en 2 stofklassen. De getoonde waarde geldt tot 1 januari 2025, daarna wordt de algemene waarde van kracht."]
["3349-08-4","222-102-6","nikkel(II)propionaat","nickel(II) propionate","Ja",null,null,null,null,"MVP 1","2,5 g/uur","0,5 mg/Nm3","2013-12-02","1, 2","De getoonde waarde voor de emissiegrenswaarde wijkt af van de algemene waarde voor de MVP 1 en 2 stofklassen. De getoonde waarde geldt tot 1 januari 2025, daarna wordt de algemene waarde van kracht."]
["10101-96-9","233-263-7","nikkel(II)seleniet","nickel(II) selenite","Ja",null,null,null,null,"MVP 1","2,5 g/uur","0,5 mg/Nm3","2013-12-02","1, 2","De getoonde waarde voor de emissiegrenswaarde wijkt af van de algemene waarde voor de MVP 1 en 2 stofklassen. De getoonde waarde geldt tot 1 januari 2025, daarna wordt de algemene waarde van kracht."]
["21784-78-1","244-578-4","nikkel(II)silicaat","nickel(II) silicate","Ja",null,null,null,null,"MVP 1","2,5 g/uur","0,5 mg/Nm3","2013-12-02","1, 2","De getoonde waarde voor de emissiegrenswaarde wijkt af van de algemene waarde voor de MVP 1 en 2 stofklassen. De getoonde waarde geldt tot 1 januari 2025, daarna wordt de algemene waarde van kracht."]
["16812-54-7","240-841-2","nikkel(II)sulfide","nickel sulphide","Ja",null,null,null,null,"MVP 1","0,15 g/uur","0,05 mg/Nm3","2013-12-02",null,"De getoonde waarde voor de emissiegrenswaarde wijkt af van de algemene waarde voor de MVP 1 en 2 stofklassen. De getoonde waarde geldt tot 1 januari 2025, daarna wordt de algemene waarde van kracht."]
["7757-95-1","231-827-7","nikkel(II)sulfiet","nickel(II) sulfite","Ja",null,null,null,null,"MVP 1","2,5 g/uur","0,5 mg/Nm3","2013-12-02","1, 2","De getoonde waarde voor de emissiegrenswaarde wijkt af van de algemene waarde voor de MVP 1 en 2 stofklassen. De getoonde waarde geldt tot 1 januari 2025, daarna wordt de algemene waarde van kracht."]
["16083-14-0","240-235-8","nikkel(II)trifluoracetaat","nickel(II) trifluoroacetate","Ja",null,null,null,null,"MVP 1","2,5 g/uur","0,5 mg/Nm3","2013-12-02","1, 2","De getoonde waarde voor de emissiegrenswaarde wijkt af van de algemene waarde voor de MVP 1 en 2 stofklassen. De getoonde waarde geldt tot 1 januari 2025, daarna wordt de algemene waarde van kracht."]
["18721-51-2","242-533-3","nikkel(II)waterstofcitraat","nickel(II) hydrogen citrate","Ja",null,null,null,null,"MVP 1","2,5 g/uur","0,5 mg/Nm3","2013-12-02","1, 2","De getoonde waarde voor de emissiegrenswaarde wijkt af van de algemene waarde voor de MVP 1 en 2 stofklassen. De getoonde waarde geldt tot 1 januari 2025, daarna wordt de algemene waarde van kracht."]
["52625-25-9","258-051-1","nikkel-3,5-bis(tert-butyl)-4-hydroxybenzoaat","nickel 3,5-bis(tert-butyl)-4-hydroxybenzoate (1:2)","Ja",null,null,null,null,"MVP 1","2,5 g/uur","0,5 mg/Nm3","2013-12-02","1, 2","De getoonde waarde voor de emissiegrenswaarde wijkt af van de algemene waarde voor de MVP 1 en 2 stofklassen. De getoonde waarde geldt tot 1 januari 2025, daarna wordt de algemene waarde van kracht."]
["14998-37-9","239-086-1","nikkelacetaat","nickel acetate","Ja",null,null,null,null,"MVP 1","2,5 g/uur","0,5 mg/Nm3","2013-12-02","1, 2","De getoonde waarde voor de emissiegrenswaarde wijkt af van de algemene waarde voor de MVP 1 en 2 stofklassen. De getoonde waarde geldt tot 1 januari 2025, daarna wordt de algemene waarde van kracht."]
["27016-75-7","248-169-1","nikkelarsenide","nickel arsenide","Ja",null,null,null,null,"MVP 1","0,25 g/uur","0,05 mg/Nm3","2013-12-02","1, 2","De getoonde waarde voor de emissiegrenswaarde wijkt af van de algemene waarde voor de MVP 1 en 2 stofklassen. De getoonde waarde geldt tot 1 januari 2025, daarna wordt de algemene waarde van kracht."]
["68610-24-2","271-853-6","nikkelbariumtitaan lichtgeel prideriet, C.I. Pigment Yellow 157, C.I. 77900","nickel barium titanium primrose priderite","Ja",null,null,null,null,"MVP 1","2,5 g/uur","0,5 mg/Nm3","2013-12-02","1, 2","De getoonde waarde voor de emissiegrenswaarde wijkt af van de algemene waarde voor de MVP 1 en 2 stofklassen. De getoonde waarde geldt tot 1 januari 2025, daarna wordt de algemene waarde van kracht."]
["4454-16-4","224-699-9","nikkelbis(2-ethylhexanoaat)","nickel bis(2-ethylhexanoate)","Ja",null,null,null,null,"MVP 1","2,5 g/uur","0,5 mg/Nm3","2013-12-02","1, 2","De getoonde waarde voor de emissiegrenswaarde wijkt af van de algemene waarde voor de MVP 1 en 2 stofklassen. De getoonde waarde geldt tot 1 januari 2025, daarna wordt de algemene waarde van kracht."]
["3906-55-6","223-463-2","nikkelbis(4-cyclohexylbutyraat)","nickel bis(4-cyclohexylbutyrate)","Ja",null,null,null,null,"MVP 1","2,5 g/uur","0,5 mg/Nm3","2013-12-02","1, 2","De getoonde waarde voor de emissiegrenswaarde wijkt af van de algemene waarde voor de MVP 1 en 2 stofklassen. De getoonde waarde geldt tot 1 januari 2025, daarna wordt de algemene waarde van kracht."]
["39819-65-3","254-642-3","nikkelbis(benzeensulfonaat)","nickel bis(benzenesulfonate)","Ja",null,null,null,null,"MVP 1","2,5 g/uur","0,5 mg/Nm3","2013-12-02","1, 2","De getoonde waarde voor de emissiegrenswaarde wijkt af van de algemene waarde voor de MVP 1 en 2 stofklassen. De getoonde waarde geldt tot 1 januari 2025, daarna wordt de algemene waarde van kracht."]
["18718-11-1","242-522-3","nikkelbis(diwaterstoffosfaat)","nickel bis(dihydrogen phosphate)","Ja",null,null,null,null,"MVP 1","2,5 g/uur","0,5 mg/Nm3","2013-12-02","1, 2","De getoonde waarde voor de emissiegrenswaarde wijkt af van de algemene waarde voor de MVP 1 en 2 stofklassen. De getoonde waarde geldt tot 1 januari 2025, daarna wordt de algemene waarde van kracht."]
["14507-36-9","238-511-8","nikkelbis(fosfinaat)","nickel bis(phosphinate)","Ja",null,null,null,null,"MVP 1","2,5 g/uur","0,5 mg/Nm3","2013-12-02","1, 2","De getoonde waarde voor de emissiegrenswaarde wijkt af van de algemene waarde voor de MVP 1 en 2 stofklassen. De getoonde waarde geldt tot 1 januari 2025, daarna wordt de algemene waarde van kracht."]
["84852-37-9","284-349-6","nikkelbis(isononanoaat)","nickel bis(isononanoate)","Ja",null,null,null,null,"MVP 1","2,5 g/uur","0,5 mg/Nm3","2013-12-02","1, 2","De getoonde waarde voor de emissiegrenswaarde wijkt af van de algemene waarde voor de MVP 1 en 2 stofklassen. De getoonde waarde geldt tot 1 januari 2025, daarna wordt de algemene waarde van kracht."]
["13770-89-3","237-396-1","nikkelbis(sulfamidaat)","nickel bis(sulfamidate)","Ja",null,null,null,null,"MVP 1","2,5 g/uur","0,5 mg/Nm3","2013-12-02","1, 2","De getoonde waarde voor de emissiegrenswaarde wijkt af van de algemene waarde voor de MVP 1 en 2 stofklassen. De getoonde waarde geldt tot 1 januari 2025, daarna wordt de algemene waarde van kracht."]
["14708-14-6","238-753-4","nikkelbis(tetrafluorboraat)","nickel bis(tetrafluoroborate)","Ja",null,null,null,null,"MVP 1","2,5 g/uur","0,5 mg/Nm3","2013-12-02","1, 2","De getoonde waarde voor de emissiegrenswaarde wijkt af van de algemene waarde voor de MVP 1 en 2 stofklassen. De getoonde waarde geldt tot 1 januari 2025, daarna wordt de algemene waarde van kracht."]
["65229-23-4",null,"nikkelboorfosfide","nickel boron phosphide","Ja",null,null,null,null,"MVP 1","2,5 g/uur","0,5 mg/Nm3","2013-12-02","1, 2","De getoonde waarde voor de emissiegrenswaarde wijkt af van de algemene waarde voor de MVP 1 en 2 stofklassen. De getoonde waarde geldt tot 1 januari 2025, daarna wordt de algemene waarde van kracht."]
["12619-90-8","235-723-2","nikkelboride","nickel boride","Ja",null,null,null,null,"MVP 1","2,5 g/uur","0,5 mg/Nm3","2013-12-02","1, 2","De getoonde waarde voor de emissiegrenswaarde wijkt af van de algemene waarde voor de MVP 1 en 2 stofklassen. De getoonde waarde geldt tot 1 januari 2025, daarna wordt de algemene waarde van kracht."]
["12007-00-0","234-493-0","nikkelboride (NiB)","nickel boride","Ja",null,null,null,null,"MVP 1","2,5 g/uur","0,5 mg/Nm3","2013-12-02","1, 2","De getoonde waarde voor de emissiegrenswaarde wijkt af van de algemene waarde voor de MVP 1 en 2 stofklassen. De getoonde waarde geldt tot 1 januari 2025, daarna wordt de algemene waarde van kracht."]
["3333-67-3","222-068-2","nikkelcarbonaat","nickel carbonate","Ja",null,null,null,null,"MVP 1","2,5 g/uur","0,5 mg/Nm3","2013-12-02","1, 2","De getoonde waarde voor de emissiegrenswaarde wijkt af van de algemene waarde voor de MVP 1 en 2 stofklassen. De getoonde waarde geldt tot 1 januari 2025, daarna wordt de algemene waarde van kracht."]
["14721-18-7","238-766-5","nikkelchromaat","nickel chromate","Ja",null,null,null,null,"MVP 1","2,5 g/uur","0,5 mg/Nm3","2013-12-02","1, 2","De getoonde waarde voor de emissiegrenswaarde wijkt af van de algemene waarde voor de MVP 1 en 2 stofklassen. De getoonde waarde geldt tot 1 januari 2025, daarna wordt de algemene waarde van kracht."]
["373-02-4","206-761-7","nikkeldi(acetaat)","nickel di(acetate)","Ja",null,null,null,null,"MVP 1","2,5 g/uur","0,5 mg/Nm3","2013-12-02","1, 2","De getoonde waarde voor de emissiegrenswaarde wijkt af van de algemene waarde voor de MVP 1 en 2 stofklassen. De getoonde waarde geldt tot 1 januari 2025, daarna wordt de algemene waarde van kracht."]
["12068-61-0","235-103-1","nikkeldiarsenide","nickel diarsenide","Ja",null,null,null,null,"MVP 1","0,25 g/uur","0,05 mg/Nm3","2013-12-02","1, 2","De getoonde waarde voor de emissiegrenswaarde wijkt af van de algemene waarde voor de MVP 1 en 2 stofklassen. De getoonde waarde geldt tot 1 januari 2025, daarna wordt de algemene waarde van kracht.","Deze stof staat zelf niet in bijlage 12a van de Activiteitenregeling milieubeheer maar valt onder een groepsvermelding, de getoonde stofklasse, grensmassastroom en emissiegrenswaarde zijn die van de groepsvermelding.","Nikkelnitriet op zichzelf wordt niet als individuele stof als ZZS geïdentificeerd maar gezien het grote aantal nikkelverbindingen dat ZZS is, wordt ook nikkelnitriet zelf hier als ZZS genoemd"]
["553-71-9","209-046-8","nikkeldibenzoaat","nickel dibenzoate","Ja",null,null,null,null,"MVP 1","2,5 g/uur","0,5 mg/Nm3","2013-12-02","1, 2","De getoonde waarde voor de emissiegrenswaarde wijkt af van de algemene waarde voor de MVP 1 en 2 stofklassen. De getoonde waarde geldt tot 1 januari 2025, daarna wordt de algemene waarde van kracht."]
["14550-87-9","238-596-1","nikkeldibromaat","nickel dibromate","Ja",null,null,null,null,"MVP 1","2,5 g/uur","0,5 mg/Nm3","2013-12-02","1, 2"]
["13462-88-9","236-665-0","nikkeldibromide","nickel dibromide","Ja",null,null,null,null,"MVP 1","2,5 g/uur","0,5 mg/Nm3","2013-12-02","1, 2","De getoonde waarde voor de emissiegrenswaarde wijkt af van de algemene waarde voor de MVP 1 en 2 stofklassen. De getoonde waarde geldt tot 1 januari 2025, daarna wordt de algemene waarde van kracht."]
["67952-43-6","267-897-0","nikkeldichloraat","nickel dichlorate","Ja",null,null,null,null,"MVP 1","2,5 g/uur","0,5 mg/Nm3","2013-12-02","1, 2","De getoonde waarde voor de emissiegrenswaarde wijkt af van de algemene waarde voor de MVP 1 en 2 stofklassen. De getoonde waarde geldt tot 1 januari 2025, daarna wordt de algemene waarde van kracht."]
["7718-54-9","231-743-0","nikkeldichloride","nickel dichloride","Ja",null,null,null,null,"MVP 1","2,5 g/uur","0,5 mg/Nm3","2013-12-02","1, 2","De getoonde waarde voor de emissiegrenswaarde wijkt af van de algemene waarde voor de MVP 1 en 2 stofklassen. De getoonde waarde geldt tot 1 januari 2025, daarna wordt de algemene waarde van kracht."]
["15586-38-6","239-646-5","nikkeldichromaat","nickel dichromate","Ja",null,null,null,null,"MVP 1","2,5 g/uur","0,5 mg/Nm3","2013-12-02","1, 2","De getoonde waarde voor de emissiegrenswaarde wijkt af van de algemene waarde voor de MVP 1 en 2 stofklassen. De getoonde waarde geldt tot 1 januari 2025, daarna wordt de algemene waarde van kracht."]
["557-19-7","209-160-8","nikkeldicyanide","nickel dicyanide","Ja",null,null,null,null,"MVP 1","2,5 g/uur","0,5 mg/Nm3","2013-12-02","1, 2","De getoonde waarde voor de emissiegrenswaarde wijkt af van de algemene waarde voor de MVP 1 en 2 stofklassen. De getoonde waarde geldt tot 1 januari 2025, daarna wordt de algemene waarde van kracht."]
["10028-18-9","233-071-3","nikkeldifluoride","nickel difluoride","Ja",null,null,null,null,"MVP 1","2,5 g/uur","0,5 mg/Nm3","2013-12-02","1, 2","De getoonde waarde voor de emissiegrenswaarde wijkt af van de algemene waarde voor de MVP 1 en 2 stofklassen. De getoonde waarde geldt tot 1 januari 2025, daarna wordt de algemene waarde van kracht."]
["3349-06-2","222-101-0","nikkeldiformiaat","nickel diformate","Ja",null,null,null,null,"MVP 1","2,5 g/uur","0,5 mg/Nm3","2013-12-02","1, 2","De getoonde waarde voor de emissiegrenswaarde wijkt af van de algemene waarde voor de MVP 1 en 2 stofklassen. De getoonde waarde geldt tot 1 januari 2025, daarna wordt de algemene waarde van kracht."]
["12054-48-7","235-008-5","nikkeldihydroxide","nickel dihydroxide","Ja",null,null,null,null,"MVP 1","2,5 g/uur","0,5 mg/Nm3","2013-12-02","1, 2","De getoonde waarde voor de emissiegrenswaarde wijkt af van de algemene waarde voor de MVP 1 en 2 stofklassen. De getoonde waarde geldt tot 1 januari 2025, daarna wordt de algemene waarde van kracht."]
["13462-90-3","236-666-6","nikkeldijodide","nickel diiodide","Ja",null,null,null,null,"MVP 1","2,5 g/uur","0,5 mg/Nm3","2013-12-02","1, 2","De getoonde waarde voor de emissiegrenswaarde wijkt af van de algemene waarde voor de MVP 1 en 2 stofklassen. De getoonde waarde geldt tot 1 januari 2025, daarna wordt de algemene waarde van kracht."]
["16039-61-5",null,"nikkeldilactaat","nickel dilactate","Ja",null,null,null,null,"MVP 1","2,5 g/uur","0,5 mg/Nm3","2013-12-02","1, 2","De getoonde waarde voor de emissiegrenswaarde wijkt af van de algemene waarde voor de MVP 1 en 2 stofklassen. De getoonde waarde geldt tot 1 januari 2025, daarna wordt de algemene waarde van kracht."]
["13138-45-9","236-068-5","nikkeldinitraat","nickel dinitrate","Ja",null,null,null,null,"MVP 1","2,5 g/uur","0,5 mg/Nm3","2013-12-02","1, 2"]
["12035-36-8","234-823-3","nikkeldioxide","nickel dioxide","Ja",null,null,null,null,"MVP 1","2,5 g/uur","0,5 mg/Nm3","2013-12-02","1, 2","De getoonde waarde voor de emissiegrenswaarde wijkt af van de algemene waarde voor de MVP 1 en 2 stofklassen. De getoonde waarde geldt tot 1 januari 2025, daarna wordt de algemene waarde van kracht."]
["13637-71-3","237-124-1","nikkeldiperchloraat","nickel diperchlorate","Ja",null,null,null,null,"MVP 1","2,5 g/uur","0,5 mg/Nm3","2013-12-02","1, 2","De getoonde waarde voor de emissiegrenswaarde wijkt af van de algemene waarde voor de MVP 1 en 2 stofklassen. De getoonde waarde geldt tot 1 januari 2025, daarna wordt de algemene waarde van kracht."]
["12201-89-7","235-379-3","nikkeldisilicide","nickel disilicide","Ja",null,null,null,null,"MVP 1","2,5 g/uur","0,5 mg/Nm3","2013-12-02","1, 2","De getoonde waarde voor de emissiegrenswaarde wijkt af van de algemene waarde voor de MVP 1 en 2 stofklassen. De getoonde waarde geldt tot 1 januari 2025, daarna wordt de algemene waarde van kracht."]
["13689-92-4","237-205-1","nikkeldithiocyanaat","nickel dithiocyanate","Ja",null,null,null,null,"MVP 1","2,5 g/uur","0,5 mg/Nm3","2013-12-02","1, 2","De getoonde waarde voor de emissiegrenswaarde wijkt af van de algemene waarde voor de MVP 1 en 2 stofklassen. De getoonde waarde geldt tot 1 januari 2025, daarna wordt de algemene waarde van kracht.","Nikkelverbingen als stofgroep wordt op zichzelf wordt niet als ZZS geïdentificeerd maar gezien het grote aantal nikkelverbindingen dat ZZS is, worden ook nikkelverbindingen zelf hier als ZZS genoemd"]
["52502-12-2","257-970-5","nikkeldivanadiumhexaoxide","nickel divanadium hexaoxide","Ja",null,null,null,null,"MVP 1","2,5 g/uur","0,5 mg/Nm3","2013-12-02","1, 2","De getoonde waarde voor de emissiegrenswaarde wijkt af van de algemene waarde voor de MVP 1 en 2 stofklassen. De getoonde waarde geldt tot 1 januari 2025, daarna wordt de algemene waarde van kracht."]
["36026-88-7","252-840-4","nikkelfosfinaat","nickel phosphinate","Ja",null,null,null,null,"MVP 1","2,5 g/uur","0,5 mg/Nm3","2013-12-02","1, 2","De getoonde waarde voor de emissiegrenswaarde wijkt af van de algemene waarde voor de MVP 1 en 2 stofklassen. De getoonde waarde geldt tot 1 januari 2025, daarna wordt de algemene waarde van kracht."]
["26043-11-8","247-430-7","nikkelhexafluorsilicaat","nickel hexafluorosilicate","Ja",null,null,null,null,"MVP 1","2,5 g/uur","0,5 mg/Nm3","2013-12-02","1, 2","De getoonde waarde voor de emissiegrenswaarde wijkt af van de algemene waarde voor de MVP 1 en 2 stofklassen. De getoonde waarde geldt tot 1 januari 2025, daarna wordt de algemene waarde van kracht."]
["11113-74-9","234-348-1","nikkelhydroxide","nickel hydroxide","Ja",null,null,null,null,"MVP 1","2,5 g/uur","0,5 mg/Nm3","2013-12-02","1, 2","De getoonde waarde voor de emissiegrenswaarde wijkt af van de algemene waarde voor de MVP 1 en 2 stofklassen. De getoonde waarde geldt tot 1 januari 2025, daarna wordt de algemene waarde van kracht."]
["27637-46-3","248-585-3","nikkelisooctanoaat","nickel isooctanoate","Ja",null,null,null,null,"MVP 1","2,5 g/uur","0,5 mg/Nm3","2013-12-02","1, 2"]
["11132-10-8",null,"nikkelkaliumfluoride","nickel potassium fluoride","Ja",null,null,null,null,"MVP 1","2,5 g/uur","0,5 mg/Nm3","2013-12-02","1, 2"]
["11099-02-8","234-323-5","nikkelmonoxide","nickel monoxide","Ja",null,null,null,null,"MVP 1","2,5 g/uur","0,5 mg/Nm3","2013-12-02","1, 2","De getoonde waarde voor de emissiegrenswaarde wijkt af van de algemene waarde voor de MVP 1 en 2 stofklassen. De getoonde waarde geldt tot 1 januari 2025, daarna wordt de algemene waarde van kracht."]
["17861-62-0",null,"nikkelnitriet","nickel dinitrite",null,null,null,null,null,"MVP 1","2,5 g/uur","0,5 mg/Nm3","2013-12-02","1, 2, 3, 48","De getoonde waarde voor de emissiegrenswaarde wijkt af van de algemene waarde voor de MVP 1 en 2 stofklassen. De getoonde waarde geldt tot 1 januari 2025, daarna wordt de algemene waarde van kracht."]
["547-67-1","208-933-7","nikkeloxalaat","nickel oxalate","Ja",null,null,null,null,"MVP 1","2,5 g/uur","0,5 mg/Nm3","2013-12-02","1, 2"]
["1313-99-1","215-215-7","nikkeloxide","nickel oxide","Ja",null,null,null,null,"MVP 1","0,15 g/uur","0,05 mg/Nm3","2013-12-02"]
["15060-62-5","239-125-2","nikkelselenaat","nickel selenate","Ja",null,null,null,null,"MVP 1","2,5 g/uur","0,5 mg/Nm3","2013-12-02","1, 2"]
["1314-05-2","215-216-2","nikkelselenide","nickel selenide","Ja",null,null,null,null,"MVP 1","2,5 g/uur","0,5 mg/Nm3","2013-12-02","1, 2"]
["31748-25-1","250-788-7","nikkelsilicaat","nickel silicate","Ja",null,null,null,null,"MVP 1","2,5 g/uur","0,5 mg/Nm3","2013-12-02","1, 2"]
["12035-38-0","234-824-9","nikkelstannaat","nickel tin trioxide","Ja",null,null,null,null,"MVP 1","2,5 g/uur","0,5 mg/Nm3","2013-12-02","1, 2"]
["12035-72-2","234-829-6","nikkelsubsulfide","trinickel disulfide","Ja",null,null,null,null,"MVP 1","2,5 g/uur","0,5 mg/Nm3","2013-12-02","1, 2"]
["7786-81-4","232-104-9","nikkelsulfaat","nickel sulfate","Ja",null,null,null,null,"MVP 1","2,5 g/uur","0,5 mg/Nm3","2013-12-02","1, 2"]
["11113-75-0","234-349-7","nikkelsulfide","nickel sulphide","Ja",null,null,null,null,"MVP 1","2,5 g/uur","0,5 mg/Nm3","2013-12-02","1, 2"]
["12142-88-0","235-260-6","nikkeltelluride","nickel telluride","Ja",null,null,null,null,"MVP 1","2,5 g/uur","0,5 mg/Nm3","2013-12-02","1, 2"]
["15852-21-8","239-974-9","nikkeltelluurtetraoxide","nickel tellurium tetraoxide","Ja",null,null,null,null,"MVP 1","2,5 g/uur","0,5 mg/Nm3","2013-12-02","1, 2"]
["15851-52-2","239-967-0","nikkeltelluurtrioxide","nickel tellurium trioxide","Ja",null,null,null,null,"MVP 1","2,5 g/uur","0,5 mg/Nm3","2013-12-02","1, 2"]
["13463-39-3","236-669-2","nikkeltetracarbonyl","tetracarbonylnickel","Ja",null,null,null,null,"MVP 2","2,5 g/uur","1 mg/Nm3","2013-12-02",null,"De getoonde waarde voor de emissiegrenswaarde wijkt af van de algemene waarde voor de MVP 1 en 2 stofklassen. De getoonde waarde geldt tot 1 januari 2025, daarna wordt de algemene waarde van kracht."]
["12653-76-8","235-752-0","nikkeltitaanoxide","nickel titanium oxide","Ja",null,null,null,null,"MVP 1","2,5 g/uur","0,5 mg/Nm3","2013-12-02","1, 2"]
["12035-39-1","234-825-4","nikkeltitaantrioxide","nickel titanium trioxide","Ja",null,null,null,null,"MVP 1","2,5 g/uur","0,5 mg/Nm3","2013-12-02","1, 2"]
["15780-33-3","239-876-6","nikkeltriuraandecaoxide","nickel triuranium decaoxide","Ja",null,null,null,null,"MVP 1","2,5 g/uur","0,5 mg/Nm3","2013-12-02","1, 2","De getoonde waarde voor de emissiegrenswaarde wijkt af van de algemene waarde voor de MVP 1 en 2 stofklassen. De getoonde waarde geldt tot 1 januari 2025, daarna wordt de algemene waarde van kracht."]
[null,null,"nikkelverbindingen","nickel compounds",null,null,null,null,null,"MVP 1","2,5 g/uur","0,5 mg/Nm3","2013-12-02","1, 2, 49"]
["14332-34-4","238-278-2","nikkelwaterstoffosfaat","nickel hydrogen phosphate","Ja",null,null,null,null,"MVP 1","2,5 g/uur","0,5 mg/Nm3","2013-12-02","1, 2"]
["14177-51-6","238-032-4","nikkelwolfraamtetraoxide","nickel tungsten tetraoxide","Ja",null,null,null,null,"MVP 1","2,5 g/uur","0,5 mg/Nm3","2013-12-02","1, 2","De getoonde waarde voor de emissiegrenswaarde wijkt af van de algemene waarde voor de MVP 1 en 2 stofklassen. De getoonde waarde geldt tot 1 januari 2025, daarna wordt de algemene waarde van kracht.","geldt ook voor: zouten van o-toluidine; zouten van 2-aminotolueen; zouten van 2-methylbenzeenamine"]
["70692-93-2","274-755-1","nikkelzirkoniumtrioxide","nickel zirkonium trioxide","Ja",null,null,null,null,"MVP 1","2,5 g/uur","0,5 mg/Nm3","2013-12-02","1, 2","De getoonde waarde voor de emissiegrenswaarde wijkt af van de algemene waarde voor de MVP 1 en 2 stofklassen. De getoonde waarde geldt tot 1 januari 2025, daarna wordt de algemene waarde van kracht."]
["98-95-3","202-716-0","nitrobenzeen","nitrobenzene","Ja","Ja",null,null,null,"MVP 2","100 g/uur","20 mg/Nm3","2013-12-02","1, 2"]
["1836-75-5","217-406-0","nitrofeen","nitrofen","Ja",null,null,null,null,"MVP 1","0,15 g/uur","0,05 mg/Nm3","2013-12-02"]
["621-64-7","210-698-0","nitrosodipropylamine","nitrosodipropylamine","Ja",null,null,null,null,"MVP 2","2,5 g/uur","1 mg/Nm3","2013-12-02"]
["872-50-4","212-828-1","N-methyl-2-pyrrolidon","N-methyl-2-pyrrolidone","Ja","Ja",null,null,null,"MVP 2","500 g/uur","50 mg/Nm3","2013-12-02","1, 2"]
["79-16-3","201-182-6","N-methylacetamide","N-methylacetamide","Ja","Ja",null,null,null,"MVP 2","500 g/uur","50 mg/Nm3","2013-12-02","1, 2"]
["123-39-7","204-624-6","N-methylformamide","N-methylformamide","Ja",null,null,null,null,"MVP 2","2,5 g/uur","1 mg/Nm3","2013-12-02"]
["62-75-9","200-549-8","N-nitrosodimethylamine","dimethylnitrosoamine","Ja",null,null,null,null,"MVP 2","2,5 g/uur","1 mg/Nm3","2013-12-02"]
["25154-52-3","246-672-0","nonylfenol","nonylphenol",null,null,"Ja","Ja",null,"MVP 1","0,15 g/uur","0,05 mg/Nm3","2013-12-02"]
[null,null,"nonylfenol en nonylfenolethoxylaten","nonylphenol and nonylphenolethoxylates",null,null,null,"Ja",null,"MVP 1 of MVP 2",null,null,"2013-12-02"]
[null,"246-672-0","nonylfenolen","nonylphenols",null,null,"Ja","Ja",null,"MVP 1","0,15 g/uur","0,05 mg/Nm3","2013-12-02"]
[null,null,"nonylfenolethoxylaat met >8 ethoxymonomeren (NPEO>8)","nonylphenolethoxylate with >8 ethoxymonomers (NPEO>8)",null,null,null,"Ja",null,"MVP 2","2,5 g/uur","1 mg/Nm3","2017-01-13"]
[null,null,"nonylfenolethoxylaat met 1-2 ethoxymonomeren (NPEO1+2)","nonylphenolethoxylate with 1-2 ethoxymonomers (NPEO1+2)",null,null,null,"Ja",null,"MVP 2","2,5 g/uur","1 mg/Nm3","2017-01-13"]
[null,null,"nonylfenolethoxylaat met 1-2 ethoxymonomeren gecarboxyleerd (NPE1+2C)","nonylphenolethoxylate with 1-2 ethoxymonomers carboxylated (NPEO1+2C)",null,null,null,"Ja",null,"MVP 2","2,5 g/uur","1 mg/Nm3","2017-01-13"]
[null,null,"nonylfenolethoxylaat met 3-8 ethoxymonomeren (NPEO3-8)","nonylphenolethoxylate with 3-8 ethoxymonomers (NPEO3-8)",null,null,null,"Ja",null,"MVP 2","2,5 g/uur","1 mg/Nm3","2017-01-13"]
["9016-45-9",null,"nonylfenolethoxylaten","nonylphenolethoxylates and related substances",null,null,null,"Ja",null,"MVP 2","2,5 g/uur","1 mg/Nm3","2013-12-02"]
["776297-69-9",null,"N-pentyl-isopentylftalaat","N-pentyl-isopentylphthalate",null,"Ja",null,null,null,"MVP 1","0,15 g/uur","0,05 mg/Nm3","2013-12-02",null,"De getoonde waarde voor de emissiegrenswaarde wijkt af van de algemene waarde voor de MVP 1 en 2 stofklassen. De getoonde waarde geldt tot 1 januari 2025, daarna wordt de algemene waarde van kracht.","Deze stof staat zelf niet in bijlage 12a van de Activiteitenregeling milieubeheer maar valt onder een groepsvermelding, de getoonde stofklasse, grensmassastroom en emissiegrenswaarde zijn die van de groepsvermelding."]
["97-56-3","202-591-2","o-aminoazotolueen","o-aminoazotoluene, 4-amino-2',3-dimethylazobenzene, 4-o-tolylazo-o-toluidine","Ja","Ja",null,null,null,"MVP 1","0,15 g/uur","0,05 mg/Nm3","2013-12-02",null,"De getoonde waarde voor de emissiegrenswaarde wijkt af van de algemene waarde voor de MVP 1 en 2 stofklassen. De getoonde waarde geldt tot 1 januari 2025, daarna wordt de algemene waarde van kracht."]
["90-04-0","201-963-1","o-anisidine","o-anisidine","Ja","Ja",null,null,null,"MVP 2","2,5 g/uur","1 mg/Nm3","2013-12-02"]
["32536-52-0","251-087-9","octabroomdifenylether","commercial octabromodiphenyl ether","Ja",null,null,"Ja","Ja","ERS","20 mg TEQ/jaar","0,1 ng TEQ/Nm3","2013-12-02",6]
["2234-13-1","218-778-7","octachloornaftaleen","octachloronaphthalene",null,null,null,"Ja","Ja","ERS","20 mg TEQ/jaar","0,1 ng TEQ/Nm3","2013-12-02"]
[null,"432-750-3","O-hexyl-N-ethoxycarbonylthiocarbamaat","O-hexyl-N-ethoxycarbonylthiocarbamate","Ja",null,null,null,null,"MVP 1","0,15 g/uur","0,05 mg/Nm3","2013-12-02"]
["103122-66-3","434-350-4","O-isobutyl-N-ethoxycarbonylthiocarbamaat","O-isobutyl-N-ethoxy carbonylthiocarbamate","Ja",null,null,null,null,"MVP 1","0,15 g/uur","0,05 mg/Nm3","2013-12-02"]
["68515-84-4","271-112-7","olivijn nikkelgroen","olivine, nickel green","Ja",null,null,null,null,"MVP 1","2,5 g/uur","0,5 mg/Nm3","2013-12-02","1, 2"]
["85536-20-5","287-502-5","Oplosmiddelnafta (kool), xyleen-styreenfractie, herdestillaat, Lichte olie, middenfractie","Solvent naphtha (coal), xylene-styrene cut, Light Oil Redistillate, intermediate boiling","Ja",null,null,null,null,null,null,null,"2013-12-02",20]
[null,null,"organische kwikverbindingen","anorganic mercury compounds",null,null,null,"Ja",null,"MVP 1","0,15 g/uur","0,05 mg/Nm3","2013-12-02"]
[null,null,"organische tinverbindingen","organostannic compounds",null,null,null,"Ja",null,"MVP 2","100 g/uur","20 mg/Nm3","2013-12-02","1, 2"]
[null,null,"organoloodverbindingen","organic lead compounds",null,null,null,"Ja",null,"MVP 1","0,15 g/uur","0,05 mg/Nm3","2013-12-02"]
["13840-56-7","237-560-2","orthoboorzuur natriumzout","orthoboric acid, sodium salt","Ja",null,null,null,null,"MVP 1",null,"5 mg/Nm3","2013-12-02",24]
["95-53-4","202-429-0","o-toluidine","o-toluidine","Ja","Ja",null,null,null,"MVP 2","100 g/uur","20 mg/Nm3","2013-12-02","1, 2, 50"]
["20543-06-0","243-867-2","oxaalzuur nikkelzout","oxalic acid, nickel salt","Ja",null,null,null,null,"MVP 1","2,5 g/uur","0,5 mg/Nm3","2013-12-02","1, 2"]
["39807-15-3","254-637-6","oxadiargyl","oxadiargyl","Ja",null,null,null,null,"MVP 1","0,15 g/uur","0,05 mg/Nm3","2013-12-02"]
["75-21-8","200-849-9","oxiraan","ethylene oxide","Ja",null,null,null,null,"MVP 2","2,5 g/uur","1 mg/Nm3","2013-12-02"]
["80-46-6","201-280-9","p-(1,1-dimethylpropyl)fenol","p-(1,1-dimethylpropyl)phenol",null,"Ja",null,null,null,"MVP 1","0,15 g/uur","0,05 mg/Nm3","2017-01-13",4]
["140-66-9","205-426-2","para-tert-octylfenol","octylphenol",null,"Ja",null,"Ja",null,"MVP 1","0,15 g/uur","0,05 mg/Nm3","2013-12-02"]
["5216-25-1","226-009-1","p-chloorbenzotrichloride","p-chlorobenzotrichloride","Ja",null,null,null,null,"MVP 1","0,15 g/uur","0,05 mg/Nm3","2013-12-02"]
["61789-60-4","263-072-4","Pek","Pitch, Pitch","Ja",null,null,null,null,null,null,null,"2013-12-02",20]
["92061-94-4","295-507-9","Pek destillaat, Residu van de gefractioneerde destillatie van pekdestillaat, met een kooktraject van ongeveer 400°C tot 470°C. Bestaat voornamelijk uit polynucleaire aromatische koolwaterstoffen en heterocyclische verbindingen. residuen (koolteer), pekdestillatie-","Residues (coal tar), pitch distn., Pitch Redistillate [Residue from the fractional distillation of pitch distillate boiling in the range of approximately 400 °C to 470 °C (752 °F to 846 °F). Composed primarily of polynuclear aromatic hydrocarbons, and heterocyclic compounds.]","Ja",null,null,null,null,null,null,null,"2013-12-02",20]
["65996-93-2","266-028-2","pek koolteer, hoge temperatuur","Pitch, coal tar, high-temp.","Ja","Ja",null,null,null,"MVP 1","0,15 g/uur","0,05 mg/Nm3","2013-12-02"]
["68187-57-5","269-109-0","Pek residuen Residu uit de destillatie van een mengsel van koolteer en aromatische aardoliestromen. Een vaste stof met een verwekingstemperatuur van 40°C tot 180°C. Voornamelijk samengesteld uit een complexe verzameling van aromatische koolwaterstoffen met drie of meer gecondenseerde ringen. Pek koolteer-aardolie","Pitch, coal tar-petroleum, Pitch Residues [The residue from the distillation of a mixture of coal tar and aromatic petroleum streams. A solid with a softening point from 40 °C to 180 °C (140 °F to 356 °F). Composed primarily of a complex combination of three or more membered condensed ring aromatic hydrocarbons.]","Ja",null,null,null,null,"MVP 1","0,15 g/uur","0,05 mg/Nm3","2013-12-02",37]
["32534-81-9","251-084-2","pentabroomdifenylether","diphenyl ether, pentabromo derivative pentabromodiphenyl ether",null,null,"Ja","Ja","Ja","ERS","20 mg TEQ/jaar","0,1 ng TEQ/Nm3","2013-12-02",6]
["85-22-3","201-593-0","pentabroomethylbenzeen","2,3,4,5,6-pentabromoethylbenzene",null,null,null,"Ja",null,"MVP 1","0,15 g/uur","0,05 mg/Nm3","2013-12-02"]
["1825-21-4",null,"pentachlooranisol","pentachloro-anisole",null,null,null,"Ja",null,"MVP 1","0,15 g/uur","0,05 mg/Nm3","2013-12-02"]
["608-93-5","210-172-0","pentachloorbenzeen","pentachlorobenzene",null,null,"Ja",null,"Ja","MVP 1","0,15 g/uur","0,05 mg/Nm3","2013-12-02"]
["76-01-7","200-925-1","pentachloorethaan","pentachloroethane",null,null,null,null,null,"MVP 2","2,5 g/uur","1 mg/Nm3","2013-12-02",9]
["87-86-5","201-778-6","pentachloorfenol","pentachlorophenol",null,null,null,"Ja",null,"MVP 1","0,15 g/uur","0,05 mg/Nm3","2013-12-02",null,"De getoonde waarde voor de emissiegrenswaarde wijkt af van de algemene waarde voor de MVP 1 en 2 stofklassen. De getoonde waarde geldt tot 1 januari 2025, daarna wordt de algemene waarde van kracht.","Deze stof staat zelf niet in bijlage 12a van de Activiteitenregeling milieubeheer maar valt onder een groepsvermelding, de getoonde stofklasse, grensmassastroom en emissiegrenswaarde zijn die van de groepsvermelding."]
["1321-64-8","215-320-8","pentachloornaftaleen","pentachloronaphthalene",null,null,null,"Ja","Ja","ERS","20 mg TEQ/jaar","0,1 ng TEQ/Nm3","2013-12-02"]
["12065-90-6","235-067-7","pentaloodtetraoxidesulfaat","pentalead tetraoxide sulphate",null,"Ja",null,null,null,"MVP 1","2,5 g/uur","0,5 mg/Nm3","2013-12-02","1, 2, 3"]
["49663-84-5","256-418-0","pentazinkchromaatoctahydroxide","pentazinc chromate octahydroxide",null,"Ja",null,null,null,"MVP 1","0,5 g/uur","0,1 mg/Nm3","2013-12-02","1, 2"]
["13517-20-9","239-172-9","perboorzuur (H3BO2(O2)) mononatriumzout trihydraat","perboric acid (H3BO2(O2)), monosodium salt trihydrate","Ja","Ja",null,null,null,"MVP 1",null,"5 mg/Nm3","2013-12-02",24]
["10332-33-9","231-556-4","perboorzuur (HBO(O2)) natriumzout monohydraat","perboric acid (HBO(O2)), sodium salt, monohydrate","Ja","Ja",null,null,null,"MVP 1",null,"5 mg/Nm3","2013-12-02",24,"De getoonde waarde voor de emissiegrenswaarde wijkt af van de algemene waarde voor de MVP 1 en 2 stofklassen. De getoonde waarde geldt tot 1 januari 2025, daarna wordt de algemene waarde van kracht."]
["10486-00-7","231-556-4","perboorzuur (HBO(O2)) natriumzout tetrahydraat","perboric acid (HBO(O2)), sodium salt, tetrahydrate","Ja","Ja",null,null,null,"MVP 1",null,"5 mg/Nm3","2013-12-02",24]
["11138-47-9","234-390-0","perboorzuur natriumzout","perboric acid, sodium salt","Ja","Ja",null,null,null,"MVP 1",null,"5 mg/Nm3","2013-12-02",24]
["12040-72-1","234-390-0","perboorzuur natriumzout monohydraat","perboric acid, sodium salt, monohydrate","Ja","Ja",null,null,null,"MVP 1",null,"5 mg/Nm3","2013-12-02",24,"De getoonde waarde voor de emissiegrenswaarde wijkt af van de algemene waarde voor de MVP 1 en 2 stofklassen. De getoonde waarde geldt tot 1 januari 2025, daarna wordt de algemene waarde van kracht.","Deze stof staat zelf niet in bijlage 12a van de Activiteitenregeling milieubeheer maar valt onder een groepsvermelding, de getoonde stofklasse, grensmassastroom en emissiegrenswaarde zijn die van de groepsvermelding."]
["37244-98-7","234-390-0","perboorzuur natriumzout, tetrahydraat","perboric acid, sodium salt, tetrahydrate","Ja","Ja",null,null,null,"MVP 1",null,"5 mg/Nm3","2013-12-02",24]
["335-76-2","206-400-3","perfluordecanoaat","nonadecafluorodecanoic acid",null,"Ja",null,null,null,"MVP 1","0,15 g/uur","0,05 mg/Nm3","2017-01-13",4]
["307-55-1","206-203-2","perfluordodecanoaat","tricosafluorododecanoic acid",null,"Ja",null,null,null,"MVP 1","0,15 g/uur","0,05 mg/Nm3","2013-12-02"]
["382-21-8",null,"perfluorisobutyleen","perfluoroisobutylene",null,null,null,null,null,"MVP 2","2,5 g/uur","1 mg/Nm3","2013-12-02",9]
["375-95-1","206-801-3","perfluornonaanzuur","perfluorononan-1-oic-acid","Ja","Ja",null,null,null,"MVP 2","2,5 g/uur","1 mg/Nm3","2016-02-22",4]
["1763-23-1","217-179-8","perfluoroctaansulfonzuur","heptadecafluorooctane-1-sulphonic acid","Ja",null,"Ja","Ja","Ja","MVP 1","0,15 g/uur","0,05 mg/Nm3","2013-12-02",51,"De getoonde waarde voor de emissiegrenswaarde wijkt af van de algemene waarde voor de MVP 1 en 2 stofklassen. De getoonde waarde geldt tot 1 januari 2025, daarna wordt de algemene waarde van kracht.","Deze stof staat zelf niet in bijlage 12a van de Activiteitenregeling milieubeheer maar valt onder een groepsvermelding, de getoonde stofklasse, grensmassastroom en emissiegrenswaarde zijn die van de groepsvermelding.","Deze stof wordt niet als individuele stof als ZZS geïdentificeerd maar valt onder de ZZS-stofgroep organische tinverbindingen"]
["335-67-1","206-397-9","perfluoroctaanzuur","pentadecafluorooctanoic acid","Ja","Ja",null,null,null,"MVP 2","2,5 g/uur","1 mg/Nm3","2013-12-02"]
["376-06-7","206-803-4","perfluortetradecanoaat","heptacosafluorotetradecanoic acid",null,"Ja",null,null,null,"MVP 1","0,15 g/uur","0,05 mg/Nm3","2013-12-02",null,"De getoonde waarde voor de emissiegrenswaarde wijkt af van de algemene waarde voor de MVP 1 en 2 stofklassen. De getoonde waarde geldt tot 1 januari 2025, daarna wordt de algemene waarde van kracht.","Deze stof staat zelf niet in bijlage 12a van de Activiteitenregeling milieubeheer maar valt onder een groepsvermelding, de getoonde stofklasse, grensmassastroom en emissiegrenswaarde zijn die van de groepsvermelding."]
["72629-94-8","276-745-2","perfluortridecanoaat","pentacosafluorotridecanoic acid",null,"Ja",null,null,null,"MVP 1","0,15 g/uur","0,05 mg/Nm3","2013-12-02"]
["2058-94-8","218-165-4","perfluorundecanoaat","henicosafluoroundecanoic acid",null,"Ja",null,null,null,"MVP 1","0,15 g/uur","0,05 mg/Nm3","2013-12-02"]
["97722-19-5","307-769-4","Petroleumgas, Raffinaten (aardolie), stoomgekraakte C4-fractie, cuproammoniumacetaatextractie, C3-5- en C3-5-onverzadigD vrij van butadieen","Raffinates (petroleum), steam-cracked C4 fraction cuprous ammonium acetate extn., C3-5 and C3-5 unsatd., butadiene-free, Petroleum gas","Ja",null,null,null,null,null,null,null,"2013-12-02",20,"De getoonde waarde voor de emissiegrenswaarde wijkt af van de algemene waarde voor de MVP 1 en 2 stofklassen. De getoonde waarde geldt tot 1 januari 2025, daarna wordt de algemene waarde van kracht.","Deze stof staat zelf niet in bijlage 12a van de Activiteitenregeling milieubeheer maar valt onder een groepsvermelding, de getoonde stofklasse, grensmassastroom en emissiegrenswaarde zijn die van de groepsvermelding."]
["104-40-5","203-199-4","p-nonylfenol","p-nonylphenol",null,"Ja","Ja","Ja",null,"MVP 2","2,5 g/uur","1 mg/Nm3","2013-12-02",null,"De getoonde waarde voor de emissiegrenswaarde wijkt af van de algemene waarde voor de MVP 1 en 2 stofklassen. De getoonde waarde geldt tot 1 januari 2025, daarna wordt de algemene waarde van kracht.","Deze stof staat zelf niet in bijlage 12a van de Activiteitenregeling milieubeheer maar valt onder een groepsvermelding, de getoonde stofklasse, grensmassastroom en emissiegrenswaarde zijn die van de groepsvermelding.","Deze stof wordt niet als individuele stof als ZZS geïdentificeerd maar valt onder de ZZS-stofgroep loodverbindingen."]
[null,null,"polybroomdibenzodioxines","polybrominated dibenzo-p-dioxins",null,null,null,null,null,"ERS","20 mg TEQ/jaar","0,1 ng TEQ/Nm3","2013-12-02",9]
[null,null,"polybroomdibenzofuranen","polybrominated dibenzo furans",null,null,null,null,null,"ERS","20 mg TEQ/jaar","0,1 ng TEQ/Nm3","2013-12-02",9]
["1336-36-3","215-648-1","polychloorbifenylen","polychlorinated biphenyls",null,null,"Ja","Ja","Ja","ERS","20 mg TEQ/jaar","0,1 ng TEQ/Nm3","2013-12-02"]
[null,null,"polychloordibenzofuranen","polychlorinated dibenzofurans",null,null,"Ja","Ja","Ja","ERS","20 mg TEQ/jaar","0,1 ng TEQ/Nm3","2013-12-02"]
[null,null,"polychloordibenzo-p-dioxinen","polychlorinated dibenzo-p-dioxins",null,null,"Ja","Ja","Ja","ERS","20 mg TEQ/jaar","0,1 ng TEQ/Nm3","2013-12-02"]
["70776-03-3","274-864-4","polychloornaftalenen","polychlorinated naphthalenes",null,null,null,"Ja","Ja","ERS","20 mg TEQ/jaar","0,1 ng TEQ/Nm3","2013-12-02",null,"Deze stof wordt niet als individuele stof als ZZS geïdentificeerd maar valt onder de ZZS-stofgroep tributyltinverbindingen"]
[null,null,"polycyclische aromatische koolwaterstoffen","polycyclic aromatic hydrocarbons",null,null,"Ja","Ja","Ja","MVP 1","0,15 g/uur","0,05 mg/Nm3","2013-12-02"]
[null,null,"polyhalogeen-dibenzodioxines","polyhalogen dibenzo dioxins",null,null,null,null,null,"ERS","20 mg TEQ/jaar","0,1 ng TEQ/Nm3","2013-12-02",9]
[null,null,"polyhalogeen-dibenzofuranen","polyhalogen dibenzo furans",null,null,null,null,null,"ERS","20 mg TEQ/jaar","0,1 ng TEQ/Nm3","2013-12-02",9]
["75-56-9","200-879-2","propyleenoxide","propylene oxide","Ja","Ja",null,null,null,"MVP 2","2,5 g/uur","1 mg/Nm3","2013-12-02"]
["129-00-0","204-927-3","pyreen","pyrene",null,null,null,null,null,"MVP 1","0,15 g/uur","0,05 mg/Nm3","2016-05-27",11,"Deze stofgroep omvat de drie verschillende trichloorbenzenen, voor de stofklasse en de bijbehorende grensmassastroom en emissiegrenswaard zie de individuele stoffen"]
["8012-00-8","232-382-1","pyrochlore, antimoonlood geel","pyrochlore, antimony lead yellow",null,"Ja",null,null,null,"MVP 1","2,5 g/uur","0,5 mg/Nm3","2013-12-02","1, 2, 3","De getoonde waarde voor de emissiegrenswaarde wijkt af van de algemene waarde voor de MVP 1 en 2 stofklassen. De getoonde waarde geldt tot 1 januari 2025, daarna wordt de algemene waarde van kracht."]
["91-22-5","202-051-6","quinoline","quinoline","Ja",null,null,null,null,"MVP 1","0,15 g/uur","0,05 mg/Nm3","2013-12-02"]
["124495-18-7",null,"quinoxyfen","quinoxyfen",null,null,"Ja",null,null,"MVP 1","0,15 g/uur","0,05 mg/Nm3","2013-12-02"]
["122070-78-4","310-169-5","Residu dat wordt verkregen bij de destillatie van ruwe fenantreen met een kooktraject van ongeveer 340°C tot 420°C. Bestaat voornamelijk uit fenantreen antraceen en carbazool. Zware anthraceen olie, destillaat, fenantreen destillatieresiduen","Phenanthrene, distn. residues, Heavy Anthracene Oil Redistillate [Residue from the distillation of crude phenanthrene boiling in the approximate range of 340 °C to 420 °C (644 °F to 788 °F). It consists predominantly of phenanthrene, anthracene and carbazole.]","Ja",null,null,null,null,null,null,null,"2013-12-02",20,"De getoonde waarde voor de emissiegrenswaarde wijkt af van de algemene waarde voor de MVP 1 en 2 stofklassen. De getoonde waarde geldt tot 1 januari 2025, daarna wordt de algemene waarde van kracht."]
["101316-85-2","309-887-1","Residuen die worden verkregen uit de fractionele destillatie van bij lage temperatuur verkregen koolteer, waarbij oliën met een kookpunt tot ongeveer 300°C worden verwijderd. Voornamelijk samengesteld uit aromatische verbindingen. Teerolie, tussenfractie, teer, kool lage temperatuur, destillatieresiduen","Tar, coal, low-temp., distn. residues, Tar Oil, intermediate boiling [Residues from fractional distillation of low temperature coal tar to remove oils that boil in a range up to approximately 300 °C (572 °F). Composed primarily of aromatic compounds.]","Ja",null,null,null,null,null,null,null,"2013-12-02",20]
["14216-75-2","238-076-4","salpeterzuur nikkelzout","nitric acid, nickel salt","Ja",null,null,null,null,"MVP 1","2,5 g/uur","0,5 mg/Nm3","2013-12-02","1, 2","Deze stof is niet als ZZS opgenomen in bijlage 12a van de Activiteitenregeling milieubeheer maar is qua structuur, fysisch-chemische eigenschappen en toxiciteit van het kation gelijkwaardig aan trifenyltinhydroxide. De weergegeven stofklasse, grensmassastroom en emissiegrenswaarde zijn daarom gelijk aan die van trifenyltinhydroxide."]
["100684-51-3","309-726-5","Steenkoolteer, vaste bestanddelen Vaste stoffen die worden gevormd tvdens de verkooksing van bitumineuze kool om ruwe bitumineuze bij hoge temperatuur verkregen koolteer te vormen. Bestaat voornamelijk uit cokes en kooldeeltjes, in hoge mate gearomatiseerde verbindingen en minerale stoffen. teer, kool hoge temperatuur, residuen","Tar, coal, high-temp., residues, Coal Tar Solids Residue [Solids formed during the coking of bituminous coal to produce crude bituminous coal high temperature tar. Composed primarily of coke and coal particles, highly aromatized compounds and mineral substances.]","Ja",null,null,null,null,null,null,null,"2013-12-02",20,"Deze stof is niet als ZZS opgenomen in bijlage 12a van de Activiteitenregeling milieubeheer maar is qua structuur, fysisch-chemische eigenschappen en toxiciteit van het kation gelijkwaardig aan trifenyltinhydroxide. De weergegeven stofklasse, grensmassastroom en emissiegrenswaarde zijn daarom gelijk aan die van trifenyltinhydroxide."]
["68476-32-4","270-674-0","Stookolie, zware stookolie, gasoliën verkregen uit residuen van direkte destillatie, hoog zwavelgehalte","Fuel oil, residues-straight-run gas oils, high-sulfur, Heavy Fuel oil","Ja",null,null,null,null,null,null,null,"2013-12-02",20,"Deze stof is niet als ZZS opgenomen in bijlage 12a van de Activiteitenregeling milieubeheer maar is qua structuur, fysisch-chemische eigenschappen en toxiciteit van het kation gelijkwaardig aan trifenyltinhydroxide. De weergegeven stofklasse, grensmassastroom en emissiegrenswaarde zijn daarom gelijk aan die van trifenyltinhydroxide."]
["7789-06-2","232-142-6","strontiumchromaat","strontium chromate","Ja","Ja",null,null,null,"MVP 1","0,5 g/uur","0,1 mg/Nm3","2013-12-02","1, 2, 3","Deze stofgroep is niet als ZZS opgenomen in bijlage 12a van de Activiteitenregeling milieubeheer maar is qua structuur, fysisch-chemische eigenschappen en toxiciteit van het kation gelijkwaardig aan trifenyltinhydroxide. De weergegeven Stofklasse, grensmassastroom en emissiegrenswaarde zijn daarom gelijk aan die van trifenyltinhydroxide."]
["95-06-7","202-388-9","sulfallaat","sulfallate","Ja",null,null,null,null,"MVP 1","0,15 g/uur","0,05 mg/Nm3","2013-12-02"]
["65996-85-2","266-019-3","teerzuren, kool, ruw","tar acids, coal, crude","Ja",null,null,null,null,null,null,null,"2013-12-02",20,"De getoonde waarde voor de emissiegrenswaarde wijkt af van de algemene waarde voor de MVP 1 en 2 stofklassen. De getoonde waarde geldt tot 1 januari 2025, daarna wordt de algemene waarde van kracht.","Deze stof staat zelf niet in bijlage 12a van de Activiteitenregeling milieubeheer maar valt onder een groepsvermelding, de getoonde stofklasse, grensmassastroom en emissiegrenswaarde zijn die van de groepsvermelding."]
["12267-73-1","235-541-3","tetraboordinatriumheptaoxide hydraat","tetraboron disodium heptaoxide, hydrate","Ja","Ja",null,null,null,"MVP 1",null,"5 mg/Nm3","2013-12-02",24,"De getoonde waarde voor de emissiegrenswaarde wijkt af van de algemene waarde voor de MVP 1 en 2 stofklassen. De getoonde waarde geldt tot 1 januari 2025, daarna wordt de algemene waarde van kracht.","Deze stof staat zelf niet in bijlage 12a van de Activiteitenregeling milieubeheer maar valt onder een groepsvermelding, de getoonde stofklasse, grensmassastroom en emissiegrenswaarde zijn die van de groepsvermelding."]
["79-94-7","201-236-9","tetrabroombisfenol A","2,2',6,6'-tetrabromo-4,4'-isopropylidenediphenol",null,null,null,"Ja",null,"MVP 2",null,"5 mg/Nm3","2013-12-02",24,"De getoonde waarde voor de emissiegrenswaarde wijkt af van de algemene waarde voor de MVP 1 en 2 stofklassen. De getoonde waarde geldt tot 1 januari 2025, daarna wordt de algemene waarde van kracht."]
["40088-47-9","254-787-2","tetrabroomdifenylether","tetrabromodiphenyl ether",null,null,"Ja","Ja","Ja","ERS","20 mg TEQ/jaar","0,1 ng TEQ/Nm3","2014-08-12",6,"De getoonde waarde voor de emissiegrenswaarde wijkt af van de algemene waarde voor de MVP 1 en 2 stofklassen. De getoonde waarde geldt tot 1 januari 2025, daarna wordt de algemene waarde van kracht.","Deze stof staat zelf niet in bijlage 12a van de Activiteitenregeling milieubeheer maar valt onder een groepsvermelding, de getoonde stofklasse, grensmassastroom en emissiegrenswaarde zijn die van de groepsvermelding."]
["1461-25-2","215-960-8","tetrabutyltin","tetrabutyltin",null,null,null,null,null,"MVP 2","100 g/uur","20 mg/Nm3","2013-12-02","1, 2, 3, 36"]
["1335-88-2","215-642-9","tetrachloornaftaleen","tetrachloronaphthalene",null,null,null,"Ja","Ja","ERS","20 mg TEQ/jaar","0,1 ng TEQ/Nm3","2013-12-02",null,"De getoonde waarde voor de emissiegrenswaarde wijkt af van de algemene waarde voor de MVP 1 en 2 stofklassen. De getoonde waarde geldt tot 1 januari 2025, daarna wordt de algemene waarde van kracht."]
["78-00-2","201-075-4","tetra-ethyllood","tetraethyllead",null,"Ja",null,null,null,"MVP 1","100 g/uur","20 mg/Nm3","2013-12-02","1, 2, 3","De getoonde waarde voor de emissiegrenswaarde wijkt af van de algemene waarde voor de MVP 1 en 2 stofklassen. De getoonde waarde geldt tot 1 januari 2025, daarna wordt de algemene waarde van kracht."]
["97-99-4","202-625-6","tetrahydro-2-furylmethanol","tetrahydro-2-furylmethanol","Ja",null,null,null,null,"MVP 2","2,5 g/uur","1 mg/Nm3","2015-02-03",4,"De getoonde waarde voor de emissiegrenswaarde wijkt af van de algemene waarde voor de MVP 1 en 2 stofklassen. De getoonde waarde geldt tot 1 januari 2025, daarna wordt de algemene waarde van kracht."]
["61571-06-0","407-330-8","tetrahydrothiopyraan-3-carboxaldehyde","tetrahydrothiopyran-3-carboxaldehyde","Ja",null,null,null,null,"MVP 2","2,5 g/uur","1 mg/Nm3","2013-12-02",null,"De getoonde waarde voor de emissiegrenswaarde wijkt af van de algemene waarde voor de MVP 1 en 2 stofklassen. De getoonde waarde geldt tot 1 januari 2025, daarna wordt de algemene waarde van kracht."]
["12202-17-4","235-380-9","tetraloodtrioxidesulfaat","tetralead trioxide sulphate",null,"Ja",null,null,null,"MVP 1","2,5 g/uur","0,5 mg/Nm3","2013-12-02","1, 2, 3"]
["75-74-1","200-897-0","tetramethyllood","tetramethyl lead",null,null,null,null,null,"MVP 1","100 g/uur","20 mg/Nm3","2013-12-02","1, 2, 3, 40","De getoonde waarde voor de emissiegrenswaarde wijkt af van de algemene waarde voor de MVP 1 en 2 stofklassen. De getoonde waarde geldt tot 1 januari 2025, daarna wordt de algemene waarde van kracht."]
["2602-46-2","220-012-1","tetranatrium-3,3'-[[1,1'-bifenyl]-4,4'-diylbis(azo)]bis[5-amino-4-hydroxynaftaleen-2,7-disulfonaat]","tetrasodium 3,3'-[[1,1'-biphenyl]-4,4'-diylbis(azo)]bis[5-amino-4-hydroxynaphthalene-2,7-disulphonate]","Ja",null,null,null,null,"MVP 1","0,15 g/uur","0,05 mg/Nm3","2013-12-02"]
["2227-13-6","218-761-4","tetrasul","tetrasul",null,null,null,"Ja",null,"MVP 1","0,15 g/uur","0,05 mg/Nm3","2013-12-02",null,"Deze stof wordt niet als individuele stof als ZZS geïdentificeerd maar valt onder de ZZS-stofgroep kwikverbindingen"]
["62-55-5","200-541-4","thioaceetamide","thioacetamide","Ja",null,null,null,null,"MVP 2","2,5 g/uur","1 mg/Nm3","2013-12-02"]
["65321-67-7","265-697-8","tolueen-2,4-diammoniumsulfaat","toluene-2,4-diammonium sulphate","Ja",null,null,null,null,"MVP 1","0,15 g/uur","0,05 mg/Nm3","2013-12-02"]
["8001-35-2","232-283-3","toxafeen","toxaphene",null,null,null,null,"Ja","MVP 1","0,15 g/uur","0,05 mg/Nm3","2013-12-02",null,"De getoonde waarde voor de emissiegrenswaarde wijkt af van de algemene waarde voor de MVP 1 en 2 stofklassen. De getoonde waarde geldt tot 1 januari 2025, daarna wordt de algemene waarde van kracht."]
["7486-35-3","231-291-4","tributyl(vinyl)tin","tributylvinylstannane",null,null,null,null,null,"MVP 1","0,15 g/uur","0,05 mg/Nm3","2013-12-02","3, 52","De getoonde waarde voor de emissiegrenswaarde wijkt af van de algemene waarde voor de MVP 1 en 2 stofklassen. De getoonde waarde geldt tot 1 januari 2025, daarna wordt de algemene waarde van kracht."]
["688-73-3","211-704-4","tributyltin","tri-n-butyltin hydride",null,null,null,null,null,"MVP 1","0,15 g/uur","0,05 mg/Nm3","2013-12-02",52]
[null,null,"tributyltin verbindingen","tributyltin compounds","Ja",null,"Ja",null,null,"MVP 1","0,15 g/uur","0,05 mg/Nm3","2013-12-02"]
["36643-28-4",null,"tributyltin-kation","tributyltin cation",null,null,"Ja",null,null,"MVP 1","0,15 g/uur","0,05 mg/Nm3","2013-12-02"]
["56-35-9","200-268-0","tributyltinoxide","bis(tributyltin) oxide",null,"Ja",null,null,null,"MVP 1","0,15 g/uur","0,05 mg/Nm3","2013-12-02"]
["12002-48-1","234-413-4","trichloorbenzenen","trichlorobenzenes",null,null,null,"Ja",null,null,null,null,"2016-05-30","53, 54"]
["79-01-6","201-167-4","trichlooretheen","trichloroethylene","Ja","Ja",null,null,null,"MVP 2","500 g/uur","50 mg/Nm3","2013-12-02","1, 2","De getoonde waarde voor de emissiegrenswaarde wijkt af van de algemene waarde voor de MVP 1 en 2 stofklassen. De getoonde waarde geldt tot 1 januari 2025, daarna wordt de algemene waarde van kracht.","Deze vermelding is met inbegrip van zinkkaliumchromaat"]
["1321-65-9","215-321-3","trichloornaftaleen","trichloronaphthalene",null,null,null,"Ja","Ja","ERS","20 mg TEQ/jaar","0,1 ng TEQ/Nm3","2013-12-02",null,"De getoonde waarde voor de emissiegrenswaarde wijkt af van de algemene waarde voor de MVP 1 en 2 stofklassen. De getoonde waarde geldt tot 1 januari 2025, daarna wordt de algemene waarde van kracht."]
["24602-86-6","246-347-3","tridemorf","tridemorph","Ja",null,null,null,null,"MVP 1","0,15 g/uur","0,05 mg/Nm3","2013-12-02"]
["15606-95-8","427-700-2","triethylarsenaat","triethyl arsenate","Ja","Ja",null,null,null,"MVP 1","0,25 g/uur","0,05 mg/Nm3","2013-12-02","1, 2"]
["603-35-0","210-036-0","trifenylfosfine","triphenylphosphine",null,null,null,null,null,"MVP 1","0,15 g/uur","0,05 mg/Nm3","2013-12-02",9]
["892-20-6","212-967-8","trifenyltin","triphenyltin-hydride",null,null,null,null,null,"MVP 1","0,15 g/uur","0,05 mg/Nm3","2013-12-02","36, 55","De getoonde waarde voor de emissiegrenswaarde wijkt af van de algemene waarde voor de MVP 1 en 2 stofklassen. De getoonde waarde geldt tot 1 januari 2025, daarna wordt de algemene waarde van kracht."]
["900-95-8","212-984-0","trifenyltinacetaat","fentin acetate",null,null,null,null,null,"MVP 1","0,15 g/uur","0,05 mg/Nm3","2013-12-02","36, 55"]
["639-58-7","211-358-4","trifenyltinchloride","fentin chloride",null,null,null,null,null,"MVP 1","0,15 g/uur","0,05 mg/Nm3","2013-12-02","36, 55"]
[null,null,"trifenyltinverbindingen som","triphenyltin acetate",null,null,null,null,null,"MVP 1","0,15 g/uur","0,05 mg/Nm3","2013-12-02","36, 56"]
["68694-11-1",null,"triflumizool","triflumizole","Ja",null,null,null,null,"MVP 1","0,15 g/uur","0,05 mg/Nm3","2017-01-04",4]
["1582-09-8","216-428-8","trifluralin","trifluralin",null,null,"Ja","Ja",null,"MVP 1","0,15 g/uur","0,05 mg/Nm3","2013-12-02"]
["1319-46-6","215-290-6","trilood-bis(carbonaat)-dihydroxide","trilead bis(carbonate) dihydroxide",null,"Ja",null,null,null,"MVP 1","2,5 g/uur","0,5 mg/Nm3","2013-12-02","1, 2, 3"]
["7446-27-7","231-205-5","triloodbis(orthofosfaat)","trilead bis(orthophosphate)","Ja",null,null,null,null,"MVP 1","2,5 g/uur","0,5 mg/Nm3","2013-12-02","1, 2, 3","De getoonde waarde voor de emissiegrenswaarde wijkt af van de algemene waarde voor de MVP 1 en 2 stofklassen. De getoonde waarde geldt tot 1 januari 2025, daarna wordt de algemene waarde van kracht."]
["3687-31-8","222-979-5","trilooddiarsenaat","trilead diarsenate",null,"Ja",null,null,null,"MVP 1","0,25 g/uur","0,05 mg/Nm3","2013-12-02","1, 2"]
["12141-20-7","235-252-2","trilooddioxidefosfonaat","trilead dioxide phosphonate",null,"Ja",null,null,null,"MVP 1","2,5 g/uur","0,5 mg/Nm3","2013-12-02","1, 2, 3","De getoonde waarde voor de emissiegrenswaarde wijkt af van de algemene waarde voor de MVP 1 en 2 stofklassen. De getoonde waarde geldt tot 1 januari 2025, daarna wordt de algemene waarde van kracht.","Deze stof staat zelf niet in bijlage 12a van de Activiteitenregeling milieubeheer maar valt onder een groepsvermelding, de getoonde stofklasse, grensmassastroom en emissiegrenswaarde zijn die van de groepsvermelding.","Deze stof wordt niet als individuele stof als ZZS geïdentificeerd maar valt onder de ZZS-stofgroep loodverbindingen."]
["164058-22-4","413-590-3","trinatrium-[4'-(8-acetylamino-3,6-disulfonato-2-nafthylazo)-4''-(6-benzoylamino-3-sulfonato-2-nafthylazo)-bifenyl-1,3',3'',1'''-tetraolato-O,O',O'',O''']koper(II)","trisodium [4'-(8-acetylamino-3,6-disulfonato-2-naphthylazo)-4''-(6-benzoylamino-3-sulfonato-2-naphthylazo)-biphenyl-1,3',3'',1'''-tetraolato-O,O',O'',O''']copper(II)","Ja",null,null,null,null,"MVP 1","0,15 g/uur","0,05 mg/Nm3","2013-12-02"]
["74646-29-0",null,"trinikkelbis(arseniet)","trinickel bis(arsenite)","Ja",null,null,null,null,"MVP 1","0,25 g/uur","0,05 mg/Nm3","2013-12-02","1, 2"]
["10381-36-9","233-844-5","trinikkelbis(orthofosfaat)","trinickel bis(orthophosphate)","Ja",null,null,null,null,"MVP 1","2,5 g/uur","0,5 mg/Nm3","2013-12-02","1, 2"]
["12007-02-2","234-495-1","trinikkelboride","trinickel boride","Ja",null,null,null,null,"MVP 1","2,5 g/uur","0,5 mg/Nm3","2013-12-02","1, 2"]
["12137-12-1",null,"trinikkeltetrasulfide","trinickel tetrasulfide","Ja",null,null,null,null,"MVP 1","2,5 g/uur","0,5 mg/Nm3","2013-12-02","1, 2"]
["115-96-8","204-118-5","tris(2-chloorethyl)fosfaat","tris(2-chloroethyl) phosphate","Ja","Ja",null,null,null,"MVP 1","0,15 g/uur","0,05 mg/Nm3","2013-12-02"]
["12519-85-6","235-688-3","triwaterstofhydroxybis[orthosilicato(4-)]trinikkelaat(3-)","trihydrogen hydroxybis[orthosilicato(4-)]trinickelate(3-)","Ja",null,null,null,null,"MVP 1","2,5 g/uur","0,5 mg/Nm3","2013-12-02","1, 2"]
["25155-23-1","246-677-8","trixylyl fosfaat","trixylyl phosphate","Ja","Ja",null,null,null,"MVP 1","0,15 g/uur","0,05 mg/Nm3","2013-12-02"]
["7439-97-6",null,"tweewaardige anorganische kwikverbindingen","anorganic mercury compounds",null,null,"Ja",null,null,"MVP 1","0,15 g/uur","0,05 mg/Nm3","2016-07-04","3, 22"]
["51-79-6","200-123-1","urethaan","urethane","Ja",null,null,null,null,"MVP 2","2,5 g/uur","1 mg/Nm3","2013-12-02"]
[null,null,"vertakt en lineair 4-heptylfenol","4-heptylphenol, branched and linear",null,"Ja",null,null,null,"MVP 1","0,15 g/uur","0,05 mg/Nm3","2017-01-13",4]
["91031-62-8","292-966-7","vetzuren, C16-18, loodzouten","fatty acids, C16-18, lead salts",null,"Ja",null,null,null,"MVP 1","0,15 g/uur","0,05 mg/Nm3","2013-12-02",3]
["91697-41-5","294-302-1","vetzuren, C6-19-vertakte, nikkelzouten","fatty acids, C6-19-branched, nickel salts","Ja",null,null,null,null,"MVP 1","2,5 g/uur","0,5 mg/Nm3","2013-12-02","1, 2"]
["84776-45-4","283-972-0","vetzuren, C8-18- en C18-onverzadigd, nikkelzouten","fatty acids, C8-18 and C18-unsaturated, nickel salts","Ja",null,null,null,null,"MVP 1","2,5 g/uur","0,5 mg/Nm3","2013-12-02","1, 2"]
["50471-44-8","256-599-6","vinchlozolin","vinclozolin","Ja",null,null,null,null,"MVP 1","0,15 g/uur","0,05 mg/Nm3","2013-12-02"]
["593-60-2","209-800-6","vinylbromide","bromoethylene","Ja",null,null,null,null,"MVP 2","2,5 g/uur","1 mg/Nm3","2013-12-02"]
["75-01-4","200-831-0","vinylchloride","vinyl chloride","Ja",null,null,null,null,"MVP 2","2,5 g/uur","1 mg/Nm3","2013-12-02"]
[null,null,"vuurvaste keramische vezels, vezels voor speciale toepassingen, met uitzondering van minerale wol zoals gedefinieerd in bijlage VI van de EU-CLP/GHS [synthetische (silicaat)glasvezels met een willekeurige oriëntatie en een gehalte aan alkali- en aardalkalioxiden (Na2O plus K2O plus CaO plus MgO plus BaO) van ten hoogste 18 gewichtsprocent]","Refractory Ceramic Fibres, Special Purpose Fibres, with the exception of mineral wool as defined in Annex VI of the EU-CLP/GHS [Man-made vitreous (silicate) fibres with random orientation with alkaline oxide and alkali earth oxide (Na2O+K2O+CaO+ MgO+BaO) content less or equal to 18 % by weight]","Ja",null,null,null,null,"MVP 1","0,15 g/uur","0,05 mg/Nm3","2013-12-02"]
["81-81-2","201-377-6","warfarine","warfarin","Ja",null,null,null,null,"MVP 1","0,15 g/uur","0,05 mg/Nm3","2013-12-02"]
["13530-65-9","236-878-9","zinkchromaat","zinc chromate","Ja",null,null,null,null,"MVP 1","0,5 g/uur","0,1 mg/Nm3","2013-12-02","1, 2, 57"]
["11103-86-9","234-329-8","zinkkaliumchromaat","potassium hydroxyoctaoxodizincatedichromate","Ja","Ja",null,null,null,"MVP 1","0,5 g/uur","0,1 mg/Nm3","2013-12-02","1, 2"]
[null,null,"zirkonium aluminiumsilicaat vuurvaste keramische vezels","zirconia aluminosilicate refractory ceramic fibres",null,"Ja",null,null,null,"MVP 1","0,15 g/uur","0,05 mg/Nm3","2013-12-02"]
[null,null,"zouten en esters van dinoseb","salts and esters of dinoseb","Ja","Ja",null,null,null,"MVP 1","0,15 g/uur","0,05 mg/Nm3","2013-12-02"]
[null,null,"zouten en esters van dinoterb","salts and esters of dinoterb","Ja",null,null,null,null,"MVP 1","0,15 g/uur","0,05 mg/Nm3","2013-12-02"]
["74753-18-7","277-985-0","zouten van 2-methylaniline","salts of o-tolidine","Ja",null,null,null,null,"MVP 2","100 g/uur","20 mg/Nm3","2013-12-02","1, 2"]
[null,null,"zouten van 3,3'-dimethoxybenzidine","salts of 3,3'-dimethoxybenzidine","Ja",null,null,null,null,"MVP 1","0,15 g/uur","0,05 mg/Nm3","2013-12-02"]
["64969-36-4","265-294-7","zouten van 3,3'-dimethylbenzidine","salts of 3,3'-dimethylbenzidine","Ja",null,null,null,null,"MVP 1","0,15 g/uur","0,05 mg/Nm3","2013-12-02"]
["612-82-8","210-322-5","zouten van 4,4'-bi-o-toluidine","salts of 4,4'-bi-o-toluidine","Ja",null,null,null,null,"MVP 1","0,15 g/uur","0,05 mg/Nm3","2013-12-02"]
[null,null,"zouten van 4,4'-methyleenbis(2-chlooraniline)","salts of 4,4'-methylenebis(2-chloroaniline)","Ja",null,null,null,null,"MVP 1","0,15 g/uur","0,05 mg/Nm3","2013-12-02"]
[null,null,"zouten van 4,4'-thiodianiline","salts of 4,4'-thiodianiline","Ja",null,null,null,null,"MVP 1","0,15 g/uur","0,05 mg/Nm3","2013-12-02"]
[null,null,"zouten van 4-aminobifenyl","salts of biphenyl-4-ylamine","Ja",null,null,null,null,"MVP 1","0,15 g/uur","0,05 mg/Nm3","2013-12-02"]
[null,null,"zouten van arseenzuur","salts of arsenic acid","Ja",null,null,null,null,"MVP 1","0,25 g/uur","0,05 mg/Nm3","2013-12-02","1, 2"]
[null,null,"zouten van hydrazine","salts of hydrazine","Ja",null,null,null,null,"MVP 2","2,5 g/uur","1 mg/Nm3","2013-12-02"]
["15739-80-7","239-831-0","zwavelzuur loodzout","sulphuric acid, lead salt",null,null,null,null,null,"MVP 1","2,5 g/uur","0,5 mg/Nm3","2013-12-02","1, 2, 3, 40"]
["62229-08-7","263-467-1","zwavelzuur, loodzout, dibasisch","sulfurous acid, lead salt, dibasic",null,"Ja",null,null,null,"MVP 1","2,5 g/uur","0,5 mg/Nm3","2013-12-02",3]
["6786-83-0","229-851-8","α,α-bis[4-(dimethylamino)fenyl]-4 (fenylamino)naftaleen-1-methanol (C.I. Solvent Blue 4) [met 0,1 procent of meer Michler's keton (EC nr. 202-027-5) of Michler's base (EC No. 202-959-2)]","α,α-bis[4-(dimethylamino)phenyl]-4 (phenylamino)naphthalene-1-methanol (C.I. Solvent blue 4) [with >0.1% of Michler's ketone (EC No. 202-027-5) or Michler's base (EC No. 202-959-2)]",null,"Ja",null,null,null,"MVP 1","0,15 g/uur","0,05 mg/Nm3","2013-12-02"]

{"sheet":"ZZS-checker","index":17,"n_rows":2000,"n_cols":4,"rows_kept":2000,"cut":false,"hidden":true,"merged":[[1,3,6,4]]}
["ZZS aanduiding",null,"CAS-nummer"]
[{"$f":"IF(OR(B2>0,'Invoer KE-tool per stof'!F10=FALSE),\"Deze stof wordt aangemerkt als ZZS\",\" \")","v":" "},{"$f":"COUNTIF('ZZS-lijst'!A:A,$C2)","v":0},{"$f":"'Invoer KE-tool per stof'!C8","v":0},"In kolom C kan het Cas-nummer van de gebruikte of gevormde stoffen die in het afvalwater terecht kunnen komen worden ingevoerd. Ook kan een lijst in 1 keer worden geplakt. Vervolgens wordt de ingevoerde lijst o.b.v. CAS-nummer vergeleken met de lijst van ZZS-stoffen opgesteld door RIVM. De stoffen die als ZZS moeten worden aangemerkt worden in kolom A benoemd. tevens zal de cel in dat geval rood kleuren."]
[" ",{"$f":"COUNTIF('ZZS-lijst'!A:A,$C3)","v":0}]
["Deze stof wordt aangemerkt als ZZS",{"$f":"COUNTIF('ZZS-lijst'!A:A,$C4)","v":0}]
[" ",{"$f":"COUNTIF('ZZS-lijst'!A:A,$C5)","v":0}]
[" ",{"$f":"COUNTIF('ZZS-lijst'!A:A,$C6)","v":0}]
[" ",{"$f":"COUNTIF('ZZS-lijst'!A:A,$C7)","v":0}]
[" ",{"$f":"COUNTIF('ZZS-lijst'!A:A,$C8)","v":0}]
[" ",{"$f":"COUNTIF('ZZS-lijst'!A:A,$C9)","v":0}]
[" ",{"$f":"COUNTIF('ZZS-lijst'!A:A,$C10)","v":0}]
[" ",{"$f":"COUNTIF('ZZS-lijst'!A:A,$C11)","v":0}]
[" ",{"$f":"COUNTIF('ZZS-lijst'!A:A,$C12)","v":0}]
[" ",{"$f":"COUNTIF('ZZS-lijst'!A:A,$C13)","v":0}]
[" ",{"$f":"COUNTIF('ZZS-lijst'!A:A,$C14)","v":0}]
[" ",{"$f":"COUNTIF('ZZS-lijst'!A:A,$C15)","v":0}]
[" ",{"$f":"COUNTIF('ZZS-lijst'!A:A,$C16)","v":0}]
[" ",{"$f":"COUNTIF('ZZS-lijst'!A:A,$C17)","v":0}]
[" ",{"$f":"COUNTIF('ZZS-lijst'!A:A,$C18)","v":0}]
[" ",{"$f":"COUNTIF('ZZS-lijst'!A:A,$C19)","v":0}]
[" ",{"$f":"COUNTIF('ZZS-lijst'!A:A,$C20)","v":0}]
[" ",{"$f":"COUNTIF('ZZS-lijst'!A:A,$C21)","v":0}]
[" ",{"$f":"COUNTIF('ZZS-lijst'!A:A,$C22)","v":0}]
[" ",{"$f":"COUNTIF('ZZS-lijst'!A:A,$C23)","v":0}]
[" ",{"$f":"COUNTIF('ZZS-lijst'!A:A,$C24)","v":0}]
[" ",{"$f":"COUNTIF('ZZS-lijst'!A:A,$C25)","v":0}]
[" ",{"$f":"COUNTIF('ZZS-lijst'!A:A,$C26)","v":0}]
[" ",{"$f":"COUNTIF('ZZS-lijst'!A:A,$C27)","v":0}]
[" ",{"$f":"COUNTIF('ZZS-lijst'!A:A,$C28)","v":0}]
[" ",{"$f":"COUNTIF('ZZS-lijst'!A:A,$C29)","v":0}]
[{"$f":"IF(AND(B30>0,ISBLANK('beoordeling maatregel'!Q30)=FALSE),\"Deze stof wordt aangemerkt als ZZS\",\" \")","v":" "},{"$f":"IF(OR(COUNTIF('ZZS-lijst'!A:A,$C30),COUNTIF('ZZS-lijst'!C:C,'beoordeling maatregel'!B30)),1,0)","v":0},{"$f":"+'beoordeling maatregel'!Q30","v":0}]
[{"$f":"IF(AND(B31>0,ISBLANK('beoordeling maatregel'!Q31)=FALSE),\"Deze stof wordt aangemerkt als ZZS\",\" \")","v":" "},{"$f":"IF(OR(COUNTIF('ZZS-lijst'!A:A,$C31),COUNTIF('ZZS-lijst'!C:C,'beoordeling maatregel'!B31)),1,0)","v":0},{"$f":"+'beoordeling maatregel'!Q31","v":0}]
[{"$f":"IF(AND(B32>0,ISBLANK('beoordeling maatregel'!Q32)=FALSE),\"Deze stof wordt aangemerkt als ZZS\",\" \")","v":" "},{"$f":"IF(OR(COUNTIF('ZZS-lijst'!A:A,$C32),COUNTIF('ZZS-lijst'!C:C,'beoordeling maatregel'!B32)),1,0)","v":0},{"$f":"+'beoordeling maatregel'!Q32","v":0}]
[{"$f":"IF(AND(B33>0,ISBLANK('beoordeling maatregel'!Q33)=FALSE),\"Deze stof wordt aangemerkt als ZZS\",\" \")","v":" "},{"$f":"IF(OR(COUNTIF('ZZS-lijst'!A:A,$C33),COUNTIF('ZZS-lijst'!C:C,'beoordeling maatregel'!B33)),1,0)","v":0},{"$f":"+'beoordeling maatregel'!Q33","v":0}]
[{"$f":"IF(AND(B34>0,ISBLANK('beoordeling maatregel'!Q34)=FALSE),\"Deze stof wordt aangemerkt als ZZS\",\" \")","v":" "},{"$f":"IF(OR(COUNTIF('ZZS-lijst'!A:A,$C34),COUNTIF('ZZS-lijst'!C:C,'beoordeling maatregel'!B34)),1,0)","v":0},{"$f":"+'beoordeling maatregel'!Q34","v":0}]
[{"$f":"IF(AND(B35>0,ISBLANK('beoordeling maatregel'!Q35)=FALSE),\"Deze stof wordt aangemerkt als ZZS\",\" \")","v":" "},{"$f":"IF(OR(COUNTIF('ZZS-lijst'!A:A,$C35),COUNTIF('ZZS-lijst'!C:C,'beoordeling maatregel'!B35)),1,0)","v":0},{"$f":"+'beoordeling maatregel'!Q35","v":0}]
[{"$f":"IF(AND(B36>0,ISBLANK('beoordeling maatregel'!Q36)=FALSE),\"Deze stof wordt aangemerkt als ZZS\",\" \")","v":" "},{"$f":"IF(OR(COUNTIF('ZZS-lijst'!A:A,$C36),COUNTIF('ZZS-lijst'!C:C,'beoordeling maatregel'!B36)),1,0)","v":0},{"$f":"+'beoordeling maatregel'!Q36","v":0}]
[{"$f":"IF(AND(B37>0,ISBLANK('beoordeling maatregel'!Q37)=FALSE),\"Deze stof wordt aangemerkt als ZZS\",\" \")","v":" "},{"$f":"IF(OR(COUNTIF('ZZS-lijst'!A:A,$C37),COUNTIF('ZZS-lijst'!C:C,'beoordeling maatregel'!B37)),1,0)","v":0},{"$f":"+'beoordeling maatregel'!Q37","v":0}]
[{"$f":"IF(AND(B38>0,ISBLANK('beoordeling maatregel'!Q38)=FALSE),\"Deze stof wordt aangemerkt als ZZS\",\" \")","v":" "},{"$f":"IF(OR(COUNTIF('ZZS-lijst'!A:A,$C38),COUNTIF('ZZS-lijst'!C:C,'beoordeling maatregel'!B38)),1,0)","v":0},{"$f":"+'beoordeling maatregel'!Q38","v":0}]
[{"$f":"IF(AND(B39>0,ISBLANK('beoordeling maatregel'!Q39)=FALSE),\"Deze stof wordt aangemerkt als ZZS\",\" \")","v":" "},{"$f":"IF(OR(COUNTIF('ZZS-lijst'!A:A,$C39),COUNTIF('ZZS-lijst'!C:C,'beoordeling maatregel'!B39)),1,0)","v":0},{"$f":"+'beoordeling maatregel'!Q39","v":0}]
[{"$f":"IF(AND(B40>0,ISBLANK('beoordeling maatregel'!Q40)=FALSE),\"Deze stof wordt aangemerkt als ZZS\",\" \")","v":" "},{"$f":"IF(OR(COUNTIF('ZZS-lijst'!A:A,$C40),COUNTIF('ZZS-lijst'!C:C,'beoordeling maatregel'!B40)),1,0)","v":0},{"$f":"+'beoordeling maatregel'!Q40","v":0}]
[{"$f":"IF(AND(B41>0,ISBLANK('beoordeling maatregel'!Q41)=FALSE),\"Deze stof wordt aangemerkt als ZZS\",\" \")","v":" "},{"$f":"IF(OR(COUNTIF('ZZS-lijst'!A:A,$C41),COUNTIF('ZZS-lijst'!C:C,'beoordeling maatregel'!B41)),1,0)","v":0},{"$f":"+'beoordeling maatregel'!Q41","v":0}]
[{"$f":"IF(AND(B42>0,ISBLANK('beoordeling maatregel'!Q42)=FALSE),\"Deze stof wordt aangemerkt als ZZS\",\" \")","v":" "},{"$f":"IF(OR(COUNTIF('ZZS-lijst'!A:A,$C42),COUNTIF('ZZS-lijst'!C:C,'beoordeling maatregel'!B42)),1,0)","v":0},{"$f":"+'beoordeling maatregel'!Q42","v":0}]
[{"$f":"IF(AND(B43>0,ISBLANK('beoordeling maatregel'!Q43)=FALSE),\"Deze stof wordt aangemerkt als ZZS\",\" \")","v":" "},{"$f":"IF(OR(COUNTIF('ZZS-lijst'!A:A,$C43),COUNTIF('ZZS-lijst'!C:C,'beoordeling maatregel'!B43)),1,0)","v":0},{"$f":"+'beoordeling maatregel'!Q43","v":0}]
[{"$f":"IF(AND(B44>0,ISBLANK('beoordeling maatregel'!Q44)=FALSE),\"Deze stof wordt aangemerkt als ZZS\",\" \")","v":" "},{"$f":"IF(OR(COUNTIF('ZZS-lijst'!A:A,$C44),COUNTIF('ZZS-lijst'!C:C,'beoordeling maatregel'!B44)),1,0)","v":0},{"$f":"+'beoordeling maatregel'!Q44","v":0}]
[{"$f":"IF(AND(B45>0,ISBLANK('beoordeling maatregel'!Q45)=FALSE),\"Deze stof wordt aangemerkt als ZZS\",\" \")","v":" "},{"$f":"IF(OR(COUNTIF('ZZS-lijst'!A:A,$C45),COUNTIF('ZZS-lijst'!C:C,'beoordeling maatregel'!B45)),1,0)","v":0},{"$f":"+'beoordeling maatregel'!Q45","v":0}]
[{"$f":"IF(AND(B46>0,ISBLANK('beoordeling maatregel'!Q46)=FALSE),\"Deze stof wordt aangemerkt als ZZS\",\" \")","v":" "},{"$f":"IF(OR(COUNTIF('ZZS-lijst'!A:A,$C46),COUNTIF('ZZS-lijst'!C:C,'beoordeling maatregel'!B46)),1,0)","v":0},{"$f":"+'beoordeling maatregel'!Q46","v":0}]
[{"$f":"IF(AND(B47>0,ISBLANK('beoordeling maatregel'!Q47)=FALSE),\"Deze stof wordt aangemerkt als ZZS\",\" \")","v":" "},{"$f":"IF(OR(COUNTIF('ZZS-lijst'!A:A,$C47),COUNTIF('ZZS-lijst'!C:C,'beoordeling maatregel'!B47)),1,0)","v":0},{"$f":"+'beoordeling maatregel'!Q47","v":0}]
[{"$f":"IF(AND(B48>0,ISBLANK('beoordeling maatregel'!Q48)=FALSE),\"Deze stof wordt aangemerkt als ZZS\",\" \")","v":" "},{"$f":"IF(OR(COUNTIF('ZZS-lijst'!A:A,$C48),COUNTIF('ZZS-lijst'!C:C,'beoordeling maatregel'!B48)),1,0)","v":0},{"$f":"+'beoordeling maatregel'!Q48","v":0}]
[{"$f":"IF(AND(B49>0,ISBLANK('beoordeling maatregel'!Q49)=FALSE),\"Deze stof wordt aangemerkt als ZZS\",\" \")","v":" "},{"$f":"IF(OR(COUNTIF('ZZS-lijst'!A:A,$C49),COUNTIF('ZZS-lijst'!C:C,'beoordeling maatregel'!B49)),1,0)","v":0},{"$f":"+'beoordeling maatregel'!Q49","v":0}]
[{"$f":"IF(AND(B50>0,ISBLANK('beoordeling maatregel'!Q50)=FALSE),\"Deze stof wordt aangemerkt als ZZS\",\" \")","v":" "},{"$f":"IF(OR(COUNTIF('ZZS-lijst'!A:A,$C50),COUNTIF('ZZS-lijst'!C:C,'beoordeling maatregel'!B50)),1,0)","v":0},{"$f":"+'beoordeling maatregel'!Q50","v":0}]
[{"$f":"IF(AND(B51>0,ISBLANK('beoordeling maatregel'!Q51)=FALSE),\"Deze stof wordt aangemerkt als ZZS\",\" \")","v":" "},{"$f":"COUNTIF('ZZS-lijst'!A:A,$C51)","v":0}]
[{"$f":"IF(AND(B52>0,ISBLANK('beoordeling maatregel'!Q52)=FALSE),\"Deze stof wordt aangemerkt als ZZS\",\" \")","v":" "},{"$f":"COUNTIF('ZZS-lijst'!A:A,$C52)","v":0}]
[{"$f":"IF(AND(B53>0,ISBLANK('beoordeling maatregel'!Q53)=FALSE),\"Deze stof wordt aangemerkt als ZZS\",\" \")","v":" "},{"$f":"COUNTIF('ZZS-lijst'!A:A,$C53)","v":0}]
[{"$f":"IF(AND(B54>0,ISBLANK('beoordeling maatregel'!Q54)=FALSE),\"Deze stof wordt aangemerkt als ZZS\",\" \")","v":" "},{"$f":"COUNTIF('ZZS-lijst'!A:A,$C54)","v":0}]
[{"$f":"IF(AND(B55>0,ISBLANK('beoordeling maatregel'!Q55)=FALSE),\"Deze stof wordt aangemerkt als ZZS\",\" \")","v":" "},{"$f":"COUNTIF('ZZS-lijst'!A:A,$C55)","v":0}]
[{"$f":"IF(AND(B56>0,ISBLANK('beoordeling maatregel'!Q56)=FALSE),\"Deze stof wordt aangemerkt als ZZS\",\" \")","v":" "},{"$f":"COUNTIF('ZZS-lijst'!A:A,$C56)","v":0}]
[{"$f":"IF(AND(B57>0,ISBLANK('beoordeling maatregel'!Q57)=FALSE),\"Deze stof wordt aangemerkt als ZZS\",\" \")","v":" "},{"$f":"COUNTIF('ZZS-lijst'!A:A,$C57)","v":0}]
[{"$f":"IF(AND(B58>0,ISBLANK('beoordeling maatregel'!Q58)=FALSE),\"Deze stof wordt aangemerkt als ZZS\",\" \")","v":" "},{"$f":"COUNTIF('ZZS-lijst'!A:A,$C58)","v":0}]
[{"$f":"IF(AND(B59>0,ISBLANK('beoordeling maatregel'!Q59)=FALSE),\"Deze stof wordt aangemerkt als ZZS\",\" \")","v":" "},{"$f":"COUNTIF('ZZS-lijst'!A:A,$C59)","v":0}]
[{"$f":"IF(AND(B60>0,ISBLANK('beoordeling maatregel'!Q60)=FALSE),\"Deze stof wordt aangemerkt als ZZS\",\" \")","v":" "},{"$f":"COUNTIF('ZZS-lijst'!A:A,$C60)","v":0}]
[{"$f":"IF(AND(B61>0,ISBLANK('beoordeling maatregel'!Q61)=FALSE),\"Deze stof wordt aangemerkt als ZZS\",\" \")","v":" "},{"$f":"COUNTIF('ZZS-lijst'!A:A,$C61)","v":0}]
[{"$f":"IF(AND(B62>0,ISBLANK('beoordeling maatregel'!Q62)=FALSE),\"Deze stof wordt aangemerkt als ZZS\",\" \")","v":" "},{"$f":"COUNTIF('ZZS-lijst'!A:A,$C62)","v":0}]
[{"$f":"IF(AND(B63>0,ISBLANK('beoordeling maatregel'!Q63)=FALSE),\"Deze stof wordt aangemerkt als ZZS\",\" \")","v":" "},{"$f":"COUNTIF('ZZS-lijst'!A:A,$C63)","v":0}]
[{"$f":"IF(AND(B64>0,ISBLANK('beoordeling maatregel'!Q64)=FALSE),\"Deze stof wordt aangemerkt als ZZS\",\" \")","v":" "},{"$f":"COUNTIF('ZZS-lijst'!A:A,$C64)","v":0}]
[{"$f":"IF(AND(B65>0,ISBLANK('beoordeling maatregel'!Q65)=FALSE),\"Deze stof wordt aangemerkt als ZZS\",\" \")","v":" "},{"$f":"COUNTIF('ZZS-lijst'!A:A,$C65)","v":0}]
[{"$f":"IF(AND(B66>0,ISBLANK('beoordeling maatregel'!Q66)=FALSE),\"Deze stof wordt aangemerkt als ZZS\",\" \")","v":" "},{"$f":"COUNTIF('ZZS-lijst'!A:A,$C66)","v":0}]
[{"$f":"IF(AND(B67>0,ISBLANK('beoordeling maatregel'!Q67)=FALSE),\"Deze stof wordt aangemerkt als ZZS\",\" \")","v":" "},{"$f":"COUNTIF('ZZS-lijst'!A:A,$C67)","v":0}]
[{"$f":"IF(AND(B68>0,ISBLANK('beoordeling maatregel'!Q68)=FALSE),\"Deze stof wordt aangemerkt als ZZS\",\" \")","v":" "},{"$f":"COUNTIF('ZZS-lijst'!A:A,$C68)","v":0}]
[{"$f":"IF(AND(B69>0,ISBLANK('beoordeling maatregel'!Q69)=FALSE),\"Deze stof wordt aangemerkt als ZZS\",\" \")","v":" "},{"$f":"COUNTIF('ZZS-lijst'!A:A,$C69)","v":0}]
[{"$f":"IF(AND(B70>0,ISBLANK('beoordeling maatregel'!Q70)=FALSE),\"Deze stof wordt aangemerkt als ZZS\",\" \")","v":" "},{"$f":"COUNTIF('ZZS-lijst'!A:A,$C70)","v":0}]
[{"$f":"IF(AND(B71>0,ISBLANK('beoordeling maatregel'!Q71)=FALSE),\"Deze stof wordt aangemerkt als ZZS\",\" \")","v":" "},{"$f":"COUNTIF('ZZS-lijst'!A:A,$C71)","v":0}]
[{"$f":"IF(AND(B72>0,ISBLANK('beoordeling maatregel'!Q72)=FALSE),\"Deze stof wordt aangemerkt als ZZS\",\" \")","v":" "},{"$f":"COUNTIF('ZZS-lijst'!A:A,$C72)","v":0}]
[{"$f":"IF(AND(B73>0,ISBLANK('beoordeling maatregel'!Q73)=FALSE),\"Deze stof wordt aangemerkt als ZZS\",\" \")","v":" "},{"$f":"COUNTIF('ZZS-lijst'!A:A,$C73)","v":0}]
[{"$f":"IF(AND(B74>0,ISBLANK('beoordeling maatregel'!Q74)=FALSE),\"Deze stof wordt aangemerkt als ZZS\",\" \")","v":" "},{"$f":"COUNTIF('ZZS-lijst'!A:A,$C74)","v":0}]
[{"$f":"IF(AND(B75>0,ISBLANK('beoordeling maatregel'!Q75)=FALSE),\"Deze stof wordt aangemerkt als ZZS\",\" \")","v":" "},{"$f":"COUNTIF('ZZS-lijst'!A:A,$C75)","v":0}]
[{"$f":"IF(AND(B76>0,ISBLANK('beoordeling maatregel'!Q76)=FALSE),\"Deze stof wordt aangemerkt als ZZS\",\" \")","v":" "},{"$f":"COUNTIF('ZZS-lijst'!A:A,$C76)","v":0}]
[{"$f":"IF(AND(B77>0,ISBLANK('beoordeling maatregel'!Q77)=FALSE),\"Deze stof wordt aangemerkt als ZZS\",\" \")","v":" "},{"$f":"COUNTIF('ZZS-lijst'!A:A,$C77)","v":0}]
[{"$f":"IF(AND(B78>0,ISBLANK('beoordeling maatregel'!Q78)=FALSE),\"Deze stof wordt aangemerkt als ZZS\",\" \")","v":" "},{"$f":"COUNTIF('ZZS-lijst'!A:A,$C78)","v":0}]
[{"$f":"IF(AND(B79>0,ISBLANK('beoordeling maatregel'!Q79)=FALSE),\"Deze stof wordt aangemerkt als ZZS\",\" \")","v":" "},{"$f":"COUNTIF('ZZS-lijst'!A:A,$C79)","v":0}]
[{"$f":"IF(AND(B80>0,ISBLANK('beoordeling maatregel'!Q80)=FALSE),\"Deze stof wordt aangemerkt als ZZS\",\" \")","v":" "},{"$f":"COUNTIF('ZZS-lijst'!A:A,$C80)","v":0}]
[{"$f":"IF(AND(B81>0,ISBLANK('beoordeling maatregel'!Q81)=FALSE),\"Deze stof wordt aangemerkt als ZZS\",\" \")","v":" "},{"$f":"COUNTIF('ZZS-lijst'!A:A,$C81)","v":0}]
[{"$f":"IF(AND(B82>0,ISBLANK('beoordeling maatregel'!Q82)=FALSE),\"Deze stof wordt aangemerkt als ZZS\",\" \")","v":" "},{"$f":"COUNTIF('ZZS-lijst'!A:A,$C82)","v":0}]
[{"$f":"IF(AND(B83>0,ISBLANK('beoordeling maatregel'!Q83)=FALSE),\"Deze stof wordt aangemerkt als ZZS\",\" \")","v":" "},{"$f":"COUNTIF('ZZS-lijst'!A:A,$C83)","v":0}]
[{"$f":"IF(AND(B84>0,ISBLANK('beoordeling maatregel'!Q84)=FALSE),\"Deze stof wordt aangemerkt als ZZS\",\" \")","v":" "},{"$f":"COUNTIF('ZZS-lijst'!A:A,$C84)","v":0}]
[{"$f":"IF(AND(B85>0,ISBLANK('beoordeling maatregel'!Q85)=FALSE),\"Deze stof wordt aangemerkt als ZZS\",\" \")","v":" "},{"$f":"COUNTIF('ZZS-lijst'!A:A,$C85)","v":0}]
[{"$f":"IF(AND(B86>0,ISBLANK('beoordeling maatregel'!Q86)=FALSE),\"Deze stof wordt aangemerkt als ZZS\",\" \")","v":" "},{"$f":"COUNTIF('ZZS-lijst'!A:A,$C86)","v":0}]
[{"$f":"IF(AND(B87>0,ISBLANK('beoordeling maatregel'!Q87)=FALSE),\"Deze stof wordt aangemerkt als ZZS\",\" \")","v":" "},{"$f":"COUNTIF('ZZS-lijst'!A:A,$C87)","v":0}]
[{"$f":"IF(AND(B88>0,ISBLANK('beoordeling maatregel'!Q88)=FALSE),\"Deze stof wordt aangemerkt als ZZS\",\" \")","v":" "},{"$f":"COUNTIF('ZZS-lijst'!A:A,$C88)","v":0}]
[{"$f":"IF(AND(B89>0,ISBLANK('beoordeling maatregel'!Q89)=FALSE),\"Deze stof wordt aangemerkt als ZZS\",\" \")","v":" "},{"$f":"COUNTIF('ZZS-lijst'!A:A,$C89)","v":0}]
[{"$f":"IF(AND(B90>0,ISBLANK('beoordeling maatregel'!Q90)=FALSE),\"Deze stof wordt aangemerkt als ZZS\",\" \")","v":" "},{"$f":"COUNTIF('ZZS-lijst'!A:A,$C90)","v":0}]
[{"$f":"IF(AND(B91>0,ISBLANK('beoordeling maatregel'!Q91)=FALSE),\"Deze stof wordt aangemerkt als ZZS\",\" \")","v":" "},{"$f":"COUNTIF('ZZS-lijst'!A:A,$C91)","v":0}]
[{"$f":"IF(AND(B92>0,ISBLANK('beoordeling maatregel'!Q92)=FALSE),\"Deze stof wordt aangemerkt als ZZS\",\" \")","v":" "},{"$f":"COUNTIF('ZZS-lijst'!A:A,$C92)","v":0}]
[{"$f":"IF(AND(B93>0,ISBLANK('beoordeling maatregel'!Q93)=FALSE),\"Deze stof wordt aangemerkt als ZZS\",\" \")","v":" "},{"$f":"COUNTIF('ZZS-lijst'!A:A,$C93)","v":0}]
[{"$f":"IF(AND(B94>0,ISBLANK('beoordeling maatregel'!Q94)=FALSE),\"Deze stof wordt aangemerkt als ZZS\",\" \")","v":" "},{"$f":"COUNTIF('ZZS-lijst'!A:A,$C94)","v":0}]
[{"$f":"IF(AND(B95>0,ISBLANK('beoordeling maatregel'!Q95)=FALSE),\"Deze stof wordt aangemerkt als ZZS\",\" \")","v":" "},{"$f":"COUNTIF('ZZS-lijst'!A:A,$C95)","v":0}]
[{"$f":"IF(AND(B96>0,ISBLANK('beoordeling maatregel'!Q96)=FALSE),\"Deze stof wordt aangemerkt als ZZS\",\" \")","v":" "},{"$f":"COUNTIF('ZZS-lijst'!A:A,$C96)","v":0}]
[{"$f":"IF(AND(B97>0,ISBLANK('beoordeling maatregel'!Q97)=FALSE),\"Deze stof wordt aangemerkt als ZZS\",\" \")","v":" "},{"$f":"COUNTIF('ZZS-lijst'!A:A,$C97)","v":0}]
[{"$f":"IF(AND(B98>0,ISBLANK('beoordeling maatregel'!Q98)=FALSE),\"Deze stof wordt aangemerkt als ZZS\",\" \")","v":" "},{"$f":"COUNTIF('ZZS-lijst'!A:A,$C98)","v":0}]
[{"$f":"IF(AND(B99>0,ISBLANK('beoordeling maatregel'!Q99)=FALSE),\"Deze stof wordt aangemerkt als ZZS\",\" \")","v":" "},{"$f":"COUNTIF('ZZS-lijst'!A:A,$C99)","v":0}]
[{"$f":"IF(AND(B100>0,ISBLANK('beoordeling maatregel'!Q100)=FALSE),\"Deze stof wordt aangemerkt als ZZS\",\" \")","v":" "},{"$f":"COUNTIF('ZZS-lijst'!A:A,$C100)","v":0}]
[{"$f":"IF(AND(B101>0,ISBLANK('beoordeling maatregel'!Q101)=FALSE),\"Deze stof wordt aangemerkt als ZZS\",\" \")","v":" "},{"$f":"COUNTIF('ZZS-lijst'!A:A,$C101)","v":0}]
[{"$f":"IF(AND(B102>0,ISBLANK('beoordeling maatregel'!Q102)=FALSE),\"Deze stof wordt aangemerkt als ZZS\",\" \")","v":" "},{"$f":"COUNTIF('ZZS-lijst'!A:A,$C102)","v":0}]
[{"$f":"IF(AND(B103>0,ISBLANK('beoordeling maatregel'!Q103)=FALSE),\"Deze stof wordt aangemerkt als ZZS\",\" \")","v":" "},{"$f":"COUNTIF('ZZS-lijst'!A:A,$C103)","v":0}]
[{"$f":"IF(AND(B104>0,ISBLANK('beoordeling maatregel'!Q104)=FALSE),\"Deze stof wordt aangemerkt als ZZS\",\" \")","v":" "},{"$f":"COUNTIF('ZZS-lijst'!A:A,$C104)","v":0}]
[{"$f":"IF(AND(B105>0,ISBLANK('beoordeling maatregel'!Q105)=FALSE),\"Deze stof wordt aangemerkt als ZZS\",\" \")","v":" "},{"$f":"COUNTIF('ZZS-lijst'!A:A,$C105)","v":0}]
[{"$f":"IF(AND(B106>0,ISBLANK('beoordeling maatregel'!Q106)=FALSE),\"Deze stof wordt aangemerkt als ZZS\",\" \")","v":" "},{"$f":"COUNTIF('ZZS-lijst'!A:A,$C106)","v":0}]
[{"$f":"IF(AND(B107>0,ISBLANK('beoordeling maatregel'!Q107)=FALSE),\"Deze stof wordt aangemerkt als ZZS\",\" \")","v":" "},{"$f":"COUNTIF('ZZS-lijst'!A:A,$C107)","v":0}]
[{"$f":"IF(AND(B108>0,ISBLANK('beoordeling maatregel'!Q108)=FALSE),\"Deze stof wordt aangemerkt als ZZS\",\" \")","v":" "},{"$f":"COUNTIF('ZZS-lijst'!A:A,$C108)","v":0}]
[{"$f":"IF(AND(B109>0,ISBLANK('beoordeling maatregel'!Q109)=FALSE),\"Deze stof wordt aangemerkt als ZZS\",\" \")","v":" "},{"$f":"COUNTIF('ZZS-lijst'!A:A,$C109)","v":0}]
[{"$f":"IF(AND(B110>0,ISBLANK('beoordeling maatregel'!Q110)=FALSE),\"Deze stof wordt aangemerkt als ZZS\",\" \")","v":" "},{"$f":"COUNTIF('ZZS-lijst'!A:A,$C110)","v":0}]
[{"$f":"IF(AND(B111>0,ISBLANK('beoordeling maatregel'!Q111)=FALSE),\"Deze stof wordt aangemerkt als ZZS\",\" \")","v":" "},{"$f":"COUNTIF('ZZS-lijst'!A:A,$C111)","v":0}]
[{"$f":"IF(AND(B112>0,ISBLANK('beoordeling maatregel'!Q112)=FALSE),\"Deze stof wordt aangemerkt als ZZS\",\" \")","v":" "},{"$f":"COUNTIF('ZZS-lijst'!A:A,$C112)","v":0}]
[{"$f":"IF(AND(B113>0,ISBLANK('beoordeling maatregel'!Q113)=FALSE),\"Deze stof wordt aangemerkt als ZZS\",\" \")","v":" "},{"$f":"COUNTIF('ZZS-lijst'!A:A,$C113)","v":0}]
[{"$f":"IF(AND(B114>0,ISBLANK('beoordeling maatregel'!Q114)=FALSE),\"Deze stof wordt aangemerkt als ZZS\",\" \")","v":" "},{"$f":"COUNTIF('ZZS-lijst'!A:A,$C114)","v":0}]
[{"$f":"IF(AND(B115>0,ISBLANK('beoordeling maatregel'!Q115)=FALSE),\"Deze stof wordt aangemerkt als ZZS\",\" \")","v":" "},{"$f":"COUNTIF('ZZS-lijst'!A:A,$C115)","v":0}]
[{"$f":"IF(AND(B116>0,ISBLANK('beoordeling maatregel'!Q116)=FALSE),\"Deze stof wordt aangemerkt als ZZS\",\" \")","v":" "},{"$f":"COUNTIF('ZZS-lijst'!A:A,$C116)","v":0}]
[{"$f":"IF(AND(B117>0,ISBLANK('beoordeling maatregel'!Q117)=FALSE),\"Deze stof wordt aangemerkt als ZZS\",\" \")","v":" "},{"$f":"COUNTIF('ZZS-lijst'!A:A,$C117)","v":0}]
[{"$f":"IF(AND(B118>0,ISBLANK('beoordeling maatregel'!Q118)=FALSE),\"Deze stof wordt aangemerkt als ZZS\",\" \")","v":" "},{"$f":"COUNTIF('ZZS-lijst'!A:A,$C118)","v":0}]
[{"$f":"IF(AND(B119>0,ISBLANK('beoordeling maatregel'!Q119)=FALSE),\"Deze stof wordt aangemerkt als ZZS\",\" \")","v":" "},{"$f":"COUNTIF('ZZS-lijst'!A:A,$C119)","v":0}]
[{"$f":"IF(AND(B120>0,ISBLANK('beoordeling maatregel'!Q120)=FALSE),\"Deze stof wordt aangemerkt als ZZS\",\" \")","v":" "},{"$f":"COUNTIF('ZZS-lijst'!A:A,$C120)","v":0}]
[{"$f":"IF(AND(B121>0,ISBLANK('beoordeling maatregel'!Q121)=FALSE),\"Deze stof wordt aangemerkt als ZZS\",\" \")","v":" "},{"$f":"COUNTIF('ZZS-lijst'!A:A,$C121)","v":0}]
[{"$f":"IF(AND(B122>0,ISBLANK('beoordeling maatregel'!Q122)=FALSE),\"Deze stof wordt aangemerkt als ZZS\",\" \")","v":" "},{"$f":"COUNTIF('ZZS-lijst'!A:A,$C122)","v":0}]
[{"$f":"IF(AND(B123>0,ISBLANK('beoordeling maatregel'!Q123)=FALSE),\"Deze stof wordt aangemerkt als ZZS\",\" \")","v":" "},{"$f":"COUNTIF('ZZS-lijst'!A:A,$C123)","v":0}]
[{"$f":"IF(AND(B124>0,ISBLANK('beoordeling maatregel'!Q124)=FALSE),\"Deze stof wordt aangemerkt als ZZS\",\" \")","v":" "},{"$f":"COUNTIF('ZZS-lijst'!A:A,$C124)","v":0}]
[{"$f":"IF(AND(B125>0,ISBLANK('beoordeling maatregel'!Q125)=FALSE),\"Deze stof wordt aangemerkt als ZZS\",\" \")","v":" "},{"$f":"COUNTIF('ZZS-lijst'!A:A,$C125)","v":0}]
[{"$f":"IF(AND(B126>0,ISBLANK('beoordeling maatregel'!Q126)=FALSE),\"Deze stof wordt aangemerkt als ZZS\",\" \")","v":" "},{"$f":"COUNTIF('ZZS-lijst'!A:A,$C126)","v":0}]
[{"$f":"IF(AND(B127>0,ISBLANK('beoordeling maatregel'!Q127)=FALSE),\"Deze stof wordt aangemerkt als ZZS\",\" \")","v":" "},{"$f":"COUNTIF('ZZS-lijst'!A:A,$C127)","v":0}]
[{"$f":"IF(AND(B128>0,ISBLANK('beoordeling maatregel'!Q128)=FALSE),\"Deze stof wordt aangemerkt als ZZS\",\" \")","v":" "},{"$f":"COUNTIF('ZZS-lijst'!A:A,$C128)","v":0}]
[{"$f":"IF(AND(B129>0,ISBLANK('beoordeling maatregel'!Q129)=FALSE),\"Deze stof wordt aangemerkt als ZZS\",\" \")","v":" "},{"$f":"COUNTIF('ZZS-lijst'!A:A,$C129)","v":0}]
[{"$f":"IF(AND(B130>0,ISBLANK('beoordeling maatregel'!Q130)=FALSE),\"Deze stof wordt aangemerkt als ZZS\",\" \")","v":" "},{"$f":"COUNTIF('ZZS-lijst'!A:A,$C130)","v":0}]
[{"$f":"IF(AND(B131>0,ISBLANK('beoordeling maatregel'!Q131)=FALSE),\"Deze stof wordt aangemerkt als ZZS\",\" \")","v":" "},{"$f":"COUNTIF('ZZS-lijst'!A:A,$C131)","v":0}]
[{"$f":"IF(AND(B132>0,ISBLANK('beoordeling maatregel'!Q132)=FALSE),\"Deze stof wordt aangemerkt als ZZS\",\" \")","v":" "},{"$f":"COUNTIF('ZZS-lijst'!A:A,$C132)","v":0}]
[{"$f":"IF(AND(B133>0,ISBLANK('beoordeling maatregel'!Q133)=FALSE),\"Deze stof wordt aangemerkt als ZZS\",\" \")","v":" "},{"$f":"COUNTIF('ZZS-lijst'!A:A,$C133)","v":0}]
[{"$f":"IF(AND(B134>0,ISBLANK('beoordeling maatregel'!Q134)=FALSE),\"Deze stof wordt aangemerkt als ZZS\",\" \")","v":" "},{"$f":"COUNTIF('ZZS-lijst'!A:A,$C134)","v":0}]
[{"$f":"IF(AND(B135>0,ISBLANK('beoordeling maatregel'!Q135)=FALSE),\"Deze stof wordt aangemerkt als ZZS\",\" \")","v":" "},{"$f":"COUNTIF('ZZS-lijst'!A:A,$C135)","v":0}]
[{"$f":"IF(AND(B136>0,ISBLANK('beoordeling maatregel'!Q136)=FALSE),\"Deze stof wordt aangemerkt als ZZS\",\" \")","v":" "},{"$f":"COUNTIF('ZZS-lijst'!A:A,$C136)","v":0}]
[{"$f":"IF(AND(B137>0,ISBLANK('beoordeling maatregel'!Q137)=FALSE),\"Deze stof wordt aangemerkt als ZZS\",\" \")","v":" "},{"$f":"COUNTIF('ZZS-lijst'!A:A,$C137)","v":0}]
[{"$f":"IF(AND(B138>0,ISBLANK('beoordeling maatregel'!Q138)=FALSE),\"Deze stof wordt aangemerkt als ZZS\",\" \")","v":" "},{"$f":"COUNTIF('ZZS-lijst'!A:A,$C138)","v":0}]
[{"$f":"IF(AND(B139>0,ISBLANK('beoordeling maatregel'!Q139)=FALSE),\"Deze stof wordt aangemerkt als ZZS\",\" \")","v":" "},{"$f":"COUNTIF('ZZS-lijst'!A:A,$C139)","v":0}]
[{"$f":"IF(AND(B140>0,ISBLANK('beoordeling maatregel'!Q140)=FALSE),\"Deze stof wordt aangemerkt als ZZS\",\" \")","v":" "},{"$f":"COUNTIF('ZZS-lijst'!A:A,$C140)","v":0}]
[{"$f":"IF(AND(B141>0,ISBLANK('beoordeling maatregel'!Q141)=FALSE),\"Deze stof wordt aangemerkt als ZZS\",\" \")","v":" "},{"$f":"COUNTIF('ZZS-lijst'!A:A,$C141)","v":0}]
[{"$f":"IF(AND(B142>0,ISBLANK('beoordeling maatregel'!Q142)=FALSE),\"Deze stof wordt aangemerkt als ZZS\",\" \")","v":" "},{"$f":"COUNTIF('ZZS-lijst'!A:A,$C142)","v":0}]
[{"$f":"IF(AND(B143>0,ISBLANK('beoordeling maatregel'!Q143)=FALSE),\"Deze stof wordt aangemerkt als ZZS\",\" \")","v":" "},{"$f":"COUNTIF('ZZS-lijst'!A:A,$C143)","v":0}]
[{"$f":"IF(AND(B144>0,ISBLANK('beoordeling maatregel'!Q144)=FALSE),\"Deze stof wordt aangemerkt als ZZS\",\" \")","v":" "},{"$f":"COUNTIF('ZZS-lijst'!A:A,$C144)","v":0}]
[{"$f":"IF(AND(B145>0,ISBLANK('beoordeling maatregel'!Q145)=FALSE),\"Deze stof wordt aangemerkt als ZZS\",\" \")","v":" "},{"$f":"COUNTIF('ZZS-lijst'!A:A,$C145)","v":0}]
[{"$f":"IF(AND(B146>0,ISBLANK('beoordeling maatregel'!Q146)=FALSE),\"Deze stof wordt aangemerkt als ZZS\",\" \")","v":" "},{"$f":"COUNTIF('ZZS-lijst'!A:A,$C146)","v":0}]
[{"$f":"IF(AND(B147>0,ISBLANK('beoordeling maatregel'!Q147)=FALSE),\"Deze stof wordt aangemerkt als ZZS\",\" \")","v":" "},{"$f":"COUNTIF('ZZS-lijst'!A:A,$C147)","v":0}]
[{"$f":"IF(AND(B148>0,ISBLANK('beoordeling maatregel'!Q148)=FALSE),\"Deze stof wordt aangemerkt als ZZS\",\" \")","v":" "},{"$f":"COUNTIF('ZZS-lijst'!A:A,$C148)","v":0}]
[{"$f":"IF(AND(B149>0,ISBLANK('beoordeling maatregel'!Q149)=FALSE),\"Deze stof wordt aangemerkt als ZZS\",\" \")","v":" "},{"$f":"COUNTIF('ZZS-lijst'!A:A,$C149)","v":0}]
[{"$f":"IF(AND(B150>0,ISBLANK('beoordeling maatregel'!Q150)=FALSE),\"Deze stof wordt aangemerkt als ZZS\",\" \")","v":" "},{"$f":"COUNTIF('ZZS-lijst'!A:A,$C150)","v":0}]
[{"$f":"IF(AND(B151>0,ISBLANK('beoordeling maatregel'!Q151)=FALSE),\"Deze stof wordt aangemerkt als ZZS\",\" \")","v":" "},{"$f":"COUNTIF('ZZS-lijst'!A:A,$C151)","v":0}]
[{"$f":"IF(AND(B152>0,ISBLANK('beoordeling maatregel'!Q152)=FALSE),\"Deze stof wordt aangemerkt als ZZS\",\" \")","v":" "},{"$f":"COUNTIF('ZZS-lijst'!A:A,$C152)","v":0}]
[{"$f":"IF(AND(B153>0,ISBLANK('beoordeling maatregel'!Q153)=FALSE),\"Deze stof wordt aangemerkt als ZZS\",\" \")","v":" "},{"$f":"COUNTIF('ZZS-lijst'!A:A,$C153)","v":0}]
[{"$f":"IF(AND(B154>0,ISBLANK('beoordeling maatregel'!Q154)=FALSE),\"Deze stof wordt aangemerkt als ZZS\",\" \")","v":" "},{"$f":"COUNTIF('ZZS-lijst'!A:A,$C154)","v":0}]
[{"$f":"IF(AND(B155>0,ISBLANK('beoordeling maatregel'!Q155)=FALSE),\"Deze stof wordt aangemerkt als ZZS\",\" \")","v":" "},{"$f":"COUNTIF('ZZS-lijst'!A:A,$C155)","v":0}]
[{"$f":"IF(AND(B156>0,ISBLANK('beoordeling maatregel'!Q156)=FALSE),\"Deze stof wordt aangemerkt als ZZS\",\" \")","v":" "},{"$f":"COUNTIF('ZZS-lijst'!A:A,$C156)","v":0}]
[{"$f":"IF(AND(B157>0,ISBLANK('beoordeling maatregel'!Q157)=FALSE),\"Deze stof wordt aangemerkt als ZZS\",\" \")","v":" "},{"$f":"COUNTIF('ZZS-lijst'!A:A,$C157)","v":0}]
[{"$f":"IF(AND(B158>0,ISBLANK('beoordeling maatregel'!Q158)=FALSE),\"Deze stof wordt aangemerkt als ZZS\",\" \")","v":" "},{"$f":"COUNTIF('ZZS-lijst'!A:A,$C158)","v":0}]
[{"$f":"IF(AND(B159>0,ISBLANK('beoordeling maatregel'!Q159)=FALSE),\"Deze stof wordt aangemerkt als ZZS\",\" \")","v":" "},{"$f":"COUNTIF('ZZS-lijst'!A:A,$C159)","v":0}]
[{"$f":"IF(AND(B160>0,ISBLANK('beoordeling maatregel'!Q160)=FALSE),\"Deze stof wordt aangemerkt als ZZS\",\" \")","v":" "},{"$f":"COUNTIF('ZZS-lijst'!A:A,$C160)","v":0}]
[{"$f":"IF(AND(B161>0,ISBLANK('beoordeling maatregel'!Q161)=FALSE),\"Deze stof wordt aangemerkt als ZZS\",\" \")","v":" "},{"$f":"COUNTIF('ZZS-lijst'!A:A,$C161)","v":0}]
[{"$f":"IF(AND(B162>0,ISBLANK('beoordeling maatregel'!Q162)=FALSE),\"Deze stof wordt aangemerkt als ZZS\",\" \")","v":" "},{"$f":"COUNTIF('ZZS-lijst'!A:A,$C162)","v":0}]
[{"$f":"IF(AND(B163>0,ISBLANK('beoordeling maatregel'!Q163)=FALSE),\"Deze stof wordt aangemerkt als ZZS\",\" \")","v":" "},{"$f":"COUNTIF('ZZS-lijst'!A:A,$C163)","v":0}]
[{"$f":"IF(AND(B164>0,ISBLANK('beoordeling maatregel'!Q164)=FALSE),\"Deze stof wordt aangemerkt als ZZS\",\" \")","v":" "},{"$f":"COUNTIF('ZZS-lijst'!A:A,$C164)","v":0}]
[{"$f":"IF(AND(B165>0,ISBLANK('beoordeling maatregel'!Q165)=FALSE),\"Deze stof wordt aangemerkt als ZZS\",\" \")","v":" "},{"$f":"COUNTIF('ZZS-lijst'!A:A,$C165)","v":0}]
[{"$f":"IF(AND(B166>0,ISBLANK('beoordeling maatregel'!Q166)=FALSE),\"Deze stof wordt aangemerkt als ZZS\",\" \")","v":" "},{"$f":"COUNTIF('ZZS-lijst'!A:A,$C166)","v":0}]
[{"$f":"IF(AND(B167>0,ISBLANK('beoordeling maatregel'!Q167)=FALSE),\"Deze stof wordt aangemerkt als ZZS\",\" \")","v":" "},{"$f":"COUNTIF('ZZS-lijst'!A:A,$C167)","v":0}]
[{"$f":"IF(AND(B168>0,ISBLANK('beoordeling maatregel'!Q168)=FALSE),\"Deze stof wordt aangemerkt als ZZS\",\" \")","v":" "},{"$f":"COUNTIF('ZZS-lijst'!A:A,$C168)","v":0}]
[{"$f":"IF(AND(B169>0,ISBLANK('beoordeling maatregel'!Q169)=FALSE),\"Deze stof wordt aangemerkt als ZZS\",\" \")","v":" "},{"$f":"COUNTIF('ZZS-lijst'!A:A,$C169)","v":0}]
[{"$f":"IF(AND(B170>0,ISBLANK('beoordeling maatregel'!Q170)=FALSE),\"Deze stof wordt aangemerkt als ZZS\",\" \")","v":" "},{"$f":"COUNTIF('ZZS-lijst'!A:A,$C170)","v":0}]
[{"$f":"IF(AND(B171>0,ISBLANK('beoordeling maatregel'!Q171)=FALSE),\"Deze stof wordt aangemerkt als ZZS\",\" \")","v":" "},{"$f":"COUNTIF('ZZS-lijst'!A:A,$C171)","v":0}]
[{"$f":"IF(AND(B172>0,ISBLANK('beoordeling maatregel'!Q172)=FALSE),\"Deze stof wordt aangemerkt als ZZS\",\" \")","v":" "},{"$f":"COUNTIF('ZZS-lijst'!A:A,$C172)","v":0}]
[{"$f":"IF(AND(B173>0,ISBLANK('beoordeling maatregel'!Q173)=FALSE),\"Deze stof wordt aangemerkt als ZZS\",\" \")","v":" "},{"$f":"COUNTIF('ZZS-lijst'!A:A,$C173)","v":0}]
[{"$f":"IF(AND(B174>0,ISBLANK('beoordeling maatregel'!Q174)=FALSE),\"Deze stof wordt aangemerkt als ZZS\",\" \")","v":" "},{"$f":"COUNTIF('ZZS-lijst'!A:A,$C174)","v":0}]
[{"$f":"IF(AND(B175>0,ISBLANK('beoordeling maatregel'!Q175)=FALSE),\"Deze stof wordt aangemerkt als ZZS\",\" \")","v":" "},{"$f":"COUNTIF('ZZS-lijst'!A:A,$C175)","v":0}]
[{"$f":"IF(AND(B176>0,ISBLANK('beoordeling maatregel'!Q176)=FALSE),\"Deze stof wordt aangemerkt als ZZS\",\" \")","v":" "},{"$f":"COUNTIF('ZZS-lijst'!A:A,$C176)","v":0}]
[{"$f":"IF(AND(B177>0,ISBLANK('beoordeling maatregel'!Q177)=FALSE),\"Deze stof wordt aangemerkt als ZZS\",\" \")","v":" "},{"$f":"COUNTIF('ZZS-lijst'!A:A,$C177)","v":0}]
[{"$f":"IF(AND(B178>0,ISBLANK('beoordeling maatregel'!Q178)=FALSE),\"Deze stof wordt aangemerkt als ZZS\",\" \")","v":" "},{"$f":"COUNTIF('ZZS-lijst'!A:A,$C178)","v":0}]
[{"$f":"IF(AND(B179>0,ISBLANK('beoordeling maatregel'!Q179)=FALSE),\"Deze stof wordt aangemerkt als ZZS\",\" \")","v":" "},{"$f":"COUNTIF('ZZS-lijst'!A:A,$C179)","v":0}]
[{"$f":"IF(AND(B180>0,ISBLANK('beoordeling maatregel'!Q180)=FALSE),\"Deze stof wordt aangemerkt als ZZS\",\" \")","v":" "},{"$f":"COUNTIF('ZZS-lijst'!A:A,$C180)","v":0}]
[{"$f":"IF(AND(B181>0,ISBLANK('beoordeling maatregel'!Q181)=FALSE),\"Deze stof wordt aangemerkt als ZZS\",\" \")","v":" "},{"$f":"COUNTIF('ZZS-lijst'!A:A,$C181)","v":0}]
[{"$f":"IF(AND(B182>0,ISBLANK('beoordeling maatregel'!Q182)=FALSE),\"Deze stof wordt aangemerkt als ZZS\",\" \")","v":" "},{"$f":"COUNTIF('ZZS-lijst'!A:A,$C182)","v":0}]
[{"$f":"IF(AND(B183>0,ISBLANK('beoordeling maatregel'!Q183)=FALSE),\"Deze stof wordt aangemerkt als ZZS\",\" \")","v":" "},{"$f":"COUNTIF('ZZS-lijst'!A:A,$C183)","v":0}]
[{"$f":"IF(AND(B184>0,ISBLANK('beoordeling maatregel'!Q184)=FALSE),\"Deze stof wordt aangemerkt als ZZS\",\" \")","v":" "},{"$f":"COUNTIF('ZZS-lijst'!A:A,$C184)","v":0}]
[{"$f":"IF(AND(B185>0,ISBLANK('beoordeling maatregel'!Q185)=FALSE),\"Deze stof wordt aangemerkt als ZZS\",\" \")","v":" "},{"$f":"COUNTIF('ZZS-lijst'!A:A,$C185)","v":0}]
[{"$f":"IF(AND(B186>0,ISBLANK('beoordeling maatregel'!Q186)=FALSE),\"Deze stof wordt aangemerkt als ZZS\",\" \")","v":" "},{"$f":"COUNTIF('ZZS-lijst'!A:A,$C186)","v":0}]
[{"$f":"IF(AND(B187>0,ISBLANK('beoordeling maatregel'!Q187)=FALSE),\"Deze stof wordt aangemerkt als ZZS\",\" \")","v":" "},{"$f":"COUNTIF('ZZS-lijst'!A:A,$C187)","v":0}]
[{"$f":"IF(AND(B188>0,ISBLANK('beoordeling maatregel'!Q188)=FALSE),\"Deze stof wordt aangemerkt als ZZS\",\" \")","v":" "},{"$f":"COUNTIF('ZZS-lijst'!A:A,$C188)","v":0}]
[{"$f":"IF(AND(B189>0,ISBLANK('beoordeling maatregel'!Q189)=FALSE),\"Deze stof wordt aangemerkt als ZZS\",\" \")","v":" "},{"$f":"COUNTIF('ZZS-lijst'!A:A,$C189)","v":0}]
[{"$f":"IF(AND(B190>0,ISBLANK('beoordeling maatregel'!Q190)=FALSE),\"Deze stof wordt aangemerkt als ZZS\",\" \")","v":" "},{"$f":"COUNTIF('ZZS-lijst'!A:A,$C190)","v":0}]
[{"$f":"IF(AND(B191>0,ISBLANK('beoordeling maatregel'!Q191)=FALSE),\"Deze stof wordt aangemerkt als ZZS\",\" \")","v":" "},{"$f":"COUNTIF('ZZS-lijst'!A:A,$C191)","v":0}]
[{"$f":"IF(AND(B192>0,ISBLANK('beoordeling maatregel'!Q192)=FALSE),\"Deze stof wordt aangemerkt als ZZS\",\" \")","v":" "},{"$f":"COUNTIF('ZZS-lijst'!A:A,$C192)","v":0}]
[{"$f":"IF(AND(B193>0,ISBLANK('beoordeling maatregel'!Q193)=FALSE),\"Deze stof wordt aangemerkt als ZZS\",\" \")","v":" "},{"$f":"COUNTIF('ZZS-lijst'!A:A,$C193)","v":0}]
[{"$f":"IF(AND(B194>0,ISBLANK('beoordeling maatregel'!Q194)=FALSE),\"Deze stof wordt aangemerkt als ZZS\",\" \")","v":" "},{"$f":"COUNTIF('ZZS-lijst'!A:A,$C194)","v":0}]
[{"$f":"IF(AND(B195>0,ISBLANK('beoordeling maatregel'!Q195)=FALSE),\"Deze stof wordt aangemerkt als ZZS\",\" \")","v":" "},{"$f":"COUNTIF('ZZS-lijst'!A:A,$C195)","v":0}]
[{"$f":"IF(AND(B196>0,ISBLANK('beoordeling maatregel'!Q196)=FALSE),\"Deze stof wordt aangemerkt als ZZS\",\" \")","v":" "},{"$f":"COUNTIF('ZZS-lijst'!A:A,$C196)","v":0}]
[{"$f":"IF(AND(B197>0,ISBLANK('beoordeling maatregel'!Q197)=FALSE),\"Deze stof wordt aangemerkt als ZZS\",\" \")","v":" "},{"$f":"COUNTIF('ZZS-lijst'!A:A,$C197)","v":0}]
[{"$f":"IF(AND(B198>0,ISBLANK('beoordeling maatregel'!Q198)=FALSE),\"Deze stof wordt aangemerkt als ZZS\",\" \")","v":" "},{"$f":"COUNTIF('ZZS-lijst'!A:A,$C198)","v":0}]
[{"$f":"IF(AND(B199>0,ISBLANK('beoordeling maatregel'!Q199)=FALSE),\"Deze stof wordt aangemerkt als ZZS\",\" \")","v":" "},{"$f":"COUNTIF('ZZS-lijst'!A:A,$C199)","v":0}]
[{"$f":"IF(AND(B200>0,ISBLANK('beoordeling maatregel'!Q200)=FALSE),\"Deze stof wordt aangemerkt als ZZS\",\" \")","v":" "},{"$f":"COUNTIF('ZZS-lijst'!A:A,$C200)","v":0}]
[{"$f":"IF(AND(B201>0,ISBLANK('beoordeling maatregel'!Q201)=FALSE),\"Deze stof wordt aangemerkt als ZZS\",\" \")","v":" "},{"$f":"COUNTIF('ZZS-lijst'!A:A,$C201)","v":0}]
[{"$f":"IF(AND(B202>0,ISBLANK('beoordeling maatregel'!Q202)=FALSE),\"Deze stof wordt aangemerkt als ZZS\",\" \")","v":" "},{"$f":"COUNTIF('ZZS-lijst'!A:A,$C202)","v":0}]
[{"$f":"IF(AND(B203>0,ISBLANK('beoordeling maatregel'!Q203)=FALSE),\"Deze stof wordt aangemerkt als ZZS\",\" \")","v":" "},{"$f":"COUNTIF('ZZS-lijst'!A:A,$C203)","v":0}]
[{"$f":"IF(AND(B204>0,ISBLANK('beoordeling maatregel'!Q204)=FALSE),\"Deze stof wordt aangemerkt als ZZS\",\" \")","v":" "},{"$f":"COUNTIF('ZZS-lijst'!A:A,$C204)","v":0}]
[{"$f":"IF(AND(B205>0,ISBLANK('beoordeling maatregel'!Q205)=FALSE),\"Deze stof wordt aangemerkt als ZZS\",\" \")","v":" "},{"$f":"COUNTIF('ZZS-lijst'!A:A,$C205)","v":0}]
[{"$f":"IF(AND(B206>0,ISBLANK('beoordeling maatregel'!Q206)=FALSE),\"Deze stof wordt aangemerkt als ZZS\",\" \")","v":" "},{"$f":"COUNTIF('ZZS-lijst'!A:A,$C206)","v":0}]
[{"$f":"IF(AND(B207>0,ISBLANK('beoordeling maatregel'!Q207)=FALSE),\"Deze stof wordt aangemerkt als ZZS\",\" \")","v":" "},{"$f":"COUNTIF('ZZS-lijst'!A:A,$C207)","v":0}]
[{"$f":"IF(AND(B208>0,ISBLANK('beoordeling maatregel'!Q208)=FALSE),\"Deze stof wordt aangemerkt als ZZS\",\" \")","v":" "},{"$f":"COUNTIF('ZZS-lijst'!A:A,$C208)","v":0}]
[{"$f":"IF(AND(B209>0,ISBLANK('beoordeling maatregel'!Q209)=FALSE),\"Deze stof wordt aangemerkt als ZZS\",\" \")","v":" "},{"$f":"COUNTIF('ZZS-lijst'!A:A,$C209)","v":0}]
[{"$f":"IF(AND(B210>0,ISBLANK('beoordeling maatregel'!Q210)=FALSE),\"Deze stof wordt aangemerkt als ZZS\",\" \")","v":" "},{"$f":"COUNTIF('ZZS-lijst'!A:A,$C210)","v":0}]
[{"$f":"IF(AND(B211>0,ISBLANK('beoordeling maatregel'!Q211)=FALSE),\"Deze stof wordt aangemerkt als ZZS\",\" \")","v":" "},{"$f":"COUNTIF('ZZS-lijst'!A:A,$C211)","v":0}]
[{"$f":"IF(AND(B212>0,ISBLANK('beoordeling maatregel'!Q212)=FALSE),\"Deze stof wordt aangemerkt als ZZS\",\" \")","v":" "},{"$f":"COUNTIF('ZZS-lijst'!A:A,$C212)","v":0}]
[{"$f":"IF(AND(B213>0,ISBLANK('beoordeling maatregel'!Q213)=FALSE),\"Deze stof wordt aangemerkt als ZZS\",\" \")","v":" "},{"$f":"COUNTIF('ZZS-lijst'!A:A,$C213)","v":0}]
[{"$f":"IF(AND(B214>0,ISBLANK('beoordeling maatregel'!Q214)=FALSE),\"Deze stof wordt aangemerkt als ZZS\",\" \")","v":" "},{"$f":"COUNTIF('ZZS-lijst'!A:A,$C214)","v":0}]
[{"$f":"IF(AND(B215>0,ISBLANK('beoordeling maatregel'!Q215)=FALSE),\"Deze stof wordt aangemerkt als ZZS\",\" \")","v":" "},{"$f":"COUNTIF('ZZS-lijst'!A:A,$C215)","v":0}]
[{"$f":"IF(AND(B216>0,ISBLANK('beoordeling maatregel'!Q216)=FALSE),\"Deze stof wordt aangemerkt als ZZS\",\" \")","v":" "},{"$f":"COUNTIF('ZZS-lijst'!A:A,$C216)","v":0}]
[{"$f":"IF(AND(B217>0,ISBLANK('beoordeling maatregel'!Q217)=FALSE),\"Deze stof wordt aangemerkt als ZZS\",\" \")","v":" "},{"$f":"COUNTIF('ZZS-lijst'!A:A,$C217)","v":0}]
[{"$f":"IF(AND(B218>0,ISBLANK('beoordeling maatregel'!Q218)=FALSE),\"Deze stof wordt aangemerkt als ZZS\",\" \")","v":" "},{"$f":"COUNTIF('ZZS-lijst'!A:A,$C218)","v":0}]
[{"$f":"IF(AND(B219>0,ISBLANK('beoordeling maatregel'!Q219)=FALSE),\"Deze stof wordt aangemerkt als ZZS\",\" \")","v":" "},{"$f":"COUNTIF('ZZS-lijst'!A:A,$C219)","v":0}]
[{"$f":"IF(AND(B220>0,ISBLANK('beoordeling maatregel'!Q220)=FALSE),\"Deze stof wordt aangemerkt als ZZS\",\" \")","v":" "},{"$f":"COUNTIF('ZZS-lijst'!A:A,$C220)","v":0}]
[{"$f":"IF(AND(B221>0,ISBLANK('beoordeling maatregel'!Q221)=FALSE),\"Deze stof wordt aangemerkt als ZZS\",\" \")","v":" "},{"$f":"COUNTIF('ZZS-lijst'!A:A,$C221)","v":0}]
[{"$f":"IF(AND(B222>0,ISBLANK('beoordeling maatregel'!Q222)=FALSE),\"Deze stof wordt aangemerkt als ZZS\",\" \")","v":" "},{"$f":"COUNTIF('ZZS-lijst'!A:A,$C222)","v":0}]
[{"$f":"IF(AND(B223>0,ISBLANK('beoordeling maatregel'!Q223)=FALSE),\"Deze stof wordt aangemerkt als ZZS\",\" \")","v":" "},{"$f":"COUNTIF('ZZS-lijst'!A:A,$C223)","v":0}]
[{"$f":"IF(AND(B224>0,ISBLANK('beoordeling maatregel'!Q224)=FALSE),\"Deze stof wordt aangemerkt als ZZS\",\" \")","v":" "},{"$f":"COUNTIF('ZZS-lijst'!A:A,$C224)","v":0}]
[{"$f":"IF(AND(B225>0,ISBLANK('beoordeling maatregel'!Q225)=FALSE),\"Deze stof wordt aangemerkt als ZZS\",\" \")","v":" "},{"$f":"COUNTIF('ZZS-lijst'!A:A,$C225)","v":0}]
[{"$f":"IF(AND(B226>0,ISBLANK('beoordeling maatregel'!Q226)=FALSE),\"Deze stof wordt aangemerkt als ZZS\",\" \")","v":" "},{"$f":"COUNTIF('ZZS-lijst'!A:A,$C226)","v":0}]
[{"$f":"IF(AND(B227>0,ISBLANK('beoordeling maatregel'!Q227)=FALSE),\"Deze stof wordt aangemerkt als ZZS\",\" \")","v":" "},{"$f":"COUNTIF('ZZS-lijst'!A:A,$C227)","v":0}]
[{"$f":"IF(AND(B228>0,ISBLANK('beoordeling maatregel'!Q228)=FALSE),\"Deze stof wordt aangemerkt als ZZS\",\" \")","v":" "},{"$f":"COUNTIF('ZZS-lijst'!A:A,$C228)","v":0}]
[{"$f":"IF(AND(B229>0,ISBLANK('beoordeling maatregel'!Q229)=FALSE),\"Deze stof wordt aangemerkt als ZZS\",\" \")","v":" "},{"$f":"COUNTIF('ZZS-lijst'!A:A,$C229)","v":0}]
[{"$f":"IF(AND(B230>0,ISBLANK('beoordeling maatregel'!Q230)=FALSE),\"Deze stof wordt aangemerkt als ZZS\",\" \")","v":" "},{"$f":"COUNTIF('ZZS-lijst'!A:A,$C230)","v":0}]
[{"$f":"IF(AND(B231>0,ISBLANK('beoordeling maatregel'!Q231)=FALSE),\"Deze stof wordt aangemerkt als ZZS\",\" \")","v":" "},{"$f":"COUNTIF('ZZS-lijst'!A:A,$C231)","v":0}]
[{"$f":"IF(AND(B232>0,ISBLANK('beoordeling maatregel'!Q232)=FALSE),\"Deze stof wordt aangemerkt als ZZS\",\" \")","v":" "},{"$f":"COUNTIF('ZZS-lijst'!A:A,$C232)","v":0}]
[{"$f":"IF(AND(B233>0,ISBLANK('beoordeling maatregel'!Q233)=FALSE),\"Deze stof wordt aangemerkt als ZZS\",\" \")","v":" "},{"$f":"COUNTIF('ZZS-lijst'!A:A,$C233)","v":0}]
[{"$f":"IF(AND(B234>0,ISBLANK('beoordeling maatregel'!Q234)=FALSE),\"Deze stof wordt aangemerkt als ZZS\",\" \")","v":" "},{"$f":"COUNTIF('ZZS-lijst'!A:A,$C234)","v":0}]
[{"$f":"IF(AND(B235>0,ISBLANK('beoordeling maatregel'!Q235)=FALSE),\"Deze stof wordt aangemerkt als ZZS\",\" \")","v":" "},{"$f":"COUNTIF('ZZS-lijst'!A:A,$C235)","v":0}]
[{"$f":"IF(AND(B236>0,ISBLANK('beoordeling maatregel'!Q236)=FALSE),\"Deze stof wordt aangemerkt als ZZS\",\" \")","v":" "},{"$f":"COUNTIF('ZZS-lijst'!A:A,$C236)","v":0}]
[{"$f":"IF(AND(B237>0,ISBLANK('beoordeling maatregel'!Q237)=FALSE),\"Deze stof wordt aangemerkt als ZZS\",\" \")","v":" "},{"$f":"COUNTIF('ZZS-lijst'!A:A,$C237)","v":0}]
[{"$f":"IF(AND(B238>0,ISBLANK('beoordeling maatregel'!Q238)=FALSE),\"Deze stof wordt aangemerkt als ZZS\",\" \")","v":" "},{"$f":"COUNTIF('ZZS-lijst'!A:A,$C238)","v":0}]
[{"$f":"IF(AND(B239>0,ISBLANK('beoordeling maatregel'!Q239)=FALSE),\"Deze stof wordt aangemerkt als ZZS\",\" \")","v":" "},{"$f":"COUNTIF('ZZS-lijst'!A:A,$C239)","v":0}]
[{"$f":"IF(AND(B240>0,ISBLANK('beoordeling maatregel'!Q240)=FALSE),\"Deze stof wordt aangemerkt als ZZS\",\" \")","v":" "},{"$f":"COUNTIF('ZZS-lijst'!A:A,$C240)","v":0}]
[{"$f":"IF(AND(B241>0,ISBLANK('beoordeling maatregel'!Q241)=FALSE),\"Deze stof wordt aangemerkt als ZZS\",\" \")","v":" "},{"$f":"COUNTIF('ZZS-lijst'!A:A,$C241)","v":0}]
[{"$f":"IF(AND(B242>0,ISBLANK('beoordeling maatregel'!Q242)=FALSE),\"Deze stof wordt aangemerkt als ZZS\",\" \")","v":" "},{"$f":"COUNTIF('ZZS-lijst'!A:A,$C242)","v":0}]
[{"$f":"IF(AND(B243>0,ISBLANK('beoordeling maatregel'!Q243)=FALSE),\"Deze stof wordt aangemerkt als ZZS\",\" \")","v":" "},{"$f":"COUNTIF('ZZS-lijst'!A:A,$C243)","v":0}]
[{"$f":"IF(AND(B244>0,ISBLANK('beoordeling maatregel'!Q244)=FALSE),\"Deze stof wordt aangemerkt als ZZS\",\" \")","v":" "},{"$f":"COUNTIF('ZZS-lijst'!A:A,$C244)","v":0}]
[{"$f":"IF(AND(B245>0,ISBLANK('beoordeling maatregel'!Q245)=FALSE),\"Deze stof wordt aangemerkt als ZZS\",\" \")","v":" "},{"$f":"COUNTIF('ZZS-lijst'!A:A,$C245)","v":0}]
[{"$f":"IF(AND(B246>0,ISBLANK('beoordeling maatregel'!Q246)=FALSE),\"Deze stof wordt aangemerkt als ZZS\",\" \")","v":" "},{"$f":"COUNTIF('ZZS-lijst'!A:A,$C246)","v":0}]
[{"$f":"IF(AND(B247>0,ISBLANK('beoordeling maatregel'!Q247)=FALSE),\"Deze stof wordt aangemerkt als ZZS\",\" \")","v":" "},{"$f":"COUNTIF('ZZS-lijst'!A:A,$C247)","v":0}]
[{"$f":"IF(AND(B248>0,ISBLANK('beoordeling maatregel'!Q248)=FALSE),\"Deze stof wordt aangemerkt als ZZS\",\" \")","v":" "},{"$f":"COUNTIF('ZZS-lijst'!A:A,$C248)","v":0}]
[{"$f":"IF(AND(B249>0,ISBLANK('beoordeling maatregel'!Q249)=FALSE),\"Deze stof wordt aangemerkt als ZZS\",\" \")","v":" "},{"$f":"COUNTIF('ZZS-lijst'!A:A,$C249)","v":0}]
[{"$f":"IF(AND(B250>0,ISBLANK('beoordeling maatregel'!Q250)=FALSE),\"Deze stof wordt aangemerkt als ZZS\",\" \")","v":" "},{"$f":"COUNTIF('ZZS-lijst'!A:A,$C250)","v":0}]
[{"$f":"IF(AND(B251>0,ISBLANK('beoordeling maatregel'!Q251)=FALSE),\"Deze stof wordt aangemerkt als ZZS\",\" \")","v":" "},{"$f":"COUNTIF('ZZS-lijst'!A:A,$C251)","v":0}]
[{"$f":"IF(AND(B252>0,ISBLANK('beoordeling maatregel'!Q252)=FALSE),\"Deze stof wordt aangemerkt als ZZS\",\" \")","v":" "},{"$f":"COUNTIF('ZZS-lijst'!A:A,$C252)","v":0}]
[{"$f":"IF(AND(B253>0,ISBLANK('beoordeling maatregel'!Q253)=FALSE),\"Deze stof wordt aangemerkt als ZZS\",\" \")","v":" "},{"$f":"COUNTIF('ZZS-lijst'!A:A,$C253)","v":0}]
[{"$f":"IF(AND(B254>0,ISBLANK('beoordeling maatregel'!Q254)=FALSE),\"Deze stof wordt aangemerkt als ZZS\",\" \")","v":" "},{"$f":"COUNTIF('ZZS-lijst'!A:A,$C254)","v":0}]
[{"$f":"IF(AND(B255>0,ISBLANK('beoordeling maatregel'!Q255)=FALSE),\"Deze stof wordt aangemerkt als ZZS\",\" \")","v":" "},{"$f":"COUNTIF('ZZS-lijst'!A:A,$C255)","v":0}]
[{"$f":"IF(AND(B256>0,ISBLANK('beoordeling maatregel'!Q256)=FALSE),\"Deze stof wordt aangemerkt als ZZS\",\" \")","v":" "},{"$f":"COUNTIF('ZZS-lijst'!A:A,$C256)","v":0}]
[{"$f":"IF(AND(B257>0,ISBLANK('beoordeling maatregel'!Q257)=FALSE),\"Deze stof wordt aangemerkt als ZZS\",\" \")","v":" "},{"$f":"COUNTIF('ZZS-lijst'!A:A,$C257)","v":0}]
[{"$f":"IF(AND(B258>0,ISBLANK('beoordeling maatregel'!Q258)=FALSE),\"Deze stof wordt aangemerkt als ZZS\",\" \")","v":" "},{"$f":"COUNTIF('ZZS-lijst'!A:A,$C258)","v":0}]
[{"$f":"IF(AND(B259>0,ISBLANK('beoordeling maatregel'!Q259)=FALSE),\"Deze stof wordt aangemerkt als ZZS\",\" \")","v":" "},{"$f":"COUNTIF('ZZS-lijst'!A:A,$C259)","v":0}]
[{"$f":"IF(AND(B260>0,ISBLANK('beoordeling maatregel'!Q260)=FALSE),\"Deze stof wordt aangemerkt als ZZS\",\" \")","v":" "},{"$f":"COUNTIF('ZZS-lijst'!A:A,$C260)","v":0}]
[{"$f":"IF(AND(B261>0,ISBLANK('beoordeling maatregel'!Q261)=FALSE),\"Deze stof wordt aangemerkt als ZZS\",\" \")","v":" "},{"$f":"COUNTIF('ZZS-lijst'!A:A,$C261)","v":0}]
[{"$f":"IF(AND(B262>0,ISBLANK('beoordeling maatregel'!Q262)=FALSE),\"Deze stof wordt aangemerkt als ZZS\",\" \")","v":" "},{"$f":"COUNTIF('ZZS-lijst'!A:A,$C262)","v":0}]
[{"$f":"IF(AND(B263>0,ISBLANK('beoordeling maatregel'!Q263)=FALSE),\"Deze stof wordt aangemerkt als ZZS\",\" \")","v":" "},{"$f":"COUNTIF('ZZS-lijst'!A:A,$C263)","v":0}]
[{"$f":"IF(AND(B264>0,ISBLANK('beoordeling maatregel'!Q264)=FALSE),\"Deze stof wordt aangemerkt als ZZS\",\" \")","v":" "},{"$f":"COUNTIF('ZZS-lijst'!A:A,$C264)","v":0}]
[{"$f":"IF(AND(B265>0,ISBLANK('beoordeling maatregel'!Q265)=FALSE),\"Deze stof wordt aangemerkt als ZZS\",\" \")","v":" "},{"$f":"COUNTIF('ZZS-lijst'!A:A,$C265)","v":0}]
[{"$f":"IF(AND(B266>0,ISBLANK('beoordeling maatregel'!Q266)=FALSE),\"Deze stof wordt aangemerkt als ZZS\",\" \")","v":" "},{"$f":"COUNTIF('ZZS-lijst'!A:A,$C266)","v":0}]
[{"$f":"IF(AND(B267>0,ISBLANK('beoordeling maatregel'!Q267)=FALSE),\"Deze stof wordt aangemerkt als ZZS\",\" \")","v":" "},{"$f":"COUNTIF('ZZS-lijst'!A:A,$C267)","v":0}]
[{"$f":"IF(AND(B268>0,ISBLANK('beoordeling maatregel'!Q268)=FALSE),\"Deze stof wordt aangemerkt als ZZS\",\" \")","v":" "},{"$f":"COUNTIF('ZZS-lijst'!A:A,$C268)","v":0}]
[{"$f":"IF(AND(B269>0,ISBLANK('beoordeling maatregel'!Q269)=FALSE),\"Deze stof wordt aangemerkt als ZZS\",\" \")","v":" "},{"$f":"COUNTIF('ZZS-lijst'!A:A,$C269)","v":0}]
[{"$f":"IF(AND(B270>0,ISBLANK('beoordeling maatregel'!Q270)=FALSE),\"Deze stof wordt aangemerkt als ZZS\",\" \")","v":" "},{"$f":"COUNTIF('ZZS-lijst'!A:A,$C270)","v":0}]
[{"$f":"IF(AND(B271>0,ISBLANK('beoordeling maatregel'!Q271)=FALSE),\"Deze stof wordt aangemerkt als ZZS\",\" \")","v":" "},{"$f":"COUNTIF('ZZS-lijst'!A:A,$C271)","v":0}]
[{"$f":"IF(AND(B272>0,ISBLANK('beoordeling maatregel'!Q272)=FALSE),\"Deze stof wordt aangemerkt als ZZS\",\" \")","v":" "},{"$f":"COUNTIF('ZZS-lijst'!A:A,$C272)","v":0}]
[{"$f":"IF(AND(B273>0,ISBLANK('beoordeling maatregel'!Q273)=FALSE),\"Deze stof wordt aangemerkt als ZZS\",\" \")","v":" "},{"$f":"COUNTIF('ZZS-lijst'!A:A,$C273)","v":0}]
[{"$f":"IF(AND(B274>0,ISBLANK('beoordeling maatregel'!Q274)=FALSE),\"Deze stof wordt aangemerkt als ZZS\",\" \")","v":" "},{"$f":"COUNTIF('ZZS-lijst'!A:A,$C274)","v":0}]
[{"$f":"IF(AND(B275>0,ISBLANK('beoordeling maatregel'!Q275)=FALSE),\"Deze stof wordt aangemerkt als ZZS\",\" \")","v":" "},{"$f":"COUNTIF('ZZS-lijst'!A:A,$C275)","v":0}]
[{"$f":"IF(AND(B276>0,ISBLANK('beoordeling maatregel'!Q276)=FALSE),\"Deze stof wordt aangemerkt als ZZS\",\" \")","v":" "},{"$f":"COUNTIF('ZZS-lijst'!A:A,$C276)","v":0}]
[{"$f":"IF(AND(B277>0,ISBLANK('beoordeling maatregel'!Q277)=FALSE),\"Deze stof wordt aangemerkt als ZZS\",\" \")","v":" "},{"$f":"COUNTIF('ZZS-lijst'!A:A,$C277)","v":0}]
[{"$f":"IF(AND(B278>0,ISBLANK('beoordeling maatregel'!Q278)=FALSE),\"Deze stof wordt aangemerkt als ZZS\",\" \")","v":" "},{"$f":"COUNTIF('ZZS-lijst'!A:A,$C278)","v":0}]
[{"$f":"IF(AND(B279>0,ISBLANK('beoordeling maatregel'!Q279)=FALSE),\"Deze stof wordt aangemerkt als ZZS\",\" \")","v":" "},{"$f":"COUNTIF('ZZS-lijst'!A:A,$C279)","v":0}]
[{"$f":"IF(AND(B280>0,ISBLANK('beoordeling maatregel'!Q280)=FALSE),\"Deze stof wordt aangemerkt als ZZS\",\" \")","v":" "},{"$f":"COUNTIF('ZZS-lijst'!A:A,$C280)","v":0}]
[{"$f":"IF(AND(B281>0,ISBLANK('beoordeling maatregel'!Q281)=FALSE),\"Deze stof wordt aangemerkt als ZZS\",\" \")","v":" "},{"$f":"COUNTIF('ZZS-lijst'!A:A,$C281)","v":0}]
[{"$f":"IF(AND(B282>0,ISBLANK('beoordeling maatregel'!Q282)=FALSE),\"Deze stof wordt aangemerkt als ZZS\",\" \")","v":" "},{"$f":"COUNTIF('ZZS-lijst'!A:A,$C282)","v":0}]
[{"$f":"IF(AND(B283>0,ISBLANK('beoordeling maatregel'!Q283)=FALSE),\"Deze stof wordt aangemerkt als ZZS\",\" \")","v":" "},{"$f":"COUNTIF('ZZS-lijst'!A:A,$C283)","v":0}]
[{"$f":"IF(AND(B284>0,ISBLANK('beoordeling maatregel'!Q284)=FALSE),\"Deze stof wordt aangemerkt als ZZS\",\" \")","v":" "},{"$f":"COUNTIF('ZZS-lijst'!A:A,$C284)","v":0}]
[{"$f":"IF(AND(B285>0,ISBLANK('beoordeling maatregel'!Q285)=FALSE),\"Deze stof wordt aangemerkt als ZZS\",\" \")","v":" "},{"$f":"COUNTIF('ZZS-lijst'!A:A,$C285)","v":0}]
[{"$f":"IF(AND(B286>0,ISBLANK('beoordeling maatregel'!Q286)=FALSE),\"Deze stof wordt aangemerkt als ZZS\",\" \")","v":" "},{"$f":"COUNTIF('ZZS-lijst'!A:A,$C286)","v":0}]
[{"$f":"IF(AND(B287>0,ISBLANK('beoordeling maatregel'!Q287)=FALSE),\"Deze stof wordt aangemerkt als ZZS\",\" \")","v":" "},{"$f":"COUNTIF('ZZS-lijst'!A:A,$C287)","v":0}]
[{"$f":"IF(AND(B288>0,ISBLANK('beoordeling maatregel'!Q288)=FALSE),\"Deze stof wordt aangemerkt als ZZS\",\" \")","v":" "},{"$f":"COUNTIF('ZZS-lijst'!A:A,$C288)","v":0}]
[{"$f":"IF(AND(B289>0,ISBLANK('beoordeling maatregel'!Q289)=FALSE),\"Deze stof wordt aangemerkt als ZZS\",\" \")","v":" "},{"$f":"COUNTIF('ZZS-lijst'!A:A,$C289)","v":0}]
[{"$f":"IF(AND(B290>0,ISBLANK('beoordeling maatregel'!Q290)=FALSE),\"Deze stof wordt aangemerkt als ZZS\",\" \")","v":" "},{"$f":"COUNTIF('ZZS-lijst'!A:A,$C290)","v":0}]
[{"$f":"IF(AND(B291>0,ISBLANK('beoordeling maatregel'!Q291)=FALSE),\"Deze stof wordt aangemerkt als ZZS\",\" \")","v":" "},{"$f":"COUNTIF('ZZS-lijst'!A:A,$C291)","v":0}]
[{"$f":"IF(AND(B292>0,ISBLANK('beoordeling maatregel'!Q292)=FALSE),\"Deze stof wordt aangemerkt als ZZS\",\" \")","v":" "},{"$f":"COUNTIF('ZZS-lijst'!A:A,$C292)","v":0}]
[{"$f":"IF(AND(B293>0,ISBLANK('beoordeling maatregel'!Q293)=FALSE),\"Deze stof wordt aangemerkt als ZZS\",\" \")","v":" "},{"$f":"COUNTIF('ZZS-lijst'!A:A,$C293)","v":0}]
[{"$f":"IF(AND(B294>0,ISBLANK('beoordeling maatregel'!Q294)=FALSE),\"Deze stof wordt aangemerkt als ZZS\",\" \")","v":" "},{"$f":"COUNTIF('ZZS-lijst'!A:A,$C294)","v":0}]
[{"$f":"IF(AND(B295>0,ISBLANK('beoordeling maatregel'!Q295)=FALSE),\"Deze stof wordt aangemerkt als ZZS\",\" \")","v":" "},{"$f":"COUNTIF('ZZS-lijst'!A:A,$C295)","v":0}]
[{"$f":"IF(AND(B296>0,ISBLANK('beoordeling maatregel'!Q296)=FALSE),\"Deze stof wordt aangemerkt als ZZS\",\" \")","v":" "},{"$f":"COUNTIF('ZZS-lijst'!A:A,$C296)","v":0}]
[{"$f":"IF(AND(B297>0,ISBLANK('beoordeling maatregel'!Q297)=FALSE),\"Deze stof wordt aangemerkt als ZZS\",\" \")","v":" "},{"$f":"COUNTIF('ZZS-lijst'!A:A,$C297)","v":0}]
[{"$f":"IF(AND(B298>0,ISBLANK('beoordeling maatregel'!Q298)=FALSE),\"Deze stof wordt aangemerkt als ZZS\",\" \")","v":" "},{"$f":"COUNTIF('ZZS-lijst'!A:A,$C298)","v":0}]
[{"$f":"IF(AND(B299>0,ISBLANK('beoordeling maatregel'!Q299)=FALSE),\"Deze stof wordt aangemerkt als ZZS\",\" \")","v":" "},{"$f":"COUNTIF('ZZS-lijst'!A:A,$C299)","v":0}]
[{"$f":"IF(AND(B300>0,ISBLANK('beoordeling maatregel'!Q300)=FALSE),\"Deze stof wordt aangemerkt als ZZS\",\" \")","v":" "},{"$f":"COUNTIF('ZZS-lijst'!A:A,$C300)","v":0}]
[{"$f":"IF(AND(B301>0,ISBLANK('beoordeling maatregel'!Q301)=FALSE),\"Deze stof wordt aangemerkt als ZZS\",\" \")","v":" "},{"$f":"COUNTIF('ZZS-lijst'!A:A,$C301)","v":0}]
[{"$f":"IF(AND(B302>0,ISBLANK('beoordeling maatregel'!Q302)=FALSE),\"Deze stof wordt aangemerkt als ZZS\",\" \")","v":" "},{"$f":"COUNTIF('ZZS-lijst'!A:A,$C302)","v":0}]
[{"$f":"IF(AND(B303>0,ISBLANK('beoordeling maatregel'!Q303)=FALSE),\"Deze stof wordt aangemerkt als ZZS\",\" \")","v":" "},{"$f":"COUNTIF('ZZS-lijst'!A:A,$C303)","v":0}]
[{"$f":"IF(AND(B304>0,ISBLANK('beoordeling maatregel'!Q304)=FALSE),\"Deze stof wordt aangemerkt als ZZS\",\" \")","v":" "},{"$f":"COUNTIF('ZZS-lijst'!A:A,$C304)","v":0}]
[{"$f":"IF(AND(B305>0,ISBLANK('beoordeling maatregel'!Q305)=FALSE),\"Deze stof wordt aangemerkt als ZZS\",\" \")","v":" "},{"$f":"COUNTIF('ZZS-lijst'!A:A,$C305)","v":0}]
[{"$f":"IF(AND(B306>0,ISBLANK('beoordeling maatregel'!Q306)=FALSE),\"Deze stof wordt aangemerkt als ZZS\",\" \")","v":" "},{"$f":"COUNTIF('ZZS-lijst'!A:A,$C306)","v":0}]
[{"$f":"IF(AND(B307>0,ISBLANK('beoordeling maatregel'!Q307)=FALSE),\"Deze stof wordt aangemerkt als ZZS\",\" \")","v":" "},{"$f":"COUNTIF('ZZS-lijst'!A:A,$C307)","v":0}]
[{"$f":"IF(AND(B308>0,ISBLANK('beoordeling maatregel'!Q308)=FALSE),\"Deze stof wordt aangemerkt als ZZS\",\" \")","v":" "},{"$f":"COUNTIF('ZZS-lijst'!A:A,$C308)","v":0}]
[{"$f":"IF(AND(B309>0,ISBLANK('beoordeling maatregel'!Q309)=FALSE),\"Deze stof wordt aangemerkt als ZZS\",\" \")","v":" "},{"$f":"COUNTIF('ZZS-lijst'!A:A,$C309)","v":0}]
[{"$f":"IF(AND(B310>0,ISBLANK('beoordeling maatregel'!Q310)=FALSE),\"Deze stof wordt aangemerkt als ZZS\",\" \")","v":" "},{"$f":"COUNTIF('ZZS-lijst'!A:A,$C310)","v":0}]
[{"$f":"IF(AND(B311>0,ISBLANK('beoordeling maatregel'!Q311)=FALSE),\"Deze stof wordt aangemerkt als ZZS\",\" \")","v":" "},{"$f":"COUNTIF('ZZS-lijst'!A:A,$C311)","v":0}]
[{"$f":"IF(AND(B312>0,ISBLANK('beoordeling maatregel'!Q312)=FALSE),\"Deze stof wordt aangemerkt als ZZS\",\" \")","v":" "},{"$f":"COUNTIF('ZZS-lijst'!A:A,$C312)","v":0}]
[{"$f":"IF(AND(B313>0,ISBLANK('beoordeling maatregel'!Q313)=FALSE),\"Deze stof wordt aangemerkt als ZZS\",\" \")","v":" "},{"$f":"COUNTIF('ZZS-lijst'!A:A,$C313)","v":0}]
[{"$f":"IF(AND(B314>0,ISBLANK('beoordeling maatregel'!Q314)=FALSE),\"Deze stof wordt aangemerkt als ZZS\",\" \")","v":" "},{"$f":"COUNTIF('ZZS-lijst'!A:A,$C314)","v":0}]
[{"$f":"IF(AND(B315>0,ISBLANK('beoordeling maatregel'!Q315)=FALSE),\"Deze stof wordt aangemerkt als ZZS\",\" \")","v":" "},{"$f":"COUNTIF('ZZS-lijst'!A:A,$C315)","v":0}]
[{"$f":"IF(AND(B316>0,ISBLANK('beoordeling maatregel'!Q316)=FALSE),\"Deze stof wordt aangemerkt als ZZS\",\" \")","v":" "},{"$f":"COUNTIF('ZZS-lijst'!A:A,$C316)","v":0}]
[{"$f":"IF(AND(B317>0,ISBLANK('beoordeling maatregel'!Q317)=FALSE),\"Deze stof wordt aangemerkt als ZZS\",\" \")","v":" "},{"$f":"COUNTIF('ZZS-lijst'!A:A,$C317)","v":0}]
[{"$f":"IF(AND(B318>0,ISBLANK('beoordeling maatregel'!Q318)=FALSE),\"Deze stof wordt aangemerkt als ZZS\",\" \")","v":" "},{"$f":"COUNTIF('ZZS-lijst'!A:A,$C318)","v":0}]
[{"$f":"IF(AND(B319>0,ISBLANK('beoordeling maatregel'!Q319)=FALSE),\"Deze stof wordt aangemerkt als ZZS\",\" \")","v":" "},{"$f":"COUNTIF('ZZS-lijst'!A:A,$C319)","v":0}]
[{"$f":"IF(AND(B320>0,ISBLANK('beoordeling maatregel'!Q320)=FALSE),\"Deze stof wordt aangemerkt als ZZS\",\" \")","v":" "},{"$f":"COUNTIF('ZZS-lijst'!A:A,$C320)","v":0}]
[{"$f":"IF(AND(B321>0,ISBLANK('beoordeling maatregel'!Q321)=FALSE),\"Deze stof wordt aangemerkt als ZZS\",\" \")","v":" "},{"$f":"COUNTIF('ZZS-lijst'!A:A,$C321)","v":0}]
[{"$f":"IF(AND(B322>0,ISBLANK('beoordeling maatregel'!Q322)=FALSE),\"Deze stof wordt aangemerkt als ZZS\",\" \")","v":" "},{"$f":"COUNTIF('ZZS-lijst'!A:A,$C322)","v":0}]
[{"$f":"IF(AND(B323>0,ISBLANK('beoordeling maatregel'!Q323)=FALSE),\"Deze stof wordt aangemerkt als ZZS\",\" \")","v":" "},{"$f":"COUNTIF('ZZS-lijst'!A:A,$C323)","v":0}]
[{"$f":"IF(AND(B324>0,ISBLANK('beoordeling maatregel'!Q324)=FALSE),\"Deze stof wordt aangemerkt als ZZS\",\" \")","v":" "},{"$f":"COUNTIF('ZZS-lijst'!A:A,$C324)","v":0}]
[{"$f":"IF(AND(B325>0,ISBLANK('beoordeling maatregel'!Q325)=FALSE),\"Deze stof wordt aangemerkt als ZZS\",\" \")","v":" "},{"$f":"COUNTIF('ZZS-lijst'!A:A,$C325)","v":0}]
[{"$f":"IF(AND(B326>0,ISBLANK('beoordeling maatregel'!Q326)=FALSE),\"Deze stof wordt aangemerkt als ZZS\",\" \")","v":" "},{"$f":"COUNTIF('ZZS-lijst'!A:A,$C326)","v":0}]
[{"$f":"IF(AND(B327>0,ISBLANK('beoordeling maatregel'!Q327)=FALSE),\"Deze stof wordt aangemerkt als ZZS\",\" \")","v":" "},{"$f":"COUNTIF('ZZS-lijst'!A:A,$C327)","v":0}]
[{"$f":"IF(AND(B328>0,ISBLANK('beoordeling maatregel'!Q328)=FALSE),\"Deze stof wordt aangemerkt als ZZS\",\" \")","v":" "},{"$f":"COUNTIF('ZZS-lijst'!A:A,$C328)","v":0}]
[{"$f":"IF(AND(B329>0,ISBLANK('beoordeling maatregel'!Q329)=FALSE),\"Deze stof wordt aangemerkt als ZZS\",\" \")","v":" "},{"$f":"COUNTIF('ZZS-lijst'!A:A,$C329)","v":0}]
[{"$f":"IF(AND(B330>0,ISBLANK('beoordeling maatregel'!Q330)=FALSE),\"Deze stof wordt aangemerkt als ZZS\",\" \")","v":" "},{"$f":"COUNTIF('ZZS-lijst'!A:A,$C330)","v":0}]
[{"$f":"IF(AND(B331>0,ISBLANK('beoordeling maatregel'!Q331)=FALSE),\"Deze stof wordt aangemerkt als ZZS\",\" \")","v":" "},{"$f":"COUNTIF('ZZS-lijst'!A:A,$C331)","v":0}]
[{"$f":"IF(AND(B332>0,ISBLANK('beoordeling maatregel'!Q332)=FALSE),\"Deze stof wordt aangemerkt als ZZS\",\" \")","v":" "},{"$f":"COUNTIF('ZZS-lijst'!A:A,$C332)","v":0}]
[{"$f":"IF(AND(B333>0,ISBLANK('beoordeling maatregel'!Q333)=FALSE),\"Deze stof wordt aangemerkt als ZZS\",\" \")","v":" "},{"$f":"COUNTIF('ZZS-lijst'!A:A,$C333)","v":0}]
[{"$f":"IF(AND(B334>0,ISBLANK('beoordeling maatregel'!Q334)=FALSE),\"Deze stof wordt aangemerkt als ZZS\",\" \")","v":" "},{"$f":"COUNTIF('ZZS-lijst'!A:A,$C334)","v":0}]
[{"$f":"IF(AND(B335>0,ISBLANK('beoordeling maatregel'!Q335)=FALSE),\"Deze stof wordt aangemerkt als ZZS\",\" \")","v":" "},{"$f":"COUNTIF('ZZS-lijst'!A:A,$C335)","v":0}]
[{"$f":"IF(AND(B336>0,ISBLANK('beoordeling maatregel'!Q336)=FALSE),\"Deze stof wordt aangemerkt als ZZS\",\" \")","v":" "},{"$f":"COUNTIF('ZZS-lijst'!A:A,$C336)","v":0}]
[{"$f":"IF(AND(B337>0,ISBLANK('beoordeling maatregel'!Q337)=FALSE),\"Deze stof wordt aangemerkt als ZZS\",\" \")","v":" "},{"$f":"COUNTIF('ZZS-lijst'!A:A,$C337)","v":0}]
[{"$f":"IF(AND(B338>0,ISBLANK('beoordeling maatregel'!Q338)=FALSE),\"Deze stof wordt aangemerkt als ZZS\",\" \")","v":" "},{"$f":"COUNTIF('ZZS-lijst'!A:A,$C338)","v":0}]
[{"$f":"IF(AND(B339>0,ISBLANK('beoordeling maatregel'!Q339)=FALSE),\"Deze stof wordt aangemerkt als ZZS\",\" \")","v":" "},{"$f":"COUNTIF('ZZS-lijst'!A:A,$C339)","v":0}]
[{"$f":"IF(AND(B340>0,ISBLANK('beoordeling maatregel'!Q340)=FALSE),\"Deze stof wordt aangemerkt als ZZS\",\" \")","v":" "},{"$f":"COUNTIF('ZZS-lijst'!A:A,$C340)","v":0}]
[{"$f":"IF(AND(B341>0,ISBLANK('beoordeling maatregel'!Q341)=FALSE),\"Deze stof wordt aangemerkt als ZZS\",\" \")","v":" "},{"$f":"COUNTIF('ZZS-lijst'!A:A,$C341)","v":0}]
[{"$f":"IF(AND(B342>0,ISBLANK('beoordeling maatregel'!Q342)=FALSE),\"Deze stof wordt aangemerkt als ZZS\",\" \")","v":" "},{"$f":"COUNTIF('ZZS-lijst'!A:A,$C342)","v":0}]
[{"$f":"IF(AND(B343>0,ISBLANK('beoordeling maatregel'!Q343)=FALSE),\"Deze stof wordt aangemerkt als ZZS\",\" \")","v":" "},{"$f":"COUNTIF('ZZS-lijst'!A:A,$C343)","v":0}]
[{"$f":"IF(AND(B344>0,ISBLANK('beoordeling maatregel'!Q344)=FALSE),\"Deze stof wordt aangemerkt als ZZS\",\" \")","v":" "},{"$f":"COUNTIF('ZZS-lijst'!A:A,$C344)","v":0}]
[{"$f":"IF(AND(B345>0,ISBLANK('beoordeling maatregel'!Q345)=FALSE),\"Deze stof wordt aangemerkt als ZZS\",\" \")","v":" "},{"$f":"COUNTIF('ZZS-lijst'!A:A,$C345)","v":0}]
[{"$f":"IF(AND(B346>0,ISBLANK('beoordeling maatregel'!Q346)=FALSE),\"Deze stof wordt aangemerkt als ZZS\",\" \")","v":" "},{"$f":"COUNTIF('ZZS-lijst'!A:A,$C346)","v":0}]
[{"$f":"IF(AND(B347>0,ISBLANK('beoordeling maatregel'!Q347)=FALSE),\"Deze stof wordt aangemerkt als ZZS\",\" \")","v":" "},{"$f":"COUNTIF('ZZS-lijst'!A:A,$C347)","v":0}]
[{"$f":"IF(AND(B348>0,ISBLANK('beoordeling maatregel'!Q348)=FALSE),\"Deze stof wordt aangemerkt als ZZS\",\" \")","v":" "},{"$f":"COUNTIF('ZZS-lijst'!A:A,$C348)","v":0}]
[{"$f":"IF(AND(B349>0,ISBLANK('beoordeling maatregel'!Q349)=FALSE),\"Deze stof wordt aangemerkt als ZZS\",\" \")","v":" "},{"$f":"COUNTIF('ZZS-lijst'!A:A,$C349)","v":0}]
[{"$f":"IF(AND(B350>0,ISBLANK('beoordeling maatregel'!Q350)=FALSE),\"Deze stof wordt aangemerkt als ZZS\",\" \")","v":" "},{"$f":"COUNTIF('ZZS-lijst'!A:A,$C350)","v":0}]
[{"$f":"IF(AND(B351>0,ISBLANK('beoordeling maatregel'!Q351)=FALSE),\"Deze stof wordt aangemerkt als ZZS\",\" \")","v":" "},{"$f":"COUNTIF('ZZS-lijst'!A:A,$C351)","v":0}]
[{"$f":"IF(AND(B352>0,ISBLANK('beoordeling maatregel'!Q352)=FALSE),\"Deze stof wordt aangemerkt als ZZS\",\" \")","v":" "},{"$f":"COUNTIF('ZZS-lijst'!A:A,$C352)","v":0}]
[{"$f":"IF(AND(B353>0,ISBLANK('beoordeling maatregel'!Q353)=FALSE),\"Deze stof wordt aangemerkt als ZZS\",\" \")","v":" "},{"$f":"COUNTIF('ZZS-lijst'!A:A,$C353)","v":0}]
[{"$f":"IF(AND(B354>0,ISBLANK('beoordeling maatregel'!Q354)=FALSE),\"Deze stof wordt aangemerkt als ZZS\",\" \")","v":" "},{"$f":"COUNTIF('ZZS-lijst'!A:A,$C354)","v":0}]
[{"$f":"IF(AND(B355>0,ISBLANK('beoordeling maatregel'!Q355)=FALSE),\"Deze stof wordt aangemerkt als ZZS\",\" \")","v":" "},{"$f":"COUNTIF('ZZS-lijst'!A:A,$C355)","v":0}]
[{"$f":"IF(AND(B356>0,ISBLANK('beoordeling maatregel'!Q356)=FALSE),\"Deze stof wordt aangemerkt als ZZS\",\" \")","v":" "},{"$f":"COUNTIF('ZZS-lijst'!A:A,$C356)","v":0}]
[{"$f":"IF(AND(B357>0,ISBLANK('beoordeling maatregel'!Q357)=FALSE),\"Deze stof wordt aangemerkt als ZZS\",\" \")","v":" "},{"$f":"COUNTIF('ZZS-lijst'!A:A,$C357)","v":0}]
[{"$f":"IF(AND(B358>0,ISBLANK('beoordeling maatregel'!Q358)=FALSE),\"Deze stof wordt aangemerkt als ZZS\",\" \")","v":" "},{"$f":"COUNTIF('ZZS-lijst'!A:A,$C358)","v":0}]
[{"$f":"IF(AND(B359>0,ISBLANK('beoordeling maatregel'!Q359)=FALSE),\"Deze stof wordt aangemerkt als ZZS\",\" \")","v":" "},{"$f":"COUNTIF('ZZS-lijst'!A:A,$C359)","v":0}]
[{"$f":"IF(AND(B360>0,ISBLANK('beoordeling maatregel'!Q360)=FALSE),\"Deze stof wordt aangemerkt als ZZS\",\" \")","v":" "},{"$f":"COUNTIF('ZZS-lijst'!A:A,$C360)","v":0}]
[{"$f":"IF(AND(B361>0,ISBLANK('beoordeling maatregel'!Q361)=FALSE),\"Deze stof wordt aangemerkt als ZZS\",\" \")","v":" "},{"$f":"COUNTIF('ZZS-lijst'!A:A,$C361)","v":0}]
[{"$f":"IF(AND(B362>0,ISBLANK('beoordeling maatregel'!Q362)=FALSE),\"Deze stof wordt aangemerkt als ZZS\",\" \")","v":" "},{"$f":"COUNTIF('ZZS-lijst'!A:A,$C362)","v":0}]
[{"$f":"IF(AND(B363>0,ISBLANK('beoordeling maatregel'!Q363)=FALSE),\"Deze stof wordt aangemerkt als ZZS\",\" \")","v":" "},{"$f":"COUNTIF('ZZS-lijst'!A:A,$C363)","v":0}]
[{"$f":"IF(AND(B364>0,ISBLANK('beoordeling maatregel'!Q364)=FALSE),\"Deze stof wordt aangemerkt als ZZS\",\" \")","v":" "},{"$f":"COUNTIF('ZZS-lijst'!A:A,$C364)","v":0}]
[{"$f":"IF(AND(B365>0,ISBLANK('beoordeling maatregel'!Q365)=FALSE),\"Deze stof wordt aangemerkt als ZZS\",\" \")","v":" "},{"$f":"COUNTIF('ZZS-lijst'!A:A,$C365)","v":0}]
[{"$f":"IF(AND(B366>0,ISBLANK('beoordeling maatregel'!Q366)=FALSE),\"Deze stof wordt aangemerkt als ZZS\",\" \")","v":" "},{"$f":"COUNTIF('ZZS-lijst'!A:A,$C366)","v":0}]
[{"$f":"IF(AND(B367>0,ISBLANK('beoordeling maatregel'!Q367)=FALSE),\"Deze stof wordt aangemerkt als ZZS\",\" \")","v":" "},{"$f":"COUNTIF('ZZS-lijst'!A:A,$C367)","v":0}]
[{"$f":"IF(AND(B368>0,ISBLANK('beoordeling maatregel'!Q368)=FALSE),\"Deze stof wordt aangemerkt als ZZS\",\" \")","v":" "},{"$f":"COUNTIF('ZZS-lijst'!A:A,$C368)","v":0}]
[{"$f":"IF(AND(B369>0,ISBLANK('beoordeling maatregel'!Q369)=FALSE),\"Deze stof wordt aangemerkt als ZZS\",\" \")","v":" "},{"$f":"COUNTIF('ZZS-lijst'!A:A,$C369)","v":0}]
[{"$f":"IF(AND(B370>0,ISBLANK('beoordeling maatregel'!Q370)=FALSE),\"Deze stof wordt aangemerkt als ZZS\",\" \")","v":" "},{"$f":"COUNTIF('ZZS-lijst'!A:A,$C370)","v":0}]
[{"$f":"IF(AND(B371>0,ISBLANK('beoordeling maatregel'!Q371)=FALSE),\"Deze stof wordt aangemerkt als ZZS\",\" \")","v":" "},{"$f":"COUNTIF('ZZS-lijst'!A:A,$C371)","v":0}]
[{"$f":"IF(AND(B372>0,ISBLANK('beoordeling maatregel'!Q372)=FALSE),\"Deze stof wordt aangemerkt als ZZS\",\" \")","v":" "},{"$f":"COUNTIF('ZZS-lijst'!A:A,$C372)","v":0}]
[{"$f":"IF(AND(B373>0,ISBLANK('beoordeling maatregel'!Q373)=FALSE),\"Deze stof wordt aangemerkt als ZZS\",\" \")","v":" "},{"$f":"COUNTIF('ZZS-lijst'!A:A,$C373)","v":0}]
[{"$f":"IF(AND(B374>0,ISBLANK('beoordeling maatregel'!Q374)=FALSE),\"Deze stof wordt aangemerkt als ZZS\",\" \")","v":" "},{"$f":"COUNTIF('ZZS-lijst'!A:A,$C374)","v":0}]
[{"$f":"IF(AND(B375>0,ISBLANK('beoordeling maatregel'!Q375)=FALSE),\"Deze stof wordt aangemerkt als ZZS\",\" \")","v":" "},{"$f":"COUNTIF('ZZS-lijst'!A:A,$C375)","v":0}]
[{"$f":"IF(AND(B376>0,ISBLANK('beoordeling maatregel'!Q376)=FALSE),\"Deze stof wordt aangemerkt als ZZS\",\" \")","v":" "},{"$f":"COUNTIF('ZZS-lijst'!A:A,$C376)","v":0}]
[{"$f":"IF(AND(B377>0,ISBLANK('beoordeling maatregel'!Q377)=FALSE),\"Deze stof wordt aangemerkt als ZZS\",\" \")","v":" "},{"$f":"COUNTIF('ZZS-lijst'!A:A,$C377)","v":0}]
[{"$f":"IF(AND(B378>0,ISBLANK('beoordeling maatregel'!Q378)=FALSE),\"Deze stof wordt aangemerkt als ZZS\",\" \")","v":" "},{"$f":"COUNTIF('ZZS-lijst'!A:A,$C378)","v":0}]
[{"$f":"IF(AND(B379>0,ISBLANK('beoordeling maatregel'!Q379)=FALSE),\"Deze stof wordt aangemerkt als ZZS\",\" \")","v":" "},{"$f":"COUNTIF('ZZS-lijst'!A:A,$C379)","v":0}]
[{"$f":"IF(AND(B380>0,ISBLANK('beoordeling maatregel'!Q380)=FALSE),\"Deze stof wordt aangemerkt als ZZS\",\" \")","v":" "},{"$f":"COUNTIF('ZZS-lijst'!A:A,$C380)","v":0}]
[{"$f":"IF(AND(B381>0,ISBLANK('beoordeling maatregel'!Q381)=FALSE),\"Deze stof wordt aangemerkt als ZZS\",\" \")","v":" "},{"$f":"COUNTIF('ZZS-lijst'!A:A,$C381)","v":0}]
[{"$f":"IF(AND(B382>0,ISBLANK('beoordeling maatregel'!Q382)=FALSE),\"Deze stof wordt aangemerkt als ZZS\",\" \")","v":" "},{"$f":"COUNTIF('ZZS-lijst'!A:A,$C382)","v":0}]
[{"$f":"IF(AND(B383>0,ISBLANK('beoordeling maatregel'!Q383)=FALSE),\"Deze stof wordt aangemerkt als ZZS\",\" \")","v":" "},{"$f":"COUNTIF('ZZS-lijst'!A:A,$C383)","v":0}]
[{"$f":"IF(AND(B384>0,ISBLANK('beoordeling maatregel'!Q384)=FALSE),\"Deze stof wordt aangemerkt als ZZS\",\" \")","v":" "},{"$f":"COUNTIF('ZZS-lijst'!A:A,$C384)","v":0}]
[{"$f":"IF(AND(B385>0,ISBLANK('beoordeling maatregel'!Q385)=FALSE),\"Deze stof wordt aangemerkt als ZZS\",\" \")","v":" "},{"$f":"COUNTIF('ZZS-lijst'!A:A,$C385)","v":0}]
[{"$f":"IF(AND(B386>0,ISBLANK('beoordeling maatregel'!Q386)=FALSE),\"Deze stof wordt aangemerkt als ZZS\",\" \")","v":" "},{"$f":"COUNTIF('ZZS-lijst'!A:A,$C386)","v":0}]
[{"$f":"IF(AND(B387>0,ISBLANK('beoordeling maatregel'!Q387)=FALSE),\"Deze stof wordt aangemerkt als ZZS\",\" \")","v":" "},{"$f":"COUNTIF('ZZS-lijst'!A:A,$C387)","v":0}]
[{"$f":"IF(AND(B388>0,ISBLANK('beoordeling maatregel'!Q388)=FALSE),\"Deze stof wordt aangemerkt als ZZS\",\" \")","v":" "},{"$f":"COUNTIF('ZZS-lijst'!A:A,$C388)","v":0}]
[{"$f":"IF(AND(B389>0,ISBLANK('beoordeling maatregel'!Q389)=FALSE),\"Deze stof wordt aangemerkt als ZZS\",\" \")","v":" "},{"$f":"COUNTIF('ZZS-lijst'!A:A,$C389)","v":0}]
[{"$f":"IF(AND(B390>0,ISBLANK('beoordeling maatregel'!Q390)=FALSE),\"Deze stof wordt aangemerkt als ZZS\",\" \")","v":" "},{"$f":"COUNTIF('ZZS-lijst'!A:A,$C390)","v":0}]
[{"$f":"IF(AND(B391>0,ISBLANK('beoordeling maatregel'!Q391)=FALSE),\"Deze stof wordt aangemerkt als ZZS\",\" \")","v":" "},{"$f":"COUNTIF('ZZS-lijst'!A:A,$C391)","v":0}]
[{"$f":"IF(AND(B392>0,ISBLANK('beoordeling maatregel'!Q392)=FALSE),\"Deze stof wordt aangemerkt als ZZS\",\" \")","v":" "},{"$f":"COUNTIF('ZZS-lijst'!A:A,$C392)","v":0}]
[{"$f":"IF(AND(B393>0,ISBLANK('beoordeling maatregel'!Q393)=FALSE),\"Deze stof wordt aangemerkt als ZZS\",\" \")","v":" "},{"$f":"COUNTIF('ZZS-lijst'!A:A,$C393)","v":0}]
[{"$f":"IF(AND(B394>0,ISBLANK('beoordeling maatregel'!Q394)=FALSE),\"Deze stof wordt aangemerkt als ZZS\",\" \")","v":" "},{"$f":"COUNTIF('ZZS-lijst'!A:A,$C394)","v":0}]
[{"$f":"IF(AND(B395>0,ISBLANK('beoordeling maatregel'!Q395)=FALSE),\"Deze stof wordt aangemerkt als ZZS\",\" \")","v":" "},{"$f":"COUNTIF('ZZS-lijst'!A:A,$C395)","v":0}]
[{"$f":"IF(AND(B396>0,ISBLANK('beoordeling maatregel'!Q396)=FALSE),\"Deze stof wordt aangemerkt als ZZS\",\" \")","v":" "},{"$f":"COUNTIF('ZZS-lijst'!A:A,$C396)","v":0}]
[{"$f":"IF(AND(B397>0,ISBLANK('beoordeling maatregel'!Q397)=FALSE),\"Deze stof wordt aangemerkt als ZZS\",\" \")","v":" "},{"$f":"COUNTIF('ZZS-lijst'!A:A,$C397)","v":0}]
[{"$f":"IF(AND(B398>0,ISBLANK('beoordeling maatregel'!Q398)=FALSE),\"Deze stof wordt aangemerkt als ZZS\",\" \")","v":" "},{"$f":"COUNTIF('ZZS-lijst'!A:A,$C398)","v":0}]
[{"$f":"IF(AND(B399>0,ISBLANK('beoordeling maatregel'!Q399)=FALSE),\"Deze stof wordt aangemerkt als ZZS\",\" \")","v":" "},{"$f":"COUNTIF('ZZS-lijst'!A:A,$C399)","v":0}]
[{"$f":"IF(AND(B400>0,ISBLANK('beoordeling maatregel'!Q400)=FALSE),\"Deze stof wordt aangemerkt als ZZS\",\" \")","v":" "},{"$f":"COUNTIF('ZZS-lijst'!A:A,$C400)","v":0}]
[{"$f":"IF(AND(B401>0,ISBLANK('beoordeling maatregel'!Q401)=FALSE),\"Deze stof wordt aangemerkt als ZZS\",\" \")","v":" "},{"$f":"COUNTIF('ZZS-lijst'!A:A,$C401)","v":0}]
[{"$f":"IF(AND(B402>0,ISBLANK('beoordeling maatregel'!Q402)=FALSE),\"Deze stof wordt aangemerkt als ZZS\",\" \")","v":" "},{"$f":"COUNTIF('ZZS-lijst'!A:A,$C402)","v":0}]
[{"$f":"IF(AND(B403>0,ISBLANK('beoordeling maatregel'!Q403)=FALSE),\"Deze stof wordt aangemerkt als ZZS\",\" \")","v":" "},{"$f":"COUNTIF('ZZS-lijst'!A:A,$C403)","v":0}]
[{"$f":"IF(AND(B404>0,ISBLANK('beoordeling maatregel'!Q404)=FALSE),\"Deze stof wordt aangemerkt als ZZS\",\" \")","v":" "},{"$f":"COUNTIF('ZZS-lijst'!A:A,$C404)","v":0}]
[{"$f":"IF(AND(B405>0,ISBLANK('beoordeling maatregel'!Q405)=FALSE),\"Deze stof wordt aangemerkt als ZZS\",\" \")","v":" "},{"$f":"COUNTIF('ZZS-lijst'!A:A,$C405)","v":0}]
[{"$f":"IF(AND(B406>0,ISBLANK('beoordeling maatregel'!Q406)=FALSE),\"Deze stof wordt aangemerkt als ZZS\",\" \")","v":" "},{"$f":"COUNTIF('ZZS-lijst'!A:A,$C406)","v":0}]
[{"$f":"IF(AND(B407>0,ISBLANK('beoordeling maatregel'!Q407)=FALSE),\"Deze stof wordt aangemerkt als ZZS\",\" \")","v":" "},{"$f":"COUNTIF('ZZS-lijst'!A:A,$C407)","v":0}]
[{"$f":"IF(AND(B408>0,ISBLANK('beoordeling maatregel'!Q408)=FALSE),\"Deze stof wordt aangemerkt als ZZS\",\" \")","v":" "},{"$f":"COUNTIF('ZZS-lijst'!A:A,$C408)","v":0}]
[{"$f":"IF(AND(B409>0,ISBLANK('beoordeling maatregel'!Q409)=FALSE),\"Deze stof wordt aangemerkt als ZZS\",\" \")","v":" "},{"$f":"COUNTIF('ZZS-lijst'!A:A,$C409)","v":0}]
[{"$f":"IF(AND(B410>0,ISBLANK('beoordeling maatregel'!Q410)=FALSE),\"Deze stof wordt aangemerkt als ZZS\",\" \")","v":" "},{"$f":"COUNTIF('ZZS-lijst'!A:A,$C410)","v":0}]
[{"$f":"IF(AND(B411>0,ISBLANK('beoordeling maatregel'!Q411)=FALSE),\"Deze stof wordt aangemerkt als ZZS\",\" \")","v":" "},{"$f":"COUNTIF('ZZS-lijst'!A:A,$C411)","v":0}]
[{"$f":"IF(AND(B412>0,ISBLANK('beoordeling maatregel'!Q412)=FALSE),\"Deze stof wordt aangemerkt als ZZS\",\" \")","v":" "},{"$f":"COUNTIF('ZZS-lijst'!A:A,$C412)","v":0}]
[{"$f":"IF(AND(B413>0,ISBLANK('beoordeling maatregel'!Q413)=FALSE),\"Deze stof wordt aangemerkt als ZZS\",\" \")","v":" "},{"$f":"COUNTIF('ZZS-lijst'!A:A,$C413)","v":0}]
[{"$f":"IF(AND(B414>0,ISBLANK('beoordeling maatregel'!Q414)=FALSE),\"Deze stof wordt aangemerkt als ZZS\",\" \")","v":" "},{"$f":"COUNTIF('ZZS-lijst'!A:A,$C414)","v":0}]
[{"$f":"IF(AND(B415>0,ISBLANK('beoordeling maatregel'!Q415)=FALSE),\"Deze stof wordt aangemerkt als ZZS\",\" \")","v":" "},{"$f":"COUNTIF('ZZS-lijst'!A:A,$C415)","v":0}]
[{"$f":"IF(AND(B416>0,ISBLANK('beoordeling maatregel'!Q416)=FALSE),\"Deze stof wordt aangemerkt als ZZS\",\" \")","v":" "},{"$f":"COUNTIF('ZZS-lijst'!A:A,$C416)","v":0}]
[{"$f":"IF(AND(B417>0,ISBLANK('beoordeling maatregel'!Q417)=FALSE),\"Deze stof wordt aangemerkt als ZZS\",\" \")","v":" "},{"$f":"COUNTIF('ZZS-lijst'!A:A,$C417)","v":0}]
[{"$f":"IF(AND(B418>0,ISBLANK('beoordeling maatregel'!Q418)=FALSE),\"Deze stof wordt aangemerkt als ZZS\",\" \")","v":" "},{"$f":"COUNTIF('ZZS-lijst'!A:A,$C418)","v":0}]
[{"$f":"IF(AND(B419>0,ISBLANK('beoordeling maatregel'!Q419)=FALSE),\"Deze stof wordt aangemerkt als ZZS\",\" \")","v":" "},{"$f":"COUNTIF('ZZS-lijst'!A:A,$C419)","v":0}]
[{"$f":"IF(AND(B420>0,ISBLANK('beoordeling maatregel'!Q420)=FALSE),\"Deze stof wordt aangemerkt als ZZS\",\" \")","v":" "},{"$f":"COUNTIF('ZZS-lijst'!A:A,$C420)","v":0}]
[{"$f":"IF(AND(B421>0,ISBLANK('beoordeling maatregel'!Q421)=FALSE),\"Deze stof wordt aangemerkt als ZZS\",\" \")","v":" "},{"$f":"COUNTIF('ZZS-lijst'!A:A,$C421)","v":0}]
[{"$f":"IF(AND(B422>0,ISBLANK('beoordeling maatregel'!Q422)=FALSE),\"Deze stof wordt aangemerkt als ZZS\",\" \")","v":" "},{"$f":"COUNTIF('ZZS-lijst'!A:A,$C422)","v":0}]
[{"$f":"IF(AND(B423>0,ISBLANK('beoordeling maatregel'!Q423)=FALSE),\"Deze stof wordt aangemerkt als ZZS\",\" \")","v":" "},{"$f":"COUNTIF('ZZS-lijst'!A:A,$C423)","v":0}]
[{"$f":"IF(AND(B424>0,ISBLANK('beoordeling maatregel'!Q424)=FALSE),\"Deze stof wordt aangemerkt als ZZS\",\" \")","v":" "},{"$f":"COUNTIF('ZZS-lijst'!A:A,$C424)","v":0}]
[{"$f":"IF(AND(B425>0,ISBLANK('beoordeling maatregel'!Q425)=FALSE),\"Deze stof wordt aangemerkt als ZZS\",\" \")","v":" "},{"$f":"COUNTIF('ZZS-lijst'!A:A,$C425)","v":0}]
[{"$f":"IF(AND(B426>0,ISBLANK('beoordeling maatregel'!Q426)=FALSE),\"Deze stof wordt aangemerkt als ZZS\",\" \")","v":" "},{"$f":"COUNTIF('ZZS-lijst'!A:A,$C426)","v":0}]
[{"$f":"IF(AND(B427>0,ISBLANK('beoordeling maatregel'!Q427)=FALSE),\"Deze stof wordt aangemerkt als ZZS\",\" \")","v":" "},{"$f":"COUNTIF('ZZS-lijst'!A:A,$C427)","v":0}]
[{"$f":"IF(AND(B428>0,ISBLANK('beoordeling maatregel'!Q428)=FALSE),\"Deze stof wordt aangemerkt als ZZS\",\" \")","v":" "},{"$f":"COUNTIF('ZZS-lijst'!A:A,$C428)","v":0}]
[{"$f":"IF(AND(B429>0,ISBLANK('beoordeling maatregel'!Q429)=FALSE),\"Deze stof wordt aangemerkt als ZZS\",\" \")","v":" "},{"$f":"COUNTIF('ZZS-lijst'!A:A,$C429)","v":0}]
[{"$f":"IF(AND(B430>0,ISBLANK('beoordeling maatregel'!Q430)=FALSE),\"Deze stof wordt aangemerkt als ZZS\",\" \")","v":" "},{"$f":"COUNTIF('ZZS-lijst'!A:A,$C430)","v":0}]
[{"$f":"IF(AND(B431>0,ISBLANK('beoordeling maatregel'!Q431)=FALSE),\"Deze stof wordt aangemerkt als ZZS\",\" \")","v":" "},{"$f":"COUNTIF('ZZS-lijst'!A:A,$C431)","v":0}]
[{"$f":"IF(AND(B432>0,ISBLANK('beoordeling maatregel'!Q432)=FALSE),\"Deze stof wordt aangemerkt als ZZS\",\" \")","v":" "},{"$f":"COUNTIF('ZZS-lijst'!A:A,$C432)","v":0}]
[{"$f":"IF(AND(B433>0,ISBLANK('beoordeling maatregel'!Q433)=FALSE),\"Deze stof wordt aangemerkt als ZZS\",\" \")","v":" "},{"$f":"COUNTIF('ZZS-lijst'!A:A,$C433)","v":0}]
[{"$f":"IF(AND(B434>0,ISBLANK('beoordeling maatregel'!Q434)=FALSE),\"Deze stof wordt aangemerkt als ZZS\",\" \")","v":" "},{"$f":"COUNTIF('ZZS-lijst'!A:A,$C434)","v":0}]
[{"$f":"IF(AND(B435>0,ISBLANK('beoordeling maatregel'!Q435)=FALSE),\"Deze stof wordt aangemerkt als ZZS\",\" \")","v":" "},{"$f":"COUNTIF('ZZS-lijst'!A:A,$C435)","v":0}]
[{"$f":"IF(AND(B436>0,ISBLANK('beoordeling maatregel'!Q436)=FALSE),\"Deze stof wordt aangemerkt als ZZS\",\" \")","v":" "},{"$f":"COUNTIF('ZZS-lijst'!A:A,$C436)","v":0}]
[{"$f":"IF(AND(B437>0,ISBLANK('beoordeling maatregel'!Q437)=FALSE),\"Deze stof wordt aangemerkt als ZZS\",\" \")","v":" "},{"$f":"COUNTIF('ZZS-lijst'!A:A,$C437)","v":0}]
[{"$f":"IF(AND(B438>0,ISBLANK('beoordeling maatregel'!Q438)=FALSE),\"Deze stof wordt aangemerkt als ZZS\",\" \")","v":" "},{"$f":"COUNTIF('ZZS-lijst'!A:A,$C438)","v":0}]
[{"$f":"IF(AND(B439>0,ISBLANK('beoordeling maatregel'!Q439)=FALSE),\"Deze stof wordt aangemerkt als ZZS\",\" \")","v":" "},{"$f":"COUNTIF('ZZS-lijst'!A:A,$C439)","v":0}]
[{"$f":"IF(AND(B440>0,ISBLANK('beoordeling maatregel'!Q440)=FALSE),\"Deze stof wordt aangemerkt als ZZS\",\" \")","v":" "},{"$f":"COUNTIF('ZZS-lijst'!A:A,$C440)","v":0}]
[{"$f":"IF(AND(B441>0,ISBLANK('beoordeling maatregel'!Q441)=FALSE),\"Deze stof wordt aangemerkt als ZZS\",\" \")","v":" "},{"$f":"COUNTIF('ZZS-lijst'!A:A,$C441)","v":0}]
[{"$f":"IF(AND(B442>0,ISBLANK('beoordeling maatregel'!Q442)=FALSE),\"Deze stof wordt aangemerkt als ZZS\",\" \")","v":" "},{"$f":"COUNTIF('ZZS-lijst'!A:A,$C442)","v":0}]
[{"$f":"IF(AND(B443>0,ISBLANK('beoordeling maatregel'!Q443)=FALSE),\"Deze stof wordt aangemerkt als ZZS\",\" \")","v":" "},{"$f":"COUNTIF('ZZS-lijst'!A:A,$C443)","v":0}]
[{"$f":"IF(AND(B444>0,ISBLANK('beoordeling maatregel'!Q444)=FALSE),\"Deze stof wordt aangemerkt als ZZS\",\" \")","v":" "},{"$f":"COUNTIF('ZZS-lijst'!A:A,$C444)","v":0}]
[{"$f":"IF(AND(B445>0,ISBLANK('beoordeling maatregel'!Q445)=FALSE),\"Deze stof wordt aangemerkt als ZZS\",\" \")","v":" "},{"$f":"COUNTIF('ZZS-lijst'!A:A,$C445)","v":0}]
[{"$f":"IF(AND(B446>0,ISBLANK('beoordeling maatregel'!Q446)=FALSE),\"Deze stof wordt aangemerkt als ZZS\",\" \")","v":" "},{"$f":"COUNTIF('ZZS-lijst'!A:A,$C446)","v":0}]
[{"$f":"IF(AND(B447>0,ISBLANK('beoordeling maatregel'!Q447)=FALSE),\"Deze stof wordt aangemerkt als ZZS\",\" \")","v":" "},{"$f":"COUNTIF('ZZS-lijst'!A:A,$C447)","v":0}]
[{"$f":"IF(AND(B448>0,ISBLANK('beoordeling maatregel'!Q448)=FALSE),\"Deze stof wordt aangemerkt als ZZS\",\" \")","v":" "},{"$f":"COUNTIF('ZZS-lijst'!A:A,$C448)","v":0}]
[{"$f":"IF(AND(B449>0,ISBLANK('beoordeling maatregel'!Q449)=FALSE),\"Deze stof wordt aangemerkt als ZZS\",\" \")","v":" "},{"$f":"COUNTIF('ZZS-lijst'!A:A,$C449)","v":0}]
[{"$f":"IF(AND(B450>0,ISBLANK('beoordeling maatregel'!Q450)=FALSE),\"Deze stof wordt aangemerkt als ZZS\",\" \")","v":" "},{"$f":"COUNTIF('ZZS-lijst'!A:A,$C450)","v":0}]
[{"$f":"IF(AND(B451>0,ISBLANK('beoordeling maatregel'!Q451)=FALSE),\"Deze stof wordt aangemerkt als ZZS\",\" \")","v":" "},{"$f":"COUNTIF('ZZS-lijst'!A:A,$C451)","v":0}]
[{"$f":"IF(AND(B452>0,ISBLANK('beoordeling maatregel'!Q452)=FALSE),\"Deze stof wordt aangemerkt als ZZS\",\" \")","v":" "},{"$f":"COUNTIF('ZZS-lijst'!A:A,$C452)","v":0}]
[{"$f":"IF(AND(B453>0,ISBLANK('beoordeling maatregel'!Q453)=FALSE),\"Deze stof wordt aangemerkt als ZZS\",\" \")","v":" "},{"$f":"COUNTIF('ZZS-lijst'!A:A,$C453)","v":0}]
[{"$f":"IF(AND(B454>0,ISBLANK('beoordeling maatregel'!Q454)=FALSE),\"Deze stof wordt aangemerkt als ZZS\",\" \")","v":" "},{"$f":"COUNTIF('ZZS-lijst'!A:A,$C454)","v":0}]
[{"$f":"IF(AND(B455>0,ISBLANK('beoordeling maatregel'!Q455)=FALSE),\"Deze stof wordt aangemerkt als ZZS\",\" \")","v":" "},{"$f":"COUNTIF('ZZS-lijst'!A:A,$C455)","v":0}]
[{"$f":"IF(AND(B456>0,ISBLANK('beoordeling maatregel'!Q456)=FALSE),\"Deze stof wordt aangemerkt als ZZS\",\" \")","v":" "},{"$f":"COUNTIF('ZZS-lijst'!A:A,$C456)","v":0}]
[{"$f":"IF(AND(B457>0,ISBLANK('beoordeling maatregel'!Q457)=FALSE),\"Deze stof wordt aangemerkt als ZZS\",\" \")","v":" "},{"$f":"COUNTIF('ZZS-lijst'!A:A,$C457)","v":0}]
[{"$f":"IF(AND(B458>0,ISBLANK('beoordeling maatregel'!Q458)=FALSE),\"Deze stof wordt aangemerkt als ZZS\",\" \")","v":" "},{"$f":"COUNTIF('ZZS-lijst'!A:A,$C458)","v":0}]
[{"$f":"IF(AND(B459>0,ISBLANK('beoordeling maatregel'!Q459)=FALSE),\"Deze stof wordt aangemerkt als ZZS\",\" \")","v":" "},{"$f":"COUNTIF('ZZS-lijst'!A:A,$C459)","v":0}]
[{"$f":"IF(AND(B460>0,ISBLANK('beoordeling maatregel'!Q460)=FALSE),\"Deze stof wordt aangemerkt als ZZS\",\" \")","v":" "},{"$f":"COUNTIF('ZZS-lijst'!A:A,$C460)","v":0}]
[{"$f":"IF(AND(B461>0,ISBLANK('beoordeling maatregel'!Q461)=FALSE),\"Deze stof wordt aangemerkt als ZZS\",\" \")","v":" "},{"$f":"COUNTIF('ZZS-lijst'!A:A,$C461)","v":0}]
[{"$f":"IF(AND(B462>0,ISBLANK('beoordeling maatregel'!Q462)=FALSE),\"Deze stof wordt aangemerkt als ZZS\",\" \")","v":" "},{"$f":"COUNTIF('ZZS-lijst'!A:A,$C462)","v":0}]
[{"$f":"IF(AND(B463>0,ISBLANK('beoordeling maatregel'!Q463)=FALSE),\"Deze stof wordt aangemerkt als ZZS\",\" \")","v":" "},{"$f":"COUNTIF('ZZS-lijst'!A:A,$C463)","v":0}]
[{"$f":"IF(AND(B464>0,ISBLANK('beoordeling maatregel'!Q464)=FALSE),\"Deze stof wordt aangemerkt als ZZS\",\" \")","v":" "},{"$f":"COUNTIF('ZZS-lijst'!A:A,$C464)","v":0}]
[{"$f":"IF(AND(B465>0,ISBLANK('beoordeling maatregel'!Q465)=FALSE),\"Deze stof wordt aangemerkt als ZZS\",\" \")","v":" "},{"$f":"COUNTIF('ZZS-lijst'!A:A,$C465)","v":0}]
[{"$f":"IF(AND(B466>0,ISBLANK('beoordeling maatregel'!Q466)=FALSE),\"Deze stof wordt aangemerkt als ZZS\",\" \")","v":" "},{"$f":"COUNTIF('ZZS-lijst'!A:A,$C466)","v":0}]
[{"$f":"IF(AND(B467>0,ISBLANK('beoordeling maatregel'!Q467)=FALSE),\"Deze stof wordt aangemerkt als ZZS\",\" \")","v":" "},{"$f":"COUNTIF('ZZS-lijst'!A:A,$C467)","v":0}]
[{"$f":"IF(AND(B468>0,ISBLANK('beoordeling maatregel'!Q468)=FALSE),\"Deze stof wordt aangemerkt als ZZS\",\" \")","v":" "},{"$f":"COUNTIF('ZZS-lijst'!A:A,$C468)","v":0}]
[{"$f":"IF(AND(B469>0,ISBLANK('beoordeling maatregel'!Q469)=FALSE),\"Deze stof wordt aangemerkt als ZZS\",\" \")","v":" "},{"$f":"COUNTIF('ZZS-lijst'!A:A,$C469)","v":0}]
[{"$f":"IF(AND(B470>0,ISBLANK('beoordeling maatregel'!Q470)=FALSE),\"Deze stof wordt aangemerkt als ZZS\",\" \")","v":" "},{"$f":"COUNTIF('ZZS-lijst'!A:A,$C470)","v":0}]
[{"$f":"IF(AND(B471>0,ISBLANK('beoordeling maatregel'!Q471)=FALSE),\"Deze stof wordt aangemerkt als ZZS\",\" \")","v":" "},{"$f":"COUNTIF('ZZS-lijst'!A:A,$C471)","v":0}]
[{"$f":"IF(AND(B472>0,ISBLANK('beoordeling maatregel'!Q472)=FALSE),\"Deze stof wordt aangemerkt als ZZS\",\" \")","v":" "},{"$f":"COUNTIF('ZZS-lijst'!A:A,$C472)","v":0}]
[{"$f":"IF(AND(B473>0,ISBLANK('beoordeling maatregel'!Q473)=FALSE),\"Deze stof wordt aangemerkt als ZZS\",\" \")","v":" "},{"$f":"COUNTIF('ZZS-lijst'!A:A,$C473)","v":0}]
[{"$f":"IF(AND(B474>0,ISBLANK('beoordeling maatregel'!Q474)=FALSE),\"Deze stof wordt aangemerkt als ZZS\",\" \")","v":" "},{"$f":"COUNTIF('ZZS-lijst'!A:A,$C474)","v":0}]
[{"$f":"IF(AND(B475>0,ISBLANK('beoordeling maatregel'!Q475)=FALSE),\"Deze stof wordt aangemerkt als ZZS\",\" \")","v":" "},{"$f":"COUNTIF('ZZS-lijst'!A:A,$C475)","v":0}]
[{"$f":"IF(AND(B476>0,ISBLANK('beoordeling maatregel'!Q476)=FALSE),\"Deze stof wordt aangemerkt als ZZS\",\" \")","v":" "},{"$f":"COUNTIF('ZZS-lijst'!A:A,$C476)","v":0}]
[{"$f":"IF(AND(B477>0,ISBLANK('beoordeling maatregel'!Q477)=FALSE),\"Deze stof wordt aangemerkt als ZZS\",\" \")","v":" "},{"$f":"COUNTIF('ZZS-lijst'!A:A,$C477)","v":0}]
[{"$f":"IF(AND(B478>0,ISBLANK('beoordeling maatregel'!Q478)=FALSE),\"Deze stof wordt aangemerkt als ZZS\",\" \")","v":" "},{"$f":"COUNTIF('ZZS-lijst'!A:A,$C478)","v":0}]
[{"$f":"IF(AND(B479>0,ISBLANK('beoordeling maatregel'!Q479)=FALSE),\"Deze stof wordt aangemerkt als ZZS\",\" \")","v":" "},{"$f":"COUNTIF('ZZS-lijst'!A:A,$C479)","v":0}]
[{"$f":"IF(AND(B480>0,ISBLANK('beoordeling maatregel'!Q480)=FALSE),\"Deze stof wordt aangemerkt als ZZS\",\" \")","v":" "},{"$f":"COUNTIF('ZZS-lijst'!A:A,$C480)","v":0}]
[{"$f":"IF(AND(B481>0,ISBLANK('beoordeling maatregel'!Q481)=FALSE),\"Deze stof wordt aangemerkt als ZZS\",\" \")","v":" "},{"$f":"COUNTIF('ZZS-lijst'!A:A,$C481)","v":0}]
[{"$f":"IF(AND(B482>0,ISBLANK('beoordeling maatregel'!Q482)=FALSE),\"Deze stof wordt aangemerkt als ZZS\",\" \")","v":" "},{"$f":"COUNTIF('ZZS-lijst'!A:A,$C482)","v":0}]
[{"$f":"IF(AND(B483>0,ISBLANK('beoordeling maatregel'!Q483)=FALSE),\"Deze stof wordt aangemerkt als ZZS\",\" \")","v":" "},{"$f":"COUNTIF('ZZS-lijst'!A:A,$C483)","v":0}]
[{"$f":"IF(AND(B484>0,ISBLANK('beoordeling maatregel'!Q484)=FALSE),\"Deze stof wordt aangemerkt als ZZS\",\" \")","v":" "},{"$f":"COUNTIF('ZZS-lijst'!A:A,$C484)","v":0}]
[{"$f":"IF(AND(B485>0,ISBLANK('beoordeling maatregel'!Q485)=FALSE),\"Deze stof wordt aangemerkt als ZZS\",\" \")","v":" "},{"$f":"COUNTIF('ZZS-lijst'!A:A,$C485)","v":0}]
[{"$f":"IF(AND(B486>0,ISBLANK('beoordeling maatregel'!Q486)=FALSE),\"Deze stof wordt aangemerkt als ZZS\",\" \")","v":" "},{"$f":"COUNTIF('ZZS-lijst'!A:A,$C486)","v":0}]
[{"$f":"IF(AND(B487>0,ISBLANK('beoordeling maatregel'!Q487)=FALSE),\"Deze stof wordt aangemerkt als ZZS\",\" \")","v":" "},{"$f":"COUNTIF('ZZS-lijst'!A:A,$C487)","v":0}]
[{"$f":"IF(AND(B488>0,ISBLANK('beoordeling maatregel'!Q488)=FALSE),\"Deze stof wordt aangemerkt als ZZS\",\" \")","v":" "},{"$f":"COUNTIF('ZZS-lijst'!A:A,$C488)","v":0}]
[{"$f":"IF(AND(B489>0,ISBLANK('beoordeling maatregel'!Q489)=FALSE),\"Deze stof wordt aangemerkt als ZZS\",\" \")","v":" "},{"$f":"COUNTIF('ZZS-lijst'!A:A,$C489)","v":0}]
[{"$f":"IF(AND(B490>0,ISBLANK('beoordeling maatregel'!Q490)=FALSE),\"Deze stof wordt aangemerkt als ZZS\",\" \")","v":" "},{"$f":"COUNTIF('ZZS-lijst'!A:A,$C490)","v":0}]
[{"$f":"IF(AND(B491>0,ISBLANK('beoordeling maatregel'!Q491)=FALSE),\"Deze stof wordt aangemerkt als ZZS\",\" \")","v":" "},{"$f":"COUNTIF('ZZS-lijst'!A:A,$C491)","v":0}]
[{"$f":"IF(AND(B492>0,ISBLANK('beoordeling maatregel'!Q492)=FALSE),\"Deze stof wordt aangemerkt als ZZS\",\" \")","v":" "},{"$f":"COUNTIF('ZZS-lijst'!A:A,$C492)","v":0}]
[{"$f":"IF(AND(B493>0,ISBLANK('beoordeling maatregel'!Q493)=FALSE),\"Deze stof wordt aangemerkt als ZZS\",\" \")","v":" "},{"$f":"COUNTIF('ZZS-lijst'!A:A,$C493)","v":0}]
[{"$f":"IF(AND(B494>0,ISBLANK('beoordeling maatregel'!Q494)=FALSE),\"Deze stof wordt aangemerkt als ZZS\",\" \")","v":" "},{"$f":"COUNTIF('ZZS-lijst'!A:A,$C494)","v":0}]
[{"$f":"IF(AND(B495>0,ISBLANK('beoordeling maatregel'!Q495)=FALSE),\"Deze stof wordt aangemerkt als ZZS\",\" \")","v":" "},{"$f":"COUNTIF('ZZS-lijst'!A:A,$C495)","v":0}]
[{"$f":"IF(AND(B496>0,ISBLANK('beoordeling maatregel'!Q496)=FALSE),\"Deze stof wordt aangemerkt als ZZS\",\" \")","v":" "},{"$f":"COUNTIF('ZZS-lijst'!A:A,$C496)","v":0}]
[{"$f":"IF(AND(B497>0,ISBLANK('beoordeling maatregel'!Q497)=FALSE),\"Deze stof wordt aangemerkt als ZZS\",\" \")","v":" "},{"$f":"COUNTIF('ZZS-lijst'!A:A,$C497)","v":0}]
[{"$f":"IF(AND(B498>0,ISBLANK('beoordeling maatregel'!Q498)=FALSE),\"Deze stof wordt aangemerkt als ZZS\",\" \")","v":" "},{"$f":"COUNTIF('ZZS-lijst'!A:A,$C498)","v":0}]
[{"$f":"IF(AND(B499>0,ISBLANK('beoordeling maatregel'!Q499)=FALSE),\"Deze stof wordt aangemerkt als ZZS\",\" \")","v":" "},{"$f":"COUNTIF('ZZS-lijst'!A:A,$C499)","v":0}]
[{"$f":"IF(AND(B500>0,ISBLANK('beoordeling maatregel'!Q500)=FALSE),\"Deze stof wordt aangemerkt als ZZS\",\" \")","v":" "},{"$f":"COUNTIF('ZZS-lijst'!A:A,$C500)","v":0}]
[{"$f":"IF(AND(B501>0,ISBLANK('beoordeling maatregel'!Q501)=FALSE),\"Deze stof wordt aangemerkt als ZZS\",\" \")","v":" "},{"$f":"COUNTIF('ZZS-lijst'!A:A,$C501)","v":0}]
[{"$f":"IF(AND(B502>0,ISBLANK('beoordeling maatregel'!Q502)=FALSE),\"Deze stof wordt aangemerkt als ZZS\",\" \")","v":" "},{"$f":"COUNTIF('ZZS-lijst'!A:A,$C502)","v":0}]
[{"$f":"IF(AND(B503>0,ISBLANK('beoordeling maatregel'!Q503)=FALSE),\"Deze stof wordt aangemerkt als ZZS\",\" \")","v":" "},{"$f":"COUNTIF('ZZS-lijst'!A:A,$C503)","v":0}]
[{"$f":"IF(AND(B504>0,ISBLANK('beoordeling maatregel'!Q504)=FALSE),\"Deze stof wordt aangemerkt als ZZS\",\" \")","v":" "},{"$f":"COUNTIF('ZZS-lijst'!A:A,$C504)","v":0}]
[{"$f":"IF(AND(B505>0,ISBLANK('beoordeling maatregel'!Q505)=FALSE),\"Deze stof wordt aangemerkt als ZZS\",\" \")","v":" "},{"$f":"COUNTIF('ZZS-lijst'!A:A,$C505)","v":0}]
[{"$f":"IF(AND(B506>0,ISBLANK('beoordeling maatregel'!Q506)=FALSE),\"Deze stof wordt aangemerkt als ZZS\",\" \")","v":" "},{"$f":"COUNTIF('ZZS-lijst'!A:A,$C506)","v":0}]
[{"$f":"IF(AND(B507>0,ISBLANK('beoordeling maatregel'!Q507)=FALSE),\"Deze stof wordt aangemerkt als ZZS\",\" \")","v":" "},{"$f":"COUNTIF('ZZS-lijst'!A:A,$C507)","v":0}]
[{"$f":"IF(AND(B508>0,ISBLANK('beoordeling maatregel'!Q508)=FALSE),\"Deze stof wordt aangemerkt als ZZS\",\" \")","v":" "},{"$f":"COUNTIF('ZZS-lijst'!A:A,$C508)","v":0}]
[{"$f":"IF(AND(B509>0,ISBLANK('beoordeling maatregel'!Q509)=FALSE),\"Deze stof wordt aangemerkt als ZZS\",\" \")","v":" "},{"$f":"COUNTIF('ZZS-lijst'!A:A,$C509)","v":0}]
[{"$f":"IF(AND(B510>0,ISBLANK('beoordeling maatregel'!Q510)=FALSE),\"Deze stof wordt aangemerkt als ZZS\",\" \")","v":" "},{"$f":"COUNTIF('ZZS-lijst'!A:A,$C510)","v":0}]
[{"$f":"IF(AND(B511>0,ISBLANK('beoordeling maatregel'!Q511)=FALSE),\"Deze stof wordt aangemerkt als ZZS\",\" \")","v":" "},{"$f":"COUNTIF('ZZS-lijst'!A:A,$C511)","v":0}]
[{"$f":"IF(AND(B512>0,ISBLANK('beoordeling maatregel'!Q512)=FALSE),\"Deze stof wordt aangemerkt als ZZS\",\" \")","v":" "},{"$f":"COUNTIF('ZZS-lijst'!A:A,$C512)","v":0}]
[{"$f":"IF(AND(B513>0,ISBLANK('beoordeling maatregel'!Q513)=FALSE),\"Deze stof wordt aangemerkt als ZZS\",\" \")","v":" "},{"$f":"COUNTIF('ZZS-lijst'!A:A,$C513)","v":0}]
[{"$f":"IF(AND(B514>0,ISBLANK('beoordeling maatregel'!Q514)=FALSE),\"Deze stof wordt aangemerkt als ZZS\",\" \")","v":" "},{"$f":"COUNTIF('ZZS-lijst'!A:A,$C514)","v":0}]
[{"$f":"IF(AND(B515>0,ISBLANK('beoordeling maatregel'!Q515)=FALSE),\"Deze stof wordt aangemerkt als ZZS\",\" \")","v":" "},{"$f":"COUNTIF('ZZS-lijst'!A:A,$C515)","v":0}]
[{"$f":"IF(AND(B516>0,ISBLANK('beoordeling maatregel'!Q516)=FALSE),\"Deze stof wordt aangemerkt als ZZS\",\" \")","v":" "},{"$f":"COUNTIF('ZZS-lijst'!A:A,$C516)","v":0}]
[{"$f":"IF(AND(B517>0,ISBLANK('beoordeling maatregel'!Q517)=FALSE),\"Deze stof wordt aangemerkt als ZZS\",\" \")","v":" "},{"$f":"COUNTIF('ZZS-lijst'!A:A,$C517)","v":0}]
[{"$f":"IF(AND(B518>0,ISBLANK('beoordeling maatregel'!Q518)=FALSE),\"Deze stof wordt aangemerkt als ZZS\",\" \")","v":" "},{"$f":"COUNTIF('ZZS-lijst'!A:A,$C518)","v":0}]
[{"$f":"IF(AND(B519>0,ISBLANK('beoordeling maatregel'!Q519)=FALSE),\"Deze stof wordt aangemerkt als ZZS\",\" \")","v":" "},{"$f":"COUNTIF('ZZS-lijst'!A:A,$C519)","v":0}]
[{"$f":"IF(AND(B520>0,ISBLANK('beoordeling maatregel'!Q520)=FALSE),\"Deze stof wordt aangemerkt als ZZS\",\" \")","v":" "},{"$f":"COUNTIF('ZZS-lijst'!A:A,$C520)","v":0}]
[{"$f":"IF(AND(B521>0,ISBLANK('beoordeling maatregel'!Q521)=FALSE),\"Deze stof wordt aangemerkt als ZZS\",\" \")","v":" "},{"$f":"COUNTIF('ZZS-lijst'!A:A,$C521)","v":0}]
[{"$f":"IF(AND(B522>0,ISBLANK('beoordeling maatregel'!Q522)=FALSE),\"Deze stof wordt aangemerkt als ZZS\",\" \")","v":" "},{"$f":"COUNTIF('ZZS-lijst'!A:A,$C522)","v":0}]
[{"$f":"IF(AND(B523>0,ISBLANK('beoordeling maatregel'!Q523)=FALSE),\"Deze stof wordt aangemerkt als ZZS\",\" \")","v":" "},{"$f":"COUNTIF('ZZS-lijst'!A:A,$C523)","v":0}]
[{"$f":"IF(AND(B524>0,ISBLANK('beoordeling maatregel'!Q524)=FALSE),\"Deze stof wordt aangemerkt als ZZS\",\" \")","v":" "},{"$f":"COUNTIF('ZZS-lijst'!A:A,$C524)","v":0}]
[{"$f":"IF(AND(B525>0,ISBLANK('beoordeling maatregel'!Q525)=FALSE),\"Deze stof wordt aangemerkt als ZZS\",\" \")","v":" "},{"$f":"COUNTIF('ZZS-lijst'!A:A,$C525)","v":0}]
[{"$f":"IF(AND(B526>0,ISBLANK('beoordeling maatregel'!Q526)=FALSE),\"Deze stof wordt aangemerkt als ZZS\",\" \")","v":" "},{"$f":"COUNTIF('ZZS-lijst'!A:A,$C526)","v":0}]
[{"$f":"IF(AND(B527>0,ISBLANK('beoordeling maatregel'!Q527)=FALSE),\"Deze stof wordt aangemerkt als ZZS\",\" \")","v":" "},{"$f":"COUNTIF('ZZS-lijst'!A:A,$C527)","v":0}]
[{"$f":"IF(AND(B528>0,ISBLANK('beoordeling maatregel'!Q528)=FALSE),\"Deze stof wordt aangemerkt als ZZS\",\" \")","v":" "},{"$f":"COUNTIF('ZZS-lijst'!A:A,$C528)","v":0}]
[{"$f":"IF(AND(B529>0,ISBLANK('beoordeling maatregel'!Q529)=FALSE),\"Deze stof wordt aangemerkt als ZZS\",\" \")","v":" "},{"$f":"COUNTIF('ZZS-lijst'!A:A,$C529)","v":0}]
[{"$f":"IF(AND(B530>0,ISBLANK('beoordeling maatregel'!Q530)=FALSE),\"Deze stof wordt aangemerkt als ZZS\",\" \")","v":" "},{"$f":"COUNTIF('ZZS-lijst'!A:A,$C530)","v":0}]
[{"$f":"IF(AND(B531>0,ISBLANK('beoordeling maatregel'!Q531)=FALSE),\"Deze stof wordt aangemerkt als ZZS\",\" \")","v":" "},{"$f":"COUNTIF('ZZS-lijst'!A:A,$C531)","v":0}]
[{"$f":"IF(AND(B532>0,ISBLANK('beoordeling maatregel'!Q532)=FALSE),\"Deze stof wordt aangemerkt als ZZS\",\" \")","v":" "},{"$f":"COUNTIF('ZZS-lijst'!A:A,$C532)","v":0}]
[{"$f":"IF(AND(B533>0,ISBLANK('beoordeling maatregel'!Q533)=FALSE),\"Deze stof wordt aangemerkt als ZZS\",\" \")","v":" "},{"$f":"COUNTIF('ZZS-lijst'!A:A,$C533)","v":0}]
[{"$f":"IF(AND(B534>0,ISBLANK('beoordeling maatregel'!Q534)=FALSE),\"Deze stof wordt aangemerkt als ZZS\",\" \")","v":" "},{"$f":"COUNTIF('ZZS-lijst'!A:A,$C534)","v":0}]
[{"$f":"IF(AND(B535>0,ISBLANK('beoordeling maatregel'!Q535)=FALSE),\"Deze stof wordt aangemerkt als ZZS\",\" \")","v":" "},{"$f":"COUNTIF('ZZS-lijst'!A:A,$C535)","v":0}]
[{"$f":"IF(AND(B536>0,ISBLANK('beoordeling maatregel'!Q536)=FALSE),\"Deze stof wordt aangemerkt als ZZS\",\" \")","v":" "},{"$f":"COUNTIF('ZZS-lijst'!A:A,$C536)","v":0}]
[{"$f":"IF(AND(B537>0,ISBLANK('beoordeling maatregel'!Q537)=FALSE),\"Deze stof wordt aangemerkt als ZZS\",\" \")","v":" "},{"$f":"COUNTIF('ZZS-lijst'!A:A,$C537)","v":0}]
[{"$f":"IF(AND(B538>0,ISBLANK('beoordeling maatregel'!Q538)=FALSE),\"Deze stof wordt aangemerkt als ZZS\",\" \")","v":" "},{"$f":"COUNTIF('ZZS-lijst'!A:A,$C538)","v":0}]
[{"$f":"IF(AND(B539>0,ISBLANK('beoordeling maatregel'!Q539)=FALSE),\"Deze stof wordt aangemerkt als ZZS\",\" \")","v":" "},{"$f":"COUNTIF('ZZS-lijst'!A:A,$C539)","v":0}]
[{"$f":"IF(AND(B540>0,ISBLANK('beoordeling maatregel'!Q540)=FALSE),\"Deze stof wordt aangemerkt als ZZS\",\" \")","v":" "},{"$f":"COUNTIF('ZZS-lijst'!A:A,$C540)","v":0}]
[{"$f":"IF(AND(B541>0,ISBLANK('beoordeling maatregel'!Q541)=FALSE),\"Deze stof wordt aangemerkt als ZZS\",\" \")","v":" "},{"$f":"COUNTIF('ZZS-lijst'!A:A,$C541)","v":0}]
[{"$f":"IF(AND(B542>0,ISBLANK('beoordeling maatregel'!Q542)=FALSE),\"Deze stof wordt aangemerkt als ZZS\",\" \")","v":" "},{"$f":"COUNTIF('ZZS-lijst'!A:A,$C542)","v":0}]
[{"$f":"IF(AND(B543>0,ISBLANK('beoordeling maatregel'!Q543)=FALSE),\"Deze stof wordt aangemerkt als ZZS\",\" \")","v":" "},{"$f":"COUNTIF('ZZS-lijst'!A:A,$C543)","v":0}]
[{"$f":"IF(AND(B544>0,ISBLANK('beoordeling maatregel'!Q544)=FALSE),\"Deze stof wordt aangemerkt als ZZS\",\" \")","v":" "},{"$f":"COUNTIF('ZZS-lijst'!A:A,$C544)","v":0}]
[{"$f":"IF(AND(B545>0,ISBLANK('beoordeling maatregel'!Q545)=FALSE),\"Deze stof wordt aangemerkt als ZZS\",\" \")","v":" "},{"$f":"COUNTIF('ZZS-lijst'!A:A,$C545)","v":0}]
[{"$f":"IF(AND(B546>0,ISBLANK('beoordeling maatregel'!Q546)=FALSE),\"Deze stof wordt aangemerkt als ZZS\",\" \")","v":" "},{"$f":"COUNTIF('ZZS-lijst'!A:A,$C546)","v":0}]
[{"$f":"IF(AND(B547>0,ISBLANK('beoordeling maatregel'!Q547)=FALSE),\"Deze stof wordt aangemerkt als ZZS\",\" \")","v":" "},{"$f":"COUNTIF('ZZS-lijst'!A:A,$C547)","v":0}]
[{"$f":"IF(AND(B548>0,ISBLANK('beoordeling maatregel'!Q548)=FALSE),\"Deze stof wordt aangemerkt als ZZS\",\" \")","v":" "},{"$f":"COUNTIF('ZZS-lijst'!A:A,$C548)","v":0}]
[{"$f":"IF(AND(B549>0,ISBLANK('beoordeling maatregel'!Q549)=FALSE),\"Deze stof wordt aangemerkt als ZZS\",\" \")","v":" "},{"$f":"COUNTIF('ZZS-lijst'!A:A,$C549)","v":0}]
[{"$f":"IF(AND(B550>0,ISBLANK('beoordeling maatregel'!Q550)=FALSE),\"Deze stof wordt aangemerkt als ZZS\",\" \")","v":" "},{"$f":"COUNTIF('ZZS-lijst'!A:A,$C550)","v":0}]
[{"$f":"IF(AND(B551>0,ISBLANK('beoordeling maatregel'!Q551)=FALSE),\"Deze stof wordt aangemerkt als ZZS\",\" \")","v":" "},{"$f":"COUNTIF('ZZS-lijst'!A:A,$C551)","v":0}]
[{"$f":"IF(AND(B552>0,ISBLANK('beoordeling maatregel'!Q552)=FALSE),\"Deze stof wordt aangemerkt als ZZS\",\" \")","v":" "},{"$f":"COUNTIF('ZZS-lijst'!A:A,$C552)","v":0}]
[{"$f":"IF(AND(B553>0,ISBLANK('beoordeling maatregel'!Q553)=FALSE),\"Deze stof wordt aangemerkt als ZZS\",\" \")","v":" "},{"$f":"COUNTIF('ZZS-lijst'!A:A,$C553)","v":0}]
[{"$f":"IF(AND(B554>0,ISBLANK('beoordeling maatregel'!Q554)=FALSE),\"Deze stof wordt aangemerkt als ZZS\",\" \")","v":" "},{"$f":"COUNTIF('ZZS-lijst'!A:A,$C554)","v":0}]
[{"$f":"IF(AND(B555>0,ISBLANK('beoordeling maatregel'!Q555)=FALSE),\"Deze stof wordt aangemerkt als ZZS\",\" \")","v":" "},{"$f":"COUNTIF('ZZS-lijst'!A:A,$C555)","v":0}]
[{"$f":"IF(AND(B556>0,ISBLANK('beoordeling maatregel'!Q556)=FALSE),\"Deze stof wordt aangemerkt als ZZS\",\" \")","v":" "},{"$f":"COUNTIF('ZZS-lijst'!A:A,$C556)","v":0}]
[{"$f":"IF(AND(B557>0,ISBLANK('beoordeling maatregel'!Q557)=FALSE),\"Deze stof wordt aangemerkt als ZZS\",\" \")","v":" "},{"$f":"COUNTIF('ZZS-lijst'!A:A,$C557)","v":0}]
[{"$f":"IF(AND(B558>0,ISBLANK('beoordeling maatregel'!Q558)=FALSE),\"Deze stof wordt aangemerkt als ZZS\",\" \")","v":" "},{"$f":"COUNTIF('ZZS-lijst'!A:A,$C558)","v":0}]
[{"$f":"IF(AND(B559>0,ISBLANK('beoordeling maatregel'!Q559)=FALSE),\"Deze stof wordt aangemerkt als ZZS\",\" \")","v":" "},{"$f":"COUNTIF('ZZS-lijst'!A:A,$C559)","v":0}]
[{"$f":"IF(AND(B560>0,ISBLANK('beoordeling maatregel'!Q560)=FALSE),\"Deze stof wordt aangemerkt als ZZS\",\" \")","v":" "},{"$f":"COUNTIF('ZZS-lijst'!A:A,$C560)","v":0}]
[{"$f":"IF(AND(B561>0,ISBLANK('beoordeling maatregel'!Q561)=FALSE),\"Deze stof wordt aangemerkt als ZZS\",\" \")","v":" "},{"$f":"COUNTIF('ZZS-lijst'!A:A,$C561)","v":0}]
[{"$f":"IF(AND(B562>0,ISBLANK('beoordeling maatregel'!Q562)=FALSE),\"Deze stof wordt aangemerkt als ZZS\",\" \")","v":" "},{"$f":"COUNTIF('ZZS-lijst'!A:A,$C562)","v":0}]
[{"$f":"IF(AND(B563>0,ISBLANK('beoordeling maatregel'!Q563)=FALSE),\"Deze stof wordt aangemerkt als ZZS\",\" \")","v":" "},{"$f":"COUNTIF('ZZS-lijst'!A:A,$C563)","v":0}]
[{"$f":"IF(AND(B564>0,ISBLANK('beoordeling maatregel'!Q564)=FALSE),\"Deze stof wordt aangemerkt als ZZS\",\" \")","v":" "},{"$f":"COUNTIF('ZZS-lijst'!A:A,$C564)","v":0}]
[{"$f":"IF(AND(B565>0,ISBLANK('beoordeling maatregel'!Q565)=FALSE),\"Deze stof wordt aangemerkt als ZZS\",\" \")","v":" "},{"$f":"COUNTIF('ZZS-lijst'!A:A,$C565)","v":0}]
[{"$f":"IF(AND(B566>0,ISBLANK('beoordeling maatregel'!Q566)=FALSE),\"Deze stof wordt aangemerkt als ZZS\",\" \")","v":" "},{"$f":"COUNTIF('ZZS-lijst'!A:A,$C566)","v":0}]
[{"$f":"IF(AND(B567>0,ISBLANK('beoordeling maatregel'!Q567)=FALSE),\"Deze stof wordt aangemerkt als ZZS\",\" \")","v":" "},{"$f":"COUNTIF('ZZS-lijst'!A:A,$C567)","v":0}]
[{"$f":"IF(AND(B568>0,ISBLANK('beoordeling maatregel'!Q568)=FALSE),\"Deze stof wordt aangemerkt als ZZS\",\" \")","v":" "},{"$f":"COUNTIF('ZZS-lijst'!A:A,$C568)","v":0}]
[{"$f":"IF(AND(B569>0,ISBLANK('beoordeling maatregel'!Q569)=FALSE),\"Deze stof wordt aangemerkt als ZZS\",\" \")","v":" "},{"$f":"COUNTIF('ZZS-lijst'!A:A,$C569)","v":0}]
[{"$f":"IF(AND(B570>0,ISBLANK('beoordeling maatregel'!Q570)=FALSE),\"Deze stof wordt aangemerkt als ZZS\",\" \")","v":" "},{"$f":"COUNTIF('ZZS-lijst'!A:A,$C570)","v":0}]
[{"$f":"IF(AND(B571>0,ISBLANK('beoordeling maatregel'!Q571)=FALSE),\"Deze stof wordt aangemerkt als ZZS\",\" \")","v":" "},{"$f":"COUNTIF('ZZS-lijst'!A:A,$C571)","v":0}]
[{"$f":"IF(AND(B572>0,ISBLANK('beoordeling maatregel'!Q572)=FALSE),\"Deze stof wordt aangemerkt als ZZS\",\" \")","v":" "},{"$f":"COUNTIF('ZZS-lijst'!A:A,$C572)","v":0}]
[{"$f":"IF(AND(B573>0,ISBLANK('beoordeling maatregel'!Q573)=FALSE),\"Deze stof wordt aangemerkt als ZZS\",\" \")","v":" "},{"$f":"COUNTIF('ZZS-lijst'!A:A,$C573)","v":0}]
[{"$f":"IF(AND(B574>0,ISBLANK('beoordeling maatregel'!Q574)=FALSE),\"Deze stof wordt aangemerkt als ZZS\",\" \")","v":" "},{"$f":"COUNTIF('ZZS-lijst'!A:A,$C574)","v":0}]
[{"$f":"IF(AND(B575>0,ISBLANK('beoordeling maatregel'!Q575)=FALSE),\"Deze stof wordt aangemerkt als ZZS\",\" \")","v":" "},{"$f":"COUNTIF('ZZS-lijst'!A:A,$C575)","v":0}]
[{"$f":"IF(AND(B576>0,ISBLANK('beoordeling maatregel'!Q576)=FALSE),\"Deze stof wordt aangemerkt als ZZS\",\" \")","v":" "},{"$f":"COUNTIF('ZZS-lijst'!A:A,$C576)","v":0}]
[{"$f":"IF(AND(B577>0,ISBLANK('beoordeling maatregel'!Q577)=FALSE),\"Deze stof wordt aangemerkt als ZZS\",\" \")","v":" "},{"$f":"COUNTIF('ZZS-lijst'!A:A,$C577)","v":0}]
[{"$f":"IF(AND(B578>0,ISBLANK('beoordeling maatregel'!Q578)=FALSE),\"Deze stof wordt aangemerkt als ZZS\",\" \")","v":" "},{"$f":"COUNTIF('ZZS-lijst'!A:A,$C578)","v":0}]
[{"$f":"IF(AND(B579>0,ISBLANK('beoordeling maatregel'!Q579)=FALSE),\"Deze stof wordt aangemerkt als ZZS\",\" \")","v":" "},{"$f":"COUNTIF('ZZS-lijst'!A:A,$C579)","v":0}]
[{"$f":"IF(AND(B580>0,ISBLANK('beoordeling maatregel'!Q580)=FALSE),\"Deze stof wordt aangemerkt als ZZS\",\" \")","v":" "},{"$f":"COUNTIF('ZZS-lijst'!A:A,$C580)","v":0}]
[{"$f":"IF(AND(B581>0,ISBLANK('beoordeling maatregel'!Q581)=FALSE),\"Deze stof wordt aangemerkt als ZZS\",\" \")","v":" "},{"$f":"COUNTIF('ZZS-lijst'!A:A,$C581)","v":0}]
[{"$f":"IF(AND(B582>0,ISBLANK('beoordeling maatregel'!Q582)=FALSE),\"Deze stof wordt aangemerkt als ZZS\",\" \")","v":" "},{"$f":"COUNTIF('ZZS-lijst'!A:A,$C582)","v":0}]
[{"$f":"IF(AND(B583>0,ISBLANK('beoordeling maatregel'!Q583)=FALSE),\"Deze stof wordt aangemerkt als ZZS\",\" \")","v":" "},{"$f":"COUNTIF('ZZS-lijst'!A:A,$C583)","v":0}]
[{"$f":"IF(AND(B584>0,ISBLANK('beoordeling maatregel'!Q584)=FALSE),\"Deze stof wordt aangemerkt als ZZS\",\" \")","v":" "},{"$f":"COUNTIF('ZZS-lijst'!A:A,$C584)","v":0}]
[{"$f":"IF(AND(B585>0,ISBLANK('beoordeling maatregel'!Q585)=FALSE),\"Deze stof wordt aangemerkt als ZZS\",\" \")","v":" "},{"$f":"COUNTIF('ZZS-lijst'!A:A,$C585)","v":0}]
[{"$f":"IF(AND(B586>0,ISBLANK('beoordeling maatregel'!Q586)=FALSE),\"Deze stof wordt aangemerkt als ZZS\",\" \")","v":" "},{"$f":"COUNTIF('ZZS-lijst'!A:A,$C586)","v":0}]
[{"$f":"IF(AND(B587>0,ISBLANK('beoordeling maatregel'!Q587)=FALSE),\"Deze stof wordt aangemerkt als ZZS\",\" \")","v":" "},{"$f":"COUNTIF('ZZS-lijst'!A:A,$C587)","v":0}]
[{"$f":"IF(AND(B588>0,ISBLANK('beoordeling maatregel'!Q588)=FALSE),\"Deze stof wordt aangemerkt als ZZS\",\" \")","v":" "},{"$f":"COUNTIF('ZZS-lijst'!A:A,$C588)","v":0}]
[{"$f":"IF(AND(B589>0,ISBLANK('beoordeling maatregel'!Q589)=FALSE),\"Deze stof wordt aangemerkt als ZZS\",\" \")","v":" "},{"$f":"COUNTIF('ZZS-lijst'!A:A,$C589)","v":0}]
[{"$f":"IF(AND(B590>0,ISBLANK('beoordeling maatregel'!Q590)=FALSE),\"Deze stof wordt aangemerkt als ZZS\",\" \")","v":" "},{"$f":"COUNTIF('ZZS-lijst'!A:A,$C590)","v":0}]
[{"$f":"IF(AND(B591>0,ISBLANK('beoordeling maatregel'!Q591)=FALSE),\"Deze stof wordt aangemerkt als ZZS\",\" \")","v":" "},{"$f":"COUNTIF('ZZS-lijst'!A:A,$C591)","v":0}]
[{"$f":"IF(AND(B592>0,ISBLANK('beoordeling maatregel'!Q592)=FALSE),\"Deze stof wordt aangemerkt als ZZS\",\" \")","v":" "},{"$f":"COUNTIF('ZZS-lijst'!A:A,$C592)","v":0}]
[{"$f":"IF(AND(B593>0,ISBLANK('beoordeling maatregel'!Q593)=FALSE),\"Deze stof wordt aangemerkt als ZZS\",\" \")","v":" "},{"$f":"COUNTIF('ZZS-lijst'!A:A,$C593)","v":0}]
[{"$f":"IF(AND(B594>0,ISBLANK('beoordeling maatregel'!Q594)=FALSE),\"Deze stof wordt aangemerkt als ZZS\",\" \")","v":" "},{"$f":"COUNTIF('ZZS-lijst'!A:A,$C594)","v":0}]
[{"$f":"IF(AND(B595>0,ISBLANK('beoordeling maatregel'!Q595)=FALSE),\"Deze stof wordt aangemerkt als ZZS\",\" \")","v":" "},{"$f":"COUNTIF('ZZS-lijst'!A:A,$C595)","v":0}]
[{"$f":"IF(AND(B596>0,ISBLANK('beoordeling maatregel'!Q596)=FALSE),\"Deze stof wordt aangemerkt als ZZS\",\" \")","v":" "},{"$f":"COUNTIF('ZZS-lijst'!A:A,$C596)","v":0}]
[{"$f":"IF(AND(B597>0,ISBLANK('beoordeling maatregel'!Q597)=FALSE),\"Deze stof wordt aangemerkt als ZZS\",\" \")","v":" "},{"$f":"COUNTIF('ZZS-lijst'!A:A,$C597)","v":0}]
[{"$f":"IF(AND(B598>0,ISBLANK('beoordeling maatregel'!Q598)=FALSE),\"Deze stof wordt aangemerkt als ZZS\",\" \")","v":" "},{"$f":"COUNTIF('ZZS-lijst'!A:A,$C598)","v":0}]
[{"$f":"IF(AND(B599>0,ISBLANK('beoordeling maatregel'!Q599)=FALSE),\"Deze stof wordt aangemerkt als ZZS\",\" \")","v":" "},{"$f":"COUNTIF('ZZS-lijst'!A:A,$C599)","v":0}]
[{"$f":"IF(AND(B600>0,ISBLANK('beoordeling maatregel'!Q600)=FALSE),\"Deze stof wordt aangemerkt als ZZS\",\" \")","v":" "},{"$f":"COUNTIF('ZZS-lijst'!A:A,$C600)","v":0}]
[{"$f":"IF(AND(B601>0,ISBLANK('beoordeling maatregel'!Q601)=FALSE),\"Deze stof wordt aangemerkt als ZZS\",\" \")","v":" "},{"$f":"COUNTIF('ZZS-lijst'!A:A,$C601)","v":0}]
[{"$f":"IF(AND(B602>0,ISBLANK('beoordeling maatregel'!Q602)=FALSE),\"Deze stof wordt aangemerkt als ZZS\",\" \")","v":" "},{"$f":"COUNTIF('ZZS-lijst'!A:A,$C602)","v":0}]
[{"$f":"IF(AND(B603>0,ISBLANK('beoordeling maatregel'!Q603)=FALSE),\"Deze stof wordt aangemerkt als ZZS\",\" \")","v":" "},{"$f":"COUNTIF('ZZS-lijst'!A:A,$C603)","v":0}]
[{"$f":"IF(AND(B604>0,ISBLANK('beoordeling maatregel'!Q604)=FALSE),\"Deze stof wordt aangemerkt als ZZS\",\" \")","v":" "},{"$f":"COUNTIF('ZZS-lijst'!A:A,$C604)","v":0}]
[{"$f":"IF(AND(B605>0,ISBLANK('beoordeling maatregel'!Q605)=FALSE),\"Deze stof wordt aangemerkt als ZZS\",\" \")","v":" "},{"$f":"COUNTIF('ZZS-lijst'!A:A,$C605)","v":0}]
[{"$f":"IF(AND(B606>0,ISBLANK('beoordeling maatregel'!Q606)=FALSE),\"Deze stof wordt aangemerkt als ZZS\",\" \")","v":" "},{"$f":"COUNTIF('ZZS-lijst'!A:A,$C606)","v":0}]
[{"$f":"IF(AND(B607>0,ISBLANK('beoordeling maatregel'!Q607)=FALSE),\"Deze stof wordt aangemerkt als ZZS\",\" \")","v":" "},{"$f":"COUNTIF('ZZS-lijst'!A:A,$C607)","v":0}]
[{"$f":"IF(AND(B608>0,ISBLANK('beoordeling maatregel'!Q608)=FALSE),\"Deze stof wordt aangemerkt als ZZS\",\" \")","v":" "},{"$f":"COUNTIF('ZZS-lijst'!A:A,$C608)","v":0}]
[{"$f":"IF(AND(B609>0,ISBLANK('beoordeling maatregel'!Q609)=FALSE),\"Deze stof wordt aangemerkt als ZZS\",\" \")","v":" "},{"$f":"COUNTIF('ZZS-lijst'!A:A,$C609)","v":0}]
[{"$f":"IF(AND(B610>0,ISBLANK('beoordeling maatregel'!Q610)=FALSE),\"Deze stof wordt aangemerkt als ZZS\",\" \")","v":" "},{"$f":"COUNTIF('ZZS-lijst'!A:A,$C610)","v":0}]
[{"$f":"IF(AND(B611>0,ISBLANK('beoordeling maatregel'!Q611)=FALSE),\"Deze stof wordt aangemerkt als ZZS\",\" \")","v":" "},{"$f":"COUNTIF('ZZS-lijst'!A:A,$C611)","v":0}]
[{"$f":"IF(AND(B612>0,ISBLANK('beoordeling maatregel'!Q612)=FALSE),\"Deze stof wordt aangemerkt als ZZS\",\" \")","v":" "},{"$f":"COUNTIF('ZZS-lijst'!A:A,$C612)","v":0}]
[{"$f":"IF(AND(B613>0,ISBLANK('beoordeling maatregel'!Q613)=FALSE),\"Deze stof wordt aangemerkt als ZZS\",\" \")","v":" "},{"$f":"COUNTIF('ZZS-lijst'!A:A,$C613)","v":0}]
[{"$f":"IF(AND(B614>0,ISBLANK('beoordeling maatregel'!Q614)=FALSE),\"Deze stof wordt aangemerkt als ZZS\",\" \")","v":" "},{"$f":"COUNTIF('ZZS-lijst'!A:A,$C614)","v":0}]
[{"$f":"IF(AND(B615>0,ISBLANK('beoordeling maatregel'!Q615)=FALSE),\"Deze stof wordt aangemerkt als ZZS\",\" \")","v":" "},{"$f":"COUNTIF('ZZS-lijst'!A:A,$C615)","v":0}]
[{"$f":"IF(AND(B616>0,ISBLANK('beoordeling maatregel'!Q616)=FALSE),\"Deze stof wordt aangemerkt als ZZS\",\" \")","v":" "},{"$f":"COUNTIF('ZZS-lijst'!A:A,$C616)","v":0}]
[{"$f":"IF(AND(B617>0,ISBLANK('beoordeling maatregel'!Q617)=FALSE),\"Deze stof wordt aangemerkt als ZZS\",\" \")","v":" "},{"$f":"COUNTIF('ZZS-lijst'!A:A,$C617)","v":0}]
[{"$f":"IF(AND(B618>0,ISBLANK('beoordeling maatregel'!Q618)=FALSE),\"Deze stof wordt aangemerkt als ZZS\",\" \")","v":" "},{"$f":"COUNTIF('ZZS-lijst'!A:A,$C618)","v":0}]
[{"$f":"IF(AND(B619>0,ISBLANK('beoordeling maatregel'!Q619)=FALSE),\"Deze stof wordt aangemerkt als ZZS\",\" \")","v":" "},{"$f":"COUNTIF('ZZS-lijst'!A:A,$C619)","v":0}]
[{"$f":"IF(AND(B620>0,ISBLANK('beoordeling maatregel'!Q620)=FALSE),\"Deze stof wordt aangemerkt als ZZS\",\" \")","v":" "},{"$f":"COUNTIF('ZZS-lijst'!A:A,$C620)","v":0}]
[{"$f":"IF(AND(B621>0,ISBLANK('beoordeling maatregel'!Q621)=FALSE),\"Deze stof wordt aangemerkt als ZZS\",\" \")","v":" "},{"$f":"COUNTIF('ZZS-lijst'!A:A,$C621)","v":0}]
[{"$f":"IF(AND(B622>0,ISBLANK('beoordeling maatregel'!Q622)=FALSE),\"Deze stof wordt aangemerkt als ZZS\",\" \")","v":" "},{"$f":"COUNTIF('ZZS-lijst'!A:A,$C622)","v":0}]
[{"$f":"IF(AND(B623>0,ISBLANK('beoordeling maatregel'!Q623)=FALSE),\"Deze stof wordt aangemerkt als ZZS\",\" \")","v":" "},{"$f":"COUNTIF('ZZS-lijst'!A:A,$C623)","v":0}]
[{"$f":"IF(AND(B624>0,ISBLANK('beoordeling maatregel'!Q624)=FALSE),\"Deze stof wordt aangemerkt als ZZS\",\" \")","v":" "},{"$f":"COUNTIF('ZZS-lijst'!A:A,$C624)","v":0}]
[{"$f":"IF(AND(B625>0,ISBLANK('beoordeling maatregel'!Q625)=FALSE),\"Deze stof wordt aangemerkt als ZZS\",\" \")","v":" "},{"$f":"COUNTIF('ZZS-lijst'!A:A,$C625)","v":0}]
[{"$f":"IF(AND(B626>0,ISBLANK('beoordeling maatregel'!Q626)=FALSE),\"Deze stof wordt aangemerkt als ZZS\",\" \")","v":" "},{"$f":"COUNTIF('ZZS-lijst'!A:A,$C626)","v":0}]
[{"$f":"IF(AND(B627>0,ISBLANK('beoordeling maatregel'!Q627)=FALSE),\"Deze stof wordt aangemerkt als ZZS\",\" \")","v":" "},{"$f":"COUNTIF('ZZS-lijst'!A:A,$C627)","v":0}]
[{"$f":"IF(AND(B628>0,ISBLANK('beoordeling maatregel'!Q628)=FALSE),\"Deze stof wordt aangemerkt als ZZS\",\" \")","v":" "},{"$f":"COUNTIF('ZZS-lijst'!A:A,$C628)","v":0}]
[{"$f":"IF(AND(B629>0,ISBLANK('beoordeling maatregel'!Q629)=FALSE),\"Deze stof wordt aangemerkt als ZZS\",\" \")","v":" "},{"$f":"COUNTIF('ZZS-lijst'!A:A,$C629)","v":0}]
[{"$f":"IF(AND(B630>0,ISBLANK('beoordeling maatregel'!Q630)=FALSE),\"Deze stof wordt aangemerkt als ZZS\",\" \")","v":" "},{"$f":"COUNTIF('ZZS-lijst'!A:A,$C630)","v":0}]
[{"$f":"IF(AND(B631>0,ISBLANK('beoordeling maatregel'!Q631)=FALSE),\"Deze stof wordt aangemerkt als ZZS\",\" \")","v":" "},{"$f":"COUNTIF('ZZS-lijst'!A:A,$C631)","v":0}]
[{"$f":"IF(AND(B632>0,ISBLANK('beoordeling maatregel'!Q632)=FALSE),\"Deze stof wordt aangemerkt als ZZS\",\" \")","v":" "},{"$f":"COUNTIF('ZZS-lijst'!A:A,$C632)","v":0}]
[{"$f":"IF(AND(B633>0,ISBLANK('beoordeling maatregel'!Q633)=FALSE),\"Deze stof wordt aangemerkt als ZZS\",\" \")","v":" "},{"$f":"COUNTIF('ZZS-lijst'!A:A,$C633)","v":0}]
[{"$f":"IF(AND(B634>0,ISBLANK('beoordeling maatregel'!Q634)=FALSE),\"Deze stof wordt aangemerkt als ZZS\",\" \")","v":" "},{"$f":"COUNTIF('ZZS-lijst'!A:A,$C634)","v":0}]
[{"$f":"IF(AND(B635>0,ISBLANK('beoordeling maatregel'!Q635)=FALSE),\"Deze stof wordt aangemerkt als ZZS\",\" \")","v":" "},{"$f":"COUNTIF('ZZS-lijst'!A:A,$C635)","v":0}]
[{"$f":"IF(AND(B636>0,ISBLANK('beoordeling maatregel'!Q636)=FALSE),\"Deze stof wordt aangemerkt als ZZS\",\" \")","v":" "},{"$f":"COUNTIF('ZZS-lijst'!A:A,$C636)","v":0}]
[{"$f":"IF(AND(B637>0,ISBLANK('beoordeling maatregel'!Q637)=FALSE),\"Deze stof wordt aangemerkt als ZZS\",\" \")","v":" "},{"$f":"COUNTIF('ZZS-lijst'!A:A,$C637)","v":0}]
[{"$f":"IF(AND(B638>0,ISBLANK('beoordeling maatregel'!Q638)=FALSE),\"Deze stof wordt aangemerkt als ZZS\",\" \")","v":" "},{"$f":"COUNTIF('ZZS-lijst'!A:A,$C638)","v":0}]
[{"$f":"IF(AND(B639>0,ISBLANK('beoordeling maatregel'!Q639)=FALSE),\"Deze stof wordt aangemerkt als ZZS\",\" \")","v":" "},{"$f":"COUNTIF('ZZS-lijst'!A:A,$C639)","v":0}]
[{"$f":"IF(AND(B640>0,ISBLANK('beoordeling maatregel'!Q640)=FALSE),\"Deze stof wordt aangemerkt als ZZS\",\" \")","v":" "},{"$f":"COUNTIF('ZZS-lijst'!A:A,$C640)","v":0}]
[{"$f":"IF(AND(B641>0,ISBLANK('beoordeling maatregel'!Q641)=FALSE),\"Deze stof wordt aangemerkt als ZZS\",\" \")","v":" "},{"$f":"COUNTIF('ZZS-lijst'!A:A,$C641)","v":0}]
[{"$f":"IF(AND(B642>0,ISBLANK('beoordeling maatregel'!Q642)=FALSE),\"Deze stof wordt aangemerkt als ZZS\",\" \")","v":" "},{"$f":"COUNTIF('ZZS-lijst'!A:A,$C642)","v":0}]
[{"$f":"IF(AND(B643>0,ISBLANK('beoordeling maatregel'!Q643)=FALSE),\"Deze stof wordt aangemerkt als ZZS\",\" \")","v":" "},{"$f":"COUNTIF('ZZS-lijst'!A:A,$C643)","v":0}]
[{"$f":"IF(AND(B644>0,ISBLANK('beoordeling maatregel'!Q644)=FALSE),\"Deze stof wordt aangemerkt als ZZS\",\" \")","v":" "},{"$f":"COUNTIF('ZZS-lijst'!A:A,$C644)","v":0}]
[{"$f":"IF(AND(B645>0,ISBLANK('beoordeling maatregel'!Q645)=FALSE),\"Deze stof wordt aangemerkt als ZZS\",\" \")","v":" "},{"$f":"COUNTIF('ZZS-lijst'!A:A,$C645)","v":0}]
[{"$f":"IF(AND(B646>0,ISBLANK('beoordeling maatregel'!Q646)=FALSE),\"Deze stof wordt aangemerkt als ZZS\",\" \")","v":" "},{"$f":"COUNTIF('ZZS-lijst'!A:A,$C646)","v":0}]
[{"$f":"IF(AND(B647>0,ISBLANK('beoordeling maatregel'!Q647)=FALSE),\"Deze stof wordt aangemerkt als ZZS\",\" \")","v":" "},{"$f":"COUNTIF('ZZS-lijst'!A:A,$C647)","v":0}]
[{"$f":"IF(AND(B648>0,ISBLANK('beoordeling maatregel'!Q648)=FALSE),\"Deze stof wordt aangemerkt als ZZS\",\" \")","v":" "},{"$f":"COUNTIF('ZZS-lijst'!A:A,$C648)","v":0}]
[{"$f":"IF(AND(B649>0,ISBLANK('beoordeling maatregel'!Q649)=FALSE),\"Deze stof wordt aangemerkt als ZZS\",\" \")","v":" "},{"$f":"COUNTIF('ZZS-lijst'!A:A,$C649)","v":0}]
[{"$f":"IF(AND(B650>0,ISBLANK('beoordeling maatregel'!Q650)=FALSE),\"Deze stof wordt aangemerkt als ZZS\",\" \")","v":" "},{"$f":"COUNTIF('ZZS-lijst'!A:A,$C650)","v":0}]
[{"$f":"IF(AND(B651>0,ISBLANK('beoordeling maatregel'!Q651)=FALSE),\"Deze stof wordt aangemerkt als ZZS\",\" \")","v":" "},{"$f":"COUNTIF('ZZS-lijst'!A:A,$C651)","v":0}]
[{"$f":"IF(AND(B652>0,ISBLANK('beoordeling maatregel'!Q652)=FALSE),\"Deze stof wordt aangemerkt als ZZS\",\" \")","v":" "},{"$f":"COUNTIF('ZZS-lijst'!A:A,$C652)","v":0}]
[{"$f":"IF(AND(B653>0,ISBLANK('beoordeling maatregel'!Q653)=FALSE),\"Deze stof wordt aangemerkt als ZZS\",\" \")","v":" "},{"$f":"COUNTIF('ZZS-lijst'!A:A,$C653)","v":0}]
[{"$f":"IF(AND(B654>0,ISBLANK('beoordeling maatregel'!Q654)=FALSE),\"Deze stof wordt aangemerkt als ZZS\",\" \")","v":" "},{"$f":"COUNTIF('ZZS-lijst'!A:A,$C654)","v":0}]
[{"$f":"IF(AND(B655>0,ISBLANK('beoordeling maatregel'!Q655)=FALSE),\"Deze stof wordt aangemerkt als ZZS\",\" \")","v":" "},{"$f":"COUNTIF('ZZS-lijst'!A:A,$C655)","v":0}]
[{"$f":"IF(AND(B656>0,ISBLANK('beoordeling maatregel'!Q656)=FALSE),\"Deze stof wordt aangemerkt als ZZS\",\" \")","v":" "},{"$f":"COUNTIF('ZZS-lijst'!A:A,$C656)","v":0}]
[{"$f":"IF(AND(B657>0,ISBLANK('beoordeling maatregel'!Q657)=FALSE),\"Deze stof wordt aangemerkt als ZZS\",\" \")","v":" "},{"$f":"COUNTIF('ZZS-lijst'!A:A,$C657)","v":0}]
[{"$f":"IF(AND(B658>0,ISBLANK('beoordeling maatregel'!Q658)=FALSE),\"Deze stof wordt aangemerkt als ZZS\",\" \")","v":" "},{"$f":"COUNTIF('ZZS-lijst'!A:A,$C658)","v":0}]
[{"$f":"IF(AND(B659>0,ISBLANK('beoordeling maatregel'!Q659)=FALSE),\"Deze stof wordt aangemerkt als ZZS\",\" \")","v":" "},{"$f":"COUNTIF('ZZS-lijst'!A:A,$C659)","v":0}]
[{"$f":"IF(AND(B660>0,ISBLANK('beoordeling maatregel'!Q660)=FALSE),\"Deze stof wordt aangemerkt als ZZS\",\" \")","v":" "},{"$f":"COUNTIF('ZZS-lijst'!A:A,$C660)","v":0}]
[{"$f":"IF(AND(B661>0,ISBLANK('beoordeling maatregel'!Q661)=FALSE),\"Deze stof wordt aangemerkt als ZZS\",\" \")","v":" "},{"$f":"COUNTIF('ZZS-lijst'!A:A,$C661)","v":0}]
[{"$f":"IF(AND(B662>0,ISBLANK('beoordeling maatregel'!Q662)=FALSE),\"Deze stof wordt aangemerkt als ZZS\",\" \")","v":" "},{"$f":"COUNTIF('ZZS-lijst'!A:A,$C662)","v":0}]
[{"$f":"IF(AND(B663>0,ISBLANK('beoordeling maatregel'!Q663)=FALSE),\"Deze stof wordt aangemerkt als ZZS\",\" \")","v":" "},{"$f":"COUNTIF('ZZS-lijst'!A:A,$C663)","v":0}]
[{"$f":"IF(AND(B664>0,ISBLANK('beoordeling maatregel'!Q664)=FALSE),\"Deze stof wordt aangemerkt als ZZS\",\" \")","v":" "},{"$f":"COUNTIF('ZZS-lijst'!A:A,$C664)","v":0}]
[{"$f":"IF(AND(B665>0,ISBLANK('beoordeling maatregel'!Q665)=FALSE),\"Deze stof wordt aangemerkt als ZZS\",\" \")","v":" "},{"$f":"COUNTIF('ZZS-lijst'!A:A,$C665)","v":0}]
[{"$f":"IF(AND(B666>0,ISBLANK('beoordeling maatregel'!Q666)=FALSE),\"Deze stof wordt aangemerkt als ZZS\",\" \")","v":" "},{"$f":"COUNTIF('ZZS-lijst'!A:A,$C666)","v":0}]
[{"$f":"IF(AND(B667>0,ISBLANK('beoordeling maatregel'!Q667)=FALSE),\"Deze stof wordt aangemerkt als ZZS\",\" \")","v":" "},{"$f":"COUNTIF('ZZS-lijst'!A:A,$C667)","v":0}]
[{"$f":"IF(AND(B668>0,ISBLANK('beoordeling maatregel'!Q668)=FALSE),\"Deze stof wordt aangemerkt als ZZS\",\" \")","v":" "},{"$f":"COUNTIF('ZZS-lijst'!A:A,$C668)","v":0}]
[{"$f":"IF(AND(B669>0,ISBLANK('beoordeling maatregel'!Q669)=FALSE),\"Deze stof wordt aangemerkt als ZZS\",\" \")","v":" "},{"$f":"COUNTIF('ZZS-lijst'!A:A,$C669)","v":0}]
[{"$f":"IF(AND(B670>0,ISBLANK('beoordeling maatregel'!Q670)=FALSE),\"Deze stof wordt aangemerkt als ZZS\",\" \")","v":" "},{"$f":"COUNTIF('ZZS-lijst'!A:A,$C670)","v":0}]
[{"$f":"IF(AND(B671>0,ISBLANK('beoordeling maatregel'!Q671)=FALSE),\"Deze stof wordt aangemerkt als ZZS\",\" \")","v":" "},{"$f":"COUNTIF('ZZS-lijst'!A:A,$C671)","v":0}]
[{"$f":"IF(AND(B672>0,ISBLANK('beoordeling maatregel'!Q672)=FALSE),\"Deze stof wordt aangemerkt als ZZS\",\" \")","v":" "},{"$f":"COUNTIF('ZZS-lijst'!A:A,$C672)","v":0}]
[{"$f":"IF(AND(B673>0,ISBLANK('beoordeling maatregel'!Q673)=FALSE),\"Deze stof wordt aangemerkt als ZZS\",\" \")","v":" "},{"$f":"COUNTIF('ZZS-lijst'!A:A,$C673)","v":0}]
[{"$f":"IF(AND(B674>0,ISBLANK('beoordeling maatregel'!Q674)=FALSE),\"Deze stof wordt aangemerkt als ZZS\",\" \")","v":" "},{"$f":"COUNTIF('ZZS-lijst'!A:A,$C674)","v":0}]
[{"$f":"IF(AND(B675>0,ISBLANK('beoordeling maatregel'!Q675)=FALSE),\"Deze stof wordt aangemerkt als ZZS\",\" \")","v":" "},{"$f":"COUNTIF('ZZS-lijst'!A:A,$C675)","v":0}]
[{"$f":"IF(AND(B676>0,ISBLANK('beoordeling maatregel'!Q676)=FALSE),\"Deze stof wordt aangemerkt als ZZS\",\" \")","v":" "},{"$f":"COUNTIF('ZZS-lijst'!A:A,$C676)","v":0}]
[{"$f":"IF(AND(B677>0,ISBLANK('beoordeling maatregel'!Q677)=FALSE),\"Deze stof wordt aangemerkt als ZZS\",\" \")","v":" "},{"$f":"COUNTIF('ZZS-lijst'!A:A,$C677)","v":0}]
[{"$f":"IF(AND(B678>0,ISBLANK('beoordeling maatregel'!Q678)=FALSE),\"Deze stof wordt aangemerkt als ZZS\",\" \")","v":" "},{"$f":"COUNTIF('ZZS-lijst'!A:A,$C678)","v":0}]
[{"$f":"IF(AND(B679>0,ISBLANK('beoordeling maatregel'!Q679)=FALSE),\"Deze stof wordt aangemerkt als ZZS\",\" \")","v":" "},{"$f":"COUNTIF('ZZS-lijst'!A:A,$C679)","v":0}]
[{"$f":"IF(AND(B680>0,ISBLANK('beoordeling maatregel'!Q680)=FALSE),\"Deze stof wordt aangemerkt als ZZS\",\" \")","v":" "},{"$f":"COUNTIF('ZZS-lijst'!A:A,$C680)","v":0}]
[{"$f":"IF(AND(B681>0,ISBLANK('beoordeling maatregel'!Q681)=FALSE),\"Deze stof wordt aangemerkt als ZZS\",\" \")","v":" "},{"$f":"COUNTIF('ZZS-lijst'!A:A,$C681)","v":0}]
[{"$f":"IF(AND(B682>0,ISBLANK('beoordeling maatregel'!Q682)=FALSE),\"Deze stof wordt aangemerkt als ZZS\",\" \")","v":" "},{"$f":"COUNTIF('ZZS-lijst'!A:A,$C682)","v":0}]
[{"$f":"IF(AND(B683>0,ISBLANK('beoordeling maatregel'!Q683)=FALSE),\"Deze stof wordt aangemerkt als ZZS\",\" \")","v":" "},{"$f":"COUNTIF('ZZS-lijst'!A:A,$C683)","v":0}]
[{"$f":"IF(AND(B684>0,ISBLANK('beoordeling maatregel'!Q684)=FALSE),\"Deze stof wordt aangemerkt als ZZS\",\" \")","v":" "},{"$f":"COUNTIF('ZZS-lijst'!A:A,$C684)","v":0}]
[{"$f":"IF(AND(B685>0,ISBLANK('beoordeling maatregel'!Q685)=FALSE),\"Deze stof wordt aangemerkt als ZZS\",\" \")","v":" "},{"$f":"COUNTIF('ZZS-lijst'!A:A,$C685)","v":0}]
[{"$f":"IF(AND(B686>0,ISBLANK('beoordeling maatregel'!Q686)=FALSE),\"Deze stof wordt aangemerkt als ZZS\",\" \")","v":" "},{"$f":"COUNTIF('ZZS-lijst'!A:A,$C686)","v":0}]
[{"$f":"IF(AND(B687>0,ISBLANK('beoordeling maatregel'!Q687)=FALSE),\"Deze stof wordt aangemerkt als ZZS\",\" \")","v":" "},{"$f":"COUNTIF('ZZS-lijst'!A:A,$C687)","v":0}]
[{"$f":"IF(AND(B688>0,ISBLANK('beoordeling maatregel'!Q688)=FALSE),\"Deze stof wordt aangemerkt als ZZS\",\" \")","v":" "},{"$f":"COUNTIF('ZZS-lijst'!A:A,$C688)","v":0}]
[{"$f":"IF(AND(B689>0,ISBLANK('beoordeling maatregel'!Q689)=FALSE),\"Deze stof wordt aangemerkt als ZZS\",\" \")","v":" "},{"$f":"COUNTIF('ZZS-lijst'!A:A,$C689)","v":0}]
[{"$f":"IF(AND(B690>0,ISBLANK('beoordeling maatregel'!Q690)=FALSE),\"Deze stof wordt aangemerkt als ZZS\",\" \")","v":" "},{"$f":"COUNTIF('ZZS-lijst'!A:A,$C690)","v":0}]
[{"$f":"IF(AND(B691>0,ISBLANK('beoordeling maatregel'!Q691)=FALSE),\"Deze stof wordt aangemerkt als ZZS\",\" \")","v":" "},{"$f":"COUNTIF('ZZS-lijst'!A:A,$C691)","v":0}]
[{"$f":"IF(AND(B692>0,ISBLANK('beoordeling maatregel'!Q692)=FALSE),\"Deze stof wordt aangemerkt als ZZS\",\" \")","v":" "},{"$f":"COUNTIF('ZZS-lijst'!A:A,$C692)","v":0}]
[{"$f":"IF(AND(B693>0,ISBLANK('beoordeling maatregel'!Q693)=FALSE),\"Deze stof wordt aangemerkt als ZZS\",\" \")","v":" "},{"$f":"COUNTIF('ZZS-lijst'!A:A,$C693)","v":0}]
[{"$f":"IF(AND(B694>0,ISBLANK('beoordeling maatregel'!Q694)=FALSE),\"Deze stof wordt aangemerkt als ZZS\",\" \")","v":" "},{"$f":"COUNTIF('ZZS-lijst'!A:A,$C694)","v":0}]
[{"$f":"IF(AND(B695>0,ISBLANK('beoordeling maatregel'!Q695)=FALSE),\"Deze stof wordt aangemerkt als ZZS\",\" \")","v":" "},{"$f":"COUNTIF('ZZS-lijst'!A:A,$C695)","v":0}]
[{"$f":"IF(AND(B696>0,ISBLANK('beoordeling maatregel'!Q696)=FALSE),\"Deze stof wordt aangemerkt als ZZS\",\" \")","v":" "},{"$f":"COUNTIF('ZZS-lijst'!A:A,$C696)","v":0}]
[{"$f":"IF(AND(B697>0,ISBLANK('beoordeling maatregel'!Q697)=FALSE),\"Deze stof wordt aangemerkt als ZZS\",\" \")","v":" "},{"$f":"COUNTIF('ZZS-lijst'!A:A,$C697)","v":0}]
[{"$f":"IF(AND(B698>0,ISBLANK('beoordeling maatregel'!Q698)=FALSE),\"Deze stof wordt aangemerkt als ZZS\",\" \")","v":" "},{"$f":"COUNTIF('ZZS-lijst'!A:A,$C698)","v":0}]
[{"$f":"IF(AND(B699>0,ISBLANK('beoordeling maatregel'!Q699)=FALSE),\"Deze stof wordt aangemerkt als ZZS\",\" \")","v":" "},{"$f":"COUNTIF('ZZS-lijst'!A:A,$C699)","v":0}]
[{"$f":"IF(AND(B700>0,ISBLANK('beoordeling maatregel'!Q700)=FALSE),\"Deze stof wordt aangemerkt als ZZS\",\" \")","v":" "},{"$f":"COUNTIF('ZZS-lijst'!A:A,$C700)","v":0}]
[{"$f":"IF(AND(B701>0,ISBLANK('beoordeling maatregel'!Q701)=FALSE),\"Deze stof wordt aangemerkt als ZZS\",\" \")","v":" "},{"$f":"COUNTIF('ZZS-lijst'!A:A,$C701)","v":0}]
[{"$f":"IF(AND(B702>0,ISBLANK('beoordeling maatregel'!Q702)=FALSE),\"Deze stof wordt aangemerkt als ZZS\",\" \")","v":" "},{"$f":"COUNTIF('ZZS-lijst'!A:A,$C702)","v":0}]
[{"$f":"IF(AND(B703>0,ISBLANK('beoordeling maatregel'!Q703)=FALSE),\"Deze stof wordt aangemerkt als ZZS\",\" \")","v":" "},{"$f":"COUNTIF('ZZS-lijst'!A:A,$C703)","v":0}]
[{"$f":"IF(AND(B704>0,ISBLANK('beoordeling maatregel'!Q704)=FALSE),\"Deze stof wordt aangemerkt als ZZS\",\" \")","v":" "},{"$f":"COUNTIF('ZZS-lijst'!A:A,$C704)","v":0}]
[{"$f":"IF(AND(B705>0,ISBLANK('beoordeling maatregel'!Q705)=FALSE),\"Deze stof wordt aangemerkt als ZZS\",\" \")","v":" "},{"$f":"COUNTIF('ZZS-lijst'!A:A,$C705)","v":0}]
[{"$f":"IF(AND(B706>0,ISBLANK('beoordeling maatregel'!Q706)=FALSE),\"Deze stof wordt aangemerkt als ZZS\",\" \")","v":" "},{"$f":"COUNTIF('ZZS-lijst'!A:A,$C706)","v":0}]
[{"$f":"IF(AND(B707>0,ISBLANK('beoordeling maatregel'!Q707)=FALSE),\"Deze stof wordt aangemerkt als ZZS\",\" \")","v":" "},{"$f":"COUNTIF('ZZS-lijst'!A:A,$C707)","v":0}]
[{"$f":"IF(AND(B708>0,ISBLANK('beoordeling maatregel'!Q708)=FALSE),\"Deze stof wordt aangemerkt als ZZS\",\" \")","v":" "},{"$f":"COUNTIF('ZZS-lijst'!A:A,$C708)","v":0}]
[{"$f":"IF(AND(B709>0,ISBLANK('beoordeling maatregel'!Q709)=FALSE),\"Deze stof wordt aangemerkt als ZZS\",\" \")","v":" "},{"$f":"COUNTIF('ZZS-lijst'!A:A,$C709)","v":0}]
[{"$f":"IF(AND(B710>0,ISBLANK('beoordeling maatregel'!Q710)=FALSE),\"Deze stof wordt aangemerkt als ZZS\",\" \")","v":" "},{"$f":"COUNTIF('ZZS-lijst'!A:A,$C710)","v":0}]
[{"$f":"IF(AND(B711>0,ISBLANK('beoordeling maatregel'!Q711)=FALSE),\"Deze stof wordt aangemerkt als ZZS\",\" \")","v":" "},{"$f":"COUNTIF('ZZS-lijst'!A:A,$C711)","v":0}]
[{"$f":"IF(AND(B712>0,ISBLANK('beoordeling maatregel'!Q712)=FALSE),\"Deze stof wordt aangemerkt als ZZS\",\" \")","v":" "},{"$f":"COUNTIF('ZZS-lijst'!A:A,$C712)","v":0}]
[{"$f":"IF(AND(B713>0,ISBLANK('beoordeling maatregel'!Q713)=FALSE),\"Deze stof wordt aangemerkt als ZZS\",\" \")","v":" "},{"$f":"COUNTIF('ZZS-lijst'!A:A,$C713)","v":0}]
[{"$f":"IF(AND(B714>0,ISBLANK('beoordeling maatregel'!Q714)=FALSE),\"Deze stof wordt aangemerkt als ZZS\",\" \")","v":" "},{"$f":"COUNTIF('ZZS-lijst'!A:A,$C714)","v":0}]
[{"$f":"IF(AND(B715>0,ISBLANK('beoordeling maatregel'!Q715)=FALSE),\"Deze stof wordt aangemerkt als ZZS\",\" \")","v":" "},{"$f":"COUNTIF('ZZS-lijst'!A:A,$C715)","v":0}]
[{"$f":"IF(AND(B716>0,ISBLANK('beoordeling maatregel'!Q716)=FALSE),\"Deze stof wordt aangemerkt als ZZS\",\" \")","v":" "},{"$f":"COUNTIF('ZZS-lijst'!A:A,$C716)","v":0}]
[{"$f":"IF(AND(B717>0,ISBLANK('beoordeling maatregel'!Q717)=FALSE),\"Deze stof wordt aangemerkt als ZZS\",\" \")","v":" "},{"$f":"COUNTIF('ZZS-lijst'!A:A,$C717)","v":0}]
[{"$f":"IF(AND(B718>0,ISBLANK('beoordeling maatregel'!Q718)=FALSE),\"Deze stof wordt aangemerkt als ZZS\",\" \")","v":" "},{"$f":"COUNTIF('ZZS-lijst'!A:A,$C718)","v":0}]
[{"$f":"IF(AND(B719>0,ISBLANK('beoordeling maatregel'!Q719)=FALSE),\"Deze stof wordt aangemerkt als ZZS\",\" \")","v":" "},{"$f":"COUNTIF('ZZS-lijst'!A:A,$C719)","v":0}]
[{"$f":"IF(AND(B720>0,ISBLANK('beoordeling maatregel'!Q720)=FALSE),\"Deze stof wordt aangemerkt als ZZS\",\" \")","v":" "},{"$f":"COUNTIF('ZZS-lijst'!A:A,$C720)","v":0}]
[{"$f":"IF(AND(B721>0,ISBLANK('beoordeling maatregel'!Q721)=FALSE),\"Deze stof wordt aangemerkt als ZZS\",\" \")","v":" "},{"$f":"COUNTIF('ZZS-lijst'!A:A,$C721)","v":0}]
[{"$f":"IF(AND(B722>0,ISBLANK('beoordeling maatregel'!Q722)=FALSE),\"Deze stof wordt aangemerkt als ZZS\",\" \")","v":" "},{"$f":"COUNTIF('ZZS-lijst'!A:A,$C722)","v":0}]
[{"$f":"IF(AND(B723>0,ISBLANK('beoordeling maatregel'!Q723)=FALSE),\"Deze stof wordt aangemerkt als ZZS\",\" \")","v":" "},{"$f":"COUNTIF('ZZS-lijst'!A:A,$C723)","v":0}]
[{"$f":"IF(AND(B724>0,ISBLANK('beoordeling maatregel'!Q724)=FALSE),\"Deze stof wordt aangemerkt als ZZS\",\" \")","v":" "},{"$f":"COUNTIF('ZZS-lijst'!A:A,$C724)","v":0}]
[{"$f":"IF(AND(B725>0,ISBLANK('beoordeling maatregel'!Q725)=FALSE),\"Deze stof wordt aangemerkt als ZZS\",\" \")","v":" "},{"$f":"COUNTIF('ZZS-lijst'!A:A,$C725)","v":0}]
[{"$f":"IF(AND(B726>0,ISBLANK('beoordeling maatregel'!Q726)=FALSE),\"Deze stof wordt aangemerkt als ZZS\",\" \")","v":" "},{"$f":"COUNTIF('ZZS-lijst'!A:A,$C726)","v":0}]
[{"$f":"IF(AND(B727>0,ISBLANK('beoordeling maatregel'!Q727)=FALSE),\"Deze stof wordt aangemerkt als ZZS\",\" \")","v":" "},{"$f":"COUNTIF('ZZS-lijst'!A:A,$C727)","v":0}]
[{"$f":"IF(AND(B728>0,ISBLANK('beoordeling maatregel'!Q728)=FALSE),\"Deze stof wordt aangemerkt als ZZS\",\" \")","v":" "},{"$f":"COUNTIF('ZZS-lijst'!A:A,$C728)","v":0}]
[{"$f":"IF(AND(B729>0,ISBLANK('beoordeling maatregel'!Q729)=FALSE),\"Deze stof wordt aangemerkt als ZZS\",\" \")","v":" "},{"$f":"COUNTIF('ZZS-lijst'!A:A,$C729)","v":0}]
[{"$f":"IF(AND(B730>0,ISBLANK('beoordeling maatregel'!Q730)=FALSE),\"Deze stof wordt aangemerkt als ZZS\",\" \")","v":" "},{"$f":"COUNTIF('ZZS-lijst'!A:A,$C730)","v":0}]
[{"$f":"IF(AND(B731>0,ISBLANK('beoordeling maatregel'!Q731)=FALSE),\"Deze stof wordt aangemerkt als ZZS\",\" \")","v":" "},{"$f":"COUNTIF('ZZS-lijst'!A:A,$C731)","v":0}]
[{"$f":"IF(AND(B732>0,ISBLANK('beoordeling maatregel'!Q732)=FALSE),\"Deze stof wordt aangemerkt als ZZS\",\" \")","v":" "},{"$f":"COUNTIF('ZZS-lijst'!A:A,$C732)","v":0}]
[{"$f":"IF(AND(B733>0,ISBLANK('beoordeling maatregel'!Q733)=FALSE),\"Deze stof wordt aangemerkt als ZZS\",\" \")","v":" "},{"$f":"COUNTIF('ZZS-lijst'!A:A,$C733)","v":0}]
[{"$f":"IF(AND(B734>0,ISBLANK('beoordeling maatregel'!Q734)=FALSE),\"Deze stof wordt aangemerkt als ZZS\",\" \")","v":" "},{"$f":"COUNTIF('ZZS-lijst'!A:A,$C734)","v":0}]
[{"$f":"IF(AND(B735>0,ISBLANK('beoordeling maatregel'!Q735)=FALSE),\"Deze stof wordt aangemerkt als ZZS\",\" \")","v":" "},{"$f":"COUNTIF('ZZS-lijst'!A:A,$C735)","v":0}]
[{"$f":"IF(AND(B736>0,ISBLANK('beoordeling maatregel'!Q736)=FALSE),\"Deze stof wordt aangemerkt als ZZS\",\" \")","v":" "},{"$f":"COUNTIF('ZZS-lijst'!A:A,$C736)","v":0}]
[{"$f":"IF(AND(B737>0,ISBLANK('beoordeling maatregel'!Q737)=FALSE),\"Deze stof wordt aangemerkt als ZZS\",\" \")","v":" "},{"$f":"COUNTIF('ZZS-lijst'!A:A,$C737)","v":0}]
[{"$f":"IF(AND(B738>0,ISBLANK('beoordeling maatregel'!Q738)=FALSE),\"Deze stof wordt aangemerkt als ZZS\",\" \")","v":" "},{"$f":"COUNTIF('ZZS-lijst'!A:A,$C738)","v":0}]
[{"$f":"IF(AND(B739>0,ISBLANK('beoordeling maatregel'!Q739)=FALSE),\"Deze stof wordt aangemerkt als ZZS\",\" \")","v":" "},{"$f":"COUNTIF('ZZS-lijst'!A:A,$C739)","v":0}]
[{"$f":"IF(AND(B740>0,ISBLANK('beoordeling maatregel'!Q740)=FALSE),\"Deze stof wordt aangemerkt als ZZS\",\" \")","v":" "},{"$f":"COUNTIF('ZZS-lijst'!A:A,$C740)","v":0}]
[{"$f":"IF(AND(B741>0,ISBLANK('beoordeling maatregel'!Q741)=FALSE),\"Deze stof wordt aangemerkt als ZZS\",\" \")","v":" "},{"$f":"COUNTIF('ZZS-lijst'!A:A,$C741)","v":0}]
[{"$f":"IF(AND(B742>0,ISBLANK('beoordeling maatregel'!Q742)=FALSE),\"Deze stof wordt aangemerkt als ZZS\",\" \")","v":" "},{"$f":"COUNTIF('ZZS-lijst'!A:A,$C742)","v":0}]
[{"$f":"IF(AND(B743>0,ISBLANK('beoordeling maatregel'!Q743)=FALSE),\"Deze stof wordt aangemerkt als ZZS\",\" \")","v":" "},{"$f":"COUNTIF('ZZS-lijst'!A:A,$C743)","v":0}]
[{"$f":"IF(AND(B744>0,ISBLANK('beoordeling maatregel'!Q744)=FALSE),\"Deze stof wordt aangemerkt als ZZS\",\" \")","v":" "},{"$f":"COUNTIF('ZZS-lijst'!A:A,$C744)","v":0}]
[{"$f":"IF(AND(B745>0,ISBLANK('beoordeling maatregel'!Q745)=FALSE),\"Deze stof wordt aangemerkt als ZZS\",\" \")","v":" "},{"$f":"COUNTIF('ZZS-lijst'!A:A,$C745)","v":0}]
[{"$f":"IF(AND(B746>0,ISBLANK('beoordeling maatregel'!Q746)=FALSE),\"Deze stof wordt aangemerkt als ZZS\",\" \")","v":" "},{"$f":"COUNTIF('ZZS-lijst'!A:A,$C746)","v":0}]
[{"$f":"IF(AND(B747>0,ISBLANK('beoordeling maatregel'!Q747)=FALSE),\"Deze stof wordt aangemerkt als ZZS\",\" \")","v":" "},{"$f":"COUNTIF('ZZS-lijst'!A:A,$C747)","v":0}]
[{"$f":"IF(AND(B748>0,ISBLANK('beoordeling maatregel'!Q748)=FALSE),\"Deze stof wordt aangemerkt als ZZS\",\" \")","v":" "},{"$f":"COUNTIF('ZZS-lijst'!A:A,$C748)","v":0}]
[{"$f":"IF(AND(B749>0,ISBLANK('beoordeling maatregel'!Q749)=FALSE),\"Deze stof wordt aangemerkt als ZZS\",\" \")","v":" "},{"$f":"COUNTIF('ZZS-lijst'!A:A,$C749)","v":0}]
[{"$f":"IF(AND(B750>0,ISBLANK('beoordeling maatregel'!Q750)=FALSE),\"Deze stof wordt aangemerkt als ZZS\",\" \")","v":" "},{"$f":"COUNTIF('ZZS-lijst'!A:A,$C750)","v":0}]
[{"$f":"IF(AND(B751>0,ISBLANK('beoordeling maatregel'!Q751)=FALSE),\"Deze stof wordt aangemerkt als ZZS\",\" \")","v":" "},{"$f":"COUNTIF('ZZS-lijst'!A:A,$C751)","v":0}]
[{"$f":"IF(AND(B752>0,ISBLANK('beoordeling maatregel'!Q752)=FALSE),\"Deze stof wordt aangemerkt als ZZS\",\" \")","v":" "},{"$f":"COUNTIF('ZZS-lijst'!A:A,$C752)","v":0}]
[{"$f":"IF(AND(B753>0,ISBLANK('beoordeling maatregel'!Q753)=FALSE),\"Deze stof wordt aangemerkt als ZZS\",\" \")","v":" "},{"$f":"COUNTIF('ZZS-lijst'!A:A,$C753)","v":0}]
[{"$f":"IF(AND(B754>0,ISBLANK('beoordeling maatregel'!Q754)=FALSE),\"Deze stof wordt aangemerkt als ZZS\",\" \")","v":" "},{"$f":"COUNTIF('ZZS-lijst'!A:A,$C754)","v":0}]
[{"$f":"IF(AND(B755>0,ISBLANK('beoordeling maatregel'!Q755)=FALSE),\"Deze stof wordt aangemerkt als ZZS\",\" \")","v":" "},{"$f":"COUNTIF('ZZS-lijst'!A:A,$C755)","v":0}]
[{"$f":"IF(AND(B756>0,ISBLANK('beoordeling maatregel'!Q756)=FALSE),\"Deze stof wordt aangemerkt als ZZS\",\" \")","v":" "},{"$f":"COUNTIF('ZZS-lijst'!A:A,$C756)","v":0}]
[{"$f":"IF(AND(B757>0,ISBLANK('beoordeling maatregel'!Q757)=FALSE),\"Deze stof wordt aangemerkt als ZZS\",\" \")","v":" "},{"$f":"COUNTIF('ZZS-lijst'!A:A,$C757)","v":0}]
[{"$f":"IF(AND(B758>0,ISBLANK('beoordeling maatregel'!Q758)=FALSE),\"Deze stof wordt aangemerkt als ZZS\",\" \")","v":" "},{"$f":"COUNTIF('ZZS-lijst'!A:A,$C758)","v":0}]
[{"$f":"IF(AND(B759>0,ISBLANK('beoordeling maatregel'!Q759)=FALSE),\"Deze stof wordt aangemerkt als ZZS\",\" \")","v":" "},{"$f":"COUNTIF('ZZS-lijst'!A:A,$C759)","v":0}]
[{"$f":"IF(AND(B760>0,ISBLANK('beoordeling maatregel'!Q760)=FALSE),\"Deze stof wordt aangemerkt als ZZS\",\" \")","v":" "},{"$f":"COUNTIF('ZZS-lijst'!A:A,$C760)","v":0}]
[{"$f":"IF(AND(B761>0,ISBLANK('beoordeling maatregel'!Q761)=FALSE),\"Deze stof wordt aangemerkt als ZZS\",\" \")","v":" "},{"$f":"COUNTIF('ZZS-lijst'!A:A,$C761)","v":0}]
[{"$f":"IF(AND(B762>0,ISBLANK('beoordeling maatregel'!Q762)=FALSE),\"Deze stof wordt aangemerkt als ZZS\",\" \")","v":" "},{"$f":"COUNTIF('ZZS-lijst'!A:A,$C762)","v":0}]
[{"$f":"IF(AND(B763>0,ISBLANK('beoordeling maatregel'!Q763)=FALSE),\"Deze stof wordt aangemerkt als ZZS\",\" \")","v":" "},{"$f":"COUNTIF('ZZS-lijst'!A:A,$C763)","v":0}]
[{"$f":"IF(AND(B764>0,ISBLANK('beoordeling maatregel'!Q764)=FALSE),\"Deze stof wordt aangemerkt als ZZS\",\" \")","v":" "},{"$f":"COUNTIF('ZZS-lijst'!A:A,$C764)","v":0}]
[{"$f":"IF(AND(B765>0,ISBLANK('beoordeling maatregel'!Q765)=FALSE),\"Deze stof wordt aangemerkt als ZZS\",\" \")","v":" "},{"$f":"COUNTIF('ZZS-lijst'!A:A,$C765)","v":0}]
[{"$f":"IF(AND(B766>0,ISBLANK('beoordeling maatregel'!Q766)=FALSE),\"Deze stof wordt aangemerkt als ZZS\",\" \")","v":" "},{"$f":"COUNTIF('ZZS-lijst'!A:A,$C766)","v":0}]
[{"$f":"IF(AND(B767>0,ISBLANK('beoordeling maatregel'!Q767)=FALSE),\"Deze stof wordt aangemerkt als ZZS\",\" \")","v":" "},{"$f":"COUNTIF('ZZS-lijst'!A:A,$C767)","v":0}]
[{"$f":"IF(AND(B768>0,ISBLANK('beoordeling maatregel'!Q768)=FALSE),\"Deze stof wordt aangemerkt als ZZS\",\" \")","v":" "},{"$f":"COUNTIF('ZZS-lijst'!A:A,$C768)","v":0}]
[{"$f":"IF(AND(B769>0,ISBLANK('beoordeling maatregel'!Q769)=FALSE),\"Deze stof wordt aangemerkt als ZZS\",\" \")","v":" "},{"$f":"COUNTIF('ZZS-lijst'!A:A,$C769)","v":0}]
[{"$f":"IF(AND(B770>0,ISBLANK('beoordeling maatregel'!Q770)=FALSE),\"Deze stof wordt aangemerkt als ZZS\",\" \")","v":" "},{"$f":"COUNTIF('ZZS-lijst'!A:A,$C770)","v":0}]
[{"$f":"IF(AND(B771>0,ISBLANK('beoordeling maatregel'!Q771)=FALSE),\"Deze stof wordt aangemerkt als ZZS\",\" \")","v":" "},{"$f":"COUNTIF('ZZS-lijst'!A:A,$C771)","v":0}]
[{"$f":"IF(AND(B772>0,ISBLANK('beoordeling maatregel'!Q772)=FALSE),\"Deze stof wordt aangemerkt als ZZS\",\" \")","v":" "},{"$f":"COUNTIF('ZZS-lijst'!A:A,$C772)","v":0}]
[{"$f":"IF(AND(B773>0,ISBLANK('beoordeling maatregel'!Q773)=FALSE),\"Deze stof wordt aangemerkt als ZZS\",\" \")","v":" "},{"$f":"COUNTIF('ZZS-lijst'!A:A,$C773)","v":0}]
[{"$f":"IF(AND(B774>0,ISBLANK('beoordeling maatregel'!Q774)=FALSE),\"Deze stof wordt aangemerkt als ZZS\",\" \")","v":" "},{"$f":"COUNTIF('ZZS-lijst'!A:A,$C774)","v":0}]
[{"$f":"IF(AND(B775>0,ISBLANK('beoordeling maatregel'!Q775)=FALSE),\"Deze stof wordt aangemerkt als ZZS\",\" \")","v":" "},{"$f":"COUNTIF('ZZS-lijst'!A:A,$C775)","v":0}]
[{"$f":"IF(AND(B776>0,ISBLANK('beoordeling maatregel'!Q776)=FALSE),\"Deze stof wordt aangemerkt als ZZS\",\" \")","v":" "},{"$f":"COUNTIF('ZZS-lijst'!A:A,$C776)","v":0}]
[{"$f":"IF(AND(B777>0,ISBLANK('beoordeling maatregel'!Q777)=FALSE),\"Deze stof wordt aangemerkt als ZZS\",\" \")","v":" "},{"$f":"COUNTIF('ZZS-lijst'!A:A,$C777)","v":0}]
[{"$f":"IF(AND(B778>0,ISBLANK('beoordeling maatregel'!Q778)=FALSE),\"Deze stof wordt aangemerkt als ZZS\",\" \")","v":" "},{"$f":"COUNTIF('ZZS-lijst'!A:A,$C778)","v":0}]
[{"$f":"IF(AND(B779>0,ISBLANK('beoordeling maatregel'!Q779)=FALSE),\"Deze stof wordt aangemerkt als ZZS\",\" \")","v":" "},{"$f":"COUNTIF('ZZS-lijst'!A:A,$C779)","v":0}]
[{"$f":"IF(AND(B780>0,ISBLANK('beoordeling maatregel'!Q780)=FALSE),\"Deze stof wordt aangemerkt als ZZS\",\" \")","v":" "},{"$f":"COUNTIF('ZZS-lijst'!A:A,$C780)","v":0}]
[{"$f":"IF(AND(B781>0,ISBLANK('beoordeling maatregel'!Q781)=FALSE),\"Deze stof wordt aangemerkt als ZZS\",\" \")","v":" "},{"$f":"COUNTIF('ZZS-lijst'!A:A,$C781)","v":0}]
[{"$f":"IF(AND(B782>0,ISBLANK('beoordeling maatregel'!Q782)=FALSE),\"Deze stof wordt aangemerkt als ZZS\",\" \")","v":" "},{"$f":"COUNTIF('ZZS-lijst'!A:A,$C782)","v":0}]
[{"$f":"IF(AND(B783>0,ISBLANK('beoordeling maatregel'!Q783)=FALSE),\"Deze stof wordt aangemerkt als ZZS\",\" \")","v":" "},{"$f":"COUNTIF('ZZS-lijst'!A:A,$C783)","v":0}]
[{"$f":"IF(AND(B784>0,ISBLANK('beoordeling maatregel'!Q784)=FALSE),\"Deze stof wordt aangemerkt als ZZS\",\" \")","v":" "},{"$f":"COUNTIF('ZZS-lijst'!A:A,$C784)","v":0}]
[{"$f":"IF(AND(B785>0,ISBLANK('beoordeling maatregel'!Q785)=FALSE),\"Deze stof wordt aangemerkt als ZZS\",\" \")","v":" "},{"$f":"COUNTIF('ZZS-lijst'!A:A,$C785)","v":0}]
[{"$f":"IF(AND(B786>0,ISBLANK('beoordeling maatregel'!Q786)=FALSE),\"Deze stof wordt aangemerkt als ZZS\",\" \")","v":" "},{"$f":"COUNTIF('ZZS-lijst'!A:A,$C786)","v":0}]
[{"$f":"IF(AND(B787>0,ISBLANK('beoordeling maatregel'!Q787)=FALSE),\"Deze stof wordt aangemerkt als ZZS\",\" \")","v":" "},{"$f":"COUNTIF('ZZS-lijst'!A:A,$C787)","v":0}]
[{"$f":"IF(AND(B788>0,ISBLANK('beoordeling maatregel'!Q788)=FALSE),\"Deze stof wordt aangemerkt als ZZS\",\" \")","v":" "},{"$f":"COUNTIF('ZZS-lijst'!A:A,$C788)","v":0}]
[{"$f":"IF(AND(B789>0,ISBLANK('beoordeling maatregel'!Q789)=FALSE),\"Deze stof wordt aangemerkt als ZZS\",\" \")","v":" "},{"$f":"COUNTIF('ZZS-lijst'!A:A,$C789)","v":0}]
[{"$f":"IF(AND(B790>0,ISBLANK('beoordeling maatregel'!Q790)=FALSE),\"Deze stof wordt aangemerkt als ZZS\",\" \")","v":" "},{"$f":"COUNTIF('ZZS-lijst'!A:A,$C790)","v":0}]
[{"$f":"IF(AND(B791>0,ISBLANK('beoordeling maatregel'!Q791)=FALSE),\"Deze stof wordt aangemerkt als ZZS\",\" \")","v":" "},{"$f":"COUNTIF('ZZS-lijst'!A:A,$C791)","v":0}]
[{"$f":"IF(AND(B792>0,ISBLANK('beoordeling maatregel'!Q792)=FALSE),\"Deze stof wordt aangemerkt als ZZS\",\" \")","v":" "},{"$f":"COUNTIF('ZZS-lijst'!A:A,$C792)","v":0}]
[{"$f":"IF(AND(B793>0,ISBLANK('beoordeling maatregel'!Q793)=FALSE),\"Deze stof wordt aangemerkt als ZZS\",\" \")","v":" "},{"$f":"COUNTIF('ZZS-lijst'!A:A,$C793)","v":0}]
[{"$f":"IF(AND(B794>0,ISBLANK('beoordeling maatregel'!Q794)=FALSE),\"Deze stof wordt aangemerkt als ZZS\",\" \")","v":" "},{"$f":"COUNTIF('ZZS-lijst'!A:A,$C794)","v":0}]
[{"$f":"IF(AND(B795>0,ISBLANK('beoordeling maatregel'!Q795)=FALSE),\"Deze stof wordt aangemerkt als ZZS\",\" \")","v":" "},{"$f":"COUNTIF('ZZS-lijst'!A:A,$C795)","v":0}]
[{"$f":"IF(AND(B796>0,ISBLANK('beoordeling maatregel'!Q796)=FALSE),\"Deze stof wordt aangemerkt als ZZS\",\" \")","v":" "},{"$f":"COUNTIF('ZZS-lijst'!A:A,$C796)","v":0}]
[{"$f":"IF(AND(B797>0,ISBLANK('beoordeling maatregel'!Q797)=FALSE),\"Deze stof wordt aangemerkt als ZZS\",\" \")","v":" "},{"$f":"COUNTIF('ZZS-lijst'!A:A,$C797)","v":0}]
[{"$f":"IF(AND(B798>0,ISBLANK('beoordeling maatregel'!Q798)=FALSE),\"Deze stof wordt aangemerkt als ZZS\",\" \")","v":" "},{"$f":"COUNTIF('ZZS-lijst'!A:A,$C798)","v":0}]
[{"$f":"IF(AND(B799>0,ISBLANK('beoordeling maatregel'!Q799)=FALSE),\"Deze stof wordt aangemerkt als ZZS\",\" \")","v":" "},{"$f":"COUNTIF('ZZS-lijst'!A:A,$C799)","v":0}]
[{"$f":"IF(AND(B800>0,ISBLANK('beoordeling maatregel'!Q800)=FALSE),\"Deze stof wordt aangemerkt als ZZS\",\" \")","v":" "},{"$f":"COUNTIF('ZZS-lijst'!A:A,$C800)","v":0}]
[{"$f":"IF(AND(B801>0,ISBLANK('beoordeling maatregel'!Q801)=FALSE),\"Deze stof wordt aangemerkt als ZZS\",\" \")","v":" "},{"$f":"COUNTIF('ZZS-lijst'!A:A,$C801)","v":0}]
[{"$f":"IF(AND(B802>0,ISBLANK('beoordeling maatregel'!Q802)=FALSE),\"Deze stof wordt aangemerkt als ZZS\",\" \")","v":" "},{"$f":"COUNTIF('ZZS-lijst'!A:A,$C802)","v":0}]
[{"$f":"IF(AND(B803>0,ISBLANK('beoordeling maatregel'!Q803)=FALSE),\"Deze stof wordt aangemerkt als ZZS\",\" \")","v":" "},{"$f":"COUNTIF('ZZS-lijst'!A:A,$C803)","v":0}]
[{"$f":"IF(AND(B804>0,ISBLANK('beoordeling maatregel'!Q804)=FALSE),\"Deze stof wordt aangemerkt als ZZS\",\" \")","v":" "},{"$f":"COUNTIF('ZZS-lijst'!A:A,$C804)","v":0}]
[{"$f":"IF(AND(B805>0,ISBLANK('beoordeling maatregel'!Q805)=FALSE),\"Deze stof wordt aangemerkt als ZZS\",\" \")","v":" "},{"$f":"COUNTIF('ZZS-lijst'!A:A,$C805)","v":0}]
[{"$f":"IF(AND(B806>0,ISBLANK('beoordeling maatregel'!Q806)=FALSE),\"Deze stof wordt aangemerkt als ZZS\",\" \")","v":" "},{"$f":"COUNTIF('ZZS-lijst'!A:A,$C806)","v":0}]
[{"$f":"IF(AND(B807>0,ISBLANK('beoordeling maatregel'!Q807)=FALSE),\"Deze stof wordt aangemerkt als ZZS\",\" \")","v":" "},{"$f":"COUNTIF('ZZS-lijst'!A:A,$C807)","v":0}]
[{"$f":"IF(AND(B808>0,ISBLANK('beoordeling maatregel'!Q808)=FALSE),\"Deze stof wordt aangemerkt als ZZS\",\" \")","v":" "},{"$f":"COUNTIF('ZZS-lijst'!A:A,$C808)","v":0}]
[{"$f":"IF(AND(B809>0,ISBLANK('beoordeling maatregel'!Q809)=FALSE),\"Deze stof wordt aangemerkt als ZZS\",\" \")","v":" "},{"$f":"COUNTIF('ZZS-lijst'!A:A,$C809)","v":0}]
[{"$f":"IF(AND(B810>0,ISBLANK('beoordeling maatregel'!Q810)=FALSE),\"Deze stof wordt aangemerkt als ZZS\",\" \")","v":" "},{"$f":"COUNTIF('ZZS-lijst'!A:A,$C810)","v":0}]
[{"$f":"IF(AND(B811>0,ISBLANK('beoordeling maatregel'!Q811)=FALSE),\"Deze stof wordt aangemerkt als ZZS\",\" \")","v":" "},{"$f":"COUNTIF('ZZS-lijst'!A:A,$C811)","v":0}]
[{"$f":"IF(AND(B812>0,ISBLANK('beoordeling maatregel'!Q812)=FALSE),\"Deze stof wordt aangemerkt als ZZS\",\" \")","v":" "},{"$f":"COUNTIF('ZZS-lijst'!A:A,$C812)","v":0}]
[{"$f":"IF(AND(B813>0,ISBLANK('beoordeling maatregel'!Q813)=FALSE),\"Deze stof wordt aangemerkt als ZZS\",\" \")","v":" "},{"$f":"COUNTIF('ZZS-lijst'!A:A,$C813)","v":0}]
[{"$f":"IF(AND(B814>0,ISBLANK('beoordeling maatregel'!Q814)=FALSE),\"Deze stof wordt aangemerkt als ZZS\",\" \")","v":" "},{"$f":"COUNTIF('ZZS-lijst'!A:A,$C814)","v":0}]
[{"$f":"IF(AND(B815>0,ISBLANK('beoordeling maatregel'!Q815)=FALSE),\"Deze stof wordt aangemerkt als ZZS\",\" \")","v":" "},{"$f":"COUNTIF('ZZS-lijst'!A:A,$C815)","v":0}]
[{"$f":"IF(AND(B816>0,ISBLANK('beoordeling maatregel'!Q816)=FALSE),\"Deze stof wordt aangemerkt als ZZS\",\" \")","v":" "},{"$f":"COUNTIF('ZZS-lijst'!A:A,$C816)","v":0}]
[{"$f":"IF(AND(B817>0,ISBLANK('beoordeling maatregel'!Q817)=FALSE),\"Deze stof wordt aangemerkt als ZZS\",\" \")","v":" "},{"$f":"COUNTIF('ZZS-lijst'!A:A,$C817)","v":0}]
[{"$f":"IF(AND(B818>0,ISBLANK('beoordeling maatregel'!Q818)=FALSE),\"Deze stof wordt aangemerkt als ZZS\",\" \")","v":" "},{"$f":"COUNTIF('ZZS-lijst'!A:A,$C818)","v":0}]
[{"$f":"IF(AND(B819>0,ISBLANK('beoordeling maatregel'!Q819)=FALSE),\"Deze stof wordt aangemerkt als ZZS\",\" \")","v":" "},{"$f":"COUNTIF('ZZS-lijst'!A:A,$C819)","v":0}]
[{"$f":"IF(AND(B820>0,ISBLANK('beoordeling maatregel'!Q820)=FALSE),\"Deze stof wordt aangemerkt als ZZS\",\" \")","v":" "},{"$f":"COUNTIF('ZZS-lijst'!A:A,$C820)","v":0}]
[{"$f":"IF(AND(B821>0,ISBLANK('beoordeling maatregel'!Q821)=FALSE),\"Deze stof wordt aangemerkt als ZZS\",\" \")","v":" "},{"$f":"COUNTIF('ZZS-lijst'!A:A,$C821)","v":0}]
[{"$f":"IF(AND(B822>0,ISBLANK('beoordeling maatregel'!Q822)=FALSE),\"Deze stof wordt aangemerkt als ZZS\",\" \")","v":" "},{"$f":"COUNTIF('ZZS-lijst'!A:A,$C822)","v":0}]
[{"$f":"IF(AND(B823>0,ISBLANK('beoordeling maatregel'!Q823)=FALSE),\"Deze stof wordt aangemerkt als ZZS\",\" \")","v":" "},{"$f":"COUNTIF('ZZS-lijst'!A:A,$C823)","v":0}]
[{"$f":"IF(AND(B824>0,ISBLANK('beoordeling maatregel'!Q824)=FALSE),\"Deze stof wordt aangemerkt als ZZS\",\" \")","v":" "},{"$f":"COUNTIF('ZZS-lijst'!A:A,$C824)","v":0}]
[{"$f":"IF(AND(B825>0,ISBLANK('beoordeling maatregel'!Q825)=FALSE),\"Deze stof wordt aangemerkt als ZZS\",\" \")","v":" "},{"$f":"COUNTIF('ZZS-lijst'!A:A,$C825)","v":0}]
[{"$f":"IF(AND(B826>0,ISBLANK('beoordeling maatregel'!Q826)=FALSE),\"Deze stof wordt aangemerkt als ZZS\",\" \")","v":" "},{"$f":"COUNTIF('ZZS-lijst'!A:A,$C826)","v":0}]
[{"$f":"IF(AND(B827>0,ISBLANK('beoordeling maatregel'!Q827)=FALSE),\"Deze stof wordt aangemerkt als ZZS\",\" \")","v":" "},{"$f":"COUNTIF('ZZS-lijst'!A:A,$C827)","v":0}]
[{"$f":"IF(AND(B828>0,ISBLANK('beoordeling maatregel'!Q828)=FALSE),\"Deze stof wordt aangemerkt als ZZS\",\" \")","v":" "},{"$f":"COUNTIF('ZZS-lijst'!A:A,$C828)","v":0}]
[{"$f":"IF(AND(B829>0,ISBLANK('beoordeling maatregel'!Q829)=FALSE),\"Deze stof wordt aangemerkt als ZZS\",\" \")","v":" "},{"$f":"COUNTIF('ZZS-lijst'!A:A,$C829)","v":0}]
[{"$f":"IF(AND(B830>0,ISBLANK('beoordeling maatregel'!Q830)=FALSE),\"Deze stof wordt aangemerkt als ZZS\",\" \")","v":" "},{"$f":"COUNTIF('ZZS-lijst'!A:A,$C830)","v":0}]
[{"$f":"IF(AND(B831>0,ISBLANK('beoordeling maatregel'!Q831)=FALSE),\"Deze stof wordt aangemerkt als ZZS\",\" \")","v":" "},{"$f":"COUNTIF('ZZS-lijst'!A:A,$C831)","v":0}]
[{"$f":"IF(AND(B832>0,ISBLANK('beoordeling maatregel'!Q832)=FALSE),\"Deze stof wordt aangemerkt als ZZS\",\" \")","v":" "},{"$f":"COUNTIF('ZZS-lijst'!A:A,$C832)","v":0}]
[{"$f":"IF(AND(B833>0,ISBLANK('beoordeling maatregel'!Q833)=FALSE),\"Deze stof wordt aangemerkt als ZZS\",\" \")","v":" "},{"$f":"COUNTIF('ZZS-lijst'!A:A,$C833)","v":0}]
[{"$f":"IF(AND(B834>0,ISBLANK('beoordeling maatregel'!Q834)=FALSE),\"Deze stof wordt aangemerkt als ZZS\",\" \")","v":" "},{"$f":"COUNTIF('ZZS-lijst'!A:A,$C834)","v":0}]
[{"$f":"IF(AND(B835>0,ISBLANK('beoordeling maatregel'!Q835)=FALSE),\"Deze stof wordt aangemerkt als ZZS\",\" \")","v":" "},{"$f":"COUNTIF('ZZS-lijst'!A:A,$C835)","v":0}]
[{"$f":"IF(AND(B836>0,ISBLANK('beoordeling maatregel'!Q836)=FALSE),\"Deze stof wordt aangemerkt als ZZS\",\" \")","v":" "},{"$f":"COUNTIF('ZZS-lijst'!A:A,$C836)","v":0}]
[{"$f":"IF(AND(B837>0,ISBLANK('beoordeling maatregel'!Q837)=FALSE),\"Deze stof wordt aangemerkt als ZZS\",\" \")","v":" "},{"$f":"COUNTIF('ZZS-lijst'!A:A,$C837)","v":0}]
[{"$f":"IF(AND(B838>0,ISBLANK('beoordeling maatregel'!Q838)=FALSE),\"Deze stof wordt aangemerkt als ZZS\",\" \")","v":" "},{"$f":"COUNTIF('ZZS-lijst'!A:A,$C838)","v":0}]
[{"$f":"IF(AND(B839>0,ISBLANK('beoordeling maatregel'!Q839)=FALSE),\"Deze stof wordt aangemerkt als ZZS\",\" \")","v":" "},{"$f":"COUNTIF('ZZS-lijst'!A:A,$C839)","v":0}]
[{"$f":"IF(AND(B840>0,ISBLANK('beoordeling maatregel'!Q840)=FALSE),\"Deze stof wordt aangemerkt als ZZS\",\" \")","v":" "},{"$f":"COUNTIF('ZZS-lijst'!A:A,$C840)","v":0}]
[{"$f":"IF(AND(B841>0,ISBLANK('beoordeling maatregel'!Q841)=FALSE),\"Deze stof wordt aangemerkt als ZZS\",\" \")","v":" "},{"$f":"COUNTIF('ZZS-lijst'!A:A,$C841)","v":0}]
[{"$f":"IF(AND(B842>0,ISBLANK('beoordeling maatregel'!Q842)=FALSE),\"Deze stof wordt aangemerkt als ZZS\",\" \")","v":" "},{"$f":"COUNTIF('ZZS-lijst'!A:A,$C842)","v":0}]
[{"$f":"IF(AND(B843>0,ISBLANK('beoordeling maatregel'!Q843)=FALSE),\"Deze stof wordt aangemerkt als ZZS\",\" \")","v":" "},{"$f":"COUNTIF('ZZS-lijst'!A:A,$C843)","v":0}]
[{"$f":"IF(AND(B844>0,ISBLANK('beoordeling maatregel'!Q844)=FALSE),\"Deze stof wordt aangemerkt als ZZS\",\" \")","v":" "},{"$f":"COUNTIF('ZZS-lijst'!A:A,$C844)","v":0}]
[{"$f":"IF(AND(B845>0,ISBLANK('beoordeling maatregel'!Q845)=FALSE),\"Deze stof wordt aangemerkt als ZZS\",\" \")","v":" "},{"$f":"COUNTIF('ZZS-lijst'!A:A,$C845)","v":0}]
[{"$f":"IF(AND(B846>0,ISBLANK('beoordeling maatregel'!Q846)=FALSE),\"Deze stof wordt aangemerkt als ZZS\",\" \")","v":" "},{"$f":"COUNTIF('ZZS-lijst'!A:A,$C846)","v":0}]
[{"$f":"IF(AND(B847>0,ISBLANK('beoordeling maatregel'!Q847)=FALSE),\"Deze stof wordt aangemerkt als ZZS\",\" \")","v":" "},{"$f":"COUNTIF('ZZS-lijst'!A:A,$C847)","v":0}]
[{"$f":"IF(AND(B848>0,ISBLANK('beoordeling maatregel'!Q848)=FALSE),\"Deze stof wordt aangemerkt als ZZS\",\" \")","v":" "},{"$f":"COUNTIF('ZZS-lijst'!A:A,$C848)","v":0}]
[{"$f":"IF(AND(B849>0,ISBLANK('beoordeling maatregel'!Q849)=FALSE),\"Deze stof wordt aangemerkt als ZZS\",\" \")","v":" "},{"$f":"COUNTIF('ZZS-lijst'!A:A,$C849)","v":0}]
[{"$f":"IF(AND(B850>0,ISBLANK('beoordeling maatregel'!Q850)=FALSE),\"Deze stof wordt aangemerkt als ZZS\",\" \")","v":" "},{"$f":"COUNTIF('ZZS-lijst'!A:A,$C850)","v":0}]
[{"$f":"IF(AND(B851>0,ISBLANK('beoordeling maatregel'!Q851)=FALSE),\"Deze stof wordt aangemerkt als ZZS\",\" \")","v":" "},{"$f":"COUNTIF('ZZS-lijst'!A:A,$C851)","v":0}]
[{"$f":"IF(AND(B852>0,ISBLANK('beoordeling maatregel'!Q852)=FALSE),\"Deze stof wordt aangemerkt als ZZS\",\" \")","v":" "},{"$f":"COUNTIF('ZZS-lijst'!A:A,$C852)","v":0}]
[{"$f":"IF(AND(B853>0,ISBLANK('beoordeling maatregel'!Q853)=FALSE),\"Deze stof wordt aangemerkt als ZZS\",\" \")","v":" "},{"$f":"COUNTIF('ZZS-lijst'!A:A,$C853)","v":0}]
[{"$f":"IF(AND(B854>0,ISBLANK('beoordeling maatregel'!Q854)=FALSE),\"Deze stof wordt aangemerkt als ZZS\",\" \")","v":" "},{"$f":"COUNTIF('ZZS-lijst'!A:A,$C854)","v":0}]
[{"$f":"IF(AND(B855>0,ISBLANK('beoordeling maatregel'!Q855)=FALSE),\"Deze stof wordt aangemerkt als ZZS\",\" \")","v":" "},{"$f":"COUNTIF('ZZS-lijst'!A:A,$C855)","v":0}]
[{"$f":"IF(AND(B856>0,ISBLANK('beoordeling maatregel'!Q856)=FALSE),\"Deze stof wordt aangemerkt als ZZS\",\" \")","v":" "},{"$f":"COUNTIF('ZZS-lijst'!A:A,$C856)","v":0}]
[{"$f":"IF(AND(B857>0,ISBLANK('beoordeling maatregel'!Q857)=FALSE),\"Deze stof wordt aangemerkt als ZZS\",\" \")","v":" "},{"$f":"COUNTIF('ZZS-lijst'!A:A,$C857)","v":0}]
[{"$f":"IF(AND(B858>0,ISBLANK('beoordeling maatregel'!Q858)=FALSE),\"Deze stof wordt aangemerkt als ZZS\",\" \")","v":" "},{"$f":"COUNTIF('ZZS-lijst'!A:A,$C858)","v":0}]
[{"$f":"IF(AND(B859>0,ISBLANK('beoordeling maatregel'!Q859)=FALSE),\"Deze stof wordt aangemerkt als ZZS\",\" \")","v":" "},{"$f":"COUNTIF('ZZS-lijst'!A:A,$C859)","v":0}]
[{"$f":"IF(AND(B860>0,ISBLANK('beoordeling maatregel'!Q860)=FALSE),\"Deze stof wordt aangemerkt als ZZS\",\" \")","v":" "},{"$f":"COUNTIF('ZZS-lijst'!A:A,$C860)","v":0}]
[{"$f":"IF(AND(B861>0,ISBLANK('beoordeling maatregel'!Q861)=FALSE),\"Deze stof wordt aangemerkt als ZZS\",\" \")","v":" "},{"$f":"COUNTIF('ZZS-lijst'!A:A,$C861)","v":0}]
[{"$f":"IF(AND(B862>0,ISBLANK('beoordeling maatregel'!Q862)=FALSE),\"Deze stof wordt aangemerkt als ZZS\",\" \")","v":" "},{"$f":"COUNTIF('ZZS-lijst'!A:A,$C862)","v":0}]
[{"$f":"IF(AND(B863>0,ISBLANK('beoordeling maatregel'!Q863)=FALSE),\"Deze stof wordt aangemerkt als ZZS\",\" \")","v":" "},{"$f":"COUNTIF('ZZS-lijst'!A:A,$C863)","v":0}]
[{"$f":"IF(AND(B864>0,ISBLANK('beoordeling maatregel'!Q864)=FALSE),\"Deze stof wordt aangemerkt als ZZS\",\" \")","v":" "},{"$f":"COUNTIF('ZZS-lijst'!A:A,$C864)","v":0}]
[{"$f":"IF(AND(B865>0,ISBLANK('beoordeling maatregel'!Q865)=FALSE),\"Deze stof wordt aangemerkt als ZZS\",\" \")","v":" "},{"$f":"COUNTIF('ZZS-lijst'!A:A,$C865)","v":0}]
[{"$f":"IF(AND(B866>0,ISBLANK('beoordeling maatregel'!Q866)=FALSE),\"Deze stof wordt aangemerkt als ZZS\",\" \")","v":" "},{"$f":"COUNTIF('ZZS-lijst'!A:A,$C866)","v":0}]
[{"$f":"IF(AND(B867>0,ISBLANK('beoordeling maatregel'!Q867)=FALSE),\"Deze stof wordt aangemerkt als ZZS\",\" \")","v":" "},{"$f":"COUNTIF('ZZS-lijst'!A:A,$C867)","v":0}]
[{"$f":"IF(AND(B868>0,ISBLANK('beoordeling maatregel'!Q868)=FALSE),\"Deze stof wordt aangemerkt als ZZS\",\" \")","v":" "},{"$f":"COUNTIF('ZZS-lijst'!A:A,$C868)","v":0}]
[{"$f":"IF(AND(B869>0,ISBLANK('beoordeling maatregel'!Q869)=FALSE),\"Deze stof wordt aangemerkt als ZZS\",\" \")","v":" "},{"$f":"COUNTIF('ZZS-lijst'!A:A,$C869)","v":0}]
[{"$f":"IF(AND(B870>0,ISBLANK('beoordeling maatregel'!Q870)=FALSE),\"Deze stof wordt aangemerkt als ZZS\",\" \")","v":" "},{"$f":"COUNTIF('ZZS-lijst'!A:A,$C870)","v":0}]
[{"$f":"IF(AND(B871>0,ISBLANK('beoordeling maatregel'!Q871)=FALSE),\"Deze stof wordt aangemerkt als ZZS\",\" \")","v":" "},{"$f":"COUNTIF('ZZS-lijst'!A:A,$C871)","v":0}]
[{"$f":"IF(AND(B872>0,ISBLANK('beoordeling maatregel'!Q872)=FALSE),\"Deze stof wordt aangemerkt als ZZS\",\" \")","v":" "},{"$f":"COUNTIF('ZZS-lijst'!A:A,$C872)","v":0}]
[{"$f":"IF(AND(B873>0,ISBLANK('beoordeling maatregel'!Q873)=FALSE),\"Deze stof wordt aangemerkt als ZZS\",\" \")","v":" "},{"$f":"COUNTIF('ZZS-lijst'!A:A,$C873)","v":0}]
[{"$f":"IF(AND(B874>0,ISBLANK('beoordeling maatregel'!Q874)=FALSE),\"Deze stof wordt aangemerkt als ZZS\",\" \")","v":" "},{"$f":"COUNTIF('ZZS-lijst'!A:A,$C874)","v":0}]
[{"$f":"IF(AND(B875>0,ISBLANK('beoordeling maatregel'!Q875)=FALSE),\"Deze stof wordt aangemerkt als ZZS\",\" \")","v":" "},{"$f":"COUNTIF('ZZS-lijst'!A:A,$C875)","v":0}]
[{"$f":"IF(AND(B876>0,ISBLANK('beoordeling maatregel'!Q876)=FALSE),\"Deze stof wordt aangemerkt als ZZS\",\" \")","v":" "},{"$f":"COUNTIF('ZZS-lijst'!A:A,$C876)","v":0}]
[{"$f":"IF(AND(B877>0,ISBLANK('beoordeling maatregel'!Q877)=FALSE),\"Deze stof wordt aangemerkt als ZZS\",\" \")","v":" "},{"$f":"COUNTIF('ZZS-lijst'!A:A,$C877)","v":0}]
[{"$f":"IF(AND(B878>0,ISBLANK('beoordeling maatregel'!Q878)=FALSE),\"Deze stof wordt aangemerkt als ZZS\",\" \")","v":" "},{"$f":"COUNTIF('ZZS-lijst'!A:A,$C878)","v":0}]
[{"$f":"IF(AND(B879>0,ISBLANK('beoordeling maatregel'!Q879)=FALSE),\"Deze stof wordt aangemerkt als ZZS\",\" \")","v":" "},{"$f":"COUNTIF('ZZS-lijst'!A:A,$C879)","v":0}]
[{"$f":"IF(AND(B880>0,ISBLANK('beoordeling maatregel'!Q880)=FALSE),\"Deze stof wordt aangemerkt als ZZS\",\" \")","v":" "},{"$f":"COUNTIF('ZZS-lijst'!A:A,$C880)","v":0}]
[{"$f":"IF(AND(B881>0,ISBLANK('beoordeling maatregel'!Q881)=FALSE),\"Deze stof wordt aangemerkt als ZZS\",\" \")","v":" "},{"$f":"COUNTIF('ZZS-lijst'!A:A,$C881)","v":0}]
[{"$f":"IF(AND(B882>0,ISBLANK('beoordeling maatregel'!Q882)=FALSE),\"Deze stof wordt aangemerkt als ZZS\",\" \")","v":" "},{"$f":"COUNTIF('ZZS-lijst'!A:A,$C882)","v":0}]
[{"$f":"IF(AND(B883>0,ISBLANK('beoordeling maatregel'!Q883)=FALSE),\"Deze stof wordt aangemerkt als ZZS\",\" \")","v":" "},{"$f":"COUNTIF('ZZS-lijst'!A:A,$C883)","v":0}]
[{"$f":"IF(AND(B884>0,ISBLANK('beoordeling maatregel'!Q884)=FALSE),\"Deze stof wordt aangemerkt als ZZS\",\" \")","v":" "},{"$f":"COUNTIF('ZZS-lijst'!A:A,$C884)","v":0}]
[{"$f":"IF(AND(B885>0,ISBLANK('beoordeling maatregel'!Q885)=FALSE),\"Deze stof wordt aangemerkt als ZZS\",\" \")","v":" "},{"$f":"COUNTIF('ZZS-lijst'!A:A,$C885)","v":0}]
[{"$f":"IF(AND(B886>0,ISBLANK('beoordeling maatregel'!Q886)=FALSE),\"Deze stof wordt aangemerkt als ZZS\",\" \")","v":" "},{"$f":"COUNTIF('ZZS-lijst'!A:A,$C886)","v":0}]
[{"$f":"IF(AND(B887>0,ISBLANK('beoordeling maatregel'!Q887)=FALSE),\"Deze stof wordt aangemerkt als ZZS\",\" \")","v":" "},{"$f":"COUNTIF('ZZS-lijst'!A:A,$C887)","v":0}]
[{"$f":"IF(AND(B888>0,ISBLANK('beoordeling maatregel'!Q888)=FALSE),\"Deze stof wordt aangemerkt als ZZS\",\" \")","v":" "},{"$f":"COUNTIF('ZZS-lijst'!A:A,$C888)","v":0}]
[{"$f":"IF(AND(B889>0,ISBLANK('beoordeling maatregel'!Q889)=FALSE),\"Deze stof wordt aangemerkt als ZZS\",\" \")","v":" "},{"$f":"COUNTIF('ZZS-lijst'!A:A,$C889)","v":0}]
[{"$f":"IF(AND(B890>0,ISBLANK('beoordeling maatregel'!Q890)=FALSE),\"Deze stof wordt aangemerkt als ZZS\",\" \")","v":" "},{"$f":"COUNTIF('ZZS-lijst'!A:A,$C890)","v":0}]
[{"$f":"IF(AND(B891>0,ISBLANK('beoordeling maatregel'!Q891)=FALSE),\"Deze stof wordt aangemerkt als ZZS\",\" \")","v":" "},{"$f":"COUNTIF('ZZS-lijst'!A:A,$C891)","v":0}]
[{"$f":"IF(AND(B892>0,ISBLANK('beoordeling maatregel'!Q892)=FALSE),\"Deze stof wordt aangemerkt als ZZS\",\" \")","v":" "},{"$f":"COUNTIF('ZZS-lijst'!A:A,$C892)","v":0}]
[{"$f":"IF(AND(B893>0,ISBLANK('beoordeling maatregel'!Q893)=FALSE),\"Deze stof wordt aangemerkt als ZZS\",\" \")","v":" "},{"$f":"COUNTIF('ZZS-lijst'!A:A,$C893)","v":0}]
[{"$f":"IF(AND(B894>0,ISBLANK('beoordeling maatregel'!Q894)=FALSE),\"Deze stof wordt aangemerkt als ZZS\",\" \")","v":" "},{"$f":"COUNTIF('ZZS-lijst'!A:A,$C894)","v":0}]
[{"$f":"IF(AND(B895>0,ISBLANK('beoordeling maatregel'!Q895)=FALSE),\"Deze stof wordt aangemerkt als ZZS\",\" \")","v":" "},{"$f":"COUNTIF('ZZS-lijst'!A:A,$C895)","v":0}]
[{"$f":"IF(AND(B896>0,ISBLANK('beoordeling maatregel'!Q896)=FALSE),\"Deze stof wordt aangemerkt als ZZS\",\" \")","v":" "},{"$f":"COUNTIF('ZZS-lijst'!A:A,$C896)","v":0}]
[{"$f":"IF(AND(B897>0,ISBLANK('beoordeling maatregel'!Q897)=FALSE),\"Deze stof wordt aangemerkt als ZZS\",\" \")","v":" "},{"$f":"COUNTIF('ZZS-lijst'!A:A,$C897)","v":0}]
[{"$f":"IF(AND(B898>0,ISBLANK('beoordeling maatregel'!Q898)=FALSE),\"Deze stof wordt aangemerkt als ZZS\",\" \")","v":" "},{"$f":"COUNTIF('ZZS-lijst'!A:A,$C898)","v":0}]
[{"$f":"IF(AND(B899>0,ISBLANK('beoordeling maatregel'!Q899)=FALSE),\"Deze stof wordt aangemerkt als ZZS\",\" \")","v":" "},{"$f":"COUNTIF('ZZS-lijst'!A:A,$C899)","v":0}]
[{"$f":"IF(AND(B900>0,ISBLANK('beoordeling maatregel'!Q900)=FALSE),\"Deze stof wordt aangemerkt als ZZS\",\" \")","v":" "},{"$f":"COUNTIF('ZZS-lijst'!A:A,$C900)","v":0}]
[{"$f":"IF(AND(B901>0,ISBLANK('beoordeling maatregel'!Q901)=FALSE),\"Deze stof wordt aangemerkt als ZZS\",\" \")","v":" "},{"$f":"COUNTIF('ZZS-lijst'!A:A,$C901)","v":0}]
[{"$f":"IF(AND(B902>0,ISBLANK('beoordeling maatregel'!Q902)=FALSE),\"Deze stof wordt aangemerkt als ZZS\",\" \")","v":" "},{"$f":"COUNTIF('ZZS-lijst'!A:A,$C902)","v":0}]
[{"$f":"IF(AND(B903>0,ISBLANK('beoordeling maatregel'!Q903)=FALSE),\"Deze stof wordt aangemerkt als ZZS\",\" \")","v":" "},{"$f":"COUNTIF('ZZS-lijst'!A:A,$C903)","v":0}]
[{"$f":"IF(AND(B904>0,ISBLANK('beoordeling maatregel'!Q904)=FALSE),\"Deze stof wordt aangemerkt als ZZS\",\" \")","v":" "},{"$f":"COUNTIF('ZZS-lijst'!A:A,$C904)","v":0}]
[{"$f":"IF(AND(B905>0,ISBLANK('beoordeling maatregel'!Q905)=FALSE),\"Deze stof wordt aangemerkt als ZZS\",\" \")","v":" "},{"$f":"COUNTIF('ZZS-lijst'!A:A,$C905)","v":0}]
[{"$f":"IF(AND(B906>0,ISBLANK('beoordeling maatregel'!Q906)=FALSE),\"Deze stof wordt aangemerkt als ZZS\",\" \")","v":" "},{"$f":"COUNTIF('ZZS-lijst'!A:A,$C906)","v":0}]
[{"$f":"IF(AND(B907>0,ISBLANK('beoordeling maatregel'!Q907)=FALSE),\"Deze stof wordt aangemerkt als ZZS\",\" \")","v":" "},{"$f":"COUNTIF('ZZS-lijst'!A:A,$C907)","v":0}]
[{"$f":"IF(AND(B908>0,ISBLANK('beoordeling maatregel'!Q908)=FALSE),\"Deze stof wordt aangemerkt als ZZS\",\" \")","v":" "},{"$f":"COUNTIF('ZZS-lijst'!A:A,$C908)","v":0}]
[{"$f":"IF(AND(B909>0,ISBLANK('beoordeling maatregel'!Q909)=FALSE),\"Deze stof wordt aangemerkt als ZZS\",\" \")","v":" "},{"$f":"COUNTIF('ZZS-lijst'!A:A,$C909)","v":0}]
[{"$f":"IF(AND(B910>0,ISBLANK('beoordeling maatregel'!Q910)=FALSE),\"Deze stof wordt aangemerkt als ZZS\",\" \")","v":" "},{"$f":"COUNTIF('ZZS-lijst'!A:A,$C910)","v":0}]
[{"$f":"IF(AND(B911>0,ISBLANK('beoordeling maatregel'!Q911)=FALSE),\"Deze stof wordt aangemerkt als ZZS\",\" \")","v":" "},{"$f":"COUNTIF('ZZS-lijst'!A:A,$C911)","v":0}]
[{"$f":"IF(AND(B912>0,ISBLANK('beoordeling maatregel'!Q912)=FALSE),\"Deze stof wordt aangemerkt als ZZS\",\" \")","v":" "},{"$f":"COUNTIF('ZZS-lijst'!A:A,$C912)","v":0}]
[{"$f":"IF(AND(B913>0,ISBLANK('beoordeling maatregel'!Q913)=FALSE),\"Deze stof wordt aangemerkt als ZZS\",\" \")","v":" "},{"$f":"COUNTIF('ZZS-lijst'!A:A,$C913)","v":0}]
[{"$f":"IF(AND(B914>0,ISBLANK('beoordeling maatregel'!Q914)=FALSE),\"Deze stof wordt aangemerkt als ZZS\",\" \")","v":" "},{"$f":"COUNTIF('ZZS-lijst'!A:A,$C914)","v":0}]
[{"$f":"IF(AND(B915>0,ISBLANK('beoordeling maatregel'!Q915)=FALSE),\"Deze stof wordt aangemerkt als ZZS\",\" \")","v":" "},{"$f":"COUNTIF('ZZS-lijst'!A:A,$C915)","v":0}]
[{"$f":"IF(AND(B916>0,ISBLANK('beoordeling maatregel'!Q916)=FALSE),\"Deze stof wordt aangemerkt als ZZS\",\" \")","v":" "},{"$f":"COUNTIF('ZZS-lijst'!A:A,$C916)","v":0}]
[{"$f":"IF(AND(B917>0,ISBLANK('beoordeling maatregel'!Q917)=FALSE),\"Deze stof wordt aangemerkt als ZZS\",\" \")","v":" "},{"$f":"COUNTIF('ZZS-lijst'!A:A,$C917)","v":0}]
[{"$f":"IF(AND(B918>0,ISBLANK('beoordeling maatregel'!Q918)=FALSE),\"Deze stof wordt aangemerkt als ZZS\",\" \")","v":" "},{"$f":"COUNTIF('ZZS-lijst'!A:A,$C918)","v":0}]
[{"$f":"IF(AND(B919>0,ISBLANK('beoordeling maatregel'!Q919)=FALSE),\"Deze stof wordt aangemerkt als ZZS\",\" \")","v":" "},{"$f":"COUNTIF('ZZS-lijst'!A:A,$C919)","v":0}]
[{"$f":"IF(AND(B920>0,ISBLANK('beoordeling maatregel'!Q920)=FALSE),\"Deze stof wordt aangemerkt als ZZS\",\" \")","v":" "},{"$f":"COUNTIF('ZZS-lijst'!A:A,$C920)","v":0}]
[{"$f":"IF(AND(B921>0,ISBLANK('beoordeling maatregel'!Q921)=FALSE),\"Deze stof wordt aangemerkt als ZZS\",\" \")","v":" "},{"$f":"COUNTIF('ZZS-lijst'!A:A,$C921)","v":0}]
[{"$f":"IF(AND(B922>0,ISBLANK('beoordeling maatregel'!Q922)=FALSE),\"Deze stof wordt aangemerkt als ZZS\",\" \")","v":" "},{"$f":"COUNTIF('ZZS-lijst'!A:A,$C922)","v":0}]
[{"$f":"IF(AND(B923>0,ISBLANK('beoordeling maatregel'!Q923)=FALSE),\"Deze stof wordt aangemerkt als ZZS\",\" \")","v":" "},{"$f":"COUNTIF('ZZS-lijst'!A:A,$C923)","v":0}]
[{"$f":"IF(AND(B924>0,ISBLANK('beoordeling maatregel'!Q924)=FALSE),\"Deze stof wordt aangemerkt als ZZS\",\" \")","v":" "},{"$f":"COUNTIF('ZZS-lijst'!A:A,$C924)","v":0}]
[{"$f":"IF(AND(B925>0,ISBLANK('beoordeling maatregel'!Q925)=FALSE),\"Deze stof wordt aangemerkt als ZZS\",\" \")","v":" "},{"$f":"COUNTIF('ZZS-lijst'!A:A,$C925)","v":0}]
[{"$f":"IF(AND(B926>0,ISBLANK('beoordeling maatregel'!Q926)=FALSE),\"Deze stof wordt aangemerkt als ZZS\",\" \")","v":" "},{"$f":"COUNTIF('ZZS-lijst'!A:A,$C926)","v":0}]
[{"$f":"IF(AND(B927>0,ISBLANK('beoordeling maatregel'!Q927)=FALSE),\"Deze stof wordt aangemerkt als ZZS\",\" \")","v":" "},{"$f":"COUNTIF('ZZS-lijst'!A:A,$C927)","v":0}]
[{"$f":"IF(AND(B928>0,ISBLANK('beoordeling maatregel'!Q928)=FALSE),\"Deze stof wordt aangemerkt als ZZS\",\" \")","v":" "},{"$f":"COUNTIF('ZZS-lijst'!A:A,$C928)","v":0}]
[{"$f":"IF(AND(B929>0,ISBLANK('beoordeling maatregel'!Q929)=FALSE),\"Deze stof wordt aangemerkt als ZZS\",\" \")","v":" "},{"$f":"COUNTIF('ZZS-lijst'!A:A,$C929)","v":0}]
[{"$f":"IF(AND(B930>0,ISBLANK('beoordeling maatregel'!Q930)=FALSE),\"Deze stof wordt aangemerkt als ZZS\",\" \")","v":" "},{"$f":"COUNTIF('ZZS-lijst'!A:A,$C930)","v":0}]
[{"$f":"IF(AND(B931>0,ISBLANK('beoordeling maatregel'!Q931)=FALSE),\"Deze stof wordt aangemerkt als ZZS\",\" \")","v":" "},{"$f":"COUNTIF('ZZS-lijst'!A:A,$C931)","v":0}]
[{"$f":"IF(AND(B932>0,ISBLANK('beoordeling maatregel'!Q932)=FALSE),\"Deze stof wordt aangemerkt als ZZS\",\" \")","v":" "},{"$f":"COUNTIF('ZZS-lijst'!A:A,$C932)","v":0}]
[{"$f":"IF(AND(B933>0,ISBLANK('beoordeling maatregel'!Q933)=FALSE),\"Deze stof wordt aangemerkt als ZZS\",\" \")","v":" "},{"$f":"COUNTIF('ZZS-lijst'!A:A,$C933)","v":0}]
[{"$f":"IF(AND(B934>0,ISBLANK('beoordeling maatregel'!Q934)=FALSE),\"Deze stof wordt aangemerkt als ZZS\",\" \")","v":" "},{"$f":"COUNTIF('ZZS-lijst'!A:A,$C934)","v":0}]
[{"$f":"IF(AND(B935>0,ISBLANK('beoordeling maatregel'!Q935)=FALSE),\"Deze stof wordt aangemerkt als ZZS\",\" \")","v":" "},{"$f":"COUNTIF('ZZS-lijst'!A:A,$C935)","v":0}]
[{"$f":"IF(AND(B936>0,ISBLANK('beoordeling maatregel'!Q936)=FALSE),\"Deze stof wordt aangemerkt als ZZS\",\" \")","v":" "},{"$f":"COUNTIF('ZZS-lijst'!A:A,$C936)","v":0}]
[{"$f":"IF(AND(B937>0,ISBLANK('beoordeling maatregel'!Q937)=FALSE),\"Deze stof wordt aangemerkt als ZZS\",\" \")","v":" "},{"$f":"COUNTIF('ZZS-lijst'!A:A,$C937)","v":0}]
[{"$f":"IF(AND(B938>0,ISBLANK('beoordeling maatregel'!Q938)=FALSE),\"Deze stof wordt aangemerkt als ZZS\",\" \")","v":" "},{"$f":"COUNTIF('ZZS-lijst'!A:A,$C938)","v":0}]
[{"$f":"IF(AND(B939>0,ISBLANK('beoordeling maatregel'!Q939)=FALSE),\"Deze stof wordt aangemerkt als ZZS\",\" \")","v":" "},{"$f":"COUNTIF('ZZS-lijst'!A:A,$C939)","v":0}]
[{"$f":"IF(AND(B940>0,ISBLANK('beoordeling maatregel'!Q940)=FALSE),\"Deze stof wordt aangemerkt als ZZS\",\" \")","v":" "},{"$f":"COUNTIF('ZZS-lijst'!A:A,$C940)","v":0}]
[{"$f":"IF(AND(B941>0,ISBLANK('beoordeling maatregel'!Q941)=FALSE),\"Deze stof wordt aangemerkt als ZZS\",\" \")","v":" "},{"$f":"COUNTIF('ZZS-lijst'!A:A,$C941)","v":0}]
[{"$f":"IF(AND(B942>0,ISBLANK('beoordeling maatregel'!Q942)=FALSE),\"Deze stof wordt aangemerkt als ZZS\",\" \")","v":" "},{"$f":"COUNTIF('ZZS-lijst'!A:A,$C942)","v":0}]
[{"$f":"IF(AND(B943>0,ISBLANK('beoordeling maatregel'!Q943)=FALSE),\"Deze stof wordt aangemerkt als ZZS\",\" \")","v":" "},{"$f":"COUNTIF('ZZS-lijst'!A:A,$C943)","v":0}]
[{"$f":"IF(AND(B944>0,ISBLANK('beoordeling maatregel'!Q944)=FALSE),\"Deze stof wordt aangemerkt als ZZS\",\" \")","v":" "},{"$f":"COUNTIF('ZZS-lijst'!A:A,$C944)","v":0}]
[{"$f":"IF(AND(B945>0,ISBLANK('beoordeling maatregel'!Q945)=FALSE),\"Deze stof wordt aangemerkt als ZZS\",\" \")","v":" "},{"$f":"COUNTIF('ZZS-lijst'!A:A,$C945)","v":0}]
[{"$f":"IF(AND(B946>0,ISBLANK('beoordeling maatregel'!Q946)=FALSE),\"Deze stof wordt aangemerkt als ZZS\",\" \")","v":" "},{"$f":"COUNTIF('ZZS-lijst'!A:A,$C946)","v":0}]
[{"$f":"IF(AND(B947>0,ISBLANK('beoordeling maatregel'!Q947)=FALSE),\"Deze stof wordt aangemerkt als ZZS\",\" \")","v":" "},{"$f":"COUNTIF('ZZS-lijst'!A:A,$C947)","v":0}]
[{"$f":"IF(AND(B948>0,ISBLANK('beoordeling maatregel'!Q948)=FALSE),\"Deze stof wordt aangemerkt als ZZS\",\" \")","v":" "},{"$f":"COUNTIF('ZZS-lijst'!A:A,$C948)","v":0}]
[{"$f":"IF(AND(B949>0,ISBLANK('beoordeling maatregel'!Q949)=FALSE),\"Deze stof wordt aangemerkt als ZZS\",\" \")","v":" "},{"$f":"COUNTIF('ZZS-lijst'!A:A,$C949)","v":0}]
[{"$f":"IF(AND(B950>0,ISBLANK('beoordeling maatregel'!Q950)=FALSE),\"Deze stof wordt aangemerkt als ZZS\",\" \")","v":" "},{"$f":"COUNTIF('ZZS-lijst'!A:A,$C950)","v":0}]
[{"$f":"IF(AND(B951>0,ISBLANK('beoordeling maatregel'!Q951)=FALSE),\"Deze stof wordt aangemerkt als ZZS\",\" \")","v":" "},{"$f":"COUNTIF('ZZS-lijst'!A:A,$C951)","v":0}]
[{"$f":"IF(AND(B952>0,ISBLANK('beoordeling maatregel'!Q952)=FALSE),\"Deze stof wordt aangemerkt als ZZS\",\" \")","v":" "},{"$f":"COUNTIF('ZZS-lijst'!A:A,$C952)","v":0}]
[{"$f":"IF(AND(B953>0,ISBLANK('beoordeling maatregel'!Q953)=FALSE),\"Deze stof wordt aangemerkt als ZZS\",\" \")","v":" "},{"$f":"COUNTIF('ZZS-lijst'!A:A,$C953)","v":0}]
[{"$f":"IF(AND(B954>0,ISBLANK('beoordeling maatregel'!Q954)=FALSE),\"Deze stof wordt aangemerkt als ZZS\",\" \")","v":" "},{"$f":"COUNTIF('ZZS-lijst'!A:A,$C954)","v":0}]
[{"$f":"IF(AND(B955>0,ISBLANK('beoordeling maatregel'!Q955)=FALSE),\"Deze stof wordt aangemerkt als ZZS\",\" \")","v":" "},{"$f":"COUNTIF('ZZS-lijst'!A:A,$C955)","v":0}]
[{"$f":"IF(AND(B956>0,ISBLANK('beoordeling maatregel'!Q956)=FALSE),\"Deze stof wordt aangemerkt als ZZS\",\" \")","v":" "},{"$f":"COUNTIF('ZZS-lijst'!A:A,$C956)","v":0}]
[{"$f":"IF(AND(B957>0,ISBLANK('beoordeling maatregel'!Q957)=FALSE),\"Deze stof wordt aangemerkt als ZZS\",\" \")","v":" "},{"$f":"COUNTIF('ZZS-lijst'!A:A,$C957)","v":0}]
[{"$f":"IF(AND(B958>0,ISBLANK('beoordeling maatregel'!Q958)=FALSE),\"Deze stof wordt aangemerkt als ZZS\",\" \")","v":" "},{"$f":"COUNTIF('ZZS-lijst'!A:A,$C958)","v":0}]
[{"$f":"IF(AND(B959>0,ISBLANK('beoordeling maatregel'!Q959)=FALSE),\"Deze stof wordt aangemerkt als ZZS\",\" \")","v":" "},{"$f":"COUNTIF('ZZS-lijst'!A:A,$C959)","v":0}]
[{"$f":"IF(AND(B960>0,ISBLANK('beoordeling maatregel'!Q960)=FALSE),\"Deze stof wordt aangemerkt als ZZS\",\" \")","v":" "},{"$f":"COUNTIF('ZZS-lijst'!A:A,$C960)","v":0}]
[{"$f":"IF(AND(B961>0,ISBLANK('beoordeling maatregel'!Q961)=FALSE),\"Deze stof wordt aangemerkt als ZZS\",\" \")","v":" "},{"$f":"COUNTIF('ZZS-lijst'!A:A,$C961)","v":0}]
[{"$f":"IF(AND(B962>0,ISBLANK('beoordeling maatregel'!Q962)=FALSE),\"Deze stof wordt aangemerkt als ZZS\",\" \")","v":" "},{"$f":"COUNTIF('ZZS-lijst'!A:A,$C962)","v":0}]
[{"$f":"IF(AND(B963>0,ISBLANK('beoordeling maatregel'!Q963)=FALSE),\"Deze stof wordt aangemerkt als ZZS\",\" \")","v":" "},{"$f":"COUNTIF('ZZS-lijst'!A:A,$C963)","v":0}]
[{"$f":"IF(AND(B964>0,ISBLANK('beoordeling maatregel'!Q964)=FALSE),\"Deze stof wordt aangemerkt als ZZS\",\" \")","v":" "},{"$f":"COUNTIF('ZZS-lijst'!A:A,$C964)","v":0}]
[{"$f":"IF(AND(B965>0,ISBLANK('beoordeling maatregel'!Q965)=FALSE),\"Deze stof wordt aangemerkt als ZZS\",\" \")","v":" "},{"$f":"COUNTIF('ZZS-lijst'!A:A,$C965)","v":0}]
[{"$f":"IF(AND(B966>0,ISBLANK('beoordeling maatregel'!Q966)=FALSE),\"Deze stof wordt aangemerkt als ZZS\",\" \")","v":" "},{"$f":"COUNTIF('ZZS-lijst'!A:A,$C966)","v":0}]
[{"$f":"IF(AND(B967>0,ISBLANK('beoordeling maatregel'!Q967)=FALSE),\"Deze stof wordt aangemerkt als ZZS\",\" \")","v":" "},{"$f":"COUNTIF('ZZS-lijst'!A:A,$C967)","v":0}]
[{"$f":"IF(AND(B968>0,ISBLANK('beoordeling maatregel'!Q968)=FALSE),\"Deze stof wordt aangemerkt als ZZS\",\" \")","v":" "},{"$f":"COUNTIF('ZZS-lijst'!A:A,$C968)","v":0}]
[{"$f":"IF(AND(B969>0,ISBLANK('beoordeling maatregel'!Q969)=FALSE),\"Deze stof wordt aangemerkt als ZZS\",\" \")","v":" "},{"$f":"COUNTIF('ZZS-lijst'!A:A,$C969)","v":0}]
[{"$f":"IF(AND(B970>0,ISBLANK('beoordeling maatregel'!Q970)=FALSE),\"Deze stof wordt aangemerkt als ZZS\",\" \")","v":" "},{"$f":"COUNTIF('ZZS-lijst'!A:A,$C970)","v":0}]
[{"$f":"IF(AND(B971>0,ISBLANK('beoordeling maatregel'!Q971)=FALSE),\"Deze stof wordt aangemerkt als ZZS\",\" \")","v":" "},{"$f":"COUNTIF('ZZS-lijst'!A:A,$C971)","v":0}]
[{"$f":"IF(AND(B972>0,ISBLANK('beoordeling maatregel'!Q972)=FALSE),\"Deze stof wordt aangemerkt als ZZS\",\" \")","v":" "},{"$f":"COUNTIF('ZZS-lijst'!A:A,$C972)","v":0}]
[{"$f":"IF(AND(B973>0,ISBLANK('beoordeling maatregel'!Q973)=FALSE),\"Deze stof wordt aangemerkt als ZZS\",\" \")","v":" "},{"$f":"COUNTIF('ZZS-lijst'!A:A,$C973)","v":0}]
[{"$f":"IF(AND(B974>0,ISBLANK('beoordeling maatregel'!Q974)=FALSE),\"Deze stof wordt aangemerkt als ZZS\",\" \")","v":" "},{"$f":"COUNTIF('ZZS-lijst'!A:A,$C974)","v":0}]
[{"$f":"IF(AND(B975>0,ISBLANK('beoordeling maatregel'!Q975)=FALSE),\"Deze stof wordt aangemerkt als ZZS\",\" \")","v":" "},{"$f":"COUNTIF('ZZS-lijst'!A:A,$C975)","v":0}]
[{"$f":"IF(AND(B976>0,ISBLANK('beoordeling maatregel'!Q976)=FALSE),\"Deze stof wordt aangemerkt als ZZS\",\" \")","v":" "},{"$f":"COUNTIF('ZZS-lijst'!A:A,$C976)","v":0}]
[{"$f":"IF(AND(B977>0,ISBLANK('beoordeling maatregel'!Q977)=FALSE),\"Deze stof wordt aangemerkt als ZZS\",\" \")","v":" "},{"$f":"COUNTIF('ZZS-lijst'!A:A,$C977)","v":0}]
[{"$f":"IF(AND(B978>0,ISBLANK('beoordeling maatregel'!Q978)=FALSE),\"Deze stof wordt aangemerkt als ZZS\",\" \")","v":" "},{"$f":"COUNTIF('ZZS-lijst'!A:A,$C978)","v":0}]
[{"$f":"IF(AND(B979>0,ISBLANK('beoordeling maatregel'!Q979)=FALSE),\"Deze stof wordt aangemerkt als ZZS\",\" \")","v":" "},{"$f":"COUNTIF('ZZS-lijst'!A:A,$C979)","v":0}]
[{"$f":"IF(AND(B980>0,ISBLANK('beoordeling maatregel'!Q980)=FALSE),\"Deze stof wordt aangemerkt als ZZS\",\" \")","v":" "},{"$f":"COUNTIF('ZZS-lijst'!A:A,$C980)","v":0}]
[{"$f":"IF(AND(B981>0,ISBLANK('beoordeling maatregel'!Q981)=FALSE),\"Deze stof wordt aangemerkt als ZZS\",\" \")","v":" "},{"$f":"COUNTIF('ZZS-lijst'!A:A,$C981)","v":0}]
[{"$f":"IF(AND(B982>0,ISBLANK('beoordeling maatregel'!Q982)=FALSE),\"Deze stof wordt aangemerkt als ZZS\",\" \")","v":" "},{"$f":"COUNTIF('ZZS-lijst'!A:A,$C982)","v":0}]
[{"$f":"IF(AND(B983>0,ISBLANK('beoordeling maatregel'!Q983)=FALSE),\"Deze stof wordt aangemerkt als ZZS\",\" \")","v":" "},{"$f":"COUNTIF('ZZS-lijst'!A:A,$C983)","v":0}]
[{"$f":"IF(AND(B984>0,ISBLANK('beoordeling maatregel'!Q984)=FALSE),\"Deze stof wordt aangemerkt als ZZS\",\" \")","v":" "},{"$f":"COUNTIF('ZZS-lijst'!A:A,$C984)","v":0}]
[{"$f":"IF(AND(B985>0,ISBLANK('beoordeling maatregel'!Q985)=FALSE),\"Deze stof wordt aangemerkt als ZZS\",\" \")","v":" "},{"$f":"COUNTIF('ZZS-lijst'!A:A,$C985)","v":0}]
[{"$f":"IF(AND(B986>0,ISBLANK('beoordeling maatregel'!Q986)=FALSE),\"Deze stof wordt aangemerkt als ZZS\",\" \")","v":" "},{"$f":"COUNTIF('ZZS-lijst'!A:A,$C986)","v":0}]
[{"$f":"IF(AND(B987>0,ISBLANK('beoordeling maatregel'!Q987)=FALSE),\"Deze stof wordt aangemerkt als ZZS\",\" \")","v":" "},{"$f":"COUNTIF('ZZS-lijst'!A:A,$C987)","v":0}]
[{"$f":"IF(AND(B988>0,ISBLANK('beoordeling maatregel'!Q988)=FALSE),\"Deze stof wordt aangemerkt als ZZS\",\" \")","v":" "},{"$f":"COUNTIF('ZZS-lijst'!A:A,$C988)","v":0}]
[{"$f":"IF(AND(B989>0,ISBLANK('beoordeling maatregel'!Q989)=FALSE),\"Deze stof wordt aangemerkt als ZZS\",\" \")","v":" "},{"$f":"COUNTIF('ZZS-lijst'!A:A,$C989)","v":0}]
[{"$f":"IF(AND(B990>0,ISBLANK('beoordeling maatregel'!Q990)=FALSE),\"Deze stof wordt aangemerkt als ZZS\",\" \")","v":" "},{"$f":"COUNTIF('ZZS-lijst'!A:A,$C990)","v":0}]
[{"$f":"IF(AND(B991>0,ISBLANK('beoordeling maatregel'!Q991)=FALSE),\"Deze stof wordt aangemerkt als ZZS\",\" \")","v":" "},{"$f":"COUNTIF('ZZS-lijst'!A:A,$C991)","v":0}]
[{"$f":"IF(AND(B992>0,ISBLANK('beoordeling maatregel'!Q992)=FALSE),\"Deze stof wordt aangemerkt als ZZS\",\" \")","v":" "},{"$f":"COUNTIF('ZZS-lijst'!A:A,$C992)","v":0}]
[{"$f":"IF(AND(B993>0,ISBLANK('beoordeling maatregel'!Q993)=FALSE),\"Deze stof wordt aangemerkt als ZZS\",\" \")","v":" "},{"$f":"COUNTIF('ZZS-lijst'!A:A,$C993)","v":0}]
[{"$f":"IF(AND(B994>0,ISBLANK('beoordeling maatregel'!Q994)=FALSE),\"Deze stof wordt aangemerkt als ZZS\",\" \")","v":" "},{"$f":"COUNTIF('ZZS-lijst'!A:A,$C994)","v":0}]
[{"$f":"IF(AND(B995>0,ISBLANK('beoordeling maatregel'!Q995)=FALSE),\"Deze stof wordt aangemerkt als ZZS\",\" \")","v":" "},{"$f":"COUNTIF('ZZS-lijst'!A:A,$C995)","v":0}]
[{"$f":"IF(AND(B996>0,ISBLANK('beoordeling maatregel'!Q996)=FALSE),\"Deze stof wordt aangemerkt als ZZS\",\" \")","v":" "},{"$f":"COUNTIF('ZZS-lijst'!A:A,$C996)","v":0}]
[{"$f":"IF(AND(B997>0,ISBLANK('beoordeling maatregel'!Q997)=FALSE),\"Deze stof wordt aangemerkt als ZZS\",\" \")","v":" "},{"$f":"COUNTIF('ZZS-lijst'!A:A,$C997)","v":0}]
[{"$f":"IF(AND(B998>0,ISBLANK('beoordeling maatregel'!Q998)=FALSE),\"Deze stof wordt aangemerkt als ZZS\",\" \")","v":" "},{"$f":"COUNTIF('ZZS-lijst'!A:A,$C998)","v":0}]
[{"$f":"IF(AND(B999>0,ISBLANK('beoordeling maatregel'!Q999)=FALSE),\"Deze stof wordt aangemerkt als ZZS\",\" \")","v":" "},{"$f":"COUNTIF('ZZS-lijst'!A:A,$C999)","v":0}]
[{"$f":"IF(AND(B1000>0,ISBLANK('beoordeling maatregel'!Q1000)=FALSE),\"Deze stof wordt aangemerkt als ZZS\",\" \")","v":" "},{"$f":"COUNTIF('ZZS-lijst'!A:A,$C1000)","v":0}]
[{"$f":"IF(AND(B1001>0,ISBLANK('beoordeling maatregel'!Q1001)=FALSE),\"Deze stof wordt aangemerkt als ZZS\",\" \")","v":" "},{"$f":"COUNTIF('ZZS-lijst'!A:A,$C1001)","v":0}]
[{"$f":"IF(AND(B1002>0,ISBLANK('beoordeling maatregel'!Q1002)=FALSE),\"Deze stof wordt aangemerkt als ZZS\",\" \")","v":" "},{"$f":"COUNTIF('ZZS-lijst'!A:A,$C1002)","v":0}]
[{"$f":"IF(AND(B1003>0,ISBLANK('beoordeling maatregel'!Q1003)=FALSE),\"Deze stof wordt aangemerkt als ZZS\",\" \")","v":" "},{"$f":"COUNTIF('ZZS-lijst'!A:A,$C1003)","v":0}]
[{"$f":"IF(AND(B1004>0,ISBLANK('beoordeling maatregel'!Q1004)=FALSE),\"Deze stof wordt aangemerkt als ZZS\",\" \")","v":" "},{"$f":"COUNTIF('ZZS-lijst'!A:A,$C1004)","v":0}]
[{"$f":"IF(AND(B1005>0,ISBLANK('beoordeling maatregel'!Q1005)=FALSE),\"Deze stof wordt aangemerkt als ZZS\",\" \")","v":" "},{"$f":"COUNTIF('ZZS-lijst'!A:A,$C1005)","v":0}]
[{"$f":"IF(AND(B1006>0,ISBLANK('beoordeling maatregel'!Q1006)=FALSE),\"Deze stof wordt aangemerkt als ZZS\",\" \")","v":" "},{"$f":"COUNTIF('ZZS-lijst'!A:A,$C1006)","v":0}]
[{"$f":"IF(AND(B1007>0,ISBLANK('beoordeling maatregel'!Q1007)=FALSE),\"Deze stof wordt aangemerkt als ZZS\",\" \")","v":" "},{"$f":"COUNTIF('ZZS-lijst'!A:A,$C1007)","v":0}]
[{"$f":"IF(AND(B1008>0,ISBLANK('beoordeling maatregel'!Q1008)=FALSE),\"Deze stof wordt aangemerkt als ZZS\",\" \")","v":" "},{"$f":"COUNTIF('ZZS-lijst'!A:A,$C1008)","v":0}]
[{"$f":"IF(AND(B1009>0,ISBLANK('beoordeling maatregel'!Q1009)=FALSE),\"Deze stof wordt aangemerkt als ZZS\",\" \")","v":" "},{"$f":"COUNTIF('ZZS-lijst'!A:A,$C1009)","v":0}]
[{"$f":"IF(AND(B1010>0,ISBLANK('beoordeling maatregel'!Q1010)=FALSE),\"Deze stof wordt aangemerkt als ZZS\",\" \")","v":" "},{"$f":"COUNTIF('ZZS-lijst'!A:A,$C1010)","v":0}]
[{"$f":"IF(AND(B1011>0,ISBLANK('beoordeling maatregel'!Q1011)=FALSE),\"Deze stof wordt aangemerkt als ZZS\",\" \")","v":" "},{"$f":"COUNTIF('ZZS-lijst'!A:A,$C1011)","v":0}]
[{"$f":"IF(AND(B1012>0,ISBLANK('beoordeling maatregel'!Q1012)=FALSE),\"Deze stof wordt aangemerkt als ZZS\",\" \")","v":" "},{"$f":"COUNTIF('ZZS-lijst'!A:A,$C1012)","v":0}]
[{"$f":"IF(AND(B1013>0,ISBLANK('beoordeling maatregel'!Q1013)=FALSE),\"Deze stof wordt aangemerkt als ZZS\",\" \")","v":" "},{"$f":"COUNTIF('ZZS-lijst'!A:A,$C1013)","v":0}]
[{"$f":"IF(AND(B1014>0,ISBLANK('beoordeling maatregel'!Q1014)=FALSE),\"Deze stof wordt aangemerkt als ZZS\",\" \")","v":" "},{"$f":"COUNTIF('ZZS-lijst'!A:A,$C1014)","v":0}]
[{"$f":"IF(AND(B1015>0,ISBLANK('beoordeling maatregel'!Q1015)=FALSE),\"Deze stof wordt aangemerkt als ZZS\",\" \")","v":" "},{"$f":"COUNTIF('ZZS-lijst'!A:A,$C1015)","v":0}]
[{"$f":"IF(AND(B1016>0,ISBLANK('beoordeling maatregel'!Q1016)=FALSE),\"Deze stof wordt aangemerkt als ZZS\",\" \")","v":" "},{"$f":"COUNTIF('ZZS-lijst'!A:A,$C1016)","v":0}]
[{"$f":"IF(AND(B1017>0,ISBLANK('beoordeling maatregel'!Q1017)=FALSE),\"Deze stof wordt aangemerkt als ZZS\",\" \")","v":" "},{"$f":"COUNTIF('ZZS-lijst'!A:A,$C1017)","v":0}]
[{"$f":"IF(AND(B1018>0,ISBLANK('beoordeling maatregel'!Q1018)=FALSE),\"Deze stof wordt aangemerkt als ZZS\",\" \")","v":" "},{"$f":"COUNTIF('ZZS-lijst'!A:A,$C1018)","v":0}]
[{"$f":"IF(AND(B1019>0,ISBLANK('beoordeling maatregel'!Q1019)=FALSE),\"Deze stof wordt aangemerkt als ZZS\",\" \")","v":" "},{"$f":"COUNTIF('ZZS-lijst'!A:A,$C1019)","v":0}]
[{"$f":"IF(AND(B1020>0,ISBLANK('beoordeling maatregel'!Q1020)=FALSE),\"Deze stof wordt aangemerkt als ZZS\",\" \")","v":" "},{"$f":"COUNTIF('ZZS-lijst'!A:A,$C1020)","v":0}]
[{"$f":"IF(AND(B1021>0,ISBLANK('beoordeling maatregel'!Q1021)=FALSE),\"Deze stof wordt aangemerkt als ZZS\",\" \")","v":" "},{"$f":"COUNTIF('ZZS-lijst'!A:A,$C1021)","v":0}]
[{"$f":"IF(AND(B1022>0,ISBLANK('beoordeling maatregel'!Q1022)=FALSE),\"Deze stof wordt aangemerkt als ZZS\",\" \")","v":" "},{"$f":"COUNTIF('ZZS-lijst'!A:A,$C1022)","v":0}]
[{"$f":"IF(AND(B1023>0,ISBLANK('beoordeling maatregel'!Q1023)=FALSE),\"Deze stof wordt aangemerkt als ZZS\",\" \")","v":" "},{"$f":"COUNTIF('ZZS-lijst'!A:A,$C1023)","v":0}]
[{"$f":"IF(AND(B1024>0,ISBLANK('beoordeling maatregel'!Q1024)=FALSE),\"Deze stof wordt aangemerkt als ZZS\",\" \")","v":" "},{"$f":"COUNTIF('ZZS-lijst'!A:A,$C1024)","v":0}]
[{"$f":"IF(AND(B1025>0,ISBLANK('beoordeling maatregel'!Q1025)=FALSE),\"Deze stof wordt aangemerkt als ZZS\",\" \")","v":" "},{"$f":"COUNTIF('ZZS-lijst'!A:A,$C1025)","v":0}]
[{"$f":"IF(AND(B1026>0,ISBLANK('beoordeling maatregel'!Q1026)=FALSE),\"Deze stof wordt aangemerkt als ZZS\",\" \")","v":" "},{"$f":"COUNTIF('ZZS-lijst'!A:A,$C1026)","v":0}]
[{"$f":"IF(AND(B1027>0,ISBLANK('beoordeling maatregel'!Q1027)=FALSE),\"Deze stof wordt aangemerkt als ZZS\",\" \")","v":" "},{"$f":"COUNTIF('ZZS-lijst'!A:A,$C1027)","v":0}]
[{"$f":"IF(AND(B1028>0,ISBLANK('beoordeling maatregel'!Q1028)=FALSE),\"Deze stof wordt aangemerkt als ZZS\",\" \")","v":" "},{"$f":"COUNTIF('ZZS-lijst'!A:A,$C1028)","v":0}]
[{"$f":"IF(AND(B1029>0,ISBLANK('beoordeling maatregel'!Q1029)=FALSE),\"Deze stof wordt aangemerkt als ZZS\",\" \")","v":" "},{"$f":"COUNTIF('ZZS-lijst'!A:A,$C1029)","v":0}]
[{"$f":"IF(AND(B1030>0,ISBLANK('beoordeling maatregel'!Q1030)=FALSE),\"Deze stof wordt aangemerkt als ZZS\",\" \")","v":" "},{"$f":"COUNTIF('ZZS-lijst'!A:A,$C1030)","v":0}]
[{"$f":"IF(AND(B1031>0,ISBLANK('beoordeling maatregel'!Q1031)=FALSE),\"Deze stof wordt aangemerkt als ZZS\",\" \")","v":" "},{"$f":"COUNTIF('ZZS-lijst'!A:A,$C1031)","v":0}]
[{"$f":"IF(AND(B1032>0,ISBLANK('beoordeling maatregel'!Q1032)=FALSE),\"Deze stof wordt aangemerkt als ZZS\",\" \")","v":" "},{"$f":"COUNTIF('ZZS-lijst'!A:A,$C1032)","v":0}]
[{"$f":"IF(AND(B1033>0,ISBLANK('beoordeling maatregel'!Q1033)=FALSE),\"Deze stof wordt aangemerkt als ZZS\",\" \")","v":" "},{"$f":"COUNTIF('ZZS-lijst'!A:A,$C1033)","v":0}]
[{"$f":"IF(AND(B1034>0,ISBLANK('beoordeling maatregel'!Q1034)=FALSE),\"Deze stof wordt aangemerkt als ZZS\",\" \")","v":" "},{"$f":"COUNTIF('ZZS-lijst'!A:A,$C1034)","v":0}]
[{"$f":"IF(AND(B1035>0,ISBLANK('beoordeling maatregel'!Q1035)=FALSE),\"Deze stof wordt aangemerkt als ZZS\",\" \")","v":" "},{"$f":"COUNTIF('ZZS-lijst'!A:A,$C1035)","v":0}]
[{"$f":"IF(AND(B1036>0,ISBLANK('beoordeling maatregel'!Q1036)=FALSE),\"Deze stof wordt aangemerkt als ZZS\",\" \")","v":" "},{"$f":"COUNTIF('ZZS-lijst'!A:A,$C1036)","v":0}]
[{"$f":"IF(AND(B1037>0,ISBLANK('beoordeling maatregel'!Q1037)=FALSE),\"Deze stof wordt aangemerkt als ZZS\",\" \")","v":" "},{"$f":"COUNTIF('ZZS-lijst'!A:A,$C1037)","v":0}]
[{"$f":"IF(AND(B1038>0,ISBLANK('beoordeling maatregel'!Q1038)=FALSE),\"Deze stof wordt aangemerkt als ZZS\",\" \")","v":" "},{"$f":"COUNTIF('ZZS-lijst'!A:A,$C1038)","v":0}]
[{"$f":"IF(AND(B1039>0,ISBLANK('beoordeling maatregel'!Q1039)=FALSE),\"Deze stof wordt aangemerkt als ZZS\",\" \")","v":" "},{"$f":"COUNTIF('ZZS-lijst'!A:A,$C1039)","v":0}]
[{"$f":"IF(AND(B1040>0,ISBLANK('beoordeling maatregel'!Q1040)=FALSE),\"Deze stof wordt aangemerkt als ZZS\",\" \")","v":" "},{"$f":"COUNTIF('ZZS-lijst'!A:A,$C1040)","v":0}]
[{"$f":"IF(AND(B1041>0,ISBLANK('beoordeling maatregel'!Q1041)=FALSE),\"Deze stof wordt aangemerkt als ZZS\",\" \")","v":" "},{"$f":"COUNTIF('ZZS-lijst'!A:A,$C1041)","v":0}]
[{"$f":"IF(AND(B1042>0,ISBLANK('beoordeling maatregel'!Q1042)=FALSE),\"Deze stof wordt aangemerkt als ZZS\",\" \")","v":" "},{"$f":"COUNTIF('ZZS-lijst'!A:A,$C1042)","v":0}]
[{"$f":"IF(AND(B1043>0,ISBLANK('beoordeling maatregel'!Q1043)=FALSE),\"Deze stof wordt aangemerkt als ZZS\",\" \")","v":" "},{"$f":"COUNTIF('ZZS-lijst'!A:A,$C1043)","v":0}]
[{"$f":"IF(AND(B1044>0,ISBLANK('beoordeling maatregel'!Q1044)=FALSE),\"Deze stof wordt aangemerkt als ZZS\",\" \")","v":" "},{"$f":"COUNTIF('ZZS-lijst'!A:A,$C1044)","v":0}]
[{"$f":"IF(AND(B1045>0,ISBLANK('beoordeling maatregel'!Q1045)=FALSE),\"Deze stof wordt aangemerkt als ZZS\",\" \")","v":" "},{"$f":"COUNTIF('ZZS-lijst'!A:A,$C1045)","v":0}]
[{"$f":"IF(AND(B1046>0,ISBLANK('beoordeling maatregel'!Q1046)=FALSE),\"Deze stof wordt aangemerkt als ZZS\",\" \")","v":" "},{"$f":"COUNTIF('ZZS-lijst'!A:A,$C1046)","v":0}]
[{"$f":"IF(AND(B1047>0,ISBLANK('beoordeling maatregel'!Q1047)=FALSE),\"Deze stof wordt aangemerkt als ZZS\",\" \")","v":" "},{"$f":"COUNTIF('ZZS-lijst'!A:A,$C1047)","v":0}]
[{"$f":"IF(AND(B1048>0,ISBLANK('beoordeling maatregel'!Q1048)=FALSE),\"Deze stof wordt aangemerkt als ZZS\",\" \")","v":" "},{"$f":"COUNTIF('ZZS-lijst'!A:A,$C1048)","v":0}]
[{"$f":"IF(AND(B1049>0,ISBLANK('beoordeling maatregel'!Q1049)=FALSE),\"Deze stof wordt aangemerkt als ZZS\",\" \")","v":" "},{"$f":"COUNTIF('ZZS-lijst'!A:A,$C1049)","v":0}]
[{"$f":"IF(AND(B1050>0,ISBLANK('beoordeling maatregel'!Q1050)=FALSE),\"Deze stof wordt aangemerkt als ZZS\",\" \")","v":" "},{"$f":"COUNTIF('ZZS-lijst'!A:A,$C1050)","v":0}]
[{"$f":"IF(AND(B1051>0,ISBLANK('beoordeling maatregel'!Q1051)=FALSE),\"Deze stof wordt aangemerkt als ZZS\",\" \")","v":" "},{"$f":"COUNTIF('ZZS-lijst'!A:A,$C1051)","v":0}]
[{"$f":"IF(AND(B1052>0,ISBLANK('beoordeling maatregel'!Q1052)=FALSE),\"Deze stof wordt aangemerkt als ZZS\",\" \")","v":" "},{"$f":"COUNTIF('ZZS-lijst'!A:A,$C1052)","v":0}]
[{"$f":"IF(AND(B1053>0,ISBLANK('beoordeling maatregel'!Q1053)=FALSE),\"Deze stof wordt aangemerkt als ZZS\",\" \")","v":" "},{"$f":"COUNTIF('ZZS-lijst'!A:A,$C1053)","v":0}]
[{"$f":"IF(AND(B1054>0,ISBLANK('beoordeling maatregel'!Q1054)=FALSE),\"Deze stof wordt aangemerkt als ZZS\",\" \")","v":" "},{"$f":"COUNTIF('ZZS-lijst'!A:A,$C1054)","v":0}]
[{"$f":"IF(AND(B1055>0,ISBLANK('beoordeling maatregel'!Q1055)=FALSE),\"Deze stof wordt aangemerkt als ZZS\",\" \")","v":" "},{"$f":"COUNTIF('ZZS-lijst'!A:A,$C1055)","v":0}]
[{"$f":"IF(AND(B1056>0,ISBLANK('beoordeling maatregel'!Q1056)=FALSE),\"Deze stof wordt aangemerkt als ZZS\",\" \")","v":" "},{"$f":"COUNTIF('ZZS-lijst'!A:A,$C1056)","v":0}]
[{"$f":"IF(AND(B1057>0,ISBLANK('beoordeling maatregel'!Q1057)=FALSE),\"Deze stof wordt aangemerkt als ZZS\",\" \")","v":" "},{"$f":"COUNTIF('ZZS-lijst'!A:A,$C1057)","v":0}]
[{"$f":"IF(AND(B1058>0,ISBLANK('beoordeling maatregel'!Q1058)=FALSE),\"Deze stof wordt aangemerkt als ZZS\",\" \")","v":" "},{"$f":"COUNTIF('ZZS-lijst'!A:A,$C1058)","v":0}]
[{"$f":"IF(AND(B1059>0,ISBLANK('beoordeling maatregel'!Q1059)=FALSE),\"Deze stof wordt aangemerkt als ZZS\",\" \")","v":" "},{"$f":"COUNTIF('ZZS-lijst'!A:A,$C1059)","v":0}]
[{"$f":"IF(AND(B1060>0,ISBLANK('beoordeling maatregel'!Q1060)=FALSE),\"Deze stof wordt aangemerkt als ZZS\",\" \")","v":" "},{"$f":"COUNTIF('ZZS-lijst'!A:A,$C1060)","v":0}]
[{"$f":"IF(AND(B1061>0,ISBLANK('beoordeling maatregel'!Q1061)=FALSE),\"Deze stof wordt aangemerkt als ZZS\",\" \")","v":" "},{"$f":"COUNTIF('ZZS-lijst'!A:A,$C1061)","v":0}]
[{"$f":"IF(AND(B1062>0,ISBLANK('beoordeling maatregel'!Q1062)=FALSE),\"Deze stof wordt aangemerkt als ZZS\",\" \")","v":" "},{"$f":"COUNTIF('ZZS-lijst'!A:A,$C1062)","v":0}]
[{"$f":"IF(AND(B1063>0,ISBLANK('beoordeling maatregel'!Q1063)=FALSE),\"Deze stof wordt aangemerkt als ZZS\",\" \")","v":" "},{"$f":"COUNTIF('ZZS-lijst'!A:A,$C1063)","v":0}]
[{"$f":"IF(AND(B1064>0,ISBLANK('beoordeling maatregel'!Q1064)=FALSE),\"Deze stof wordt aangemerkt als ZZS\",\" \")","v":" "},{"$f":"COUNTIF('ZZS-lijst'!A:A,$C1064)","v":0}]
[{"$f":"IF(AND(B1065>0,ISBLANK('beoordeling maatregel'!Q1065)=FALSE),\"Deze stof wordt aangemerkt als ZZS\",\" \")","v":" "},{"$f":"COUNTIF('ZZS-lijst'!A:A,$C1065)","v":0}]
[{"$f":"IF(AND(B1066>0,ISBLANK('beoordeling maatregel'!Q1066)=FALSE),\"Deze stof wordt aangemerkt als ZZS\",\" \")","v":" "},{"$f":"COUNTIF('ZZS-lijst'!A:A,$C1066)","v":0}]
[{"$f":"IF(AND(B1067>0,ISBLANK('beoordeling maatregel'!Q1067)=FALSE),\"Deze stof wordt aangemerkt als ZZS\",\" \")","v":" "},{"$f":"COUNTIF('ZZS-lijst'!A:A,$C1067)","v":0}]
[{"$f":"IF(AND(B1068>0,ISBLANK('beoordeling maatregel'!Q1068)=FALSE),\"Deze stof wordt aangemerkt als ZZS\",\" \")","v":" "},{"$f":"COUNTIF('ZZS-lijst'!A:A,$C1068)","v":0}]
[{"$f":"IF(AND(B1069>0,ISBLANK('beoordeling maatregel'!Q1069)=FALSE),\"Deze stof wordt aangemerkt als ZZS\",\" \")","v":" "},{"$f":"COUNTIF('ZZS-lijst'!A:A,$C1069)","v":0}]
[{"$f":"IF(AND(B1070>0,ISBLANK('beoordeling maatregel'!Q1070)=FALSE),\"Deze stof wordt aangemerkt als ZZS\",\" \")","v":" "},{"$f":"COUNTIF('ZZS-lijst'!A:A,$C1070)","v":0}]
[{"$f":"IF(AND(B1071>0,ISBLANK('beoordeling maatregel'!Q1071)=FALSE),\"Deze stof wordt aangemerkt als ZZS\",\" \")","v":" "},{"$f":"COUNTIF('ZZS-lijst'!A:A,$C1071)","v":0}]
[{"$f":"IF(AND(B1072>0,ISBLANK('beoordeling maatregel'!Q1072)=FALSE),\"Deze stof wordt aangemerkt als ZZS\",\" \")","v":" "},{"$f":"COUNTIF('ZZS-lijst'!A:A,$C1072)","v":0}]
[{"$f":"IF(AND(B1073>0,ISBLANK('beoordeling maatregel'!Q1073)=FALSE),\"Deze stof wordt aangemerkt als ZZS\",\" \")","v":" "},{"$f":"COUNTIF('ZZS-lijst'!A:A,$C1073)","v":0}]
[{"$f":"IF(AND(B1074>0,ISBLANK('beoordeling maatregel'!Q1074)=FALSE),\"Deze stof wordt aangemerkt als ZZS\",\" \")","v":" "},{"$f":"COUNTIF('ZZS-lijst'!A:A,$C1074)","v":0}]
[{"$f":"IF(AND(B1075>0,ISBLANK('beoordeling maatregel'!Q1075)=FALSE),\"Deze stof wordt aangemerkt als ZZS\",\" \")","v":" "},{"$f":"COUNTIF('ZZS-lijst'!A:A,$C1075)","v":0}]
[{"$f":"IF(AND(B1076>0,ISBLANK('beoordeling maatregel'!Q1076)=FALSE),\"Deze stof wordt aangemerkt als ZZS\",\" \")","v":" "},{"$f":"COUNTIF('ZZS-lijst'!A:A,$C1076)","v":0}]
[{"$f":"IF(AND(B1077>0,ISBLANK('beoordeling maatregel'!Q1077)=FALSE),\"Deze stof wordt aangemerkt als ZZS\",\" \")","v":" "},{"$f":"COUNTIF('ZZS-lijst'!A:A,$C1077)","v":0}]
[{"$f":"IF(AND(B1078>0,ISBLANK('beoordeling maatregel'!Q1078)=FALSE),\"Deze stof wordt aangemerkt als ZZS\",\" \")","v":" "},{"$f":"COUNTIF('ZZS-lijst'!A:A,$C1078)","v":0}]
[{"$f":"IF(AND(B1079>0,ISBLANK('beoordeling maatregel'!Q1079)=FALSE),\"Deze stof wordt aangemerkt als ZZS\",\" \")","v":" "},{"$f":"COUNTIF('ZZS-lijst'!A:A,$C1079)","v":0}]
[{"$f":"IF(AND(B1080>0,ISBLANK('beoordeling maatregel'!Q1080)=FALSE),\"Deze stof wordt aangemerkt als ZZS\",\" \")","v":" "},{"$f":"COUNTIF('ZZS-lijst'!A:A,$C1080)","v":0}]
[{"$f":"IF(AND(B1081>0,ISBLANK('beoordeling maatregel'!Q1081)=FALSE),\"Deze stof wordt aangemerkt als ZZS\",\" \")","v":" "},{"$f":"COUNTIF('ZZS-lijst'!A:A,$C1081)","v":0}]
[{"$f":"IF(AND(B1082>0,ISBLANK('beoordeling maatregel'!Q1082)=FALSE),\"Deze stof wordt aangemerkt als ZZS\",\" \")","v":" "},{"$f":"COUNTIF('ZZS-lijst'!A:A,$C1082)","v":0}]
[{"$f":"IF(AND(B1083>0,ISBLANK('beoordeling maatregel'!Q1083)=FALSE),\"Deze stof wordt aangemerkt als ZZS\",\" \")","v":" "},{"$f":"COUNTIF('ZZS-lijst'!A:A,$C1083)","v":0}]
[{"$f":"IF(AND(B1084>0,ISBLANK('beoordeling maatregel'!Q1084)=FALSE),\"Deze stof wordt aangemerkt als ZZS\",\" \")","v":" "},{"$f":"COUNTIF('ZZS-lijst'!A:A,$C1084)","v":0}]
[{"$f":"IF(AND(B1085>0,ISBLANK('beoordeling maatregel'!Q1085)=FALSE),\"Deze stof wordt aangemerkt als ZZS\",\" \")","v":" "},{"$f":"COUNTIF('ZZS-lijst'!A:A,$C1085)","v":0}]
[{"$f":"IF(AND(B1086>0,ISBLANK('beoordeling maatregel'!Q1086)=FALSE),\"Deze stof wordt aangemerkt als ZZS\",\" \")","v":" "},{"$f":"COUNTIF('ZZS-lijst'!A:A,$C1086)","v":0}]
[{"$f":"IF(AND(B1087>0,ISBLANK('beoordeling maatregel'!Q1087)=FALSE),\"Deze stof wordt aangemerkt als ZZS\",\" \")","v":" "},{"$f":"COUNTIF('ZZS-lijst'!A:A,$C1087)","v":0}]
[{"$f":"IF(AND(B1088>0,ISBLANK('beoordeling maatregel'!Q1088)=FALSE),\"Deze stof wordt aangemerkt als ZZS\",\" \")","v":" "},{"$f":"COUNTIF('ZZS-lijst'!A:A,$C1088)","v":0}]
[{"$f":"IF(AND(B1089>0,ISBLANK('beoordeling maatregel'!Q1089)=FALSE),\"Deze stof wordt aangemerkt als ZZS\",\" \")","v":" "},{"$f":"COUNTIF('ZZS-lijst'!A:A,$C1089)","v":0}]
[{"$f":"IF(AND(B1090>0,ISBLANK('beoordeling maatregel'!Q1090)=FALSE),\"Deze stof wordt aangemerkt als ZZS\",\" \")","v":" "},{"$f":"COUNTIF('ZZS-lijst'!A:A,$C1090)","v":0}]
[{"$f":"IF(AND(B1091>0,ISBLANK('beoordeling maatregel'!Q1091)=FALSE),\"Deze stof wordt aangemerkt als ZZS\",\" \")","v":" "},{"$f":"COUNTIF('ZZS-lijst'!A:A,$C1091)","v":0}]
[{"$f":"IF(AND(B1092>0,ISBLANK('beoordeling maatregel'!Q1092)=FALSE),\"Deze stof wordt aangemerkt als ZZS\",\" \")","v":" "},{"$f":"COUNTIF('ZZS-lijst'!A:A,$C1092)","v":0}]
[{"$f":"IF(AND(B1093>0,ISBLANK('beoordeling maatregel'!Q1093)=FALSE),\"Deze stof wordt aangemerkt als ZZS\",\" \")","v":" "},{"$f":"COUNTIF('ZZS-lijst'!A:A,$C1093)","v":0}]
[{"$f":"IF(AND(B1094>0,ISBLANK('beoordeling maatregel'!Q1094)=FALSE),\"Deze stof wordt aangemerkt als ZZS\",\" \")","v":" "},{"$f":"COUNTIF('ZZS-lijst'!A:A,$C1094)","v":0}]
[{"$f":"IF(AND(B1095>0,ISBLANK('beoordeling maatregel'!Q1095)=FALSE),\"Deze stof wordt aangemerkt als ZZS\",\" \")","v":" "},{"$f":"COUNTIF('ZZS-lijst'!A:A,$C1095)","v":0}]
[{"$f":"IF(AND(B1096>0,ISBLANK('beoordeling maatregel'!Q1096)=FALSE),\"Deze stof wordt aangemerkt als ZZS\",\" \")","v":" "},{"$f":"COUNTIF('ZZS-lijst'!A:A,$C1096)","v":0}]
[{"$f":"IF(AND(B1097>0,ISBLANK('beoordeling maatregel'!Q1097)=FALSE),\"Deze stof wordt aangemerkt als ZZS\",\" \")","v":" "},{"$f":"COUNTIF('ZZS-lijst'!A:A,$C1097)","v":0}]
[{"$f":"IF(AND(B1098>0,ISBLANK('beoordeling maatregel'!Q1098)=FALSE),\"Deze stof wordt aangemerkt als ZZS\",\" \")","v":" "},{"$f":"COUNTIF('ZZS-lijst'!A:A,$C1098)","v":0}]
[{"$f":"IF(AND(B1099>0,ISBLANK('beoordeling maatregel'!Q1099)=FALSE),\"Deze stof wordt aangemerkt als ZZS\",\" \")","v":" "},{"$f":"COUNTIF('ZZS-lijst'!A:A,$C1099)","v":0}]
[{"$f":"IF(AND(B1100>0,ISBLANK('beoordeling maatregel'!Q1100)=FALSE),\"Deze stof wordt aangemerkt als ZZS\",\" \")","v":" "},{"$f":"COUNTIF('ZZS-lijst'!A:A,$C1100)","v":0}]
[{"$f":"IF(AND(B1101>0,ISBLANK('beoordeling maatregel'!Q1101)=FALSE),\"Deze stof wordt aangemerkt als ZZS\",\" \")","v":" "},{"$f":"COUNTIF('ZZS-lijst'!A:A,$C1101)","v":0}]
[{"$f":"IF(AND(B1102>0,ISBLANK('beoordeling maatregel'!Q1102)=FALSE),\"Deze stof wordt aangemerkt als ZZS\",\" \")","v":" "},{"$f":"COUNTIF('ZZS-lijst'!A:A,$C1102)","v":0}]
[{"$f":"IF(AND(B1103>0,ISBLANK('beoordeling maatregel'!Q1103)=FALSE),\"Deze stof wordt aangemerkt als ZZS\",\" \")","v":" "},{"$f":"COUNTIF('ZZS-lijst'!A:A,$C1103)","v":0}]
[{"$f":"IF(AND(B1104>0,ISBLANK('beoordeling maatregel'!Q1104)=FALSE),\"Deze stof wordt aangemerkt als ZZS\",\" \")","v":" "},{"$f":"COUNTIF('ZZS-lijst'!A:A,$C1104)","v":0}]
[{"$f":"IF(AND(B1105>0,ISBLANK('beoordeling maatregel'!Q1105)=FALSE),\"Deze stof wordt aangemerkt als ZZS\",\" \")","v":" "},{"$f":"COUNTIF('ZZS-lijst'!A:A,$C1105)","v":0}]
[{"$f":"IF(AND(B1106>0,ISBLANK('beoordeling maatregel'!Q1106)=FALSE),\"Deze stof wordt aangemerkt als ZZS\",\" \")","v":" "},{"$f":"COUNTIF('ZZS-lijst'!A:A,$C1106)","v":0}]
[{"$f":"IF(AND(B1107>0,ISBLANK('beoordeling maatregel'!Q1107)=FALSE),\"Deze stof wordt aangemerkt als ZZS\",\" \")","v":" "},{"$f":"COUNTIF('ZZS-lijst'!A:A,$C1107)","v":0}]
[{"$f":"IF(AND(B1108>0,ISBLANK('beoordeling maatregel'!Q1108)=FALSE),\"Deze stof wordt aangemerkt als ZZS\",\" \")","v":" "},{"$f":"COUNTIF('ZZS-lijst'!A:A,$C1108)","v":0}]
[{"$f":"IF(AND(B1109>0,ISBLANK('beoordeling maatregel'!Q1109)=FALSE),\"Deze stof wordt aangemerkt als ZZS\",\" \")","v":" "},{"$f":"COUNTIF('ZZS-lijst'!A:A,$C1109)","v":0}]
[{"$f":"IF(AND(B1110>0,ISBLANK('beoordeling maatregel'!Q1110)=FALSE),\"Deze stof wordt aangemerkt als ZZS\",\" \")","v":" "},{"$f":"COUNTIF('ZZS-lijst'!A:A,$C1110)","v":0}]
[{"$f":"IF(AND(B1111>0,ISBLANK('beoordeling maatregel'!Q1111)=FALSE),\"Deze stof wordt aangemerkt als ZZS\",\" \")","v":" "},{"$f":"COUNTIF('ZZS-lijst'!A:A,$C1111)","v":0}]
[{"$f":"IF(AND(B1112>0,ISBLANK('beoordeling maatregel'!Q1112)=FALSE),\"Deze stof wordt aangemerkt als ZZS\",\" \")","v":" "},{"$f":"COUNTIF('ZZS-lijst'!A:A,$C1112)","v":0}]
[{"$f":"IF(AND(B1113>0,ISBLANK('beoordeling maatregel'!Q1113)=FALSE),\"Deze stof wordt aangemerkt als ZZS\",\" \")","v":" "},{"$f":"COUNTIF('ZZS-lijst'!A:A,$C1113)","v":0}]
[{"$f":"IF(AND(B1114>0,ISBLANK('beoordeling maatregel'!Q1114)=FALSE),\"Deze stof wordt aangemerkt als ZZS\",\" \")","v":" "},{"$f":"COUNTIF('ZZS-lijst'!A:A,$C1114)","v":0}]
[{"$f":"IF(AND(B1115>0,ISBLANK('beoordeling maatregel'!Q1115)=FALSE),\"Deze stof wordt aangemerkt als ZZS\",\" \")","v":" "},{"$f":"COUNTIF('ZZS-lijst'!A:A,$C1115)","v":0}]
[{"$f":"IF(AND(B1116>0,ISBLANK('beoordeling maatregel'!Q1116)=FALSE),\"Deze stof wordt aangemerkt als ZZS\",\" \")","v":" "},{"$f":"COUNTIF('ZZS-lijst'!A:A,$C1116)","v":0}]
[{"$f":"IF(AND(B1117>0,ISBLANK('beoordeling maatregel'!Q1117)=FALSE),\"Deze stof wordt aangemerkt als ZZS\",\" \")","v":" "},{"$f":"COUNTIF('ZZS-lijst'!A:A,$C1117)","v":0}]
[{"$f":"IF(AND(B1118>0,ISBLANK('beoordeling maatregel'!Q1118)=FALSE),\"Deze stof wordt aangemerkt als ZZS\",\" \")","v":" "},{"$f":"COUNTIF('ZZS-lijst'!A:A,$C1118)","v":0}]
[{"$f":"IF(AND(B1119>0,ISBLANK('beoordeling maatregel'!Q1119)=FALSE),\"Deze stof wordt aangemerkt als ZZS\",\" \")","v":" "},{"$f":"COUNTIF('ZZS-lijst'!A:A,$C1119)","v":0}]
[{"$f":"IF(AND(B1120>0,ISBLANK('beoordeling maatregel'!Q1120)=FALSE),\"Deze stof wordt aangemerkt als ZZS\",\" \")","v":" "},{"$f":"COUNTIF('ZZS-lijst'!A:A,$C1120)","v":0}]
[{"$f":"IF(AND(B1121>0,ISBLANK('beoordeling maatregel'!Q1121)=FALSE),\"Deze stof wordt aangemerkt als ZZS\",\" \")","v":" "},{"$f":"COUNTIF('ZZS-lijst'!A:A,$C1121)","v":0}]
[{"$f":"IF(AND(B1122>0,ISBLANK('beoordeling maatregel'!Q1122)=FALSE),\"Deze stof wordt aangemerkt als ZZS\",\" \")","v":" "},{"$f":"COUNTIF('ZZS-lijst'!A:A,$C1122)","v":0}]
[{"$f":"IF(AND(B1123>0,ISBLANK('beoordeling maatregel'!Q1123)=FALSE),\"Deze stof wordt aangemerkt als ZZS\",\" \")","v":" "},{"$f":"COUNTIF('ZZS-lijst'!A:A,$C1123)","v":0}]
[{"$f":"IF(AND(B1124>0,ISBLANK('beoordeling maatregel'!Q1124)=FALSE),\"Deze stof wordt aangemerkt als ZZS\",\" \")","v":" "},{"$f":"COUNTIF('ZZS-lijst'!A:A,$C1124)","v":0}]
[{"$f":"IF(AND(B1125>0,ISBLANK('beoordeling maatregel'!Q1125)=FALSE),\"Deze stof wordt aangemerkt als ZZS\",\" \")","v":" "},{"$f":"COUNTIF('ZZS-lijst'!A:A,$C1125)","v":0}]
[{"$f":"IF(AND(B1126>0,ISBLANK('beoordeling maatregel'!Q1126)=FALSE),\"Deze stof wordt aangemerkt als ZZS\",\" \")","v":" "},{"$f":"COUNTIF('ZZS-lijst'!A:A,$C1126)","v":0}]
[{"$f":"IF(AND(B1127>0,ISBLANK('beoordeling maatregel'!Q1127)=FALSE),\"Deze stof wordt aangemerkt als ZZS\",\" \")","v":" "},{"$f":"COUNTIF('ZZS-lijst'!A:A,$C1127)","v":0}]
[{"$f":"IF(AND(B1128>0,ISBLANK('beoordeling maatregel'!Q1128)=FALSE),\"Deze stof wordt aangemerkt als ZZS\",\" \")","v":" "},{"$f":"COUNTIF('ZZS-lijst'!A:A,$C1128)","v":0}]
[{"$f":"IF(AND(B1129>0,ISBLANK('beoordeling maatregel'!Q1129)=FALSE),\"Deze stof wordt aangemerkt als ZZS\",\" \")","v":" "},{"$f":"COUNTIF('ZZS-lijst'!A:A,$C1129)","v":0}]
[{"$f":"IF(AND(B1130>0,ISBLANK('beoordeling maatregel'!Q1130)=FALSE),\"Deze stof wordt aangemerkt als ZZS\",\" \")","v":" "},{"$f":"COUNTIF('ZZS-lijst'!A:A,$C1130)","v":0}]
[{"$f":"IF(AND(B1131>0,ISBLANK('beoordeling maatregel'!Q1131)=FALSE),\"Deze stof wordt aangemerkt als ZZS\",\" \")","v":" "},{"$f":"COUNTIF('ZZS-lijst'!A:A,$C1131)","v":0}]
[{"$f":"IF(AND(B1132>0,ISBLANK('beoordeling maatregel'!Q1132)=FALSE),\"Deze stof wordt aangemerkt als ZZS\",\" \")","v":" "},{"$f":"COUNTIF('ZZS-lijst'!A:A,$C1132)","v":0}]
[{"$f":"IF(AND(B1133>0,ISBLANK('beoordeling maatregel'!Q1133)=FALSE),\"Deze stof wordt aangemerkt als ZZS\",\" \")","v":" "},{"$f":"COUNTIF('ZZS-lijst'!A:A,$C1133)","v":0}]
[{"$f":"IF(AND(B1134>0,ISBLANK('beoordeling maatregel'!Q1134)=FALSE),\"Deze stof wordt aangemerkt als ZZS\",\" \")","v":" "},{"$f":"COUNTIF('ZZS-lijst'!A:A,$C1134)","v":0}]
[{"$f":"IF(AND(B1135>0,ISBLANK('beoordeling maatregel'!Q1135)=FALSE),\"Deze stof wordt aangemerkt als ZZS\",\" \")","v":" "},{"$f":"COUNTIF('ZZS-lijst'!A:A,$C1135)","v":0}]
[{"$f":"IF(AND(B1136>0,ISBLANK('beoordeling maatregel'!Q1136)=FALSE),\"Deze stof wordt aangemerkt als ZZS\",\" \")","v":" "},{"$f":"COUNTIF('ZZS-lijst'!A:A,$C1136)","v":0}]
[{"$f":"IF(AND(B1137>0,ISBLANK('beoordeling maatregel'!Q1137)=FALSE),\"Deze stof wordt aangemerkt als ZZS\",\" \")","v":" "},{"$f":"COUNTIF('ZZS-lijst'!A:A,$C1137)","v":0}]
[{"$f":"IF(AND(B1138>0,ISBLANK('beoordeling maatregel'!Q1138)=FALSE),\"Deze stof wordt aangemerkt als ZZS\",\" \")","v":" "},{"$f":"COUNTIF('ZZS-lijst'!A:A,$C1138)","v":0}]
[{"$f":"IF(AND(B1139>0,ISBLANK('beoordeling maatregel'!Q1139)=FALSE),\"Deze stof wordt aangemerkt als ZZS\",\" \")","v":" "},{"$f":"COUNTIF('ZZS-lijst'!A:A,$C1139)","v":0}]
[{"$f":"IF(AND(B1140>0,ISBLANK('beoordeling maatregel'!Q1140)=FALSE),\"Deze stof wordt aangemerkt als ZZS\",\" \")","v":" "},{"$f":"COUNTIF('ZZS-lijst'!A:A,$C1140)","v":0}]
[{"$f":"IF(AND(B1141>0,ISBLANK('beoordeling maatregel'!Q1141)=FALSE),\"Deze stof wordt aangemerkt als ZZS\",\" \")","v":" "},{"$f":"COUNTIF('ZZS-lijst'!A:A,$C1141)","v":0}]
[{"$f":"IF(AND(B1142>0,ISBLANK('beoordeling maatregel'!Q1142)=FALSE),\"Deze stof wordt aangemerkt als ZZS\",\" \")","v":" "},{"$f":"COUNTIF('ZZS-lijst'!A:A,$C1142)","v":0}]
[{"$f":"IF(AND(B1143>0,ISBLANK('beoordeling maatregel'!Q1143)=FALSE),\"Deze stof wordt aangemerkt als ZZS\",\" \")","v":" "},{"$f":"COUNTIF('ZZS-lijst'!A:A,$C1143)","v":0}]
[{"$f":"IF(AND(B1144>0,ISBLANK('beoordeling maatregel'!Q1144)=FALSE),\"Deze stof wordt aangemerkt als ZZS\",\" \")","v":" "},{"$f":"COUNTIF('ZZS-lijst'!A:A,$C1144)","v":0}]
[{"$f":"IF(AND(B1145>0,ISBLANK('beoordeling maatregel'!Q1145)=FALSE),\"Deze stof wordt aangemerkt als ZZS\",\" \")","v":" "},{"$f":"COUNTIF('ZZS-lijst'!A:A,$C1145)","v":0}]
[{"$f":"IF(AND(B1146>0,ISBLANK('beoordeling maatregel'!Q1146)=FALSE),\"Deze stof wordt aangemerkt als ZZS\",\" \")","v":" "},{"$f":"COUNTIF('ZZS-lijst'!A:A,$C1146)","v":0}]
[{"$f":"IF(AND(B1147>0,ISBLANK('beoordeling maatregel'!Q1147)=FALSE),\"Deze stof wordt aangemerkt als ZZS\",\" \")","v":" "},{"$f":"COUNTIF('ZZS-lijst'!A:A,$C1147)","v":0}]
[{"$f":"IF(AND(B1148>0,ISBLANK('beoordeling maatregel'!Q1148)=FALSE),\"Deze stof wordt aangemerkt als ZZS\",\" \")","v":" "},{"$f":"COUNTIF('ZZS-lijst'!A:A,$C1148)","v":0}]
[{"$f":"IF(AND(B1149>0,ISBLANK('beoordeling maatregel'!Q1149)=FALSE),\"Deze stof wordt aangemerkt als ZZS\",\" \")","v":" "},{"$f":"COUNTIF('ZZS-lijst'!A:A,$C1149)","v":0}]
[{"$f":"IF(AND(B1150>0,ISBLANK('beoordeling maatregel'!Q1150)=FALSE),\"Deze stof wordt aangemerkt als ZZS\",\" \")","v":" "},{"$f":"COUNTIF('ZZS-lijst'!A:A,$C1150)","v":0}]
[{"$f":"IF(AND(B1151>0,ISBLANK('beoordeling maatregel'!Q1151)=FALSE),\"Deze stof wordt aangemerkt als ZZS\",\" \")","v":" "},{"$f":"COUNTIF('ZZS-lijst'!A:A,$C1151)","v":0}]
[{"$f":"IF(AND(B1152>0,ISBLANK('beoordeling maatregel'!Q1152)=FALSE),\"Deze stof wordt aangemerkt als ZZS\",\" \")","v":" "},{"$f":"COUNTIF('ZZS-lijst'!A:A,$C1152)","v":0}]
[{"$f":"IF(AND(B1153>0,ISBLANK('beoordeling maatregel'!Q1153)=FALSE),\"Deze stof wordt aangemerkt als ZZS\",\" \")","v":" "},{"$f":"COUNTIF('ZZS-lijst'!A:A,$C1153)","v":0}]
[{"$f":"IF(AND(B1154>0,ISBLANK('beoordeling maatregel'!Q1154)=FALSE),\"Deze stof wordt aangemerkt als ZZS\",\" \")","v":" "},{"$f":"COUNTIF('ZZS-lijst'!A:A,$C1154)","v":0}]
[{"$f":"IF(AND(B1155>0,ISBLANK('beoordeling maatregel'!Q1155)=FALSE),\"Deze stof wordt aangemerkt als ZZS\",\" \")","v":" "},{"$f":"COUNTIF('ZZS-lijst'!A:A,$C1155)","v":0}]
[{"$f":"IF(AND(B1156>0,ISBLANK('beoordeling maatregel'!Q1156)=FALSE),\"Deze stof wordt aangemerkt als ZZS\",\" \")","v":" "},{"$f":"COUNTIF('ZZS-lijst'!A:A,$C1156)","v":0}]
[{"$f":"IF(AND(B1157>0,ISBLANK('beoordeling maatregel'!Q1157)=FALSE),\"Deze stof wordt aangemerkt als ZZS\",\" \")","v":" "},{"$f":"COUNTIF('ZZS-lijst'!A:A,$C1157)","v":0}]
[{"$f":"IF(AND(B1158>0,ISBLANK('beoordeling maatregel'!Q1158)=FALSE),\"Deze stof wordt aangemerkt als ZZS\",\" \")","v":" "},{"$f":"COUNTIF('ZZS-lijst'!A:A,$C1158)","v":0}]
[{"$f":"IF(AND(B1159>0,ISBLANK('beoordeling maatregel'!Q1159)=FALSE),\"Deze stof wordt aangemerkt als ZZS\",\" \")","v":" "},{"$f":"COUNTIF('ZZS-lijst'!A:A,$C1159)","v":0}]
[{"$f":"IF(AND(B1160>0,ISBLANK('beoordeling maatregel'!Q1160)=FALSE),\"Deze stof wordt aangemerkt als ZZS\",\" \")","v":" "},{"$f":"COUNTIF('ZZS-lijst'!A:A,$C1160)","v":0}]
[{"$f":"IF(AND(B1161>0,ISBLANK('beoordeling maatregel'!Q1161)=FALSE),\"Deze stof wordt aangemerkt als ZZS\",\" \")","v":" "},{"$f":"COUNTIF('ZZS-lijst'!A:A,$C1161)","v":0}]
[{"$f":"IF(AND(B1162>0,ISBLANK('beoordeling maatregel'!Q1162)=FALSE),\"Deze stof wordt aangemerkt als ZZS\",\" \")","v":" "},{"$f":"COUNTIF('ZZS-lijst'!A:A,$C1162)","v":0}]
[{"$f":"IF(AND(B1163>0,ISBLANK('beoordeling maatregel'!Q1163)=FALSE),\"Deze stof wordt aangemerkt als ZZS\",\" \")","v":" "},{"$f":"COUNTIF('ZZS-lijst'!A:A,$C1163)","v":0}]
[{"$f":"IF(AND(B1164>0,ISBLANK('beoordeling maatregel'!Q1164)=FALSE),\"Deze stof wordt aangemerkt als ZZS\",\" \")","v":" "},{"$f":"COUNTIF('ZZS-lijst'!A:A,$C1164)","v":0}]
[{"$f":"IF(AND(B1165>0,ISBLANK('beoordeling maatregel'!Q1165)=FALSE),\"Deze stof wordt aangemerkt als ZZS\",\" \")","v":" "},{"$f":"COUNTIF('ZZS-lijst'!A:A,$C1165)","v":0}]
[{"$f":"IF(AND(B1166>0,ISBLANK('beoordeling maatregel'!Q1166)=FALSE),\"Deze stof wordt aangemerkt als ZZS\",\" \")","v":" "},{"$f":"COUNTIF('ZZS-lijst'!A:A,$C1166)","v":0}]
[{"$f":"IF(AND(B1167>0,ISBLANK('beoordeling maatregel'!Q1167)=FALSE),\"Deze stof wordt aangemerkt als ZZS\",\" \")","v":" "},{"$f":"COUNTIF('ZZS-lijst'!A:A,$C1167)","v":0}]
[{"$f":"IF(AND(B1168>0,ISBLANK('beoordeling maatregel'!Q1168)=FALSE),\"Deze stof wordt aangemerkt als ZZS\",\" \")","v":" "},{"$f":"COUNTIF('ZZS-lijst'!A:A,$C1168)","v":0}]
[{"$f":"IF(AND(B1169>0,ISBLANK('beoordeling maatregel'!Q1169)=FALSE),\"Deze stof wordt aangemerkt als ZZS\",\" \")","v":" "},{"$f":"COUNTIF('ZZS-lijst'!A:A,$C1169)","v":0}]
[{"$f":"IF(AND(B1170>0,ISBLANK('beoordeling maatregel'!Q1170)=FALSE),\"Deze stof wordt aangemerkt als ZZS\",\" \")","v":" "},{"$f":"COUNTIF('ZZS-lijst'!A:A,$C1170)","v":0}]
[{"$f":"IF(AND(B1171>0,ISBLANK('beoordeling maatregel'!Q1171)=FALSE),\"Deze stof wordt aangemerkt als ZZS\",\" \")","v":" "},{"$f":"COUNTIF('ZZS-lijst'!A:A,$C1171)","v":0}]
[{"$f":"IF(AND(B1172>0,ISBLANK('beoordeling maatregel'!Q1172)=FALSE),\"Deze stof wordt aangemerkt als ZZS\",\" \")","v":" "},{"$f":"COUNTIF('ZZS-lijst'!A:A,$C1172)","v":0}]
[{"$f":"IF(AND(B1173>0,ISBLANK('beoordeling maatregel'!Q1173)=FALSE),\"Deze stof wordt aangemerkt als ZZS\",\" \")","v":" "},{"$f":"COUNTIF('ZZS-lijst'!A:A,$C1173)","v":0}]
[{"$f":"IF(AND(B1174>0,ISBLANK('beoordeling maatregel'!Q1174)=FALSE),\"Deze stof wordt aangemerkt als ZZS\",\" \")","v":" "},{"$f":"COUNTIF('ZZS-lijst'!A:A,$C1174)","v":0}]
[{"$f":"IF(AND(B1175>0,ISBLANK('beoordeling maatregel'!Q1175)=FALSE),\"Deze stof wordt aangemerkt als ZZS\",\" \")","v":" "},{"$f":"COUNTIF('ZZS-lijst'!A:A,$C1175)","v":0}]
[{"$f":"IF(AND(B1176>0,ISBLANK('beoordeling maatregel'!Q1176)=FALSE),\"Deze stof wordt aangemerkt als ZZS\",\" \")","v":" "},{"$f":"COUNTIF('ZZS-lijst'!A:A,$C1176)","v":0}]
[{"$f":"IF(AND(B1177>0,ISBLANK('beoordeling maatregel'!Q1177)=FALSE),\"Deze stof wordt aangemerkt als ZZS\",\" \")","v":" "},{"$f":"COUNTIF('ZZS-lijst'!A:A,$C1177)","v":0}]
[{"$f":"IF(AND(B1178>0,ISBLANK('beoordeling maatregel'!Q1178)=FALSE),\"Deze stof wordt aangemerkt als ZZS\",\" \")","v":" "},{"$f":"COUNTIF('ZZS-lijst'!A:A,$C1178)","v":0}]
[{"$f":"IF(AND(B1179>0,ISBLANK('beoordeling maatregel'!Q1179)=FALSE),\"Deze stof wordt aangemerkt als ZZS\",\" \")","v":" "},{"$f":"COUNTIF('ZZS-lijst'!A:A,$C1179)","v":0}]
[{"$f":"IF(AND(B1180>0,ISBLANK('beoordeling maatregel'!Q1180)=FALSE),\"Deze stof wordt aangemerkt als ZZS\",\" \")","v":" "},{"$f":"COUNTIF('ZZS-lijst'!A:A,$C1180)","v":0}]
[{"$f":"IF(AND(B1181>0,ISBLANK('beoordeling maatregel'!Q1181)=FALSE),\"Deze stof wordt aangemerkt als ZZS\",\" \")","v":" "},{"$f":"COUNTIF('ZZS-lijst'!A:A,$C1181)","v":0}]
[{"$f":"IF(AND(B1182>0,ISBLANK('beoordeling maatregel'!Q1182)=FALSE),\"Deze stof wordt aangemerkt als ZZS\",\" \")","v":" "},{"$f":"COUNTIF('ZZS-lijst'!A:A,$C1182)","v":0}]
[{"$f":"IF(AND(B1183>0,ISBLANK('beoordeling maatregel'!Q1183)=FALSE),\"Deze stof wordt aangemerkt als ZZS\",\" \")","v":" "},{"$f":"COUNTIF('ZZS-lijst'!A:A,$C1183)","v":0}]
[{"$f":"IF(AND(B1184>0,ISBLANK('beoordeling maatregel'!Q1184)=FALSE),\"Deze stof wordt aangemerkt als ZZS\",\" \")","v":" "},{"$f":"COUNTIF('ZZS-lijst'!A:A,$C1184)","v":0}]
[{"$f":"IF(AND(B1185>0,ISBLANK('beoordeling maatregel'!Q1185)=FALSE),\"Deze stof wordt aangemerkt als ZZS\",\" \")","v":" "},{"$f":"COUNTIF('ZZS-lijst'!A:A,$C1185)","v":0}]
[{"$f":"IF(AND(B1186>0,ISBLANK('beoordeling maatregel'!Q1186)=FALSE),\"Deze stof wordt aangemerkt als ZZS\",\" \")","v":" "},{"$f":"COUNTIF('ZZS-lijst'!A:A,$C1186)","v":0}]
[{"$f":"IF(AND(B1187>0,ISBLANK('beoordeling maatregel'!Q1187)=FALSE),\"Deze stof wordt aangemerkt als ZZS\",\" \")","v":" "},{"$f":"COUNTIF('ZZS-lijst'!A:A,$C1187)","v":0}]
[{"$f":"IF(AND(B1188>0,ISBLANK('beoordeling maatregel'!Q1188)=FALSE),\"Deze stof wordt aangemerkt als ZZS\",\" \")","v":" "},{"$f":"COUNTIF('ZZS-lijst'!A:A,$C1188)","v":0}]
[{"$f":"IF(AND(B1189>0,ISBLANK('beoordeling maatregel'!Q1189)=FALSE),\"Deze stof wordt aangemerkt als ZZS\",\" \")","v":" "},{"$f":"COUNTIF('ZZS-lijst'!A:A,$C1189)","v":0}]
[{"$f":"IF(AND(B1190>0,ISBLANK('beoordeling maatregel'!Q1190)=FALSE),\"Deze stof wordt aangemerkt als ZZS\",\" \")","v":" "},{"$f":"COUNTIF('ZZS-lijst'!A:A,$C1190)","v":0}]
[{"$f":"IF(AND(B1191>0,ISBLANK('beoordeling maatregel'!Q1191)=FALSE),\"Deze stof wordt aangemerkt als ZZS\",\" \")","v":" "},{"$f":"COUNTIF('ZZS-lijst'!A:A,$C1191)","v":0}]
[{"$f":"IF(AND(B1192>0,ISBLANK('beoordeling maatregel'!Q1192)=FALSE),\"Deze stof wordt aangemerkt als ZZS\",\" \")","v":" "},{"$f":"COUNTIF('ZZS-lijst'!A:A,$C1192)","v":0}]
[{"$f":"IF(AND(B1193>0,ISBLANK('beoordeling maatregel'!Q1193)=FALSE),\"Deze stof wordt aangemerkt als ZZS\",\" \")","v":" "},{"$f":"COUNTIF('ZZS-lijst'!A:A,$C1193)","v":0}]
[{"$f":"IF(AND(B1194>0,ISBLANK('beoordeling maatregel'!Q1194)=FALSE),\"Deze stof wordt aangemerkt als ZZS\",\" \")","v":" "},{"$f":"COUNTIF('ZZS-lijst'!A:A,$C1194)","v":0}]
[{"$f":"IF(AND(B1195>0,ISBLANK('beoordeling maatregel'!Q1195)=FALSE),\"Deze stof wordt aangemerkt als ZZS\",\" \")","v":" "},{"$f":"COUNTIF('ZZS-lijst'!A:A,$C1195)","v":0}]
[{"$f":"IF(AND(B1196>0,ISBLANK('beoordeling maatregel'!Q1196)=FALSE),\"Deze stof wordt aangemerkt als ZZS\",\" \")","v":" "},{"$f":"COUNTIF('ZZS-lijst'!A:A,$C1196)","v":0}]
[{"$f":"IF(AND(B1197>0,ISBLANK('beoordeling maatregel'!Q1197)=FALSE),\"Deze stof wordt aangemerkt als ZZS\",\" \")","v":" "},{"$f":"COUNTIF('ZZS-lijst'!A:A,$C1197)","v":0}]
[{"$f":"IF(AND(B1198>0,ISBLANK('beoordeling maatregel'!Q1198)=FALSE),\"Deze stof wordt aangemerkt als ZZS\",\" \")","v":" "},{"$f":"COUNTIF('ZZS-lijst'!A:A,$C1198)","v":0}]
[{"$f":"IF(AND(B1199>0,ISBLANK('beoordeling maatregel'!Q1199)=FALSE),\"Deze stof wordt aangemerkt als ZZS\",\" \")","v":" "},{"$f":"COUNTIF('ZZS-lijst'!A:A,$C1199)","v":0}]
[{"$f":"IF(AND(B1200>0,ISBLANK('beoordeling maatregel'!Q1200)=FALSE),\"Deze stof wordt aangemerkt als ZZS\",\" \")","v":" "},{"$f":"COUNTIF('ZZS-lijst'!A:A,$C1200)","v":0}]
[{"$f":"IF(AND(B1201>0,ISBLANK('beoordeling maatregel'!Q1201)=FALSE),\"Deze stof wordt aangemerkt als ZZS\",\" \")","v":" "},{"$f":"COUNTIF('ZZS-lijst'!A:A,$C1201)","v":0}]
[{"$f":"IF(AND(B1202>0,ISBLANK('beoordeling maatregel'!Q1202)=FALSE),\"Deze stof wordt aangemerkt als ZZS\",\" \")","v":" "},{"$f":"COUNTIF('ZZS-lijst'!A:A,$C1202)","v":0}]
[{"$f":"IF(AND(B1203>0,ISBLANK('beoordeling maatregel'!Q1203)=FALSE),\"Deze stof wordt aangemerkt als ZZS\",\" \")","v":" "},{"$f":"COUNTIF('ZZS-lijst'!A:A,$C1203)","v":0}]
[{"$f":"IF(AND(B1204>0,ISBLANK('beoordeling maatregel'!Q1204)=FALSE),\"Deze stof wordt aangemerkt als ZZS\",\" \")","v":" "},{"$f":"COUNTIF('ZZS-lijst'!A:A,$C1204)","v":0}]
[{"$f":"IF(AND(B1205>0,ISBLANK('beoordeling maatregel'!Q1205)=FALSE),\"Deze stof wordt aangemerkt als ZZS\",\" \")","v":" "},{"$f":"COUNTIF('ZZS-lijst'!A:A,$C1205)","v":0}]
[{"$f":"IF(AND(B1206>0,ISBLANK('beoordeling maatregel'!Q1206)=FALSE),\"Deze stof wordt aangemerkt als ZZS\",\" \")","v":" "},{"$f":"COUNTIF('ZZS-lijst'!A:A,$C1206)","v":0}]
[{"$f":"IF(AND(B1207>0,ISBLANK('beoordeling maatregel'!Q1207)=FALSE),\"Deze stof wordt aangemerkt als ZZS\",\" \")","v":" "},{"$f":"COUNTIF('ZZS-lijst'!A:A,$C1207)","v":0}]
[{"$f":"IF(AND(B1208>0,ISBLANK('beoordeling maatregel'!Q1208)=FALSE),\"Deze stof wordt aangemerkt als ZZS\",\" \")","v":" "},{"$f":"COUNTIF('ZZS-lijst'!A:A,$C1208)","v":0}]
[{"$f":"IF(AND(B1209>0,ISBLANK('beoordeling maatregel'!Q1209)=FALSE),\"Deze stof wordt aangemerkt als ZZS\",\" \")","v":" "},{"$f":"COUNTIF('ZZS-lijst'!A:A,$C1209)","v":0}]
[{"$f":"IF(AND(B1210>0,ISBLANK('beoordeling maatregel'!Q1210)=FALSE),\"Deze stof wordt aangemerkt als ZZS\",\" \")","v":" "},{"$f":"COUNTIF('ZZS-lijst'!A:A,$C1210)","v":0}]
[{"$f":"IF(AND(B1211>0,ISBLANK('beoordeling maatregel'!Q1211)=FALSE),\"Deze stof wordt aangemerkt als ZZS\",\" \")","v":" "},{"$f":"COUNTIF('ZZS-lijst'!A:A,$C1211)","v":0}]
[{"$f":"IF(AND(B1212>0,ISBLANK('beoordeling maatregel'!Q1212)=FALSE),\"Deze stof wordt aangemerkt als ZZS\",\" \")","v":" "},{"$f":"COUNTIF('ZZS-lijst'!A:A,$C1212)","v":0}]
[{"$f":"IF(AND(B1213>0,ISBLANK('beoordeling maatregel'!Q1213)=FALSE),\"Deze stof wordt aangemerkt als ZZS\",\" \")","v":" "},{"$f":"COUNTIF('ZZS-lijst'!A:A,$C1213)","v":0}]
[{"$f":"IF(AND(B1214>0,ISBLANK('beoordeling maatregel'!Q1214)=FALSE),\"Deze stof wordt aangemerkt als ZZS\",\" \")","v":" "},{"$f":"COUNTIF('ZZS-lijst'!A:A,$C1214)","v":0}]
[{"$f":"IF(AND(B1215>0,ISBLANK('beoordeling maatregel'!Q1215)=FALSE),\"Deze stof wordt aangemerkt als ZZS\",\" \")","v":" "},{"$f":"COUNTIF('ZZS-lijst'!A:A,$C1215)","v":0}]
[{"$f":"IF(AND(B1216>0,ISBLANK('beoordeling maatregel'!Q1216)=FALSE),\"Deze stof wordt aangemerkt als ZZS\",\" \")","v":" "},{"$f":"COUNTIF('ZZS-lijst'!A:A,$C1216)","v":0}]
[{"$f":"IF(AND(B1217>0,ISBLANK('beoordeling maatregel'!Q1217)=FALSE),\"Deze stof wordt aangemerkt als ZZS\",\" \")","v":" "},{"$f":"COUNTIF('ZZS-lijst'!A:A,$C1217)","v":0}]
[{"$f":"IF(AND(B1218>0,ISBLANK('beoordeling maatregel'!Q1218)=FALSE),\"Deze stof wordt aangemerkt als ZZS\",\" \")","v":" "},{"$f":"COUNTIF('ZZS-lijst'!A:A,$C1218)","v":0}]
[{"$f":"IF(AND(B1219>0,ISBLANK('beoordeling maatregel'!Q1219)=FALSE),\"Deze stof wordt aangemerkt als ZZS\",\" \")","v":" "},{"$f":"COUNTIF('ZZS-lijst'!A:A,$C1219)","v":0}]
[{"$f":"IF(AND(B1220>0,ISBLANK('beoordeling maatregel'!Q1220)=FALSE),\"Deze stof wordt aangemerkt als ZZS\",\" \")","v":" "},{"$f":"COUNTIF('ZZS-lijst'!A:A,$C1220)","v":0}]
[{"$f":"IF(AND(B1221>0,ISBLANK('beoordeling maatregel'!Q1221)=FALSE),\"Deze stof wordt aangemerkt als ZZS\",\" \")","v":" "},{"$f":"COUNTIF('ZZS-lijst'!A:A,$C1221)","v":0}]
[{"$f":"IF(AND(B1222>0,ISBLANK('beoordeling maatregel'!Q1222)=FALSE),\"Deze stof wordt aangemerkt als ZZS\",\" \")","v":" "},{"$f":"COUNTIF('ZZS-lijst'!A:A,$C1222)","v":0}]
[{"$f":"IF(AND(B1223>0,ISBLANK('beoordeling maatregel'!Q1223)=FALSE),\"Deze stof wordt aangemerkt als ZZS\",\" \")","v":" "},{"$f":"COUNTIF('ZZS-lijst'!A:A,$C1223)","v":0}]
[{"$f":"IF(AND(B1224>0,ISBLANK('beoordeling maatregel'!Q1224)=FALSE),\"Deze stof wordt aangemerkt als ZZS\",\" \")","v":" "},{"$f":"COUNTIF('ZZS-lijst'!A:A,$C1224)","v":0}]
[{"$f":"IF(AND(B1225>0,ISBLANK('beoordeling maatregel'!Q1225)=FALSE),\"Deze stof wordt aangemerkt als ZZS\",\" \")","v":" "},{"$f":"COUNTIF('ZZS-lijst'!A:A,$C1225)","v":0}]
[{"$f":"IF(AND(B1226>0,ISBLANK('beoordeling maatregel'!Q1226)=FALSE),\"Deze stof wordt aangemerkt als ZZS\",\" \")","v":" "},{"$f":"COUNTIF('ZZS-lijst'!A:A,$C1226)","v":0}]
[{"$f":"IF(AND(B1227>0,ISBLANK('beoordeling maatregel'!Q1227)=FALSE),\"Deze stof wordt aangemerkt als ZZS\",\" \")","v":" "},{"$f":"COUNTIF('ZZS-lijst'!A:A,$C1227)","v":0}]
[{"$f":"IF(AND(B1228>0,ISBLANK('beoordeling maatregel'!Q1228)=FALSE),\"Deze stof wordt aangemerkt als ZZS\",\" \")","v":" "},{"$f":"COUNTIF('ZZS-lijst'!A:A,$C1228)","v":0}]
[{"$f":"IF(AND(B1229>0,ISBLANK('beoordeling maatregel'!Q1229)=FALSE),\"Deze stof wordt aangemerkt als ZZS\",\" \")","v":" "},{"$f":"COUNTIF('ZZS-lijst'!A:A,$C1229)","v":0}]
[{"$f":"IF(AND(B1230>0,ISBLANK('beoordeling maatregel'!Q1230)=FALSE),\"Deze stof wordt aangemerkt als ZZS\",\" \")","v":" "},{"$f":"COUNTIF('ZZS-lijst'!A:A,$C1230)","v":0}]
[{"$f":"IF(AND(B1231>0,ISBLANK('beoordeling maatregel'!Q1231)=FALSE),\"Deze stof wordt aangemerkt als ZZS\",\" \")","v":" "},{"$f":"COUNTIF('ZZS-lijst'!A:A,$C1231)","v":0}]
[{"$f":"IF(AND(B1232>0,ISBLANK('beoordeling maatregel'!Q1232)=FALSE),\"Deze stof wordt aangemerkt als ZZS\",\" \")","v":" "},{"$f":"COUNTIF('ZZS-lijst'!A:A,$C1232)","v":0}]
[{"$f":"IF(AND(B1233>0,ISBLANK('beoordeling maatregel'!Q1233)=FALSE),\"Deze stof wordt aangemerkt als ZZS\",\" \")","v":" "},{"$f":"COUNTIF('ZZS-lijst'!A:A,$C1233)","v":0}]
[{"$f":"IF(AND(B1234>0,ISBLANK('beoordeling maatregel'!Q1234)=FALSE),\"Deze stof wordt aangemerkt als ZZS\",\" \")","v":" "},{"$f":"COUNTIF('ZZS-lijst'!A:A,$C1234)","v":0}]
[{"$f":"IF(AND(B1235>0,ISBLANK('beoordeling maatregel'!Q1235)=FALSE),\"Deze stof wordt aangemerkt als ZZS\",\" \")","v":" "},{"$f":"COUNTIF('ZZS-lijst'!A:A,$C1235)","v":0}]
[{"$f":"IF(AND(B1236>0,ISBLANK('beoordeling maatregel'!Q1236)=FALSE),\"Deze stof wordt aangemerkt als ZZS\",\" \")","v":" "},{"$f":"COUNTIF('ZZS-lijst'!A:A,$C1236)","v":0}]
[{"$f":"IF(AND(B1237>0,ISBLANK('beoordeling maatregel'!Q1237)=FALSE),\"Deze stof wordt aangemerkt als ZZS\",\" \")","v":" "},{"$f":"COUNTIF('ZZS-lijst'!A:A,$C1237)","v":0}]
[{"$f":"IF(AND(B1238>0,ISBLANK('beoordeling maatregel'!Q1238)=FALSE),\"Deze stof wordt aangemerkt als ZZS\",\" \")","v":" "},{"$f":"COUNTIF('ZZS-lijst'!A:A,$C1238)","v":0}]
[{"$f":"IF(AND(B1239>0,ISBLANK('beoordeling maatregel'!Q1239)=FALSE),\"Deze stof wordt aangemerkt als ZZS\",\" \")","v":" "},{"$f":"COUNTIF('ZZS-lijst'!A:A,$C1239)","v":0}]
[{"$f":"IF(AND(B1240>0,ISBLANK('beoordeling maatregel'!Q1240)=FALSE),\"Deze stof wordt aangemerkt als ZZS\",\" \")","v":" "},{"$f":"COUNTIF('ZZS-lijst'!A:A,$C1240)","v":0}]
[{"$f":"IF(AND(B1241>0,ISBLANK('beoordeling maatregel'!Q1241)=FALSE),\"Deze stof wordt aangemerkt als ZZS\",\" \")","v":" "},{"$f":"COUNTIF('ZZS-lijst'!A:A,$C1241)","v":0}]
[{"$f":"IF(AND(B1242>0,ISBLANK('beoordeling maatregel'!Q1242)=FALSE),\"Deze stof wordt aangemerkt als ZZS\",\" \")","v":" "},{"$f":"COUNTIF('ZZS-lijst'!A:A,$C1242)","v":0}]
[{"$f":"IF(AND(B1243>0,ISBLANK('beoordeling maatregel'!Q1243)=FALSE),\"Deze stof wordt aangemerkt als ZZS\",\" \")","v":" "},{"$f":"COUNTIF('ZZS-lijst'!A:A,$C1243)","v":0}]
[{"$f":"IF(AND(B1244>0,ISBLANK('beoordeling maatregel'!Q1244)=FALSE),\"Deze stof wordt aangemerkt als ZZS\",\" \")","v":" "},{"$f":"COUNTIF('ZZS-lijst'!A:A,$C1244)","v":0}]
[{"$f":"IF(AND(B1245>0,ISBLANK('beoordeling maatregel'!Q1245)=FALSE),\"Deze stof wordt aangemerkt als ZZS\",\" \")","v":" "},{"$f":"COUNTIF('ZZS-lijst'!A:A,$C1245)","v":0}]
[{"$f":"IF(AND(B1246>0,ISBLANK('beoordeling maatregel'!Q1246)=FALSE),\"Deze stof wordt aangemerkt als ZZS\",\" \")","v":" "},{"$f":"COUNTIF('ZZS-lijst'!A:A,$C1246)","v":0}]
[{"$f":"IF(AND(B1247>0,ISBLANK('beoordeling maatregel'!Q1247)=FALSE),\"Deze stof wordt aangemerkt als ZZS\",\" \")","v":" "},{"$f":"COUNTIF('ZZS-lijst'!A:A,$C1247)","v":0}]
[{"$f":"IF(AND(B1248>0,ISBLANK('beoordeling maatregel'!Q1248)=FALSE),\"Deze stof wordt aangemerkt als ZZS\",\" \")","v":" "},{"$f":"COUNTIF('ZZS-lijst'!A:A,$C1248)","v":0}]
[{"$f":"IF(AND(B1249>0,ISBLANK('beoordeling maatregel'!Q1249)=FALSE),\"Deze stof wordt aangemerkt als ZZS\",\" \")","v":" "},{"$f":"COUNTIF('ZZS-lijst'!A:A,$C1249)","v":0}]
[{"$f":"IF(AND(B1250>0,ISBLANK('beoordeling maatregel'!Q1250)=FALSE),\"Deze stof wordt aangemerkt als ZZS\",\" \")","v":" "},{"$f":"COUNTIF('ZZS-lijst'!A:A,$C1250)","v":0}]
[{"$f":"IF(AND(B1251>0,ISBLANK('beoordeling maatregel'!Q1251)=FALSE),\"Deze stof wordt aangemerkt als ZZS\",\" \")","v":" "},{"$f":"COUNTIF('ZZS-lijst'!A:A,$C1251)","v":0}]
[{"$f":"IF(AND(B1252>0,ISBLANK('beoordeling maatregel'!Q1252)=FALSE),\"Deze stof wordt aangemerkt als ZZS\",\" \")","v":" "},{"$f":"COUNTIF('ZZS-lijst'!A:A,$C1252)","v":0}]
[{"$f":"IF(AND(B1253>0,ISBLANK('beoordeling maatregel'!Q1253)=FALSE),\"Deze stof wordt aangemerkt als ZZS\",\" \")","v":" "},{"$f":"COUNTIF('ZZS-lijst'!A:A,$C1253)","v":0}]
[{"$f":"IF(AND(B1254>0,ISBLANK('beoordeling maatregel'!Q1254)=FALSE),\"Deze stof wordt aangemerkt als ZZS\",\" \")","v":" "},{"$f":"COUNTIF('ZZS-lijst'!A:A,$C1254)","v":0}]
[{"$f":"IF(AND(B1255>0,ISBLANK('beoordeling maatregel'!Q1255)=FALSE),\"Deze stof wordt aangemerkt als ZZS\",\" \")","v":" "},{"$f":"COUNTIF('ZZS-lijst'!A:A,$C1255)","v":0}]
[{"$f":"IF(AND(B1256>0,ISBLANK('beoordeling maatregel'!Q1256)=FALSE),\"Deze stof wordt aangemerkt als ZZS\",\" \")","v":" "},{"$f":"COUNTIF('ZZS-lijst'!A:A,$C1256)","v":0}]
[{"$f":"IF(AND(B1257>0,ISBLANK('beoordeling maatregel'!Q1257)=FALSE),\"Deze stof wordt aangemerkt als ZZS\",\" \")","v":" "},{"$f":"COUNTIF('ZZS-lijst'!A:A,$C1257)","v":0}]
[{"$f":"IF(AND(B1258>0,ISBLANK('beoordeling maatregel'!Q1258)=FALSE),\"Deze stof wordt aangemerkt als ZZS\",\" \")","v":" "},{"$f":"COUNTIF('ZZS-lijst'!A:A,$C1258)","v":0}]
[{"$f":"IF(AND(B1259>0,ISBLANK('beoordeling maatregel'!Q1259)=FALSE),\"Deze stof wordt aangemerkt als ZZS\",\" \")","v":" "},{"$f":"COUNTIF('ZZS-lijst'!A:A,$C1259)","v":0}]
[{"$f":"IF(AND(B1260>0,ISBLANK('beoordeling maatregel'!Q1260)=FALSE),\"Deze stof wordt aangemerkt als ZZS\",\" \")","v":" "},{"$f":"COUNTIF('ZZS-lijst'!A:A,$C1260)","v":0}]
[{"$f":"IF(AND(B1261>0,ISBLANK('beoordeling maatregel'!Q1261)=FALSE),\"Deze stof wordt aangemerkt als ZZS\",\" \")","v":" "},{"$f":"COUNTIF('ZZS-lijst'!A:A,$C1261)","v":0}]
[{"$f":"IF(AND(B1262>0,ISBLANK('beoordeling maatregel'!Q1262)=FALSE),\"Deze stof wordt aangemerkt als ZZS\",\" \")","v":" "},{"$f":"COUNTIF('ZZS-lijst'!A:A,$C1262)","v":0}]
[{"$f":"IF(AND(B1263>0,ISBLANK('beoordeling maatregel'!Q1263)=FALSE),\"Deze stof wordt aangemerkt als ZZS\",\" \")","v":" "},{"$f":"COUNTIF('ZZS-lijst'!A:A,$C1263)","v":0}]
[{"$f":"IF(AND(B1264>0,ISBLANK('beoordeling maatregel'!Q1264)=FALSE),\"Deze stof wordt aangemerkt als ZZS\",\" \")","v":" "},{"$f":"COUNTIF('ZZS-lijst'!A:A,$C1264)","v":0}]
[{"$f":"IF(AND(B1265>0,ISBLANK('beoordeling maatregel'!Q1265)=FALSE),\"Deze stof wordt aangemerkt als ZZS\",\" \")","v":" "},{"$f":"COUNTIF('ZZS-lijst'!A:A,$C1265)","v":0}]
[{"$f":"IF(AND(B1266>0,ISBLANK('beoordeling maatregel'!Q1266)=FALSE),\"Deze stof wordt aangemerkt als ZZS\",\" \")","v":" "},{"$f":"COUNTIF('ZZS-lijst'!A:A,$C1266)","v":0}]
[{"$f":"IF(AND(B1267>0,ISBLANK('beoordeling maatregel'!Q1267)=FALSE),\"Deze stof wordt aangemerkt als ZZS\",\" \")","v":" "},{"$f":"COUNTIF('ZZS-lijst'!A:A,$C1267)","v":0}]
[{"$f":"IF(AND(B1268>0,ISBLANK('beoordeling maatregel'!Q1268)=FALSE),\"Deze stof wordt aangemerkt als ZZS\",\" \")","v":" "},{"$f":"COUNTIF('ZZS-lijst'!A:A,$C1268)","v":0}]
[{"$f":"IF(AND(B1269>0,ISBLANK('beoordeling maatregel'!Q1269)=FALSE),\"Deze stof wordt aangemerkt als ZZS\",\" \")","v":" "},{"$f":"COUNTIF('ZZS-lijst'!A:A,$C1269)","v":0}]
[{"$f":"IF(AND(B1270>0,ISBLANK('beoordeling maatregel'!Q1270)=FALSE),\"Deze stof wordt aangemerkt als ZZS\",\" \")","v":" "},{"$f":"COUNTIF('ZZS-lijst'!A:A,$C1270)","v":0}]
[{"$f":"IF(AND(B1271>0,ISBLANK('beoordeling maatregel'!Q1271)=FALSE),\"Deze stof wordt aangemerkt als ZZS\",\" \")","v":" "},{"$f":"COUNTIF('ZZS-lijst'!A:A,$C1271)","v":0}]
[{"$f":"IF(AND(B1272>0,ISBLANK('beoordeling maatregel'!Q1272)=FALSE),\"Deze stof wordt aangemerkt als ZZS\",\" \")","v":" "},{"$f":"COUNTIF('ZZS-lijst'!A:A,$C1272)","v":0}]
[{"$f":"IF(AND(B1273>0,ISBLANK('beoordeling maatregel'!Q1273)=FALSE),\"Deze stof wordt aangemerkt als ZZS\",\" \")","v":" "},{"$f":"COUNTIF('ZZS-lijst'!A:A,$C1273)","v":0}]
[{"$f":"IF(AND(B1274>0,ISBLANK('beoordeling maatregel'!Q1274)=FALSE),\"Deze stof wordt aangemerkt als ZZS\",\" \")","v":" "},{"$f":"COUNTIF('ZZS-lijst'!A:A,$C1274)","v":0}]
[{"$f":"IF(AND(B1275>0,ISBLANK('beoordeling maatregel'!Q1275)=FALSE),\"Deze stof wordt aangemerkt als ZZS\",\" \")","v":" "},{"$f":"COUNTIF('ZZS-lijst'!A:A,$C1275)","v":0}]
[{"$f":"IF(AND(B1276>0,ISBLANK('beoordeling maatregel'!Q1276)=FALSE),\"Deze stof wordt aangemerkt als ZZS\",\" \")","v":" "},{"$f":"COUNTIF('ZZS-lijst'!A:A,$C1276)","v":0}]
[{"$f":"IF(AND(B1277>0,ISBLANK('beoordeling maatregel'!Q1277)=FALSE),\"Deze stof wordt aangemerkt als ZZS\",\" \")","v":" "},{"$f":"COUNTIF('ZZS-lijst'!A:A,$C1277)","v":0}]
[{"$f":"IF(AND(B1278>0,ISBLANK('beoordeling maatregel'!Q1278)=FALSE),\"Deze stof wordt aangemerkt als ZZS\",\" \")","v":" "},{"$f":"COUNTIF('ZZS-lijst'!A:A,$C1278)","v":0}]
[{"$f":"IF(AND(B1279>0,ISBLANK('beoordeling maatregel'!Q1279)=FALSE),\"Deze stof wordt aangemerkt als ZZS\",\" \")","v":" "},{"$f":"COUNTIF('ZZS-lijst'!A:A,$C1279)","v":0}]
[{"$f":"IF(AND(B1280>0,ISBLANK('beoordeling maatregel'!Q1280)=FALSE),\"Deze stof wordt aangemerkt als ZZS\",\" \")","v":" "},{"$f":"COUNTIF('ZZS-lijst'!A:A,$C1280)","v":0}]
[{"$f":"IF(AND(B1281>0,ISBLANK('beoordeling maatregel'!Q1281)=FALSE),\"Deze stof wordt aangemerkt als ZZS\",\" \")","v":" "},{"$f":"COUNTIF('ZZS-lijst'!A:A,$C1281)","v":0}]
[{"$f":"IF(AND(B1282>0,ISBLANK('beoordeling maatregel'!Q1282)=FALSE),\"Deze stof wordt aangemerkt als ZZS\",\" \")","v":" "},{"$f":"COUNTIF('ZZS-lijst'!A:A,$C1282)","v":0}]
[{"$f":"IF(AND(B1283>0,ISBLANK('beoordeling maatregel'!Q1283)=FALSE),\"Deze stof wordt aangemerkt als ZZS\",\" \")","v":" "},{"$f":"COUNTIF('ZZS-lijst'!A:A,$C1283)","v":0}]
[{"$f":"IF(AND(B1284>0,ISBLANK('beoordeling maatregel'!Q1284)=FALSE),\"Deze stof wordt aangemerkt als ZZS\",\" \")","v":" "},{"$f":"COUNTIF('ZZS-lijst'!A:A,$C1284)","v":0}]
[{"$f":"IF(AND(B1285>0,ISBLANK('beoordeling maatregel'!Q1285)=FALSE),\"Deze stof wordt aangemerkt als ZZS\",\" \")","v":" "},{"$f":"COUNTIF('ZZS-lijst'!A:A,$C1285)","v":0}]
[{"$f":"IF(AND(B1286>0,ISBLANK('beoordeling maatregel'!Q1286)=FALSE),\"Deze stof wordt aangemerkt als ZZS\",\" \")","v":" "},{"$f":"COUNTIF('ZZS-lijst'!A:A,$C1286)","v":0}]
[{"$f":"IF(AND(B1287>0,ISBLANK('beoordeling maatregel'!Q1287)=FALSE),\"Deze stof wordt aangemerkt als ZZS\",\" \")","v":" "},{"$f":"COUNTIF('ZZS-lijst'!A:A,$C1287)","v":0}]
[{"$f":"IF(AND(B1288>0,ISBLANK('beoordeling maatregel'!Q1288)=FALSE),\"Deze stof wordt aangemerkt als ZZS\",\" \")","v":" "},{"$f":"COUNTIF('ZZS-lijst'!A:A,$C1288)","v":0}]
[{"$f":"IF(AND(B1289>0,ISBLANK('beoordeling maatregel'!Q1289)=FALSE),\"Deze stof wordt aangemerkt als ZZS\",\" \")","v":" "},{"$f":"COUNTIF('ZZS-lijst'!A:A,$C1289)","v":0}]
[{"$f":"IF(AND(B1290>0,ISBLANK('beoordeling maatregel'!Q1290)=FALSE),\"Deze stof wordt aangemerkt als ZZS\",\" \")","v":" "},{"$f":"COUNTIF('ZZS-lijst'!A:A,$C1290)","v":0}]
[{"$f":"IF(AND(B1291>0,ISBLANK('beoordeling maatregel'!Q1291)=FALSE),\"Deze stof wordt aangemerkt als ZZS\",\" \")","v":" "},{"$f":"COUNTIF('ZZS-lijst'!A:A,$C1291)","v":0}]
[{"$f":"IF(AND(B1292>0,ISBLANK('beoordeling maatregel'!Q1292)=FALSE),\"Deze stof wordt aangemerkt als ZZS\",\" \")","v":" "},{"$f":"COUNTIF('ZZS-lijst'!A:A,$C1292)","v":0}]
[{"$f":"IF(AND(B1293>0,ISBLANK('beoordeling maatregel'!Q1293)=FALSE),\"Deze stof wordt aangemerkt als ZZS\",\" \")","v":" "},{"$f":"COUNTIF('ZZS-lijst'!A:A,$C1293)","v":0}]
[{"$f":"IF(AND(B1294>0,ISBLANK('beoordeling maatregel'!Q1294)=FALSE),\"Deze stof wordt aangemerkt als ZZS\",\" \")","v":" "},{"$f":"COUNTIF('ZZS-lijst'!A:A,$C1294)","v":0}]
[{"$f":"IF(AND(B1295>0,ISBLANK('beoordeling maatregel'!Q1295)=FALSE),\"Deze stof wordt aangemerkt als ZZS\",\" \")","v":" "},{"$f":"COUNTIF('ZZS-lijst'!A:A,$C1295)","v":0}]
[{"$f":"IF(AND(B1296>0,ISBLANK('beoordeling maatregel'!Q1296)=FALSE),\"Deze stof wordt aangemerkt als ZZS\",\" \")","v":" "},{"$f":"COUNTIF('ZZS-lijst'!A:A,$C1296)","v":0}]
[{"$f":"IF(AND(B1297>0,ISBLANK('beoordeling maatregel'!Q1297)=FALSE),\"Deze stof wordt aangemerkt als ZZS\",\" \")","v":" "},{"$f":"COUNTIF('ZZS-lijst'!A:A,$C1297)","v":0}]
[{"$f":"IF(AND(B1298>0,ISBLANK('beoordeling maatregel'!Q1298)=FALSE),\"Deze stof wordt aangemerkt als ZZS\",\" \")","v":" "},{"$f":"COUNTIF('ZZS-lijst'!A:A,$C1298)","v":0}]
[{"$f":"IF(AND(B1299>0,ISBLANK('beoordeling maatregel'!Q1299)=FALSE),\"Deze stof wordt aangemerkt als ZZS\",\" \")","v":" "},{"$f":"COUNTIF('ZZS-lijst'!A:A,$C1299)","v":0}]
[{"$f":"IF(AND(B1300>0,ISBLANK('beoordeling maatregel'!Q1300)=FALSE),\"Deze stof wordt aangemerkt als ZZS\",\" \")","v":" "},{"$f":"COUNTIF('ZZS-lijst'!A:A,$C1300)","v":0}]
[{"$f":"IF(AND(B1301>0,ISBLANK('beoordeling maatregel'!Q1301)=FALSE),\"Deze stof wordt aangemerkt als ZZS\",\" \")","v":" "},{"$f":"COUNTIF('ZZS-lijst'!A:A,$C1301)","v":0}]
[{"$f":"IF(AND(B1302>0,ISBLANK('beoordeling maatregel'!Q1302)=FALSE),\"Deze stof wordt aangemerkt als ZZS\",\" \")","v":" "},{"$f":"COUNTIF('ZZS-lijst'!A:A,$C1302)","v":0}]
[{"$f":"IF(AND(B1303>0,ISBLANK('beoordeling maatregel'!Q1303)=FALSE),\"Deze stof wordt aangemerkt als ZZS\",\" \")","v":" "},{"$f":"COUNTIF('ZZS-lijst'!A:A,$C1303)","v":0}]
[{"$f":"IF(AND(B1304>0,ISBLANK('beoordeling maatregel'!Q1304)=FALSE),\"Deze stof wordt aangemerkt als ZZS\",\" \")","v":" "},{"$f":"COUNTIF('ZZS-lijst'!A:A,$C1304)","v":0}]
[{"$f":"IF(AND(B1305>0,ISBLANK('beoordeling maatregel'!Q1305)=FALSE),\"Deze stof wordt aangemerkt als ZZS\",\" \")","v":" "},{"$f":"COUNTIF('ZZS-lijst'!A:A,$C1305)","v":0}]
[{"$f":"IF(AND(B1306>0,ISBLANK('beoordeling maatregel'!Q1306)=FALSE),\"Deze stof wordt aangemerkt als ZZS\",\" \")","v":" "},{"$f":"COUNTIF('ZZS-lijst'!A:A,$C1306)","v":0}]
[{"$f":"IF(AND(B1307>0,ISBLANK('beoordeling maatregel'!Q1307)=FALSE),\"Deze stof wordt aangemerkt als ZZS\",\" \")","v":" "},{"$f":"COUNTIF('ZZS-lijst'!A:A,$C1307)","v":0}]
[{"$f":"IF(AND(B1308>0,ISBLANK('beoordeling maatregel'!Q1308)=FALSE),\"Deze stof wordt aangemerkt als ZZS\",\" \")","v":" "},{"$f":"COUNTIF('ZZS-lijst'!A:A,$C1308)","v":0}]
[{"$f":"IF(AND(B1309>0,ISBLANK('beoordeling maatregel'!Q1309)=FALSE),\"Deze stof wordt aangemerkt als ZZS\",\" \")","v":" "},{"$f":"COUNTIF('ZZS-lijst'!A:A,$C1309)","v":0}]
[{"$f":"IF(AND(B1310>0,ISBLANK('beoordeling maatregel'!Q1310)=FALSE),\"Deze stof wordt aangemerkt als ZZS\",\" \")","v":" "},{"$f":"COUNTIF('ZZS-lijst'!A:A,$C1310)","v":0}]
[{"$f":"IF(AND(B1311>0,ISBLANK('beoordeling maatregel'!Q1311)=FALSE),\"Deze stof wordt aangemerkt als ZZS\",\" \")","v":" "},{"$f":"COUNTIF('ZZS-lijst'!A:A,$C1311)","v":0}]
[{"$f":"IF(AND(B1312>0,ISBLANK('beoordeling maatregel'!Q1312)=FALSE),\"Deze stof wordt aangemerkt als ZZS\",\" \")","v":" "},{"$f":"COUNTIF('ZZS-lijst'!A:A,$C1312)","v":0}]
[{"$f":"IF(AND(B1313>0,ISBLANK('beoordeling maatregel'!Q1313)=FALSE),\"Deze stof wordt aangemerkt als ZZS\",\" \")","v":" "},{"$f":"COUNTIF('ZZS-lijst'!A:A,$C1313)","v":0}]
[{"$f":"IF(AND(B1314>0,ISBLANK('beoordeling maatregel'!Q1314)=FALSE),\"Deze stof wordt aangemerkt als ZZS\",\" \")","v":" "},{"$f":"COUNTIF('ZZS-lijst'!A:A,$C1314)","v":0}]
[{"$f":"IF(AND(B1315>0,ISBLANK('beoordeling maatregel'!Q1315)=FALSE),\"Deze stof wordt aangemerkt als ZZS\",\" \")","v":" "},{"$f":"COUNTIF('ZZS-lijst'!A:A,$C1315)","v":0}]
[{"$f":"IF(AND(B1316>0,ISBLANK('beoordeling maatregel'!Q1316)=FALSE),\"Deze stof wordt aangemerkt als ZZS\",\" \")","v":" "},{"$f":"COUNTIF('ZZS-lijst'!A:A,$C1316)","v":0}]
[{"$f":"IF(AND(B1317>0,ISBLANK('beoordeling maatregel'!Q1317)=FALSE),\"Deze stof wordt aangemerkt als ZZS\",\" \")","v":" "},{"$f":"COUNTIF('ZZS-lijst'!A:A,$C1317)","v":0}]
[{"$f":"IF(AND(B1318>0,ISBLANK('beoordeling maatregel'!Q1318)=FALSE),\"Deze stof wordt aangemerkt als ZZS\",\" \")","v":" "},{"$f":"COUNTIF('ZZS-lijst'!A:A,$C1318)","v":0}]
[{"$f":"IF(AND(B1319>0,ISBLANK('beoordeling maatregel'!Q1319)=FALSE),\"Deze stof wordt aangemerkt als ZZS\",\" \")","v":" "},{"$f":"COUNTIF('ZZS-lijst'!A:A,$C1319)","v":0}]
[{"$f":"IF(AND(B1320>0,ISBLANK('beoordeling maatregel'!Q1320)=FALSE),\"Deze stof wordt aangemerkt als ZZS\",\" \")","v":" "},{"$f":"COUNTIF('ZZS-lijst'!A:A,$C1320)","v":0}]
[{"$f":"IF(AND(B1321>0,ISBLANK('beoordeling maatregel'!Q1321)=FALSE),\"Deze stof wordt aangemerkt als ZZS\",\" \")","v":" "},{"$f":"COUNTIF('ZZS-lijst'!A:A,$C1321)","v":0}]
[{"$f":"IF(AND(B1322>0,ISBLANK('beoordeling maatregel'!Q1322)=FALSE),\"Deze stof wordt aangemerkt als ZZS\",\" \")","v":" "},{"$f":"COUNTIF('ZZS-lijst'!A:A,$C1322)","v":0}]
[{"$f":"IF(AND(B1323>0,ISBLANK('beoordeling maatregel'!Q1323)=FALSE),\"Deze stof wordt aangemerkt als ZZS\",\" \")","v":" "},{"$f":"COUNTIF('ZZS-lijst'!A:A,$C1323)","v":0}]
[{"$f":"IF(AND(B1324>0,ISBLANK('beoordeling maatregel'!Q1324)=FALSE),\"Deze stof wordt aangemerkt als ZZS\",\" \")","v":" "},{"$f":"COUNTIF('ZZS-lijst'!A:A,$C1324)","v":0}]
[{"$f":"IF(AND(B1325>0,ISBLANK('beoordeling maatregel'!Q1325)=FALSE),\"Deze stof wordt aangemerkt als ZZS\",\" \")","v":" "},{"$f":"COUNTIF('ZZS-lijst'!A:A,$C1325)","v":0}]
[{"$f":"IF(AND(B1326>0,ISBLANK('beoordeling maatregel'!Q1326)=FALSE),\"Deze stof wordt aangemerkt als ZZS\",\" \")","v":" "},{"$f":"COUNTIF('ZZS-lijst'!A:A,$C1326)","v":0}]
[{"$f":"IF(AND(B1327>0,ISBLANK('beoordeling maatregel'!Q1327)=FALSE),\"Deze stof wordt aangemerkt als ZZS\",\" \")","v":" "},{"$f":"COUNTIF('ZZS-lijst'!A:A,$C1327)","v":0}]
[{"$f":"IF(AND(B1328>0,ISBLANK('beoordeling maatregel'!Q1328)=FALSE),\"Deze stof wordt aangemerkt als ZZS\",\" \")","v":" "},{"$f":"COUNTIF('ZZS-lijst'!A:A,$C1328)","v":0}]
[{"$f":"IF(AND(B1329>0,ISBLANK('beoordeling maatregel'!Q1329)=FALSE),\"Deze stof wordt aangemerkt als ZZS\",\" \")","v":" "},{"$f":"COUNTIF('ZZS-lijst'!A:A,$C1329)","v":0}]
[{"$f":"IF(AND(B1330>0,ISBLANK('beoordeling maatregel'!Q1330)=FALSE),\"Deze stof wordt aangemerkt als ZZS\",\" \")","v":" "},{"$f":"COUNTIF('ZZS-lijst'!A:A,$C1330)","v":0}]
[{"$f":"IF(AND(B1331>0,ISBLANK('beoordeling maatregel'!Q1331)=FALSE),\"Deze stof wordt aangemerkt als ZZS\",\" \")","v":" "},{"$f":"COUNTIF('ZZS-lijst'!A:A,$C1331)","v":0}]
[{"$f":"IF(AND(B1332>0,ISBLANK('beoordeling maatregel'!Q1332)=FALSE),\"Deze stof wordt aangemerkt als ZZS\",\" \")","v":" "},{"$f":"COUNTIF('ZZS-lijst'!A:A,$C1332)","v":0}]
[{"$f":"IF(AND(B1333>0,ISBLANK('beoordeling maatregel'!Q1333)=FALSE),\"Deze stof wordt aangemerkt als ZZS\",\" \")","v":" "},{"$f":"COUNTIF('ZZS-lijst'!A:A,$C1333)","v":0}]
[{"$f":"IF(AND(B1334>0,ISBLANK('beoordeling maatregel'!Q1334)=FALSE),\"Deze stof wordt aangemerkt als ZZS\",\" \")","v":" "},{"$f":"COUNTIF('ZZS-lijst'!A:A,$C1334)","v":0}]
[{"$f":"IF(AND(B1335>0,ISBLANK('beoordeling maatregel'!Q1335)=FALSE),\"Deze stof wordt aangemerkt als ZZS\",\" \")","v":" "},{"$f":"COUNTIF('ZZS-lijst'!A:A,$C1335)","v":0}]
[{"$f":"IF(AND(B1336>0,ISBLANK('beoordeling maatregel'!Q1336)=FALSE),\"Deze stof wordt aangemerkt als ZZS\",\" \")","v":" "},{"$f":"COUNTIF('ZZS-lijst'!A:A,$C1336)","v":0}]
[{"$f":"IF(AND(B1337>0,ISBLANK('beoordeling maatregel'!Q1337)=FALSE),\"Deze stof wordt aangemerkt als ZZS\",\" \")","v":" "},{"$f":"COUNTIF('ZZS-lijst'!A:A,$C1337)","v":0}]
[{"$f":"IF(AND(B1338>0,ISBLANK('beoordeling maatregel'!Q1338)=FALSE),\"Deze stof wordt aangemerkt als ZZS\",\" \")","v":" "},{"$f":"COUNTIF('ZZS-lijst'!A:A,$C1338)","v":0}]
[{"$f":"IF(AND(B1339>0,ISBLANK('beoordeling maatregel'!Q1339)=FALSE),\"Deze stof wordt aangemerkt als ZZS\",\" \")","v":" "},{"$f":"COUNTIF('ZZS-lijst'!A:A,$C1339)","v":0}]
[{"$f":"IF(AND(B1340>0,ISBLANK('beoordeling maatregel'!Q1340)=FALSE),\"Deze stof wordt aangemerkt als ZZS\",\" \")","v":" "},{"$f":"COUNTIF('ZZS-lijst'!A:A,$C1340)","v":0}]
[{"$f":"IF(AND(B1341>0,ISBLANK('beoordeling maatregel'!Q1341)=FALSE),\"Deze stof wordt aangemerkt als ZZS\",\" \")","v":" "},{"$f":"COUNTIF('ZZS-lijst'!A:A,$C1341)","v":0}]
[{"$f":"IF(AND(B1342>0,ISBLANK('beoordeling maatregel'!Q1342)=FALSE),\"Deze stof wordt aangemerkt als ZZS\",\" \")","v":" "},{"$f":"COUNTIF('ZZS-lijst'!A:A,$C1342)","v":0}]
[{"$f":"IF(AND(B1343>0,ISBLANK('beoordeling maatregel'!Q1343)=FALSE),\"Deze stof wordt aangemerkt als ZZS\",\" \")","v":" "},{"$f":"COUNTIF('ZZS-lijst'!A:A,$C1343)","v":0}]
[{"$f":"IF(AND(B1344>0,ISBLANK('beoordeling maatregel'!Q1344)=FALSE),\"Deze stof wordt aangemerkt als ZZS\",\" \")","v":" "},{"$f":"COUNTIF('ZZS-lijst'!A:A,$C1344)","v":0}]
[{"$f":"IF(AND(B1345>0,ISBLANK('beoordeling maatregel'!Q1345)=FALSE),\"Deze stof wordt aangemerkt als ZZS\",\" \")","v":" "},{"$f":"COUNTIF('ZZS-lijst'!A:A,$C1345)","v":0}]
[{"$f":"IF(AND(B1346>0,ISBLANK('beoordeling maatregel'!Q1346)=FALSE),\"Deze stof wordt aangemerkt als ZZS\",\" \")","v":" "},{"$f":"COUNTIF('ZZS-lijst'!A:A,$C1346)","v":0}]
[{"$f":"IF(AND(B1347>0,ISBLANK('beoordeling maatregel'!Q1347)=FALSE),\"Deze stof wordt aangemerkt als ZZS\",\" \")","v":" "},{"$f":"COUNTIF('ZZS-lijst'!A:A,$C1347)","v":0}]
[{"$f":"IF(AND(B1348>0,ISBLANK('beoordeling maatregel'!Q1348)=FALSE),\"Deze stof wordt aangemerkt als ZZS\",\" \")","v":" "},{"$f":"COUNTIF('ZZS-lijst'!A:A,$C1348)","v":0}]
[{"$f":"IF(AND(B1349>0,ISBLANK('beoordeling maatregel'!Q1349)=FALSE),\"Deze stof wordt aangemerkt als ZZS\",\" \")","v":" "},{"$f":"COUNTIF('ZZS-lijst'!A:A,$C1349)","v":0}]
[{"$f":"IF(AND(B1350>0,ISBLANK('beoordeling maatregel'!Q1350)=FALSE),\"Deze stof wordt aangemerkt als ZZS\",\" \")","v":" "},{"$f":"COUNTIF('ZZS-lijst'!A:A,$C1350)","v":0}]
[{"$f":"IF(AND(B1351>0,ISBLANK('beoordeling maatregel'!Q1351)=FALSE),\"Deze stof wordt aangemerkt als ZZS\",\" \")","v":" "},{"$f":"COUNTIF('ZZS-lijst'!A:A,$C1351)","v":0}]
[{"$f":"IF(AND(B1352>0,ISBLANK('beoordeling maatregel'!Q1352)=FALSE),\"Deze stof wordt aangemerkt als ZZS\",\" \")","v":" "},{"$f":"COUNTIF('ZZS-lijst'!A:A,$C1352)","v":0}]
[{"$f":"IF(AND(B1353>0,ISBLANK('beoordeling maatregel'!Q1353)=FALSE),\"Deze stof wordt aangemerkt als ZZS\",\" \")","v":" "},{"$f":"COUNTIF('ZZS-lijst'!A:A,$C1353)","v":0}]
[{"$f":"IF(AND(B1354>0,ISBLANK('beoordeling maatregel'!Q1354)=FALSE),\"Deze stof wordt aangemerkt als ZZS\",\" \")","v":" "},{"$f":"COUNTIF('ZZS-lijst'!A:A,$C1354)","v":0}]
[{"$f":"IF(AND(B1355>0,ISBLANK('beoordeling maatregel'!Q1355)=FALSE),\"Deze stof wordt aangemerkt als ZZS\",\" \")","v":" "},{"$f":"COUNTIF('ZZS-lijst'!A:A,$C1355)","v":0}]
[{"$f":"IF(AND(B1356>0,ISBLANK('beoordeling maatregel'!Q1356)=FALSE),\"Deze stof wordt aangemerkt als ZZS\",\" \")","v":" "},{"$f":"COUNTIF('ZZS-lijst'!A:A,$C1356)","v":0}]
[{"$f":"IF(AND(B1357>0,ISBLANK('beoordeling maatregel'!Q1357)=FALSE),\"Deze stof wordt aangemerkt als ZZS\",\" \")","v":" "},{"$f":"COUNTIF('ZZS-lijst'!A:A,$C1357)","v":0}]
[{"$f":"IF(AND(B1358>0,ISBLANK('beoordeling maatregel'!Q1358)=FALSE),\"Deze stof wordt aangemerkt als ZZS\",\" \")","v":" "},{"$f":"COUNTIF('ZZS-lijst'!A:A,$C1358)","v":0}]
[{"$f":"IF(AND(B1359>0,ISBLANK('beoordeling maatregel'!Q1359)=FALSE),\"Deze stof wordt aangemerkt als ZZS\",\" \")","v":" "},{"$f":"COUNTIF('ZZS-lijst'!A:A,$C1359)","v":0}]
[{"$f":"IF(AND(B1360>0,ISBLANK('beoordeling maatregel'!Q1360)=FALSE),\"Deze stof wordt aangemerkt als ZZS\",\" \")","v":" "},{"$f":"COUNTIF('ZZS-lijst'!A:A,$C1360)","v":0}]
[{"$f":"IF(AND(B1361>0,ISBLANK('beoordeling maatregel'!Q1361)=FALSE),\"Deze stof wordt aangemerkt als ZZS\",\" \")","v":" "},{"$f":"COUNTIF('ZZS-lijst'!A:A,$C1361)","v":0}]
[{"$f":"IF(AND(B1362>0,ISBLANK('beoordeling maatregel'!Q1362)=FALSE),\"Deze stof wordt aangemerkt als ZZS\",\" \")","v":" "},{"$f":"COUNTIF('ZZS-lijst'!A:A,$C1362)","v":0}]
[{"$f":"IF(AND(B1363>0,ISBLANK('beoordeling maatregel'!Q1363)=FALSE),\"Deze stof wordt aangemerkt als ZZS\",\" \")","v":" "},{"$f":"COUNTIF('ZZS-lijst'!A:A,$C1363)","v":0}]
[{"$f":"IF(AND(B1364>0,ISBLANK('beoordeling maatregel'!Q1364)=FALSE),\"Deze stof wordt aangemerkt als ZZS\",\" \")","v":" "},{"$f":"COUNTIF('ZZS-lijst'!A:A,$C1364)","v":0}]
[{"$f":"IF(AND(B1365>0,ISBLANK('beoordeling maatregel'!Q1365)=FALSE),\"Deze stof wordt aangemerkt als ZZS\",\" \")","v":" "},{"$f":"COUNTIF('ZZS-lijst'!A:A,$C1365)","v":0}]
[{"$f":"IF(AND(B1366>0,ISBLANK('beoordeling maatregel'!Q1366)=FALSE),\"Deze stof wordt aangemerkt als ZZS\",\" \")","v":" "},{"$f":"COUNTIF('ZZS-lijst'!A:A,$C1366)","v":0}]
[{"$f":"IF(AND(B1367>0,ISBLANK('beoordeling maatregel'!Q1367)=FALSE),\"Deze stof wordt aangemerkt als ZZS\",\" \")","v":" "},{"$f":"COUNTIF('ZZS-lijst'!A:A,$C1367)","v":0}]
[{"$f":"IF(AND(B1368>0,ISBLANK('beoordeling maatregel'!Q1368)=FALSE),\"Deze stof wordt aangemerkt als ZZS\",\" \")","v":" "},{"$f":"COUNTIF('ZZS-lijst'!A:A,$C1368)","v":0}]
[{"$f":"IF(AND(B1369>0,ISBLANK('beoordeling maatregel'!Q1369)=FALSE),\"Deze stof wordt aangemerkt als ZZS\",\" \")","v":" "},{"$f":"COUNTIF('ZZS-lijst'!A:A,$C1369)","v":0}]
[{"$f":"IF(AND(B1370>0,ISBLANK('beoordeling maatregel'!Q1370)=FALSE),\"Deze stof wordt aangemerkt als ZZS\",\" \")","v":" "},{"$f":"COUNTIF('ZZS-lijst'!A:A,$C1370)","v":0}]
[{"$f":"IF(AND(B1371>0,ISBLANK('beoordeling maatregel'!Q1371)=FALSE),\"Deze stof wordt aangemerkt als ZZS\",\" \")","v":" "},{"$f":"COUNTIF('ZZS-lijst'!A:A,$C1371)","v":0}]
[{"$f":"IF(AND(B1372>0,ISBLANK('beoordeling maatregel'!Q1372)=FALSE),\"Deze stof wordt aangemerkt als ZZS\",\" \")","v":" "},{"$f":"COUNTIF('ZZS-lijst'!A:A,$C1372)","v":0}]
[{"$f":"IF(AND(B1373>0,ISBLANK('beoordeling maatregel'!Q1373)=FALSE),\"Deze stof wordt aangemerkt als ZZS\",\" \")","v":" "},{"$f":"COUNTIF('ZZS-lijst'!A:A,$C1373)","v":0}]
[{"$f":"IF(AND(B1374>0,ISBLANK('beoordeling maatregel'!Q1374)=FALSE),\"Deze stof wordt aangemerkt als ZZS\",\" \")","v":" "},{"$f":"COUNTIF('ZZS-lijst'!A:A,$C1374)","v":0}]
[{"$f":"IF(AND(B1375>0,ISBLANK('beoordeling maatregel'!Q1375)=FALSE),\"Deze stof wordt aangemerkt als ZZS\",\" \")","v":" "},{"$f":"COUNTIF('ZZS-lijst'!A:A,$C1375)","v":0}]
[{"$f":"IF(AND(B1376>0,ISBLANK('beoordeling maatregel'!Q1376)=FALSE),\"Deze stof wordt aangemerkt als ZZS\",\" \")","v":" "},{"$f":"COUNTIF('ZZS-lijst'!A:A,$C1376)","v":0}]
[{"$f":"IF(AND(B1377>0,ISBLANK('beoordeling maatregel'!Q1377)=FALSE),\"Deze stof wordt aangemerkt als ZZS\",\" \")","v":" "},{"$f":"COUNTIF('ZZS-lijst'!A:A,$C1377)","v":0}]
[{"$f":"IF(AND(B1378>0,ISBLANK('beoordeling maatregel'!Q1378)=FALSE),\"Deze stof wordt aangemerkt als ZZS\",\" \")","v":" "},{"$f":"COUNTIF('ZZS-lijst'!A:A,$C1378)","v":0}]
[{"$f":"IF(AND(B1379>0,ISBLANK('beoordeling maatregel'!Q1379)=FALSE),\"Deze stof wordt aangemerkt als ZZS\",\" \")","v":" "},{"$f":"COUNTIF('ZZS-lijst'!A:A,$C1379)","v":0}]
[{"$f":"IF(AND(B1380>0,ISBLANK('beoordeling maatregel'!Q1380)=FALSE),\"Deze stof wordt aangemerkt als ZZS\",\" \")","v":" "},{"$f":"COUNTIF('ZZS-lijst'!A:A,$C1380)","v":0}]
[{"$f":"IF(AND(B1381>0,ISBLANK('beoordeling maatregel'!Q1381)=FALSE),\"Deze stof wordt aangemerkt als ZZS\",\" \")","v":" "},{"$f":"COUNTIF('ZZS-lijst'!A:A,$C1381)","v":0}]
[{"$f":"IF(AND(B1382>0,ISBLANK('beoordeling maatregel'!Q1382)=FALSE),\"Deze stof wordt aangemerkt als ZZS\",\" \")","v":" "},{"$f":"COUNTIF('ZZS-lijst'!A:A,$C1382)","v":0}]
[{"$f":"IF(AND(B1383>0,ISBLANK('beoordeling maatregel'!Q1383)=FALSE),\"Deze stof wordt aangemerkt als ZZS\",\" \")","v":" "},{"$f":"COUNTIF('ZZS-lijst'!A:A,$C1383)","v":0}]
[{"$f":"IF(AND(B1384>0,ISBLANK('beoordeling maatregel'!Q1384)=FALSE),\"Deze stof wordt aangemerkt als ZZS\",\" \")","v":" "},{"$f":"COUNTIF('ZZS-lijst'!A:A,$C1384)","v":0}]
[{"$f":"IF(AND(B1385>0,ISBLANK('beoordeling maatregel'!Q1385)=FALSE),\"Deze stof wordt aangemerkt als ZZS\",\" \")","v":" "},{"$f":"COUNTIF('ZZS-lijst'!A:A,$C1385)","v":0}]
[{"$f":"IF(AND(B1386>0,ISBLANK('beoordeling maatregel'!Q1386)=FALSE),\"Deze stof wordt aangemerkt als ZZS\",\" \")","v":" "},{"$f":"COUNTIF('ZZS-lijst'!A:A,$C1386)","v":0}]
[{"$f":"IF(AND(B1387>0,ISBLANK('beoordeling maatregel'!Q1387)=FALSE),\"Deze stof wordt aangemerkt als ZZS\",\" \")","v":" "},{"$f":"COUNTIF('ZZS-lijst'!A:A,$C1387)","v":0}]
[{"$f":"IF(AND(B1388>0,ISBLANK('beoordeling maatregel'!Q1388)=FALSE),\"Deze stof wordt aangemerkt als ZZS\",\" \")","v":" "},{"$f":"COUNTIF('ZZS-lijst'!A:A,$C1388)","v":0}]
[{"$f":"IF(AND(B1389>0,ISBLANK('beoordeling maatregel'!Q1389)=FALSE),\"Deze stof wordt aangemerkt als ZZS\",\" \")","v":" "},{"$f":"COUNTIF('ZZS-lijst'!A:A,$C1389)","v":0}]
[{"$f":"IF(AND(B1390>0,ISBLANK('beoordeling maatregel'!Q1390)=FALSE),\"Deze stof wordt aangemerkt als ZZS\",\" \")","v":" "},{"$f":"COUNTIF('ZZS-lijst'!A:A,$C1390)","v":0}]
[{"$f":"IF(AND(B1391>0,ISBLANK('beoordeling maatregel'!Q1391)=FALSE),\"Deze stof wordt aangemerkt als ZZS\",\" \")","v":" "},{"$f":"COUNTIF('ZZS-lijst'!A:A,$C1391)","v":0}]
[{"$f":"IF(AND(B1392>0,ISBLANK('beoordeling maatregel'!Q1392)=FALSE),\"Deze stof wordt aangemerkt als ZZS\",\" \")","v":" "},{"$f":"COUNTIF('ZZS-lijst'!A:A,$C1392)","v":0}]
[{"$f":"IF(AND(B1393>0,ISBLANK('beoordeling maatregel'!Q1393)=FALSE),\"Deze stof wordt aangemerkt als ZZS\",\" \")","v":" "},{"$f":"COUNTIF('ZZS-lijst'!A:A,$C1393)","v":0}]
[{"$f":"IF(AND(B1394>0,ISBLANK('beoordeling maatregel'!Q1394)=FALSE),\"Deze stof wordt aangemerkt als ZZS\",\" \")","v":" "},{"$f":"COUNTIF('ZZS-lijst'!A:A,$C1394)","v":0}]
[{"$f":"IF(AND(B1395>0,ISBLANK('beoordeling maatregel'!Q1395)=FALSE),\"Deze stof wordt aangemerkt als ZZS\",\" \")","v":" "},{"$f":"COUNTIF('ZZS-lijst'!A:A,$C1395)","v":0}]
[{"$f":"IF(AND(B1396>0,ISBLANK('beoordeling maatregel'!Q1396)=FALSE),\"Deze stof wordt aangemerkt als ZZS\",\" \")","v":" "},{"$f":"COUNTIF('ZZS-lijst'!A:A,$C1396)","v":0}]
[{"$f":"IF(AND(B1397>0,ISBLANK('beoordeling maatregel'!Q1397)=FALSE),\"Deze stof wordt aangemerkt als ZZS\",\" \")","v":" "},{"$f":"COUNTIF('ZZS-lijst'!A:A,$C1397)","v":0}]
[{"$f":"IF(AND(B1398>0,ISBLANK('beoordeling maatregel'!Q1398)=FALSE),\"Deze stof wordt aangemerkt als ZZS\",\" \")","v":" "},{"$f":"COUNTIF('ZZS-lijst'!A:A,$C1398)","v":0}]
[{"$f":"IF(AND(B1399>0,ISBLANK('beoordeling maatregel'!Q1399)=FALSE),\"Deze stof wordt aangemerkt als ZZS\",\" \")","v":" "},{"$f":"COUNTIF('ZZS-lijst'!A:A,$C1399)","v":0}]
[{"$f":"IF(AND(B1400>0,ISBLANK('beoordeling maatregel'!Q1400)=FALSE),\"Deze stof wordt aangemerkt als ZZS\",\" \")","v":" "},{"$f":"COUNTIF('ZZS-lijst'!A:A,$C1400)","v":0}]
[{"$f":"IF(AND(B1401>0,ISBLANK('beoordeling maatregel'!Q1401)=FALSE),\"Deze stof wordt aangemerkt als ZZS\",\" \")","v":" "},{"$f":"COUNTIF('ZZS-lijst'!A:A,$C1401)","v":0}]
[{"$f":"IF(AND(B1402>0,ISBLANK('beoordeling maatregel'!Q1402)=FALSE),\"Deze stof wordt aangemerkt als ZZS\",\" \")","v":" "},{"$f":"COUNTIF('ZZS-lijst'!A:A,$C1402)","v":0}]
[{"$f":"IF(AND(B1403>0,ISBLANK('beoordeling maatregel'!Q1403)=FALSE),\"Deze stof wordt aangemerkt als ZZS\",\" \")","v":" "},{"$f":"COUNTIF('ZZS-lijst'!A:A,$C1403)","v":0}]
[{"$f":"IF(AND(B1404>0,ISBLANK('beoordeling maatregel'!Q1404)=FALSE),\"Deze stof wordt aangemerkt als ZZS\",\" \")","v":" "},{"$f":"COUNTIF('ZZS-lijst'!A:A,$C1404)","v":0}]
[{"$f":"IF(AND(B1405>0,ISBLANK('beoordeling maatregel'!Q1405)=FALSE),\"Deze stof wordt aangemerkt als ZZS\",\" \")","v":" "},{"$f":"COUNTIF('ZZS-lijst'!A:A,$C1405)","v":0}]
[{"$f":"IF(AND(B1406>0,ISBLANK('beoordeling maatregel'!Q1406)=FALSE),\"Deze stof wordt aangemerkt als ZZS\",\" \")","v":" "},{"$f":"COUNTIF('ZZS-lijst'!A:A,$C1406)","v":0}]
[{"$f":"IF(AND(B1407>0,ISBLANK('beoordeling maatregel'!Q1407)=FALSE),\"Deze stof wordt aangemerkt als ZZS\",\" \")","v":" "},{"$f":"COUNTIF('ZZS-lijst'!A:A,$C1407)","v":0}]
[{"$f":"IF(AND(B1408>0,ISBLANK('beoordeling maatregel'!Q1408)=FALSE),\"Deze stof wordt aangemerkt als ZZS\",\" \")","v":" "},{"$f":"COUNTIF('ZZS-lijst'!A:A,$C1408)","v":0}]
[{"$f":"IF(AND(B1409>0,ISBLANK('beoordeling maatregel'!Q1409)=FALSE),\"Deze stof wordt aangemerkt als ZZS\",\" \")","v":" "},{"$f":"COUNTIF('ZZS-lijst'!A:A,$C1409)","v":0}]
[{"$f":"IF(AND(B1410>0,ISBLANK('beoordeling maatregel'!Q1410)=FALSE),\"Deze stof wordt aangemerkt als ZZS\",\" \")","v":" "},{"$f":"COUNTIF('ZZS-lijst'!A:A,$C1410)","v":0}]
[{"$f":"IF(AND(B1411>0,ISBLANK('beoordeling maatregel'!Q1411)=FALSE),\"Deze stof wordt aangemerkt als ZZS\",\" \")","v":" "},{"$f":"COUNTIF('ZZS-lijst'!A:A,$C1411)","v":0}]
[{"$f":"IF(AND(B1412>0,ISBLANK('beoordeling maatregel'!Q1412)=FALSE),\"Deze stof wordt aangemerkt als ZZS\",\" \")","v":" "},{"$f":"COUNTIF('ZZS-lijst'!A:A,$C1412)","v":0}]
[{"$f":"IF(AND(B1413>0,ISBLANK('beoordeling maatregel'!Q1413)=FALSE),\"Deze stof wordt aangemerkt als ZZS\",\" \")","v":" "},{"$f":"COUNTIF('ZZS-lijst'!A:A,$C1413)","v":0}]
[{"$f":"IF(AND(B1414>0,ISBLANK('beoordeling maatregel'!Q1414)=FALSE),\"Deze stof wordt aangemerkt als ZZS\",\" \")","v":" "},{"$f":"COUNTIF('ZZS-lijst'!A:A,$C1414)","v":0}]
[{"$f":"IF(AND(B1415>0,ISBLANK('beoordeling maatregel'!Q1415)=FALSE),\"Deze stof wordt aangemerkt als ZZS\",\" \")","v":" "},{"$f":"COUNTIF('ZZS-lijst'!A:A,$C1415)","v":0}]
[{"$f":"IF(AND(B1416>0,ISBLANK('beoordeling maatregel'!Q1416)=FALSE),\"Deze stof wordt aangemerkt als ZZS\",\" \")","v":" "},{"$f":"COUNTIF('ZZS-lijst'!A:A,$C1416)","v":0}]
[{"$f":"IF(AND(B1417>0,ISBLANK('beoordeling maatregel'!Q1417)=FALSE),\"Deze stof wordt aangemerkt als ZZS\",\" \")","v":" "},{"$f":"COUNTIF('ZZS-lijst'!A:A,$C1417)","v":0}]
[{"$f":"IF(AND(B1418>0,ISBLANK('beoordeling maatregel'!Q1418)=FALSE),\"Deze stof wordt aangemerkt als ZZS\",\" \")","v":" "},{"$f":"COUNTIF('ZZS-lijst'!A:A,$C1418)","v":0}]
[{"$f":"IF(AND(B1419>0,ISBLANK('beoordeling maatregel'!Q1419)=FALSE),\"Deze stof wordt aangemerkt als ZZS\",\" \")","v":" "},{"$f":"COUNTIF('ZZS-lijst'!A:A,$C1419)","v":0}]
[{"$f":"IF(AND(B1420>0,ISBLANK('beoordeling maatregel'!Q1420)=FALSE),\"Deze stof wordt aangemerkt als ZZS\",\" \")","v":" "},{"$f":"COUNTIF('ZZS-lijst'!A:A,$C1420)","v":0}]
[{"$f":"IF(AND(B1421>0,ISBLANK('beoordeling maatregel'!Q1421)=FALSE),\"Deze stof wordt aangemerkt als ZZS\",\" \")","v":" "},{"$f":"COUNTIF('ZZS-lijst'!A:A,$C1421)","v":0}]
[{"$f":"IF(AND(B1422>0,ISBLANK('beoordeling maatregel'!Q1422)=FALSE),\"Deze stof wordt aangemerkt als ZZS\",\" \")","v":" "},{"$f":"COUNTIF('ZZS-lijst'!A:A,$C1422)","v":0}]
[{"$f":"IF(AND(B1423>0,ISBLANK('beoordeling maatregel'!Q1423)=FALSE),\"Deze stof wordt aangemerkt als ZZS\",\" \")","v":" "},{"$f":"COUNTIF('ZZS-lijst'!A:A,$C1423)","v":0}]
[{"$f":"IF(AND(B1424>0,ISBLANK('beoordeling maatregel'!Q1424)=FALSE),\"Deze stof wordt aangemerkt als ZZS\",\" \")","v":" "},{"$f":"COUNTIF('ZZS-lijst'!A:A,$C1424)","v":0}]
[{"$f":"IF(AND(B1425>0,ISBLANK('beoordeling maatregel'!Q1425)=FALSE),\"Deze stof wordt aangemerkt als ZZS\",\" \")","v":" "},{"$f":"COUNTIF('ZZS-lijst'!A:A,$C1425)","v":0}]
[{"$f":"IF(AND(B1426>0,ISBLANK('beoordeling maatregel'!Q1426)=FALSE),\"Deze stof wordt aangemerkt als ZZS\",\" \")","v":" "},{"$f":"COUNTIF('ZZS-lijst'!A:A,$C1426)","v":0}]
[{"$f":"IF(AND(B1427>0,ISBLANK('beoordeling maatregel'!Q1427)=FALSE),\"Deze stof wordt aangemerkt als ZZS\",\" \")","v":" "},{"$f":"COUNTIF('ZZS-lijst'!A:A,$C1427)","v":0}]
[{"$f":"IF(AND(B1428>0,ISBLANK('beoordeling maatregel'!Q1428)=FALSE),\"Deze stof wordt aangemerkt als ZZS\",\" \")","v":" "},{"$f":"COUNTIF('ZZS-lijst'!A:A,$C1428)","v":0}]
[{"$f":"IF(AND(B1429>0,ISBLANK('beoordeling maatregel'!Q1429)=FALSE),\"Deze stof wordt aangemerkt als ZZS\",\" \")","v":" "},{"$f":"COUNTIF('ZZS-lijst'!A:A,$C1429)","v":0}]
[{"$f":"IF(AND(B1430>0,ISBLANK('beoordeling maatregel'!Q1430)=FALSE),\"Deze stof wordt aangemerkt als ZZS\",\" \")","v":" "},{"$f":"COUNTIF('ZZS-lijst'!A:A,$C1430)","v":0}]
[{"$f":"IF(AND(B1431>0,ISBLANK('beoordeling maatregel'!Q1431)=FALSE),\"Deze stof wordt aangemerkt als ZZS\",\" \")","v":" "},{"$f":"COUNTIF('ZZS-lijst'!A:A,$C1431)","v":0}]
[{"$f":"IF(AND(B1432>0,ISBLANK('beoordeling maatregel'!Q1432)=FALSE),\"Deze stof wordt aangemerkt als ZZS\",\" \")","v":" "},{"$f":"COUNTIF('ZZS-lijst'!A:A,$C1432)","v":0}]
[{"$f":"IF(AND(B1433>0,ISBLANK('beoordeling maatregel'!Q1433)=FALSE),\"Deze stof wordt aangemerkt als ZZS\",\" \")","v":" "},{"$f":"COUNTIF('ZZS-lijst'!A:A,$C1433)","v":0}]
[{"$f":"IF(AND(B1434>0,ISBLANK('beoordeling maatregel'!Q1434)=FALSE),\"Deze stof wordt aangemerkt als ZZS\",\" \")","v":" "},{"$f":"COUNTIF('ZZS-lijst'!A:A,$C1434)","v":0}]
[{"$f":"IF(AND(B1435>0,ISBLANK('beoordeling maatregel'!Q1435)=FALSE),\"Deze stof wordt aangemerkt als ZZS\",\" \")","v":" "},{"$f":"COUNTIF('ZZS-lijst'!A:A,$C1435)","v":0}]
[{"$f":"IF(AND(B1436>0,ISBLANK('beoordeling maatregel'!Q1436)=FALSE),\"Deze stof wordt aangemerkt als ZZS\",\" \")","v":" "},{"$f":"COUNTIF('ZZS-lijst'!A:A,$C1436)","v":0}]
[{"$f":"IF(AND(B1437>0,ISBLANK('beoordeling maatregel'!Q1437)=FALSE),\"Deze stof wordt aangemerkt als ZZS\",\" \")","v":" "},{"$f":"COUNTIF('ZZS-lijst'!A:A,$C1437)","v":0}]
[{"$f":"IF(AND(B1438>0,ISBLANK('beoordeling maatregel'!Q1438)=FALSE),\"Deze stof wordt aangemerkt als ZZS\",\" \")","v":" "},{"$f":"COUNTIF('ZZS-lijst'!A:A,$C1438)","v":0}]
[{"$f":"IF(AND(B1439>0,ISBLANK('beoordeling maatregel'!Q1439)=FALSE),\"Deze stof wordt aangemerkt als ZZS\",\" \")","v":" "},{"$f":"COUNTIF('ZZS-lijst'!A:A,$C1439)","v":0}]
[{"$f":"IF(AND(B1440>0,ISBLANK('beoordeling maatregel'!Q1440)=FALSE),\"Deze stof wordt aangemerkt als ZZS\",\" \")","v":" "},{"$f":"COUNTIF('ZZS-lijst'!A:A,$C1440)","v":0}]
[{"$f":"IF(AND(B1441>0,ISBLANK('beoordeling maatregel'!Q1441)=FALSE),\"Deze stof wordt aangemerkt als ZZS\",\" \")","v":" "},{"$f":"COUNTIF('ZZS-lijst'!A:A,$C1441)","v":0}]
[{"$f":"IF(AND(B1442>0,ISBLANK('beoordeling maatregel'!Q1442)=FALSE),\"Deze stof wordt aangemerkt als ZZS\",\" \")","v":" "},{"$f":"COUNTIF('ZZS-lijst'!A:A,$C1442)","v":0}]
[{"$f":"IF(AND(B1443>0,ISBLANK('beoordeling maatregel'!Q1443)=FALSE),\"Deze stof wordt aangemerkt als ZZS\",\" \")","v":" "},{"$f":"COUNTIF('ZZS-lijst'!A:A,$C1443)","v":0}]
[{"$f":"IF(AND(B1444>0,ISBLANK('beoordeling maatregel'!Q1444)=FALSE),\"Deze stof wordt aangemerkt als ZZS\",\" \")","v":" "},{"$f":"COUNTIF('ZZS-lijst'!A:A,$C1444)","v":0}]
[{"$f":"IF(AND(B1445>0,ISBLANK('beoordeling maatregel'!Q1445)=FALSE),\"Deze stof wordt aangemerkt als ZZS\",\" \")","v":" "},{"$f":"COUNTIF('ZZS-lijst'!A:A,$C1445)","v":0}]
[{"$f":"IF(AND(B1446>0,ISBLANK('beoordeling maatregel'!Q1446)=FALSE),\"Deze stof wordt aangemerkt als ZZS\",\" \")","v":" "},{"$f":"COUNTIF('ZZS-lijst'!A:A,$C1446)","v":0}]
[{"$f":"IF(AND(B1447>0,ISBLANK('beoordeling maatregel'!Q1447)=FALSE),\"Deze stof wordt aangemerkt als ZZS\",\" \")","v":" "},{"$f":"COUNTIF('ZZS-lijst'!A:A,$C1447)","v":0}]
[{"$f":"IF(AND(B1448>0,ISBLANK('beoordeling maatregel'!Q1448)=FALSE),\"Deze stof wordt aangemerkt als ZZS\",\" \")","v":" "},{"$f":"COUNTIF('ZZS-lijst'!A:A,$C1448)","v":0}]
[{"$f":"IF(AND(B1449>0,ISBLANK('beoordeling maatregel'!Q1449)=FALSE),\"Deze stof wordt aangemerkt als ZZS\",\" \")","v":" "},{"$f":"COUNTIF('ZZS-lijst'!A:A,$C1449)","v":0}]
[{"$f":"IF(AND(B1450>0,ISBLANK('beoordeling maatregel'!Q1450)=FALSE),\"Deze stof wordt aangemerkt als ZZS\",\" \")","v":" "},{"$f":"COUNTIF('ZZS-lijst'!A:A,$C1450)","v":0}]
[{"$f":"IF(AND(B1451>0,ISBLANK('beoordeling maatregel'!Q1451)=FALSE),\"Deze stof wordt aangemerkt als ZZS\",\" \")","v":" "},{"$f":"COUNTIF('ZZS-lijst'!A:A,$C1451)","v":0}]
[{"$f":"IF(AND(B1452>0,ISBLANK('beoordeling maatregel'!Q1452)=FALSE),\"Deze stof wordt aangemerkt als ZZS\",\" \")","v":" "},{"$f":"COUNTIF('ZZS-lijst'!A:A,$C1452)","v":0}]
[{"$f":"IF(AND(B1453>0,ISBLANK('beoordeling maatregel'!Q1453)=FALSE),\"Deze stof wordt aangemerkt als ZZS\",\" \")","v":" "},{"$f":"COUNTIF('ZZS-lijst'!A:A,$C1453)","v":0}]
[{"$f":"IF(AND(B1454>0,ISBLANK('beoordeling maatregel'!Q1454)=FALSE),\"Deze stof wordt aangemerkt als ZZS\",\" \")","v":" "},{"$f":"COUNTIF('ZZS-lijst'!A:A,$C1454)","v":0}]
[{"$f":"IF(AND(B1455>0,ISBLANK('beoordeling maatregel'!Q1455)=FALSE),\"Deze stof wordt aangemerkt als ZZS\",\" \")","v":" "},{"$f":"COUNTIF('ZZS-lijst'!A:A,$C1455)","v":0}]
[{"$f":"IF(AND(B1456>0,ISBLANK('beoordeling maatregel'!Q1456)=FALSE),\"Deze stof wordt aangemerkt als ZZS\",\" \")","v":" "},{"$f":"COUNTIF('ZZS-lijst'!A:A,$C1456)","v":0}]
[{"$f":"IF(AND(B1457>0,ISBLANK('beoordeling maatregel'!Q1457)=FALSE),\"Deze stof wordt aangemerkt als ZZS\",\" \")","v":" "},{"$f":"COUNTIF('ZZS-lijst'!A:A,$C1457)","v":0}]
[{"$f":"IF(AND(B1458>0,ISBLANK('beoordeling maatregel'!Q1458)=FALSE),\"Deze stof wordt aangemerkt als ZZS\",\" \")","v":" "},{"$f":"COUNTIF('ZZS-lijst'!A:A,$C1458)","v":0}]
[{"$f":"IF(AND(B1459>0,ISBLANK('beoordeling maatregel'!Q1459)=FALSE),\"Deze stof wordt aangemerkt als ZZS\",\" \")","v":" "},{"$f":"COUNTIF('ZZS-lijst'!A:A,$C1459)","v":0}]
[{"$f":"IF(AND(B1460>0,ISBLANK('beoordeling maatregel'!Q1460)=FALSE),\"Deze stof wordt aangemerkt als ZZS\",\" \")","v":" "},{"$f":"COUNTIF('ZZS-lijst'!A:A,$C1460)","v":0}]
[{"$f":"IF(AND(B1461>0,ISBLANK('beoordeling maatregel'!Q1461)=FALSE),\"Deze stof wordt aangemerkt als ZZS\",\" \")","v":" "},{"$f":"COUNTIF('ZZS-lijst'!A:A,$C1461)","v":0}]
[{"$f":"IF(AND(B1462>0,ISBLANK('beoordeling maatregel'!Q1462)=FALSE),\"Deze stof wordt aangemerkt als ZZS\",\" \")","v":" "},{"$f":"COUNTIF('ZZS-lijst'!A:A,$C1462)","v":0}]
[{"$f":"IF(AND(B1463>0,ISBLANK('beoordeling maatregel'!Q1463)=FALSE),\"Deze stof wordt aangemerkt als ZZS\",\" \")","v":" "},{"$f":"COUNTIF('ZZS-lijst'!A:A,$C1463)","v":0}]
[{"$f":"IF(AND(B1464>0,ISBLANK('beoordeling maatregel'!Q1464)=FALSE),\"Deze stof wordt aangemerkt als ZZS\",\" \")","v":" "},{"$f":"COUNTIF('ZZS-lijst'!A:A,$C1464)","v":0}]
[{"$f":"IF(AND(B1465>0,ISBLANK('beoordeling maatregel'!Q1465)=FALSE),\"Deze stof wordt aangemerkt als ZZS\",\" \")","v":" "},{"$f":"COUNTIF('ZZS-lijst'!A:A,$C1465)","v":0}]
[{"$f":"IF(AND(B1466>0,ISBLANK('beoordeling maatregel'!Q1466)=FALSE),\"Deze stof wordt aangemerkt als ZZS\",\" \")","v":" "},{"$f":"COUNTIF('ZZS-lijst'!A:A,$C1466)","v":0}]
[{"$f":"IF(AND(B1467>0,ISBLANK('beoordeling maatregel'!Q1467)=FALSE),\"Deze stof wordt aangemerkt als ZZS\",\" \")","v":" "},{"$f":"COUNTIF('ZZS-lijst'!A:A,$C1467)","v":0}]
[{"$f":"IF(AND(B1468>0,ISBLANK('beoordeling maatregel'!Q1468)=FALSE),\"Deze stof wordt aangemerkt als ZZS\",\" \")","v":" "},{"$f":"COUNTIF('ZZS-lijst'!A:A,$C1468)","v":0}]
[{"$f":"IF(AND(B1469>0,ISBLANK('beoordeling maatregel'!Q1469)=FALSE),\"Deze stof wordt aangemerkt als ZZS\",\" \")","v":" "},{"$f":"COUNTIF('ZZS-lijst'!A:A,$C1469)","v":0}]
[{"$f":"IF(AND(B1470>0,ISBLANK('beoordeling maatregel'!Q1470)=FALSE),\"Deze stof wordt aangemerkt als ZZS\",\" \")","v":" "},{"$f":"COUNTIF('ZZS-lijst'!A:A,$C1470)","v":0}]
[{"$f":"IF(AND(B1471>0,ISBLANK('beoordeling maatregel'!Q1471)=FALSE),\"Deze stof wordt aangemerkt als ZZS\",\" \")","v":" "},{"$f":"COUNTIF('ZZS-lijst'!A:A,$C1471)","v":0}]
[{"$f":"IF(AND(B1472>0,ISBLANK('beoordeling maatregel'!Q1472)=FALSE),\"Deze stof wordt aangemerkt als ZZS\",\" \")","v":" "},{"$f":"COUNTIF('ZZS-lijst'!A:A,$C1472)","v":0}]
[{"$f":"IF(AND(B1473>0,ISBLANK('beoordeling maatregel'!Q1473)=FALSE),\"Deze stof wordt aangemerkt als ZZS\",\" \")","v":" "},{"$f":"COUNTIF('ZZS-lijst'!A:A,$C1473)","v":0}]
[{"$f":"IF(AND(B1474>0,ISBLANK('beoordeling maatregel'!Q1474)=FALSE),\"Deze stof wordt aangemerkt als ZZS\",\" \")","v":" "},{"$f":"COUNTIF('ZZS-lijst'!A:A,$C1474)","v":0}]
[{"$f":"IF(AND(B1475>0,ISBLANK('beoordeling maatregel'!Q1475)=FALSE),\"Deze stof wordt aangemerkt als ZZS\",\" \")","v":" "},{"$f":"COUNTIF('ZZS-lijst'!A:A,$C1475)","v":0}]
[{"$f":"IF(AND(B1476>0,ISBLANK('beoordeling maatregel'!Q1476)=FALSE),\"Deze stof wordt aangemerkt als ZZS\",\" \")","v":" "},{"$f":"COUNTIF('ZZS-lijst'!A:A,$C1476)","v":0}]
[{"$f":"IF(AND(B1477>0,ISBLANK('beoordeling maatregel'!Q1477)=FALSE),\"Deze stof wordt aangemerkt als ZZS\",\" \")","v":" "},{"$f":"COUNTIF('ZZS-lijst'!A:A,$C1477)","v":0}]
[{"$f":"IF(AND(B1478>0,ISBLANK('beoordeling maatregel'!Q1478)=FALSE),\"Deze stof wordt aangemerkt als ZZS\",\" \")","v":" "},{"$f":"COUNTIF('ZZS-lijst'!A:A,$C1478)","v":0}]
[{"$f":"IF(AND(B1479>0,ISBLANK('beoordeling maatregel'!Q1479)=FALSE),\"Deze stof wordt aangemerkt als ZZS\",\" \")","v":" "},{"$f":"COUNTIF('ZZS-lijst'!A:A,$C1479)","v":0}]
[{"$f":"IF(AND(B1480>0,ISBLANK('beoordeling maatregel'!Q1480)=FALSE),\"Deze stof wordt aangemerkt als ZZS\",\" \")","v":" "},{"$f":"COUNTIF('ZZS-lijst'!A:A,$C1480)","v":0}]
[{"$f":"IF(AND(B1481>0,ISBLANK('beoordeling maatregel'!Q1481)=FALSE),\"Deze stof wordt aangemerkt als ZZS\",\" \")","v":" "},{"$f":"COUNTIF('ZZS-lijst'!A:A,$C1481)","v":0}]
[{"$f":"IF(AND(B1482>0,ISBLANK('beoordeling maatregel'!Q1482)=FALSE),\"Deze stof wordt aangemerkt als ZZS\",\" \")","v":" "},{"$f":"COUNTIF('ZZS-lijst'!A:A,$C1482)","v":0}]
[{"$f":"IF(AND(B1483>0,ISBLANK('beoordeling maatregel'!Q1483)=FALSE),\"Deze stof wordt aangemerkt als ZZS\",\" \")","v":" "},{"$f":"COUNTIF('ZZS-lijst'!A:A,$C1483)","v":0}]
[{"$f":"IF(AND(B1484>0,ISBLANK('beoordeling maatregel'!Q1484)=FALSE),\"Deze stof wordt aangemerkt als ZZS\",\" \")","v":" "},{"$f":"COUNTIF('ZZS-lijst'!A:A,$C1484)","v":0}]
[{"$f":"IF(AND(B1485>0,ISBLANK('beoordeling maatregel'!Q1485)=FALSE),\"Deze stof wordt aangemerkt als ZZS\",\" \")","v":" "},{"$f":"COUNTIF('ZZS-lijst'!A:A,$C1485)","v":0}]
[{"$f":"IF(AND(B1486>0,ISBLANK('beoordeling maatregel'!Q1486)=FALSE),\"Deze stof wordt aangemerkt als ZZS\",\" \")","v":" "},{"$f":"COUNTIF('ZZS-lijst'!A:A,$C1486)","v":0}]
[{"$f":"IF(AND(B1487>0,ISBLANK('beoordeling maatregel'!Q1487)=FALSE),\"Deze stof wordt aangemerkt als ZZS\",\" \")","v":" "},{"$f":"COUNTIF('ZZS-lijst'!A:A,$C1487)","v":0}]
[{"$f":"IF(AND(B1488>0,ISBLANK('beoordeling maatregel'!Q1488)=FALSE),\"Deze stof wordt aangemerkt als ZZS\",\" \")","v":" "},{"$f":"COUNTIF('ZZS-lijst'!A:A,$C1488)","v":0}]
[{"$f":"IF(AND(B1489>0,ISBLANK('beoordeling maatregel'!Q1489)=FALSE),\"Deze stof wordt aangemerkt als ZZS\",\" \")","v":" "},{"$f":"COUNTIF('ZZS-lijst'!A:A,$C1489)","v":0}]
[{"$f":"IF(AND(B1490>0,ISBLANK('beoordeling maatregel'!Q1490)=FALSE),\"Deze stof wordt aangemerkt als ZZS\",\" \")","v":" "},{"$f":"COUNTIF('ZZS-lijst'!A:A,$C1490)","v":0}]
[{"$f":"IF(AND(B1491>0,ISBLANK('beoordeling maatregel'!Q1491)=FALSE),\"Deze stof wordt aangemerkt als ZZS\",\" \")","v":" "},{"$f":"COUNTIF('ZZS-lijst'!A:A,$C1491)","v":0}]
[{"$f":"IF(AND(B1492>0,ISBLANK('beoordeling maatregel'!Q1492)=FALSE),\"Deze stof wordt aangemerkt als ZZS\",\" \")","v":" "},{"$f":"COUNTIF('ZZS-lijst'!A:A,$C1492)","v":0}]
[{"$f":"IF(AND(B1493>0,ISBLANK('beoordeling maatregel'!Q1493)=FALSE),\"Deze stof wordt aangemerkt als ZZS\",\" \")","v":" "},{"$f":"COUNTIF('ZZS-lijst'!A:A,$C1493)","v":0}]
[{"$f":"IF(AND(B1494>0,ISBLANK('beoordeling maatregel'!Q1494)=FALSE),\"Deze stof wordt aangemerkt als ZZS\",\" \")","v":" "},{"$f":"COUNTIF('ZZS-lijst'!A:A,$C1494)","v":0}]
[{"$f":"IF(AND(B1495>0,ISBLANK('beoordeling maatregel'!Q1495)=FALSE),\"Deze stof wordt aangemerkt als ZZS\",\" \")","v":" "},{"$f":"COUNTIF('ZZS-lijst'!A:A,$C1495)","v":0}]
[{"$f":"IF(AND(B1496>0,ISBLANK('beoordeling maatregel'!Q1496)=FALSE),\"Deze stof wordt aangemerkt als ZZS\",\" \")","v":" "},{"$f":"COUNTIF('ZZS-lijst'!A:A,$C1496)","v":0}]
[{"$f":"IF(AND(B1497>0,ISBLANK('beoordeling maatregel'!Q1497)=FALSE),\"Deze stof wordt aangemerkt als ZZS\",\" \")","v":" "},{"$f":"COUNTIF('ZZS-lijst'!A:A,$C1497)","v":0}]
[{"$f":"IF(AND(B1498>0,ISBLANK('beoordeling maatregel'!Q1498)=FALSE),\"Deze stof wordt aangemerkt als ZZS\",\" \")","v":" "},{"$f":"COUNTIF('ZZS-lijst'!A:A,$C1498)","v":0}]
[{"$f":"IF(AND(B1499>0,ISBLANK('beoordeling maatregel'!Q1499)=FALSE),\"Deze stof wordt aangemerkt als ZZS\",\" \")","v":" "},{"$f":"COUNTIF('ZZS-lijst'!A:A,$C1499)","v":0}]
[{"$f":"IF(AND(B1500>0,ISBLANK('beoordeling maatregel'!Q1500)=FALSE),\"Deze stof wordt aangemerkt als ZZS\",\" \")","v":" "},{"$f":"COUNTIF('ZZS-lijst'!A:A,$C1500)","v":0}]
[{"$f":"IF(AND(B1501>0,ISBLANK('beoordeling maatregel'!Q1501)=FALSE),\"Deze stof wordt aangemerkt als ZZS\",\" \")","v":" "},{"$f":"COUNTIF('ZZS-lijst'!A:A,$C1501)","v":0}]
[{"$f":"IF(AND(B1502>0,ISBLANK('beoordeling maatregel'!Q1502)=FALSE),\"Deze stof wordt aangemerkt als ZZS\",\" \")","v":" "},{"$f":"COUNTIF('ZZS-lijst'!A:A,$C1502)","v":0}]
[{"$f":"IF(AND(B1503>0,ISBLANK('beoordeling maatregel'!Q1503)=FALSE),\"Deze stof wordt aangemerkt als ZZS\",\" \")","v":" "},{"$f":"COUNTIF('ZZS-lijst'!A:A,$C1503)","v":0}]
[{"$f":"IF(AND(B1504>0,ISBLANK('beoordeling maatregel'!Q1504)=FALSE),\"Deze stof wordt aangemerkt als ZZS\",\" \")","v":" "},{"$f":"COUNTIF('ZZS-lijst'!A:A,$C1504)","v":0}]
[{"$f":"IF(AND(B1505>0,ISBLANK('beoordeling maatregel'!Q1505)=FALSE),\"Deze stof wordt aangemerkt als ZZS\",\" \")","v":" "},{"$f":"COUNTIF('ZZS-lijst'!A:A,$C1505)","v":0}]
[{"$f":"IF(AND(B1506>0,ISBLANK('beoordeling maatregel'!Q1506)=FALSE),\"Deze stof wordt aangemerkt als ZZS\",\" \")","v":" "},{"$f":"COUNTIF('ZZS-lijst'!A:A,$C1506)","v":0}]
[{"$f":"IF(AND(B1507>0,ISBLANK('beoordeling maatregel'!Q1507)=FALSE),\"Deze stof wordt aangemerkt als ZZS\",\" \")","v":" "},{"$f":"COUNTIF('ZZS-lijst'!A:A,$C1507)","v":0}]
[{"$f":"IF(AND(B1508>0,ISBLANK('beoordeling maatregel'!Q1508)=FALSE),\"Deze stof wordt aangemerkt als ZZS\",\" \")","v":" "},{"$f":"COUNTIF('ZZS-lijst'!A:A,$C1508)","v":0}]
[{"$f":"IF(AND(B1509>0,ISBLANK('beoordeling maatregel'!Q1509)=FALSE),\"Deze stof wordt aangemerkt als ZZS\",\" \")","v":" "},{"$f":"COUNTIF('ZZS-lijst'!A:A,$C1509)","v":0}]
[{"$f":"IF(AND(B1510>0,ISBLANK('beoordeling maatregel'!Q1510)=FALSE),\"Deze stof wordt aangemerkt als ZZS\",\" \")","v":" "},{"$f":"COUNTIF('ZZS-lijst'!A:A,$C1510)","v":0}]
[{"$f":"IF(AND(B1511>0,ISBLANK('beoordeling maatregel'!Q1511)=FALSE),\"Deze stof wordt aangemerkt als ZZS\",\" \")","v":" "},{"$f":"COUNTIF('ZZS-lijst'!A:A,$C1511)","v":0}]
[{"$f":"IF(AND(B1512>0,ISBLANK('beoordeling maatregel'!Q1512)=FALSE),\"Deze stof wordt aangemerkt als ZZS\",\" \")","v":" "},{"$f":"COUNTIF('ZZS-lijst'!A:A,$C1512)","v":0}]
[{"$f":"IF(AND(B1513>0,ISBLANK('beoordeling maatregel'!Q1513)=FALSE),\"Deze stof wordt aangemerkt als ZZS\",\" \")","v":" "},{"$f":"COUNTIF('ZZS-lijst'!A:A,$C1513)","v":0}]
[{"$f":"IF(AND(B1514>0,ISBLANK('beoordeling maatregel'!Q1514)=FALSE),\"Deze stof wordt aangemerkt als ZZS\",\" \")","v":" "},{"$f":"COUNTIF('ZZS-lijst'!A:A,$C1514)","v":0}]
[{"$f":"IF(AND(B1515>0,ISBLANK('beoordeling maatregel'!Q1515)=FALSE),\"Deze stof wordt aangemerkt als ZZS\",\" \")","v":" "},{"$f":"COUNTIF('ZZS-lijst'!A:A,$C1515)","v":0}]
[{"$f":"IF(AND(B1516>0,ISBLANK('beoordeling maatregel'!Q1516)=FALSE),\"Deze stof wordt aangemerkt als ZZS\",\" \")","v":" "},{"$f":"COUNTIF('ZZS-lijst'!A:A,$C1516)","v":0}]
[{"$f":"IF(AND(B1517>0,ISBLANK('beoordeling maatregel'!Q1517)=FALSE),\"Deze stof wordt aangemerkt als ZZS\",\" \")","v":" "},{"$f":"COUNTIF('ZZS-lijst'!A:A,$C1517)","v":0}]
[{"$f":"IF(AND(B1518>0,ISBLANK('beoordeling maatregel'!Q1518)=FALSE),\"Deze stof wordt aangemerkt als ZZS\",\" \")","v":" "},{"$f":"COUNTIF('ZZS-lijst'!A:A,$C1518)","v":0}]
[{"$f":"IF(AND(B1519>0,ISBLANK('beoordeling maatregel'!Q1519)=FALSE),\"Deze stof wordt aangemerkt als ZZS\",\" \")","v":" "},{"$f":"COUNTIF('ZZS-lijst'!A:A,$C1519)","v":0}]
[{"$f":"IF(AND(B1520>0,ISBLANK('beoordeling maatregel'!Q1520)=FALSE),\"Deze stof wordt aangemerkt als ZZS\",\" \")","v":" "},{"$f":"COUNTIF('ZZS-lijst'!A:A,$C1520)","v":0}]
[{"$f":"IF(AND(B1521>0,ISBLANK('beoordeling maatregel'!Q1521)=FALSE),\"Deze stof wordt aangemerkt als ZZS\",\" \")","v":" "},{"$f":"COUNTIF('ZZS-lijst'!A:A,$C1521)","v":0}]
[{"$f":"IF(AND(B1522>0,ISBLANK('beoordeling maatregel'!Q1522)=FALSE),\"Deze stof wordt aangemerkt als ZZS\",\" \")","v":" "},{"$f":"COUNTIF('ZZS-lijst'!A:A,$C1522)","v":0}]
[{"$f":"IF(AND(B1523>0,ISBLANK('beoordeling maatregel'!Q1523)=FALSE),\"Deze stof wordt aangemerkt als ZZS\",\" \")","v":" "},{"$f":"COUNTIF('ZZS-lijst'!A:A,$C1523)","v":0}]
[{"$f":"IF(AND(B1524>0,ISBLANK('beoordeling maatregel'!Q1524)=FALSE),\"Deze stof wordt aangemerkt als ZZS\",\" \")","v":" "},{"$f":"COUNTIF('ZZS-lijst'!A:A,$C1524)","v":0}]
[{"$f":"IF(AND(B1525>0,ISBLANK('beoordeling maatregel'!Q1525)=FALSE),\"Deze stof wordt aangemerkt als ZZS\",\" \")","v":" "},{"$f":"COUNTIF('ZZS-lijst'!A:A,$C1525)","v":0}]
[{"$f":"IF(AND(B1526>0,ISBLANK('beoordeling maatregel'!Q1526)=FALSE),\"Deze stof wordt aangemerkt als ZZS\",\" \")","v":" "},{"$f":"COUNTIF('ZZS-lijst'!A:A,$C1526)","v":0}]
[{"$f":"IF(AND(B1527>0,ISBLANK('beoordeling maatregel'!Q1527)=FALSE),\"Deze stof wordt aangemerkt als ZZS\",\" \")","v":" "},{"$f":"COUNTIF('ZZS-lijst'!A:A,$C1527)","v":0}]
[{"$f":"IF(AND(B1528>0,ISBLANK('beoordeling maatregel'!Q1528)=FALSE),\"Deze stof wordt aangemerkt als ZZS\",\" \")","v":" "},{"$f":"COUNTIF('ZZS-lijst'!A:A,$C1528)","v":0}]
[{"$f":"IF(AND(B1529>0,ISBLANK('beoordeling maatregel'!Q1529)=FALSE),\"Deze stof wordt aangemerkt als ZZS\",\" \")","v":" "},{"$f":"COUNTIF('ZZS-lijst'!A:A,$C1529)","v":0}]
[{"$f":"IF(AND(B1530>0,ISBLANK('beoordeling maatregel'!Q1530)=FALSE),\"Deze stof wordt aangemerkt als ZZS\",\" \")","v":" "},{"$f":"COUNTIF('ZZS-lijst'!A:A,$C1530)","v":0}]
[{"$f":"IF(AND(B1531>0,ISBLANK('beoordeling maatregel'!Q1531)=FALSE),\"Deze stof wordt aangemerkt als ZZS\",\" \")","v":" "},{"$f":"COUNTIF('ZZS-lijst'!A:A,$C1531)","v":0}]
[{"$f":"IF(AND(B1532>0,ISBLANK('beoordeling maatregel'!Q1532)=FALSE),\"Deze stof wordt aangemerkt als ZZS\",\" \")","v":" "},{"$f":"COUNTIF('ZZS-lijst'!A:A,$C1532)","v":0}]
[{"$f":"IF(AND(B1533>0,ISBLANK('beoordeling maatregel'!Q1533)=FALSE),\"Deze stof wordt aangemerkt als ZZS\",\" \")","v":" "},{"$f":"COUNTIF('ZZS-lijst'!A:A,$C1533)","v":0}]
[{"$f":"IF(AND(B1534>0,ISBLANK('beoordeling maatregel'!Q1534)=FALSE),\"Deze stof wordt aangemerkt als ZZS\",\" \")","v":" "},{"$f":"COUNTIF('ZZS-lijst'!A:A,$C1534)","v":0}]
[{"$f":"IF(AND(B1535>0,ISBLANK('beoordeling maatregel'!Q1535)=FALSE),\"Deze stof wordt aangemerkt als ZZS\",\" \")","v":" "},{"$f":"COUNTIF('ZZS-lijst'!A:A,$C1535)","v":0}]
[{"$f":"IF(AND(B1536>0,ISBLANK('beoordeling maatregel'!Q1536)=FALSE),\"Deze stof wordt aangemerkt als ZZS\",\" \")","v":" "},{"$f":"COUNTIF('ZZS-lijst'!A:A,$C1536)","v":0}]
[{"$f":"IF(AND(B1537>0,ISBLANK('beoordeling maatregel'!Q1537)=FALSE),\"Deze stof wordt aangemerkt als ZZS\",\" \")","v":" "},{"$f":"COUNTIF('ZZS-lijst'!A:A,$C1537)","v":0}]
[{"$f":"IF(AND(B1538>0,ISBLANK('beoordeling maatregel'!Q1538)=FALSE),\"Deze stof wordt aangemerkt als ZZS\",\" \")","v":" "},{"$f":"COUNTIF('ZZS-lijst'!A:A,$C1538)","v":0}]
[{"$f":"IF(AND(B1539>0,ISBLANK('beoordeling maatregel'!Q1539)=FALSE),\"Deze stof wordt aangemerkt als ZZS\",\" \")","v":" "},{"$f":"COUNTIF('ZZS-lijst'!A:A,$C1539)","v":0}]
[{"$f":"IF(AND(B1540>0,ISBLANK('beoordeling maatregel'!Q1540)=FALSE),\"Deze stof wordt aangemerkt als ZZS\",\" \")","v":" "},{"$f":"COUNTIF('ZZS-lijst'!A:A,$C1540)","v":0}]
[{"$f":"IF(AND(B1541>0,ISBLANK('beoordeling maatregel'!Q1541)=FALSE),\"Deze stof wordt aangemerkt als ZZS\",\" \")","v":" "},{"$f":"COUNTIF('ZZS-lijst'!A:A,$C1541)","v":0}]
[{"$f":"IF(AND(B1542>0,ISBLANK('beoordeling maatregel'!Q1542)=FALSE),\"Deze stof wordt aangemerkt als ZZS\",\" \")","v":" "},{"$f":"COUNTIF('ZZS-lijst'!A:A,$C1542)","v":0}]
[{"$f":"IF(AND(B1543>0,ISBLANK('beoordeling maatregel'!Q1543)=FALSE),\"Deze stof wordt aangemerkt als ZZS\",\" \")","v":" "},{"$f":"COUNTIF('ZZS-lijst'!A:A,$C1543)","v":0}]
[{"$f":"IF(AND(B1544>0,ISBLANK('beoordeling maatregel'!Q1544)=FALSE),\"Deze stof wordt aangemerkt als ZZS\",\" \")","v":" "},{"$f":"COUNTIF('ZZS-lijst'!A:A,$C1544)","v":0}]
[{"$f":"IF(AND(B1545>0,ISBLANK('beoordeling maatregel'!Q1545)=FALSE),\"Deze stof wordt aangemerkt als ZZS\",\" \")","v":" "},{"$f":"COUNTIF('ZZS-lijst'!A:A,$C1545)","v":0}]
[{"$f":"IF(AND(B1546>0,ISBLANK('beoordeling maatregel'!Q1546)=FALSE),\"Deze stof wordt aangemerkt als ZZS\",\" \")","v":" "},{"$f":"COUNTIF('ZZS-lijst'!A:A,$C1546)","v":0}]
[{"$f":"IF(AND(B1547>0,ISBLANK('beoordeling maatregel'!Q1547)=FALSE),\"Deze stof wordt aangemerkt als ZZS\",\" \")","v":" "},{"$f":"COUNTIF('ZZS-lijst'!A:A,$C1547)","v":0}]
[{"$f":"IF(AND(B1548>0,ISBLANK('beoordeling maatregel'!Q1548)=FALSE),\"Deze stof wordt aangemerkt als ZZS\",\" \")","v":" "},{"$f":"COUNTIF('ZZS-lijst'!A:A,$C1548)","v":0}]
[{"$f":"IF(AND(B1549>0,ISBLANK('beoordeling maatregel'!Q1549)=FALSE),\"Deze stof wordt aangemerkt als ZZS\",\" \")","v":" "},{"$f":"COUNTIF('ZZS-lijst'!A:A,$C1549)","v":0}]
[{"$f":"IF(AND(B1550>0,ISBLANK('beoordeling maatregel'!Q1550)=FALSE),\"Deze stof wordt aangemerkt als ZZS\",\" \")","v":" "},{"$f":"COUNTIF('ZZS-lijst'!A:A,$C1550)","v":0}]
[{"$f":"IF(AND(B1551>0,ISBLANK('beoordeling maatregel'!Q1551)=FALSE),\"Deze stof wordt aangemerkt als ZZS\",\" \")","v":" "},{"$f":"COUNTIF('ZZS-lijst'!A:A,$C1551)","v":0}]
[{"$f":"IF(AND(B1552>0,ISBLANK('beoordeling maatregel'!Q1552)=FALSE),\"Deze stof wordt aangemerkt als ZZS\",\" \")","v":" "},{"$f":"COUNTIF('ZZS-lijst'!A:A,$C1552)","v":0}]
[{"$f":"IF(AND(B1553>0,ISBLANK('beoordeling maatregel'!Q1553)=FALSE),\"Deze stof wordt aangemerkt als ZZS\",\" \")","v":" "},{"$f":"COUNTIF('ZZS-lijst'!A:A,$C1553)","v":0}]
[{"$f":"IF(AND(B1554>0,ISBLANK('beoordeling maatregel'!Q1554)=FALSE),\"Deze stof wordt aangemerkt als ZZS\",\" \")","v":" "},{"$f":"COUNTIF('ZZS-lijst'!A:A,$C1554)","v":0}]
[{"$f":"IF(AND(B1555>0,ISBLANK('beoordeling maatregel'!Q1555)=FALSE),\"Deze stof wordt aangemerkt als ZZS\",\" \")","v":" "},{"$f":"COUNTIF('ZZS-lijst'!A:A,$C1555)","v":0}]
[{"$f":"IF(AND(B1556>0,ISBLANK('beoordeling maatregel'!Q1556)=FALSE),\"Deze stof wordt aangemerkt als ZZS\",\" \")","v":" "},{"$f":"COUNTIF('ZZS-lijst'!A:A,$C1556)","v":0}]
[{"$f":"IF(AND(B1557>0,ISBLANK('beoordeling maatregel'!Q1557)=FALSE),\"Deze stof wordt aangemerkt als ZZS\",\" \")","v":" "},{"$f":"COUNTIF('ZZS-lijst'!A:A,$C1557)","v":0}]
[{"$f":"IF(AND(B1558>0,ISBLANK('beoordeling maatregel'!Q1558)=FALSE),\"Deze stof wordt aangemerkt als ZZS\",\" \")","v":" "},{"$f":"COUNTIF('ZZS-lijst'!A:A,$C1558)","v":0}]
[{"$f":"IF(AND(B1559>0,ISBLANK('beoordeling maatregel'!Q1559)=FALSE),\"Deze stof wordt aangemerkt als ZZS\",\" \")","v":" "},{"$f":"COUNTIF('ZZS-lijst'!A:A,$C1559)","v":0}]
[{"$f":"IF(AND(B1560>0,ISBLANK('beoordeling maatregel'!Q1560)=FALSE),\"Deze stof wordt aangemerkt als ZZS\",\" \")","v":" "},{"$f":"COUNTIF('ZZS-lijst'!A:A,$C1560)","v":0}]
[{"$f":"IF(AND(B1561>0,ISBLANK('beoordeling maatregel'!Q1561)=FALSE),\"Deze stof wordt aangemerkt als ZZS\",\" \")","v":" "},{"$f":"COUNTIF('ZZS-lijst'!A:A,$C1561)","v":0}]
[{"$f":"IF(AND(B1562>0,ISBLANK('beoordeling maatregel'!Q1562)=FALSE),\"Deze stof wordt aangemerkt als ZZS\",\" \")","v":" "},{"$f":"COUNTIF('ZZS-lijst'!A:A,$C1562)","v":0}]
[{"$f":"IF(AND(B1563>0,ISBLANK('beoordeling maatregel'!Q1563)=FALSE),\"Deze stof wordt aangemerkt als ZZS\",\" \")","v":" "},{"$f":"COUNTIF('ZZS-lijst'!A:A,$C1563)","v":0}]
[{"$f":"IF(AND(B1564>0,ISBLANK('beoordeling maatregel'!Q1564)=FALSE),\"Deze stof wordt aangemerkt als ZZS\",\" \")","v":" "},{"$f":"COUNTIF('ZZS-lijst'!A:A,$C1564)","v":0}]
[{"$f":"IF(AND(B1565>0,ISBLANK('beoordeling maatregel'!Q1565)=FALSE),\"Deze stof wordt aangemerkt als ZZS\",\" \")","v":" "},{"$f":"COUNTIF('ZZS-lijst'!A:A,$C1565)","v":0}]
[{"$f":"IF(AND(B1566>0,ISBLANK('beoordeling maatregel'!Q1566)=FALSE),\"Deze stof wordt aangemerkt als ZZS\",\" \")","v":" "},{"$f":"COUNTIF('ZZS-lijst'!A:A,$C1566)","v":0}]
[{"$f":"IF(AND(B1567>0,ISBLANK('beoordeling maatregel'!Q1567)=FALSE),\"Deze stof wordt aangemerkt als ZZS\",\" \")","v":" "},{"$f":"COUNTIF('ZZS-lijst'!A:A,$C1567)","v":0}]
[{"$f":"IF(AND(B1568>0,ISBLANK('beoordeling maatregel'!Q1568)=FALSE),\"Deze stof wordt aangemerkt als ZZS\",\" \")","v":" "},{"$f":"COUNTIF('ZZS-lijst'!A:A,$C1568)","v":0}]
[{"$f":"IF(AND(B1569>0,ISBLANK('beoordeling maatregel'!Q1569)=FALSE),\"Deze stof wordt aangemerkt als ZZS\",\" \")","v":" "},{"$f":"COUNTIF('ZZS-lijst'!A:A,$C1569)","v":0}]
[{"$f":"IF(AND(B1570>0,ISBLANK('beoordeling maatregel'!Q1570)=FALSE),\"Deze stof wordt aangemerkt als ZZS\",\" \")","v":" "},{"$f":"COUNTIF('ZZS-lijst'!A:A,$C1570)","v":0}]
[{"$f":"IF(AND(B1571>0,ISBLANK('beoordeling maatregel'!Q1571)=FALSE),\"Deze stof wordt aangemerkt als ZZS\",\" \")","v":" "},{"$f":"COUNTIF('ZZS-lijst'!A:A,$C1571)","v":0}]
[{"$f":"IF(AND(B1572>0,ISBLANK('beoordeling maatregel'!Q1572)=FALSE),\"Deze stof wordt aangemerkt als ZZS\",\" \")","v":" "},{"$f":"COUNTIF('ZZS-lijst'!A:A,$C1572)","v":0}]
[{"$f":"IF(AND(B1573>0,ISBLANK('beoordeling maatregel'!Q1573)=FALSE),\"Deze stof wordt aangemerkt als ZZS\",\" \")","v":" "},{"$f":"COUNTIF('ZZS-lijst'!A:A,$C1573)","v":0}]
[{"$f":"IF(AND(B1574>0,ISBLANK('beoordeling maatregel'!Q1574)=FALSE),\"Deze stof wordt aangemerkt als ZZS\",\" \")","v":" "},{"$f":"COUNTIF('ZZS-lijst'!A:A,$C1574)","v":0}]
[{"$f":"IF(AND(B1575>0,ISBLANK('beoordeling maatregel'!Q1575)=FALSE),\"Deze stof wordt aangemerkt als ZZS\",\" \")","v":" "},{"$f":"COUNTIF('ZZS-lijst'!A:A,$C1575)","v":0}]
[{"$f":"IF(AND(B1576>0,ISBLANK('beoordeling maatregel'!Q1576)=FALSE),\"Deze stof wordt aangemerkt als ZZS\",\" \")","v":" "},{"$f":"COUNTIF('ZZS-lijst'!A:A,$C1576)","v":0}]
[{"$f":"IF(AND(B1577>0,ISBLANK('beoordeling maatregel'!Q1577)=FALSE),\"Deze stof wordt aangemerkt als ZZS\",\" \")","v":" "},{"$f":"COUNTIF('ZZS-lijst'!A:A,$C1577)","v":0}]
[{"$f":"IF(AND(B1578>0,ISBLANK('beoordeling maatregel'!Q1578)=FALSE),\"Deze stof wordt aangemerkt als ZZS\",\" \")","v":" "},{"$f":"COUNTIF('ZZS-lijst'!A:A,$C1578)","v":0}]
[{"$f":"IF(AND(B1579>0,ISBLANK('beoordeling maatregel'!Q1579)=FALSE),\"Deze stof wordt aangemerkt als ZZS\",\" \")","v":" "},{"$f":"COUNTIF('ZZS-lijst'!A:A,$C1579)","v":0}]
[{"$f":"IF(AND(B1580>0,ISBLANK('beoordeling maatregel'!Q1580)=FALSE),\"Deze stof wordt aangemerkt als ZZS\",\" \")","v":" "},{"$f":"COUNTIF('ZZS-lijst'!A:A,$C1580)","v":0}]
[{"$f":"IF(AND(B1581>0,ISBLANK('beoordeling maatregel'!Q1581)=FALSE),\"Deze stof wordt aangemerkt als ZZS\",\" \")","v":" "},{"$f":"COUNTIF('ZZS-lijst'!A:A,$C1581)","v":0}]
[{"$f":"IF(AND(B1582>0,ISBLANK('beoordeling maatregel'!Q1582)=FALSE),\"Deze stof wordt aangemerkt als ZZS\",\" \")","v":" "},{"$f":"COUNTIF('ZZS-lijst'!A:A,$C1582)","v":0}]
[{"$f":"IF(AND(B1583>0,ISBLANK('beoordeling maatregel'!Q1583)=FALSE),\"Deze stof wordt aangemerkt als ZZS\",\" \")","v":" "},{"$f":"COUNTIF('ZZS-lijst'!A:A,$C1583)","v":0}]
[{"$f":"IF(AND(B1584>0,ISBLANK('beoordeling maatregel'!Q1584)=FALSE),\"Deze stof wordt aangemerkt als ZZS\",\" \")","v":" "},{"$f":"COUNTIF('ZZS-lijst'!A:A,$C1584)","v":0}]
[{"$f":"IF(AND(B1585>0,ISBLANK('beoordeling maatregel'!Q1585)=FALSE),\"Deze stof wordt aangemerkt als ZZS\",\" \")","v":" "},{"$f":"COUNTIF('ZZS-lijst'!A:A,$C1585)","v":0}]
[{"$f":"IF(AND(B1586>0,ISBLANK('beoordeling maatregel'!Q1586)=FALSE),\"Deze stof wordt aangemerkt als ZZS\",\" \")","v":" "},{"$f":"COUNTIF('ZZS-lijst'!A:A,$C1586)","v":0}]
[{"$f":"IF(AND(B1587>0,ISBLANK('beoordeling maatregel'!Q1587)=FALSE),\"Deze stof wordt aangemerkt als ZZS\",\" \")","v":" "},{"$f":"COUNTIF('ZZS-lijst'!A:A,$C1587)","v":0}]
[{"$f":"IF(AND(B1588>0,ISBLANK('beoordeling maatregel'!Q1588)=FALSE),\"Deze stof wordt aangemerkt als ZZS\",\" \")","v":" "},{"$f":"COUNTIF('ZZS-lijst'!A:A,$C1588)","v":0}]
[{"$f":"IF(AND(B1589>0,ISBLANK('beoordeling maatregel'!Q1589)=FALSE),\"Deze stof wordt aangemerkt als ZZS\",\" \")","v":" "},{"$f":"COUNTIF('ZZS-lijst'!A:A,$C1589)","v":0}]
[{"$f":"IF(AND(B1590>0,ISBLANK('beoordeling maatregel'!Q1590)=FALSE),\"Deze stof wordt aangemerkt als ZZS\",\" \")","v":" "},{"$f":"COUNTIF('ZZS-lijst'!A:A,$C1590)","v":0}]
[{"$f":"IF(AND(B1591>0,ISBLANK('beoordeling maatregel'!Q1591)=FALSE),\"Deze stof wordt aangemerkt als ZZS\",\" \")","v":" "},{"$f":"COUNTIF('ZZS-lijst'!A:A,$C1591)","v":0}]
[{"$f":"IF(AND(B1592>0,ISBLANK('beoordeling maatregel'!Q1592)=FALSE),\"Deze stof wordt aangemerkt als ZZS\",\" \")","v":" "},{"$f":"COUNTIF('ZZS-lijst'!A:A,$C1592)","v":0}]
[{"$f":"IF(AND(B1593>0,ISBLANK('beoordeling maatregel'!Q1593)=FALSE),\"Deze stof wordt aangemerkt als ZZS\",\" \")","v":" "},{"$f":"COUNTIF('ZZS-lijst'!A:A,$C1593)","v":0}]
[{"$f":"IF(AND(B1594>0,ISBLANK('beoordeling maatregel'!Q1594)=FALSE),\"Deze stof wordt aangemerkt als ZZS\",\" \")","v":" "},{"$f":"COUNTIF('ZZS-lijst'!A:A,$C1594)","v":0}]
[{"$f":"IF(AND(B1595>0,ISBLANK('beoordeling maatregel'!Q1595)=FALSE),\"Deze stof wordt aangemerkt als ZZS\",\" \")","v":" "},{"$f":"COUNTIF('ZZS-lijst'!A:A,$C1595)","v":0}]
[{"$f":"IF(AND(B1596>0,ISBLANK('beoordeling maatregel'!Q1596)=FALSE),\"Deze stof wordt aangemerkt als ZZS\",\" \")","v":" "},{"$f":"COUNTIF('ZZS-lijst'!A:A,$C1596)","v":0}]
[{"$f":"IF(AND(B1597>0,ISBLANK('beoordeling maatregel'!Q1597)=FALSE),\"Deze stof wordt aangemerkt als ZZS\",\" \")","v":" "},{"$f":"COUNTIF('ZZS-lijst'!A:A,$C1597)","v":0}]
[{"$f":"IF(AND(B1598>0,ISBLANK('beoordeling maatregel'!Q1598)=FALSE),\"Deze stof wordt aangemerkt als ZZS\",\" \")","v":" "},{"$f":"COUNTIF('ZZS-lijst'!A:A,$C1598)","v":0}]
[{"$f":"IF(AND(B1599>0,ISBLANK('beoordeling maatregel'!Q1599)=FALSE),\"Deze stof wordt aangemerkt als ZZS\",\" \")","v":" "},{"$f":"COUNTIF('ZZS-lijst'!A:A,$C1599)","v":0}]
[{"$f":"IF(AND(B1600>0,ISBLANK('beoordeling maatregel'!Q1600)=FALSE),\"Deze stof wordt aangemerkt als ZZS\",\" \")","v":" "},{"$f":"COUNTIF('ZZS-lijst'!A:A,$C1600)","v":0}]
[{"$f":"IF(AND(B1601>0,ISBLANK('beoordeling maatregel'!Q1601)=FALSE),\"Deze stof wordt aangemerkt als ZZS\",\" \")","v":" "},{"$f":"COUNTIF('ZZS-lijst'!A:A,$C1601)","v":0}]
[{"$f":"IF(AND(B1602>0,ISBLANK('beoordeling maatregel'!Q1602)=FALSE),\"Deze stof wordt aangemerkt als ZZS\",\" \")","v":" "},{"$f":"COUNTIF('ZZS-lijst'!A:A,$C1602)","v":0}]
[{"$f":"IF(AND(B1603>0,ISBLANK('beoordeling maatregel'!Q1603)=FALSE),\"Deze stof wordt aangemerkt als ZZS\",\" \")","v":" "},{"$f":"COUNTIF('ZZS-lijst'!A:A,$C1603)","v":0}]
[{"$f":"IF(AND(B1604>0,ISBLANK('beoordeling maatregel'!Q1604)=FALSE),\"Deze stof wordt aangemerkt als ZZS\",\" \")","v":" "},{"$f":"COUNTIF('ZZS-lijst'!A:A,$C1604)","v":0}]
[{"$f":"IF(AND(B1605>0,ISBLANK('beoordeling maatregel'!Q1605)=FALSE),\"Deze stof wordt aangemerkt als ZZS\",\" \")","v":" "},{"$f":"COUNTIF('ZZS-lijst'!A:A,$C1605)","v":0}]
[{"$f":"IF(AND(B1606>0,ISBLANK('beoordeling maatregel'!Q1606)=FALSE),\"Deze stof wordt aangemerkt als ZZS\",\" \")","v":" "},{"$f":"COUNTIF('ZZS-lijst'!A:A,$C1606)","v":0}]
[{"$f":"IF(AND(B1607>0,ISBLANK('beoordeling maatregel'!Q1607)=FALSE),\"Deze stof wordt aangemerkt als ZZS\",\" \")","v":" "},{"$f":"COUNTIF('ZZS-lijst'!A:A,$C1607)","v":0}]
[{"$f":"IF(AND(B1608>0,ISBLANK('beoordeling maatregel'!Q1608)=FALSE),\"Deze stof wordt aangemerkt als ZZS\",\" \")","v":" "},{"$f":"COUNTIF('ZZS-lijst'!A:A,$C1608)","v":0}]
[{"$f":"IF(AND(B1609>0,ISBLANK('beoordeling maatregel'!Q1609)=FALSE),\"Deze stof wordt aangemerkt als ZZS\",\" \")","v":" "},{"$f":"COUNTIF('ZZS-lijst'!A:A,$C1609)","v":0}]
[{"$f":"IF(AND(B1610>0,ISBLANK('beoordeling maatregel'!Q1610)=FALSE),\"Deze stof wordt aangemerkt als ZZS\",\" \")","v":" "},{"$f":"COUNTIF('ZZS-lijst'!A:A,$C1610)","v":0}]
[{"$f":"IF(AND(B1611>0,ISBLANK('beoordeling maatregel'!Q1611)=FALSE),\"Deze stof wordt aangemerkt als ZZS\",\" \")","v":" "},{"$f":"COUNTIF('ZZS-lijst'!A:A,$C1611)","v":0}]
[{"$f":"IF(AND(B1612>0,ISBLANK('beoordeling maatregel'!Q1612)=FALSE),\"Deze stof wordt aangemerkt als ZZS\",\" \")","v":" "},{"$f":"COUNTIF('ZZS-lijst'!A:A,$C1612)","v":0}]
[{"$f":"IF(AND(B1613>0,ISBLANK('beoordeling maatregel'!Q1613)=FALSE),\"Deze stof wordt aangemerkt als ZZS\",\" \")","v":" "},{"$f":"COUNTIF('ZZS-lijst'!A:A,$C1613)","v":0}]
[{"$f":"IF(AND(B1614>0,ISBLANK('beoordeling maatregel'!Q1614)=FALSE),\"Deze stof wordt aangemerkt als ZZS\",\" \")","v":" "},{"$f":"COUNTIF('ZZS-lijst'!A:A,$C1614)","v":0}]
[{"$f":"IF(AND(B1615>0,ISBLANK('beoordeling maatregel'!Q1615)=FALSE),\"Deze stof wordt aangemerkt als ZZS\",\" \")","v":" "},{"$f":"COUNTIF('ZZS-lijst'!A:A,$C1615)","v":0}]
[{"$f":"IF(AND(B1616>0,ISBLANK('beoordeling maatregel'!Q1616)=FALSE),\"Deze stof wordt aangemerkt als ZZS\",\" \")","v":" "},{"$f":"COUNTIF('ZZS-lijst'!A:A,$C1616)","v":0}]
[{"$f":"IF(AND(B1617>0,ISBLANK('beoordeling maatregel'!Q1617)=FALSE),\"Deze stof wordt aangemerkt als ZZS\",\" \")","v":" "},{"$f":"COUNTIF('ZZS-lijst'!A:A,$C1617)","v":0}]
[{"$f":"IF(AND(B1618>0,ISBLANK('beoordeling maatregel'!Q1618)=FALSE),\"Deze stof wordt aangemerkt als ZZS\",\" \")","v":" "},{"$f":"COUNTIF('ZZS-lijst'!A:A,$C1618)","v":0}]
[{"$f":"IF(AND(B1619>0,ISBLANK('beoordeling maatregel'!Q1619)=FALSE),\"Deze stof wordt aangemerkt als ZZS\",\" \")","v":" "},{"$f":"COUNTIF('ZZS-lijst'!A:A,$C1619)","v":0}]
[{"$f":"IF(AND(B1620>0,ISBLANK('beoordeling maatregel'!Q1620)=FALSE),\"Deze stof wordt aangemerkt als ZZS\",\" \")","v":" "},{"$f":"COUNTIF('ZZS-lijst'!A:A,$C1620)","v":0}]
[{"$f":"IF(AND(B1621>0,ISBLANK('beoordeling maatregel'!Q1621)=FALSE),\"Deze stof wordt aangemerkt als ZZS\",\" \")","v":" "},{"$f":"COUNTIF('ZZS-lijst'!A:A,$C1621)","v":0}]
[{"$f":"IF(AND(B1622>0,ISBLANK('beoordeling maatregel'!Q1622)=FALSE),\"Deze stof wordt aangemerkt als ZZS\",\" \")","v":" "},{"$f":"COUNTIF('ZZS-lijst'!A:A,$C1622)","v":0}]
[{"$f":"IF(AND(B1623>0,ISBLANK('beoordeling maatregel'!Q1623)=FALSE),\"Deze stof wordt aangemerkt als ZZS\",\" \")","v":" "},{"$f":"COUNTIF('ZZS-lijst'!A:A,$C1623)","v":0}]
[{"$f":"IF(AND(B1624>0,ISBLANK('beoordeling maatregel'!Q1624)=FALSE),\"Deze stof wordt aangemerkt als ZZS\",\" \")","v":" "},{"$f":"COUNTIF('ZZS-lijst'!A:A,$C1624)","v":0}]
[{"$f":"IF(AND(B1625>0,ISBLANK('beoordeling maatregel'!Q1625)=FALSE),\"Deze stof wordt aangemerkt als ZZS\",\" \")","v":" "},{"$f":"COUNTIF('ZZS-lijst'!A:A,$C1625)","v":0}]
[{"$f":"IF(AND(B1626>0,ISBLANK('beoordeling maatregel'!Q1626)=FALSE),\"Deze stof wordt aangemerkt als ZZS\",\" \")","v":" "},{"$f":"COUNTIF('ZZS-lijst'!A:A,$C1626)","v":0}]
[{"$f":"IF(AND(B1627>0,ISBLANK('beoordeling maatregel'!Q1627)=FALSE),\"Deze stof wordt aangemerkt als ZZS\",\" \")","v":" "},{"$f":"COUNTIF('ZZS-lijst'!A:A,$C1627)","v":0}]
[{"$f":"IF(AND(B1628>0,ISBLANK('beoordeling maatregel'!Q1628)=FALSE),\"Deze stof wordt aangemerkt als ZZS\",\" \")","v":" "},{"$f":"COUNTIF('ZZS-lijst'!A:A,$C1628)","v":0}]
[{"$f":"IF(AND(B1629>0,ISBLANK('beoordeling maatregel'!Q1629)=FALSE),\"Deze stof wordt aangemerkt als ZZS\",\" \")","v":" "},{"$f":"COUNTIF('ZZS-lijst'!A:A,$C1629)","v":0}]
[{"$f":"IF(AND(B1630>0,ISBLANK('beoordeling maatregel'!Q1630)=FALSE),\"Deze stof wordt aangemerkt als ZZS\",\" \")","v":" "},{"$f":"COUNTIF('ZZS-lijst'!A:A,$C1630)","v":0}]
[{"$f":"IF(AND(B1631>0,ISBLANK('beoordeling maatregel'!Q1631)=FALSE),\"Deze stof wordt aangemerkt als ZZS\",\" \")","v":" "},{"$f":"COUNTIF('ZZS-lijst'!A:A,$C1631)","v":0}]
[{"$f":"IF(AND(B1632>0,ISBLANK('beoordeling maatregel'!Q1632)=FALSE),\"Deze stof wordt aangemerkt als ZZS\",\" \")","v":" "},{"$f":"COUNTIF('ZZS-lijst'!A:A,$C1632)","v":0}]
[{"$f":"IF(AND(B1633>0,ISBLANK('beoordeling maatregel'!Q1633)=FALSE),\"Deze stof wordt aangemerkt als ZZS\",\" \")","v":" "},{"$f":"COUNTIF('ZZS-lijst'!A:A,$C1633)","v":0}]
[{"$f":"IF(AND(B1634>0,ISBLANK('beoordeling maatregel'!Q1634)=FALSE),\"Deze stof wordt aangemerkt als ZZS\",\" \")","v":" "},{"$f":"COUNTIF('ZZS-lijst'!A:A,$C1634)","v":0}]
[{"$f":"IF(AND(B1635>0,ISBLANK('beoordeling maatregel'!Q1635)=FALSE),\"Deze stof wordt aangemerkt als ZZS\",\" \")","v":" "},{"$f":"COUNTIF('ZZS-lijst'!A:A,$C1635)","v":0}]
[{"$f":"IF(AND(B1636>0,ISBLANK('beoordeling maatregel'!Q1636)=FALSE),\"Deze stof wordt aangemerkt als ZZS\",\" \")","v":" "},{"$f":"COUNTIF('ZZS-lijst'!A:A,$C1636)","v":0}]
[{"$f":"IF(AND(B1637>0,ISBLANK('beoordeling maatregel'!Q1637)=FALSE),\"Deze stof wordt aangemerkt als ZZS\",\" \")","v":" "},{"$f":"COUNTIF('ZZS-lijst'!A:A,$C1637)","v":0}]
[{"$f":"IF(AND(B1638>0,ISBLANK('beoordeling maatregel'!Q1638)=FALSE),\"Deze stof wordt aangemerkt als ZZS\",\" \")","v":" "},{"$f":"COUNTIF('ZZS-lijst'!A:A,$C1638)","v":0}]
[{"$f":"IF(AND(B1639>0,ISBLANK('beoordeling maatregel'!Q1639)=FALSE),\"Deze stof wordt aangemerkt als ZZS\",\" \")","v":" "},{"$f":"COUNTIF('ZZS-lijst'!A:A,$C1639)","v":0}]
[{"$f":"IF(AND(B1640>0,ISBLANK('beoordeling maatregel'!Q1640)=FALSE),\"Deze stof wordt aangemerkt als ZZS\",\" \")","v":" "},{"$f":"COUNTIF('ZZS-lijst'!A:A,$C1640)","v":0}]
[{"$f":"IF(AND(B1641>0,ISBLANK('beoordeling maatregel'!Q1641)=FALSE),\"Deze stof wordt aangemerkt als ZZS\",\" \")","v":" "},{"$f":"COUNTIF('ZZS-lijst'!A:A,$C1641)","v":0}]
[{"$f":"IF(AND(B1642>0,ISBLANK('beoordeling maatregel'!Q1642)=FALSE),\"Deze stof wordt aangemerkt als ZZS\",\" \")","v":" "},{"$f":"COUNTIF('ZZS-lijst'!A:A,$C1642)","v":0}]
[{"$f":"IF(AND(B1643>0,ISBLANK('beoordeling maatregel'!Q1643)=FALSE),\"Deze stof wordt aangemerkt als ZZS\",\" \")","v":" "},{"$f":"COUNTIF('ZZS-lijst'!A:A,$C1643)","v":0}]
[{"$f":"IF(AND(B1644>0,ISBLANK('beoordeling maatregel'!Q1644)=FALSE),\"Deze stof wordt aangemerkt als ZZS\",\" \")","v":" "},{"$f":"COUNTIF('ZZS-lijst'!A:A,$C1644)","v":0}]
[{"$f":"IF(AND(B1645>0,ISBLANK('beoordeling maatregel'!Q1645)=FALSE),\"Deze stof wordt aangemerkt als ZZS\",\" \")","v":" "},{"$f":"COUNTIF('ZZS-lijst'!A:A,$C1645)","v":0}]
[{"$f":"IF(AND(B1646>0,ISBLANK('beoordeling maatregel'!Q1646)=FALSE),\"Deze stof wordt aangemerkt als ZZS\",\" \")","v":" "},{"$f":"COUNTIF('ZZS-lijst'!A:A,$C1646)","v":0}]
[{"$f":"IF(AND(B1647>0,ISBLANK('beoordeling maatregel'!Q1647)=FALSE),\"Deze stof wordt aangemerkt als ZZS\",\" \")","v":" "},{"$f":"COUNTIF('ZZS-lijst'!A:A,$C1647)","v":0}]
[{"$f":"IF(AND(B1648>0,ISBLANK('beoordeling maatregel'!Q1648)=FALSE),\"Deze stof wordt aangemerkt als ZZS\",\" \")","v":" "},{"$f":"COUNTIF('ZZS-lijst'!A:A,$C1648)","v":0}]
[{"$f":"IF(AND(B1649>0,ISBLANK('beoordeling maatregel'!Q1649)=FALSE),\"Deze stof wordt aangemerkt als ZZS\",\" \")","v":" "},{"$f":"COUNTIF('ZZS-lijst'!A:A,$C1649)","v":0}]
[{"$f":"IF(AND(B1650>0,ISBLANK('beoordeling maatregel'!Q1650)=FALSE),\"Deze stof wordt aangemerkt als ZZS\",\" \")","v":" "},{"$f":"COUNTIF('ZZS-lijst'!A:A,$C1650)","v":0}]
[{"$f":"IF(AND(B1651>0,ISBLANK('beoordeling maatregel'!Q1651)=FALSE),\"Deze stof wordt aangemerkt als ZZS\",\" \")","v":" "},{"$f":"COUNTIF('ZZS-lijst'!A:A,$C1651)","v":0}]
[{"$f":"IF(AND(B1652>0,ISBLANK('beoordeling maatregel'!Q1652)=FALSE),\"Deze stof wordt aangemerkt als ZZS\",\" \")","v":" "},{"$f":"COUNTIF('ZZS-lijst'!A:A,$C1652)","v":0}]
[{"$f":"IF(AND(B1653>0,ISBLANK('beoordeling maatregel'!Q1653)=FALSE),\"Deze stof wordt aangemerkt als ZZS\",\" \")","v":" "},{"$f":"COUNTIF('ZZS-lijst'!A:A,$C1653)","v":0}]
[{"$f":"IF(AND(B1654>0,ISBLANK('beoordeling maatregel'!Q1654)=FALSE),\"Deze stof wordt aangemerkt als ZZS\",\" \")","v":" "},{"$f":"COUNTIF('ZZS-lijst'!A:A,$C1654)","v":0}]
[{"$f":"IF(AND(B1655>0,ISBLANK('beoordeling maatregel'!Q1655)=FALSE),\"Deze stof wordt aangemerkt als ZZS\",\" \")","v":" "},{"$f":"COUNTIF('ZZS-lijst'!A:A,$C1655)","v":0}]
[{"$f":"IF(AND(B1656>0,ISBLANK('beoordeling maatregel'!Q1656)=FALSE),\"Deze stof wordt aangemerkt als ZZS\",\" \")","v":" "},{"$f":"COUNTIF('ZZS-lijst'!A:A,$C1656)","v":0}]
[{"$f":"IF(AND(B1657>0,ISBLANK('beoordeling maatregel'!Q1657)=FALSE),\"Deze stof wordt aangemerkt als ZZS\",\" \")","v":" "},{"$f":"COUNTIF('ZZS-lijst'!A:A,$C1657)","v":0}]
[{"$f":"IF(AND(B1658>0,ISBLANK('beoordeling maatregel'!Q1658)=FALSE),\"Deze stof wordt aangemerkt als ZZS\",\" \")","v":" "},{"$f":"COUNTIF('ZZS-lijst'!A:A,$C1658)","v":0}]
[{"$f":"IF(AND(B1659>0,ISBLANK('beoordeling maatregel'!Q1659)=FALSE),\"Deze stof wordt aangemerkt als ZZS\",\" \")","v":" "},{"$f":"COUNTIF('ZZS-lijst'!A:A,$C1659)","v":0}]
[{"$f":"IF(AND(B1660>0,ISBLANK('beoordeling maatregel'!Q1660)=FALSE),\"Deze stof wordt aangemerkt als ZZS\",\" \")","v":" "},{"$f":"COUNTIF('ZZS-lijst'!A:A,$C1660)","v":0}]
[{"$f":"IF(AND(B1661>0,ISBLANK('beoordeling maatregel'!Q1661)=FALSE),\"Deze stof wordt aangemerkt als ZZS\",\" \")","v":" "},{"$f":"COUNTIF('ZZS-lijst'!A:A,$C1661)","v":0}]
[{"$f":"IF(AND(B1662>0,ISBLANK('beoordeling maatregel'!Q1662)=FALSE),\"Deze stof wordt aangemerkt als ZZS\",\" \")","v":" "},{"$f":"COUNTIF('ZZS-lijst'!A:A,$C1662)","v":0}]
[{"$f":"IF(AND(B1663>0,ISBLANK('beoordeling maatregel'!Q1663)=FALSE),\"Deze stof wordt aangemerkt als ZZS\",\" \")","v":" "},{"$f":"COUNTIF('ZZS-lijst'!A:A,$C1663)","v":0}]
[{"$f":"IF(AND(B1664>0,ISBLANK('beoordeling maatregel'!Q1664)=FALSE),\"Deze stof wordt aangemerkt als ZZS\",\" \")","v":" "},{"$f":"COUNTIF('ZZS-lijst'!A:A,$C1664)","v":0}]
[{"$f":"IF(AND(B1665>0,ISBLANK('beoordeling maatregel'!Q1665)=FALSE),\"Deze stof wordt aangemerkt als ZZS\",\" \")","v":" "},{"$f":"COUNTIF('ZZS-lijst'!A:A,$C1665)","v":0}]
[{"$f":"IF(AND(B1666>0,ISBLANK('beoordeling maatregel'!Q1666)=FALSE),\"Deze stof wordt aangemerkt als ZZS\",\" \")","v":" "},{"$f":"COUNTIF('ZZS-lijst'!A:A,$C1666)","v":0}]
[{"$f":"IF(AND(B1667>0,ISBLANK('beoordeling maatregel'!Q1667)=FALSE),\"Deze stof wordt aangemerkt als ZZS\",\" \")","v":" "},{"$f":"COUNTIF('ZZS-lijst'!A:A,$C1667)","v":0}]
[{"$f":"IF(AND(B1668>0,ISBLANK('beoordeling maatregel'!Q1668)=FALSE),\"Deze stof wordt aangemerkt als ZZS\",\" \")","v":" "},{"$f":"COUNTIF('ZZS-lijst'!A:A,$C1668)","v":0}]
[{"$f":"IF(AND(B1669>0,ISBLANK('beoordeling maatregel'!Q1669)=FALSE),\"Deze stof wordt aangemerkt als ZZS\",\" \")","v":" "},{"$f":"COUNTIF('ZZS-lijst'!A:A,$C1669)","v":0}]
[{"$f":"IF(AND(B1670>0,ISBLANK('beoordeling maatregel'!Q1670)=FALSE),\"Deze stof wordt aangemerkt als ZZS\",\" \")","v":" "},{"$f":"COUNTIF('ZZS-lijst'!A:A,$C1670)","v":0}]
[{"$f":"IF(AND(B1671>0,ISBLANK('beoordeling maatregel'!Q1671)=FALSE),\"Deze stof wordt aangemerkt als ZZS\",\" \")","v":" "},{"$f":"COUNTIF('ZZS-lijst'!A:A,$C1671)","v":0}]
[{"$f":"IF(AND(B1672>0,ISBLANK('beoordeling maatregel'!Q1672)=FALSE),\"Deze stof wordt aangemerkt als ZZS\",\" \")","v":" "},{"$f":"COUNTIF('ZZS-lijst'!A:A,$C1672)","v":0}]
[{"$f":"IF(AND(B1673>0,ISBLANK('beoordeling maatregel'!Q1673)=FALSE),\"Deze stof wordt aangemerkt als ZZS\",\" \")","v":" "},{"$f":"COUNTIF('ZZS-lijst'!A:A,$C1673)","v":0}]
[{"$f":"IF(AND(B1674>0,ISBLANK('beoordeling maatregel'!Q1674)=FALSE),\"Deze stof wordt aangemerkt als ZZS\",\" \")","v":" "},{"$f":"COUNTIF('ZZS-lijst'!A:A,$C1674)","v":0}]
[{"$f":"IF(AND(B1675>0,ISBLANK('beoordeling maatregel'!Q1675)=FALSE),\"Deze stof wordt aangemerkt als ZZS\",\" \")","v":" "},{"$f":"COUNTIF('ZZS-lijst'!A:A,$C1675)","v":0}]
[{"$f":"IF(AND(B1676>0,ISBLANK('beoordeling maatregel'!Q1676)=FALSE),\"Deze stof wordt aangemerkt als ZZS\",\" \")","v":" "},{"$f":"COUNTIF('ZZS-lijst'!A:A,$C1676)","v":0}]
[{"$f":"IF(AND(B1677>0,ISBLANK('beoordeling maatregel'!Q1677)=FALSE),\"Deze stof wordt aangemerkt als ZZS\",\" \")","v":" "},{"$f":"COUNTIF('ZZS-lijst'!A:A,$C1677)","v":0}]
[{"$f":"IF(AND(B1678>0,ISBLANK('beoordeling maatregel'!Q1678)=FALSE),\"Deze stof wordt aangemerkt als ZZS\",\" \")","v":" "},{"$f":"COUNTIF('ZZS-lijst'!A:A,$C1678)","v":0}]
[{"$f":"IF(AND(B1679>0,ISBLANK('beoordeling maatregel'!Q1679)=FALSE),\"Deze stof wordt aangemerkt als ZZS\",\" \")","v":" "},{"$f":"COUNTIF('ZZS-lijst'!A:A,$C1679)","v":0}]
[{"$f":"IF(AND(B1680>0,ISBLANK('beoordeling maatregel'!Q1680)=FALSE),\"Deze stof wordt aangemerkt als ZZS\",\" \")","v":" "},{"$f":"COUNTIF('ZZS-lijst'!A:A,$C1680)","v":0}]
[{"$f":"IF(AND(B1681>0,ISBLANK('beoordeling maatregel'!Q1681)=FALSE),\"Deze stof wordt aangemerkt als ZZS\",\" \")","v":" "},{"$f":"COUNTIF('ZZS-lijst'!A:A,$C1681)","v":0}]
[{"$f":"IF(AND(B1682>0,ISBLANK('beoordeling maatregel'!Q1682)=FALSE),\"Deze stof wordt aangemerkt als ZZS\",\" \")","v":" "},{"$f":"COUNTIF('ZZS-lijst'!A:A,$C1682)","v":0}]
[{"$f":"IF(AND(B1683>0,ISBLANK('beoordeling maatregel'!Q1683)=FALSE),\"Deze stof wordt aangemerkt als ZZS\",\" \")","v":" "},{"$f":"COUNTIF('ZZS-lijst'!A:A,$C1683)","v":0}]
[{"$f":"IF(AND(B1684>0,ISBLANK('beoordeling maatregel'!Q1684)=FALSE),\"Deze stof wordt aangemerkt als ZZS\",\" \")","v":" "},{"$f":"COUNTIF('ZZS-lijst'!A:A,$C1684)","v":0}]
[{"$f":"IF(AND(B1685>0,ISBLANK('beoordeling maatregel'!Q1685)=FALSE),\"Deze stof wordt aangemerkt als ZZS\",\" \")","v":" "},{"$f":"COUNTIF('ZZS-lijst'!A:A,$C1685)","v":0}]
[{"$f":"IF(AND(B1686>0,ISBLANK('beoordeling maatregel'!Q1686)=FALSE),\"Deze stof wordt aangemerkt als ZZS\",\" \")","v":" "},{"$f":"COUNTIF('ZZS-lijst'!A:A,$C1686)","v":0}]
[{"$f":"IF(AND(B1687>0,ISBLANK('beoordeling maatregel'!Q1687)=FALSE),\"Deze stof wordt aangemerkt als ZZS\",\" \")","v":" "},{"$f":"COUNTIF('ZZS-lijst'!A:A,$C1687)","v":0}]
[{"$f":"IF(AND(B1688>0,ISBLANK('beoordeling maatregel'!Q1688)=FALSE),\"Deze stof wordt aangemerkt als ZZS\",\" \")","v":" "},{"$f":"COUNTIF('ZZS-lijst'!A:A,$C1688)","v":0}]
[{"$f":"IF(AND(B1689>0,ISBLANK('beoordeling maatregel'!Q1689)=FALSE),\"Deze stof wordt aangemerkt als ZZS\",\" \")","v":" "},{"$f":"COUNTIF('ZZS-lijst'!A:A,$C1689)","v":0}]
[{"$f":"IF(AND(B1690>0,ISBLANK('beoordeling maatregel'!Q1690)=FALSE),\"Deze stof wordt aangemerkt als ZZS\",\" \")","v":" "},{"$f":"COUNTIF('ZZS-lijst'!A:A,$C1690)","v":0}]
[{"$f":"IF(AND(B1691>0,ISBLANK('beoordeling maatregel'!Q1691)=FALSE),\"Deze stof wordt aangemerkt als ZZS\",\" \")","v":" "},{"$f":"COUNTIF('ZZS-lijst'!A:A,$C1691)","v":0}]
[{"$f":"IF(AND(B1692>0,ISBLANK('beoordeling maatregel'!Q1692)=FALSE),\"Deze stof wordt aangemerkt als ZZS\",\" \")","v":" "},{"$f":"COUNTIF('ZZS-lijst'!A:A,$C1692)","v":0}]
[{"$f":"IF(AND(B1693>0,ISBLANK('beoordeling maatregel'!Q1693)=FALSE),\"Deze stof wordt aangemerkt als ZZS\",\" \")","v":" "},{"$f":"COUNTIF('ZZS-lijst'!A:A,$C1693)","v":0}]
[{"$f":"IF(AND(B1694>0,ISBLANK('beoordeling maatregel'!Q1694)=FALSE),\"Deze stof wordt aangemerkt als ZZS\",\" \")","v":" "},{"$f":"COUNTIF('ZZS-lijst'!A:A,$C1694)","v":0}]
[{"$f":"IF(AND(B1695>0,ISBLANK('beoordeling maatregel'!Q1695)=FALSE),\"Deze stof wordt aangemerkt als ZZS\",\" \")","v":" "},{"$f":"COUNTIF('ZZS-lijst'!A:A,$C1695)","v":0}]
[{"$f":"IF(AND(B1696>0,ISBLANK('beoordeling maatregel'!Q1696)=FALSE),\"Deze stof wordt aangemerkt als ZZS\",\" \")","v":" "},{"$f":"COUNTIF('ZZS-lijst'!A:A,$C1696)","v":0}]
[{"$f":"IF(AND(B1697>0,ISBLANK('beoordeling maatregel'!Q1697)=FALSE),\"Deze stof wordt aangemerkt als ZZS\",\" \")","v":" "},{"$f":"COUNTIF('ZZS-lijst'!A:A,$C1697)","v":0}]
[{"$f":"IF(AND(B1698>0,ISBLANK('beoordeling maatregel'!Q1698)=FALSE),\"Deze stof wordt aangemerkt als ZZS\",\" \")","v":" "},{"$f":"COUNTIF('ZZS-lijst'!A:A,$C1698)","v":0}]
[{"$f":"IF(AND(B1699>0,ISBLANK('beoordeling maatregel'!Q1699)=FALSE),\"Deze stof wordt aangemerkt als ZZS\",\" \")","v":" "},{"$f":"COUNTIF('ZZS-lijst'!A:A,$C1699)","v":0}]
[{"$f":"IF(AND(B1700>0,ISBLANK('beoordeling maatregel'!Q1700)=FALSE),\"Deze stof wordt aangemerkt als ZZS\",\" \")","v":" "},{"$f":"COUNTIF('ZZS-lijst'!A:A,$C1700)","v":0}]
[{"$f":"IF(AND(B1701>0,ISBLANK('beoordeling maatregel'!Q1701)=FALSE),\"Deze stof wordt aangemerkt als ZZS\",\" \")","v":" "},{"$f":"COUNTIF('ZZS-lijst'!A:A,$C1701)","v":0}]
[{"$f":"IF(AND(B1702>0,ISBLANK('beoordeling maatregel'!Q1702)=FALSE),\"Deze stof wordt aangemerkt als ZZS\",\" \")","v":" "},{"$f":"COUNTIF('ZZS-lijst'!A:A,$C1702)","v":0}]
[{"$f":"IF(AND(B1703>0,ISBLANK('beoordeling maatregel'!Q1703)=FALSE),\"Deze stof wordt aangemerkt als ZZS\",\" \")","v":" "},{"$f":"COUNTIF('ZZS-lijst'!A:A,$C1703)","v":0}]
[{"$f":"IF(AND(B1704>0,ISBLANK('beoordeling maatregel'!Q1704)=FALSE),\"Deze stof wordt aangemerkt als ZZS\",\" \")","v":" "},{"$f":"COUNTIF('ZZS-lijst'!A:A,$C1704)","v":0}]
[{"$f":"IF(AND(B1705>0,ISBLANK('beoordeling maatregel'!Q1705)=FALSE),\"Deze stof wordt aangemerkt als ZZS\",\" \")","v":" "},{"$f":"COUNTIF('ZZS-lijst'!A:A,$C1705)","v":0}]
[{"$f":"IF(AND(B1706>0,ISBLANK('beoordeling maatregel'!Q1706)=FALSE),\"Deze stof wordt aangemerkt als ZZS\",\" \")","v":" "},{"$f":"COUNTIF('ZZS-lijst'!A:A,$C1706)","v":0}]
[{"$f":"IF(AND(B1707>0,ISBLANK('beoordeling maatregel'!Q1707)=FALSE),\"Deze stof wordt aangemerkt als ZZS\",\" \")","v":" "},{"$f":"COUNTIF('ZZS-lijst'!A:A,$C1707)","v":0}]
[{"$f":"IF(AND(B1708>0,ISBLANK('beoordeling maatregel'!Q1708)=FALSE),\"Deze stof wordt aangemerkt als ZZS\",\" \")","v":" "},{"$f":"COUNTIF('ZZS-lijst'!A:A,$C1708)","v":0}]
[{"$f":"IF(AND(B1709>0,ISBLANK('beoordeling maatregel'!Q1709)=FALSE),\"Deze stof wordt aangemerkt als ZZS\",\" \")","v":" "},{"$f":"COUNTIF('ZZS-lijst'!A:A,$C1709)","v":0}]
[{"$f":"IF(AND(B1710>0,ISBLANK('beoordeling maatregel'!Q1710)=FALSE),\"Deze stof wordt aangemerkt als ZZS\",\" \")","v":" "},{"$f":"COUNTIF('ZZS-lijst'!A:A,$C1710)","v":0}]
[{"$f":"IF(AND(B1711>0,ISBLANK('beoordeling maatregel'!Q1711)=FALSE),\"Deze stof wordt aangemerkt als ZZS\",\" \")","v":" "},{"$f":"COUNTIF('ZZS-lijst'!A:A,$C1711)","v":0}]
[{"$f":"IF(AND(B1712>0,ISBLANK('beoordeling maatregel'!Q1712)=FALSE),\"Deze stof wordt aangemerkt als ZZS\",\" \")","v":" "},{"$f":"COUNTIF('ZZS-lijst'!A:A,$C1712)","v":0}]
[{"$f":"IF(AND(B1713>0,ISBLANK('beoordeling maatregel'!Q1713)=FALSE),\"Deze stof wordt aangemerkt als ZZS\",\" \")","v":" "},{"$f":"COUNTIF('ZZS-lijst'!A:A,$C1713)","v":0}]
[{"$f":"IF(AND(B1714>0,ISBLANK('beoordeling maatregel'!Q1714)=FALSE),\"Deze stof wordt aangemerkt als ZZS\",\" \")","v":" "},{"$f":"COUNTIF('ZZS-lijst'!A:A,$C1714)","v":0}]
[{"$f":"IF(AND(B1715>0,ISBLANK('beoordeling maatregel'!Q1715)=FALSE),\"Deze stof wordt aangemerkt als ZZS\",\" \")","v":" "},{"$f":"COUNTIF('ZZS-lijst'!A:A,$C1715)","v":0}]
[{"$f":"IF(AND(B1716>0,ISBLANK('beoordeling maatregel'!Q1716)=FALSE),\"Deze stof wordt aangemerkt als ZZS\",\" \")","v":" "},{"$f":"COUNTIF('ZZS-lijst'!A:A,$C1716)","v":0}]
[{"$f":"IF(AND(B1717>0,ISBLANK('beoordeling maatregel'!Q1717)=FALSE),\"Deze stof wordt aangemerkt als ZZS\",\" \")","v":" "},{"$f":"COUNTIF('ZZS-lijst'!A:A,$C1717)","v":0}]
[{"$f":"IF(AND(B1718>0,ISBLANK('beoordeling maatregel'!Q1718)=FALSE),\"Deze stof wordt aangemerkt als ZZS\",\" \")","v":" "},{"$f":"COUNTIF('ZZS-lijst'!A:A,$C1718)","v":0}]
[{"$f":"IF(AND(B1719>0,ISBLANK('beoordeling maatregel'!Q1719)=FALSE),\"Deze stof wordt aangemerkt als ZZS\",\" \")","v":" "},{"$f":"COUNTIF('ZZS-lijst'!A:A,$C1719)","v":0}]
[{"$f":"IF(AND(B1720>0,ISBLANK('beoordeling maatregel'!Q1720)=FALSE),\"Deze stof wordt aangemerkt als ZZS\",\" \")","v":" "},{"$f":"COUNTIF('ZZS-lijst'!A:A,$C1720)","v":0}]
[{"$f":"IF(AND(B1721>0,ISBLANK('beoordeling maatregel'!Q1721)=FALSE),\"Deze stof wordt aangemerkt als ZZS\",\" \")","v":" "},{"$f":"COUNTIF('ZZS-lijst'!A:A,$C1721)","v":0}]
[{"$f":"IF(AND(B1722>0,ISBLANK('beoordeling maatregel'!Q1722)=FALSE),\"Deze stof wordt aangemerkt als ZZS\",\" \")","v":" "},{"$f":"COUNTIF('ZZS-lijst'!A:A,$C1722)","v":0}]
[{"$f":"IF(AND(B1723>0,ISBLANK('beoordeling maatregel'!Q1723)=FALSE),\"Deze stof wordt aangemerkt als ZZS\",\" \")","v":" "},{"$f":"COUNTIF('ZZS-lijst'!A:A,$C1723)","v":0}]
[{"$f":"IF(AND(B1724>0,ISBLANK('beoordeling maatregel'!Q1724)=FALSE),\"Deze stof wordt aangemerkt als ZZS\",\" \")","v":" "},{"$f":"COUNTIF('ZZS-lijst'!A:A,$C1724)","v":0}]
[{"$f":"IF(AND(B1725>0,ISBLANK('beoordeling maatregel'!Q1725)=FALSE),\"Deze stof wordt aangemerkt als ZZS\",\" \")","v":" "},{"$f":"COUNTIF('ZZS-lijst'!A:A,$C1725)","v":0}]
[{"$f":"IF(AND(B1726>0,ISBLANK('beoordeling maatregel'!Q1726)=FALSE),\"Deze stof wordt aangemerkt als ZZS\",\" \")","v":" "},{"$f":"COUNTIF('ZZS-lijst'!A:A,$C1726)","v":0}]
[{"$f":"IF(AND(B1727>0,ISBLANK('beoordeling maatregel'!Q1727)=FALSE),\"Deze stof wordt aangemerkt als ZZS\",\" \")","v":" "},{"$f":"COUNTIF('ZZS-lijst'!A:A,$C1727)","v":0}]
[{"$f":"IF(AND(B1728>0,ISBLANK('beoordeling maatregel'!Q1728)=FALSE),\"Deze stof wordt aangemerkt als ZZS\",\" \")","v":" "},{"$f":"COUNTIF('ZZS-lijst'!A:A,$C1728)","v":0}]
[{"$f":"IF(AND(B1729>0,ISBLANK('beoordeling maatregel'!Q1729)=FALSE),\"Deze stof wordt aangemerkt als ZZS\",\" \")","v":" "},{"$f":"COUNTIF('ZZS-lijst'!A:A,$C1729)","v":0}]
[{"$f":"IF(AND(B1730>0,ISBLANK('beoordeling maatregel'!Q1730)=FALSE),\"Deze stof wordt aangemerkt als ZZS\",\" \")","v":" "},{"$f":"COUNTIF('ZZS-lijst'!A:A,$C1730)","v":0}]
[{"$f":"IF(AND(B1731>0,ISBLANK('beoordeling maatregel'!Q1731)=FALSE),\"Deze stof wordt aangemerkt als ZZS\",\" \")","v":" "},{"$f":"COUNTIF('ZZS-lijst'!A:A,$C1731)","v":0}]
[{"$f":"IF(AND(B1732>0,ISBLANK('beoordeling maatregel'!Q1732)=FALSE),\"Deze stof wordt aangemerkt als ZZS\",\" \")","v":" "},{"$f":"COUNTIF('ZZS-lijst'!A:A,$C1732)","v":0}]
[{"$f":"IF(AND(B1733>0,ISBLANK('beoordeling maatregel'!Q1733)=FALSE),\"Deze stof wordt aangemerkt als ZZS\",\" \")","v":" "},{"$f":"COUNTIF('ZZS-lijst'!A:A,$C1733)","v":0}]
[{"$f":"IF(AND(B1734>0,ISBLANK('beoordeling maatregel'!Q1734)=FALSE),\"Deze stof wordt aangemerkt als ZZS\",\" \")","v":" "},{"$f":"COUNTIF('ZZS-lijst'!A:A,$C1734)","v":0}]
[{"$f":"IF(AND(B1735>0,ISBLANK('beoordeling maatregel'!Q1735)=FALSE),\"Deze stof wordt aangemerkt als ZZS\",\" \")","v":" "},{"$f":"COUNTIF('ZZS-lijst'!A:A,$C1735)","v":0}]
[{"$f":"IF(AND(B1736>0,ISBLANK('beoordeling maatregel'!Q1736)=FALSE),\"Deze stof wordt aangemerkt als ZZS\",\" \")","v":" "},{"$f":"COUNTIF('ZZS-lijst'!A:A,$C1736)","v":0}]
[{"$f":"IF(AND(B1737>0,ISBLANK('beoordeling maatregel'!Q1737)=FALSE),\"Deze stof wordt aangemerkt als ZZS\",\" \")","v":" "},{"$f":"COUNTIF('ZZS-lijst'!A:A,$C1737)","v":0}]
[{"$f":"IF(AND(B1738>0,ISBLANK('beoordeling maatregel'!Q1738)=FALSE),\"Deze stof wordt aangemerkt als ZZS\",\" \")","v":" "},{"$f":"COUNTIF('ZZS-lijst'!A:A,$C1738)","v":0}]
[{"$f":"IF(AND(B1739>0,ISBLANK('beoordeling maatregel'!Q1739)=FALSE),\"Deze stof wordt aangemerkt als ZZS\",\" \")","v":" "},{"$f":"COUNTIF('ZZS-lijst'!A:A,$C1739)","v":0}]
[{"$f":"IF(AND(B1740>0,ISBLANK('beoordeling maatregel'!Q1740)=FALSE),\"Deze stof wordt aangemerkt als ZZS\",\" \")","v":" "},{"$f":"COUNTIF('ZZS-lijst'!A:A,$C1740)","v":0}]
[{"$f":"IF(AND(B1741>0,ISBLANK('beoordeling maatregel'!Q1741)=FALSE),\"Deze stof wordt aangemerkt als ZZS\",\" \")","v":" "},{"$f":"COUNTIF('ZZS-lijst'!A:A,$C1741)","v":0}]
[{"$f":"IF(AND(B1742>0,ISBLANK('beoordeling maatregel'!Q1742)=FALSE),\"Deze stof wordt aangemerkt als ZZS\",\" \")","v":" "},{"$f":"COUNTIF('ZZS-lijst'!A:A,$C1742)","v":0}]
[{"$f":"IF(AND(B1743>0,ISBLANK('beoordeling maatregel'!Q1743)=FALSE),\"Deze stof wordt aangemerkt als ZZS\",\" \")","v":" "},{"$f":"COUNTIF('ZZS-lijst'!A:A,$C1743)","v":0}]
[{"$f":"IF(AND(B1744>0,ISBLANK('beoordeling maatregel'!Q1744)=FALSE),\"Deze stof wordt aangemerkt als ZZS\",\" \")","v":" "},{"$f":"COUNTIF('ZZS-lijst'!A:A,$C1744)","v":0}]
[{"$f":"IF(AND(B1745>0,ISBLANK('beoordeling maatregel'!Q1745)=FALSE),\"Deze stof wordt aangemerkt als ZZS\",\" \")","v":" "},{"$f":"COUNTIF('ZZS-lijst'!A:A,$C1745)","v":0}]
[{"$f":"IF(AND(B1746>0,ISBLANK('beoordeling maatregel'!Q1746)=FALSE),\"Deze stof wordt aangemerkt als ZZS\",\" \")","v":" "},{"$f":"COUNTIF('ZZS-lijst'!A:A,$C1746)","v":0}]
[{"$f":"IF(AND(B1747>0,ISBLANK('beoordeling maatregel'!Q1747)=FALSE),\"Deze stof wordt aangemerkt als ZZS\",\" \")","v":" "},{"$f":"COUNTIF('ZZS-lijst'!A:A,$C1747)","v":0}]
[{"$f":"IF(AND(B1748>0,ISBLANK('beoordeling maatregel'!Q1748)=FALSE),\"Deze stof wordt aangemerkt als ZZS\",\" \")","v":" "},{"$f":"COUNTIF('ZZS-lijst'!A:A,$C1748)","v":0}]
[{"$f":"IF(AND(B1749>0,ISBLANK('beoordeling maatregel'!Q1749)=FALSE),\"Deze stof wordt aangemerkt als ZZS\",\" \")","v":" "},{"$f":"COUNTIF('ZZS-lijst'!A:A,$C1749)","v":0}]
[{"$f":"IF(AND(B1750>0,ISBLANK('beoordeling maatregel'!Q1750)=FALSE),\"Deze stof wordt aangemerkt als ZZS\",\" \")","v":" "},{"$f":"COUNTIF('ZZS-lijst'!A:A,$C1750)","v":0}]
[{"$f":"IF(AND(B1751>0,ISBLANK('beoordeling maatregel'!Q1751)=FALSE),\"Deze stof wordt aangemerkt als ZZS\",\" \")","v":" "},{"$f":"COUNTIF('ZZS-lijst'!A:A,$C1751)","v":0}]
[{"$f":"IF(AND(B1752>0,ISBLANK('beoordeling maatregel'!Q1752)=FALSE),\"Deze stof wordt aangemerkt als ZZS\",\" \")","v":" "},{"$f":"COUNTIF('ZZS-lijst'!A:A,$C1752)","v":0}]
[{"$f":"IF(AND(B1753>0,ISBLANK('beoordeling maatregel'!Q1753)=FALSE),\"Deze stof wordt aangemerkt als ZZS\",\" \")","v":" "},{"$f":"COUNTIF('ZZS-lijst'!A:A,$C1753)","v":0}]
[{"$f":"IF(AND(B1754>0,ISBLANK('beoordeling maatregel'!Q1754)=FALSE),\"Deze stof wordt aangemerkt als ZZS\",\" \")","v":" "},{"$f":"COUNTIF('ZZS-lijst'!A:A,$C1754)","v":0}]
[{"$f":"IF(AND(B1755>0,ISBLANK('beoordeling maatregel'!Q1755)=FALSE),\"Deze stof wordt aangemerkt als ZZS\",\" \")","v":" "},{"$f":"COUNTIF('ZZS-lijst'!A:A,$C1755)","v":0}]
[{"$f":"IF(AND(B1756>0,ISBLANK('beoordeling maatregel'!Q1756)=FALSE),\"Deze stof wordt aangemerkt als ZZS\",\" \")","v":" "},{"$f":"COUNTIF('ZZS-lijst'!A:A,$C1756)","v":0}]
[{"$f":"IF(AND(B1757>0,ISBLANK('beoordeling maatregel'!Q1757)=FALSE),\"Deze stof wordt aangemerkt als ZZS\",\" \")","v":" "},{"$f":"COUNTIF('ZZS-lijst'!A:A,$C1757)","v":0}]
[{"$f":"IF(AND(B1758>0,ISBLANK('beoordeling maatregel'!Q1758)=FALSE),\"Deze stof wordt aangemerkt als ZZS\",\" \")","v":" "},{"$f":"COUNTIF('ZZS-lijst'!A:A,$C1758)","v":0}]
[{"$f":"IF(AND(B1759>0,ISBLANK('beoordeling maatregel'!Q1759)=FALSE),\"Deze stof wordt aangemerkt als ZZS\",\" \")","v":" "},{"$f":"COUNTIF('ZZS-lijst'!A:A,$C1759)","v":0}]
[{"$f":"IF(AND(B1760>0,ISBLANK('beoordeling maatregel'!Q1760)=FALSE),\"Deze stof wordt aangemerkt als ZZS\",\" \")","v":" "},{"$f":"COUNTIF('ZZS-lijst'!A:A,$C1760)","v":0}]
[{"$f":"IF(AND(B1761>0,ISBLANK('beoordeling maatregel'!Q1761)=FALSE),\"Deze stof wordt aangemerkt als ZZS\",\" \")","v":" "},{"$f":"COUNTIF('ZZS-lijst'!A:A,$C1761)","v":0}]
[{"$f":"IF(AND(B1762>0,ISBLANK('beoordeling maatregel'!Q1762)=FALSE),\"Deze stof wordt aangemerkt als ZZS\",\" \")","v":" "},{"$f":"COUNTIF('ZZS-lijst'!A:A,$C1762)","v":0}]
[{"$f":"IF(AND(B1763>0,ISBLANK('beoordeling maatregel'!Q1763)=FALSE),\"Deze stof wordt aangemerkt als ZZS\",\" \")","v":" "},{"$f":"COUNTIF('ZZS-lijst'!A:A,$C1763)","v":0}]
[{"$f":"IF(AND(B1764>0,ISBLANK('beoordeling maatregel'!Q1764)=FALSE),\"Deze stof wordt aangemerkt als ZZS\",\" \")","v":" "},{"$f":"COUNTIF('ZZS-lijst'!A:A,$C1764)","v":0}]
[{"$f":"IF(AND(B1765>0,ISBLANK('beoordeling maatregel'!Q1765)=FALSE),\"Deze stof wordt aangemerkt als ZZS\",\" \")","v":" "},{"$f":"COUNTIF('ZZS-lijst'!A:A,$C1765)","v":0}]
[{"$f":"IF(AND(B1766>0,ISBLANK('beoordeling maatregel'!Q1766)=FALSE),\"Deze stof wordt aangemerkt als ZZS\",\" \")","v":" "},{"$f":"COUNTIF('ZZS-lijst'!A:A,$C1766)","v":0}]
[{"$f":"IF(AND(B1767>0,ISBLANK('beoordeling maatregel'!Q1767)=FALSE),\"Deze stof wordt aangemerkt als ZZS\",\" \")","v":" "},{"$f":"COUNTIF('ZZS-lijst'!A:A,$C1767)","v":0}]
[{"$f":"IF(AND(B1768>0,ISBLANK('beoordeling maatregel'!Q1768)=FALSE),\"Deze stof wordt aangemerkt als ZZS\",\" \")","v":" "},{"$f":"COUNTIF('ZZS-lijst'!A:A,$C1768)","v":0}]
[{"$f":"IF(AND(B1769>0,ISBLANK('beoordeling maatregel'!Q1769)=FALSE),\"Deze stof wordt aangemerkt als ZZS\",\" \")","v":" "},{"$f":"COUNTIF('ZZS-lijst'!A:A,$C1769)","v":0}]
[{"$f":"IF(AND(B1770>0,ISBLANK('beoordeling maatregel'!Q1770)=FALSE),\"Deze stof wordt aangemerkt als ZZS\",\" \")","v":" "},{"$f":"COUNTIF('ZZS-lijst'!A:A,$C1770)","v":0}]
[{"$f":"IF(AND(B1771>0,ISBLANK('beoordeling maatregel'!Q1771)=FALSE),\"Deze stof wordt aangemerkt als ZZS\",\" \")","v":" "},{"$f":"COUNTIF('ZZS-lijst'!A:A,$C1771)","v":0}]
[{"$f":"IF(AND(B1772>0,ISBLANK('beoordeling maatregel'!Q1772)=FALSE),\"Deze stof wordt aangemerkt als ZZS\",\" \")","v":" "},{"$f":"COUNTIF('ZZS-lijst'!A:A,$C1772)","v":0}]
[{"$f":"IF(AND(B1773>0,ISBLANK('beoordeling maatregel'!Q1773)=FALSE),\"Deze stof wordt aangemerkt als ZZS\",\" \")","v":" "},{"$f":"COUNTIF('ZZS-lijst'!A:A,$C1773)","v":0}]
[{"$f":"IF(AND(B1774>0,ISBLANK('beoordeling maatregel'!Q1774)=FALSE),\"Deze stof wordt aangemerkt als ZZS\",\" \")","v":" "},{"$f":"COUNTIF('ZZS-lijst'!A:A,$C1774)","v":0}]
[{"$f":"IF(AND(B1775>0,ISBLANK('beoordeling maatregel'!Q1775)=FALSE),\"Deze stof wordt aangemerkt als ZZS\",\" \")","v":" "},{"$f":"COUNTIF('ZZS-lijst'!A:A,$C1775)","v":0}]
[{"$f":"IF(AND(B1776>0,ISBLANK('beoordeling maatregel'!Q1776)=FALSE),\"Deze stof wordt aangemerkt als ZZS\",\" \")","v":" "},{"$f":"COUNTIF('ZZS-lijst'!A:A,$C1776)","v":0}]
[{"$f":"IF(AND(B1777>0,ISBLANK('beoordeling maatregel'!Q1777)=FALSE),\"Deze stof wordt aangemerkt als ZZS\",\" \")","v":" "},{"$f":"COUNTIF('ZZS-lijst'!A:A,$C1777)","v":0}]
[{"$f":"IF(AND(B1778>0,ISBLANK('beoordeling maatregel'!Q1778)=FALSE),\"Deze stof wordt aangemerkt als ZZS\",\" \")","v":" "},{"$f":"COUNTIF('ZZS-lijst'!A:A,$C1778)","v":0}]
[{"$f":"IF(AND(B1779>0,ISBLANK('beoordeling maatregel'!Q1779)=FALSE),\"Deze stof wordt aangemerkt als ZZS\",\" \")","v":" "},{"$f":"COUNTIF('ZZS-lijst'!A:A,$C1779)","v":0}]
[{"$f":"IF(AND(B1780>0,ISBLANK('beoordeling maatregel'!Q1780)=FALSE),\"Deze stof wordt aangemerkt als ZZS\",\" \")","v":" "},{"$f":"COUNTIF('ZZS-lijst'!A:A,$C1780)","v":0}]
[{"$f":"IF(AND(B1781>0,ISBLANK('beoordeling maatregel'!Q1781)=FALSE),\"Deze stof wordt aangemerkt als ZZS\",\" \")","v":" "},{"$f":"COUNTIF('ZZS-lijst'!A:A,$C1781)","v":0}]
[{"$f":"IF(AND(B1782>0,ISBLANK('beoordeling maatregel'!Q1782)=FALSE),\"Deze stof wordt aangemerkt als ZZS\",\" \")","v":" "},{"$f":"COUNTIF('ZZS-lijst'!A:A,$C1782)","v":0}]
[{"$f":"IF(AND(B1783>0,ISBLANK('beoordeling maatregel'!Q1783)=FALSE),\"Deze stof wordt aangemerkt als ZZS\",\" \")","v":" "},{"$f":"COUNTIF('ZZS-lijst'!A:A,$C1783)","v":0}]
[{"$f":"IF(AND(B1784>0,ISBLANK('beoordeling maatregel'!Q1784)=FALSE),\"Deze stof wordt aangemerkt als ZZS\",\" \")","v":" "},{"$f":"COUNTIF('ZZS-lijst'!A:A,$C1784)","v":0}]
[{"$f":"IF(AND(B1785>0,ISBLANK('beoordeling maatregel'!Q1785)=FALSE),\"Deze stof wordt aangemerkt als ZZS\",\" \")","v":" "},{"$f":"COUNTIF('ZZS-lijst'!A:A,$C1785)","v":0}]
[{"$f":"IF(AND(B1786>0,ISBLANK('beoordeling maatregel'!Q1786)=FALSE),\"Deze stof wordt aangemerkt als ZZS\",\" \")","v":" "},{"$f":"COUNTIF('ZZS-lijst'!A:A,$C1786)","v":0}]
[{"$f":"IF(AND(B1787>0,ISBLANK('beoordeling maatregel'!Q1787)=FALSE),\"Deze stof wordt aangemerkt als ZZS\",\" \")","v":" "},{"$f":"COUNTIF('ZZS-lijst'!A:A,$C1787)","v":0}]
[{"$f":"IF(AND(B1788>0,ISBLANK('beoordeling maatregel'!Q1788)=FALSE),\"Deze stof wordt aangemerkt als ZZS\",\" \")","v":" "},{"$f":"COUNTIF('ZZS-lijst'!A:A,$C1788)","v":0}]
[{"$f":"IF(AND(B1789>0,ISBLANK('beoordeling maatregel'!Q1789)=FALSE),\"Deze stof wordt aangemerkt als ZZS\",\" \")","v":" "},{"$f":"COUNTIF('ZZS-lijst'!A:A,$C1789)","v":0}]
[{"$f":"IF(AND(B1790>0,ISBLANK('beoordeling maatregel'!Q1790)=FALSE),\"Deze stof wordt aangemerkt als ZZS\",\" \")","v":" "},{"$f":"COUNTIF('ZZS-lijst'!A:A,$C1790)","v":0}]
[{"$f":"IF(AND(B1791>0,ISBLANK('beoordeling maatregel'!Q1791)=FALSE),\"Deze stof wordt aangemerkt als ZZS\",\" \")","v":" "},{"$f":"COUNTIF('ZZS-lijst'!A:A,$C1791)","v":0}]
[{"$f":"IF(AND(B1792>0,ISBLANK('beoordeling maatregel'!Q1792)=FALSE),\"Deze stof wordt aangemerkt als ZZS\",\" \")","v":" "},{"$f":"COUNTIF('ZZS-lijst'!A:A,$C1792)","v":0}]
[{"$f":"IF(AND(B1793>0,ISBLANK('beoordeling maatregel'!Q1793)=FALSE),\"Deze stof wordt aangemerkt als ZZS\",\" \")","v":" "},{"$f":"COUNTIF('ZZS-lijst'!A:A,$C1793)","v":0}]
[{"$f":"IF(AND(B1794>0,ISBLANK('beoordeling maatregel'!Q1794)=FALSE),\"Deze stof wordt aangemerkt als ZZS\",\" \")","v":" "},{"$f":"COUNTIF('ZZS-lijst'!A:A,$C1794)","v":0}]
[{"$f":"IF(AND(B1795>0,ISBLANK('beoordeling maatregel'!Q1795)=FALSE),\"Deze stof wordt aangemerkt als ZZS\",\" \")","v":" "},{"$f":"COUNTIF('ZZS-lijst'!A:A,$C1795)","v":0}]
[{"$f":"IF(AND(B1796>0,ISBLANK('beoordeling maatregel'!Q1796)=FALSE),\"Deze stof wordt aangemerkt als ZZS\",\" \")","v":" "},{"$f":"COUNTIF('ZZS-lijst'!A:A,$C1796)","v":0}]
[{"$f":"IF(AND(B1797>0,ISBLANK('beoordeling maatregel'!Q1797)=FALSE),\"Deze stof wordt aangemerkt als ZZS\",\" \")","v":" "},{"$f":"COUNTIF('ZZS-lijst'!A:A,$C1797)","v":0}]
[{"$f":"IF(AND(B1798>0,ISBLANK('beoordeling maatregel'!Q1798)=FALSE),\"Deze stof wordt aangemerkt als ZZS\",\" \")","v":" "},{"$f":"COUNTIF('ZZS-lijst'!A:A,$C1798)","v":0}]
[{"$f":"IF(AND(B1799>0,ISBLANK('beoordeling maatregel'!Q1799)=FALSE),\"Deze stof wordt aangemerkt als ZZS\",\" \")","v":" "},{"$f":"COUNTIF('ZZS-lijst'!A:A,$C1799)","v":0}]
[{"$f":"IF(AND(B1800>0,ISBLANK('beoordeling maatregel'!Q1800)=FALSE),\"Deze stof wordt aangemerkt als ZZS\",\" \")","v":" "},{"$f":"COUNTIF('ZZS-lijst'!A:A,$C1800)","v":0}]
[{"$f":"IF(AND(B1801>0,ISBLANK('beoordeling maatregel'!Q1801)=FALSE),\"Deze stof wordt aangemerkt als ZZS\",\" \")","v":" "},{"$f":"COUNTIF('ZZS-lijst'!A:A,$C1801)","v":0}]
[{"$f":"IF(AND(B1802>0,ISBLANK('beoordeling maatregel'!Q1802)=FALSE),\"Deze stof wordt aangemerkt als ZZS\",\" \")","v":" "},{"$f":"COUNTIF('ZZS-lijst'!A:A,$C1802)","v":0}]
[{"$f":"IF(AND(B1803>0,ISBLANK('beoordeling maatregel'!Q1803)=FALSE),\"Deze stof wordt aangemerkt als ZZS\",\" \")","v":" "},{"$f":"COUNTIF('ZZS-lijst'!A:A,$C1803)","v":0}]
[{"$f":"IF(AND(B1804>0,ISBLANK('beoordeling maatregel'!Q1804)=FALSE),\"Deze stof wordt aangemerkt als ZZS\",\" \")","v":" "},{"$f":"COUNTIF('ZZS-lijst'!A:A,$C1804)","v":0}]
[{"$f":"IF(AND(B1805>0,ISBLANK('beoordeling maatregel'!Q1805)=FALSE),\"Deze stof wordt aangemerkt als ZZS\",\" \")","v":" "},{"$f":"COUNTIF('ZZS-lijst'!A:A,$C1805)","v":0}]
[{"$f":"IF(AND(B1806>0,ISBLANK('beoordeling maatregel'!Q1806)=FALSE),\"Deze stof wordt aangemerkt als ZZS\",\" \")","v":" "},{"$f":"COUNTIF('ZZS-lijst'!A:A,$C1806)","v":0}]
[{"$f":"IF(AND(B1807>0,ISBLANK('beoordeling maatregel'!Q1807)=FALSE),\"Deze stof wordt aangemerkt als ZZS\",\" \")","v":" "},{"$f":"COUNTIF('ZZS-lijst'!A:A,$C1807)","v":0}]
[{"$f":"IF(AND(B1808>0,ISBLANK('beoordeling maatregel'!Q1808)=FALSE),\"Deze stof wordt aangemerkt als ZZS\",\" \")","v":" "},{"$f":"COUNTIF('ZZS-lijst'!A:A,$C1808)","v":0}]
[{"$f":"IF(AND(B1809>0,ISBLANK('beoordeling maatregel'!Q1809)=FALSE),\"Deze stof wordt aangemerkt als ZZS\",\" \")","v":" "},{"$f":"COUNTIF('ZZS-lijst'!A:A,$C1809)","v":0}]
[{"$f":"IF(AND(B1810>0,ISBLANK('beoordeling maatregel'!Q1810)=FALSE),\"Deze stof wordt aangemerkt als ZZS\",\" \")","v":" "},{"$f":"COUNTIF('ZZS-lijst'!A:A,$C1810)","v":0}]
[{"$f":"IF(AND(B1811>0,ISBLANK('beoordeling maatregel'!Q1811)=FALSE),\"Deze stof wordt aangemerkt als ZZS\",\" \")","v":" "},{"$f":"COUNTIF('ZZS-lijst'!A:A,$C1811)","v":0}]
[{"$f":"IF(AND(B1812>0,ISBLANK('beoordeling maatregel'!Q1812)=FALSE),\"Deze stof wordt aangemerkt als ZZS\",\" \")","v":" "},{"$f":"COUNTIF('ZZS-lijst'!A:A,$C1812)","v":0}]
[{"$f":"IF(AND(B1813>0,ISBLANK('beoordeling maatregel'!Q1813)=FALSE),\"Deze stof wordt aangemerkt als ZZS\",\" \")","v":" "},{"$f":"COUNTIF('ZZS-lijst'!A:A,$C1813)","v":0}]
[{"$f":"IF(AND(B1814>0,ISBLANK('beoordeling maatregel'!Q1814)=FALSE),\"Deze stof wordt aangemerkt als ZZS\",\" \")","v":" "},{"$f":"COUNTIF('ZZS-lijst'!A:A,$C1814)","v":0}]
[{"$f":"IF(AND(B1815>0,ISBLANK('beoordeling maatregel'!Q1815)=FALSE),\"Deze stof wordt aangemerkt als ZZS\",\" \")","v":" "},{"$f":"COUNTIF('ZZS-lijst'!A:A,$C1815)","v":0}]
[{"$f":"IF(AND(B1816>0,ISBLANK('beoordeling maatregel'!Q1816)=FALSE),\"Deze stof wordt aangemerkt als ZZS\",\" \")","v":" "},{"$f":"COUNTIF('ZZS-lijst'!A:A,$C1816)","v":0}]
[{"$f":"IF(AND(B1817>0,ISBLANK('beoordeling maatregel'!Q1817)=FALSE),\"Deze stof wordt aangemerkt als ZZS\",\" \")","v":" "},{"$f":"COUNTIF('ZZS-lijst'!A:A,$C1817)","v":0}]
[{"$f":"IF(AND(B1818>0,ISBLANK('beoordeling maatregel'!Q1818)=FALSE),\"Deze stof wordt aangemerkt als ZZS\",\" \")","v":" "},{"$f":"COUNTIF('ZZS-lijst'!A:A,$C1818)","v":0}]
[{"$f":"IF(AND(B1819>0,ISBLANK('beoordeling maatregel'!Q1819)=FALSE),\"Deze stof wordt aangemerkt als ZZS\",\" \")","v":" "},{"$f":"COUNTIF('ZZS-lijst'!A:A,$C1819)","v":0}]
[{"$f":"IF(AND(B1820>0,ISBLANK('beoordeling maatregel'!Q1820)=FALSE),\"Deze stof wordt aangemerkt als ZZS\",\" \")","v":" "},{"$f":"COUNTIF('ZZS-lijst'!A:A,$C1820)","v":0}]
[{"$f":"IF(AND(B1821>0,ISBLANK('beoordeling maatregel'!Q1821)=FALSE),\"Deze stof wordt aangemerkt als ZZS\",\" \")","v":" "},{"$f":"COUNTIF('ZZS-lijst'!A:A,$C1821)","v":0}]
[{"$f":"IF(AND(B1822>0,ISBLANK('beoordeling maatregel'!Q1822)=FALSE),\"Deze stof wordt aangemerkt als ZZS\",\" \")","v":" "},{"$f":"COUNTIF('ZZS-lijst'!A:A,$C1822)","v":0}]
[{"$f":"IF(AND(B1823>0,ISBLANK('beoordeling maatregel'!Q1823)=FALSE),\"Deze stof wordt aangemerkt als ZZS\",\" \")","v":" "},{"$f":"COUNTIF('ZZS-lijst'!A:A,$C1823)","v":0}]
[{"$f":"IF(AND(B1824>0,ISBLANK('beoordeling maatregel'!Q1824)=FALSE),\"Deze stof wordt aangemerkt als ZZS\",\" \")","v":" "},{"$f":"COUNTIF('ZZS-lijst'!A:A,$C1824)","v":0}]
[{"$f":"IF(AND(B1825>0,ISBLANK('beoordeling maatregel'!Q1825)=FALSE),\"Deze stof wordt aangemerkt als ZZS\",\" \")","v":" "},{"$f":"COUNTIF('ZZS-lijst'!A:A,$C1825)","v":0}]
[{"$f":"IF(AND(B1826>0,ISBLANK('beoordeling maatregel'!Q1826)=FALSE),\"Deze stof wordt aangemerkt als ZZS\",\" \")","v":" "},{"$f":"COUNTIF('ZZS-lijst'!A:A,$C1826)","v":0}]
[{"$f":"IF(AND(B1827>0,ISBLANK('beoordeling maatregel'!Q1827)=FALSE),\"Deze stof wordt aangemerkt als ZZS\",\" \")","v":" "},{"$f":"COUNTIF('ZZS-lijst'!A:A,$C1827)","v":0}]
[{"$f":"IF(AND(B1828>0,ISBLANK('beoordeling maatregel'!Q1828)=FALSE),\"Deze stof wordt aangemerkt als ZZS\",\" \")","v":" "},{"$f":"COUNTIF('ZZS-lijst'!A:A,$C1828)","v":0}]
[{"$f":"IF(AND(B1829>0,ISBLANK('beoordeling maatregel'!Q1829)=FALSE),\"Deze stof wordt aangemerkt als ZZS\",\" \")","v":" "},{"$f":"COUNTIF('ZZS-lijst'!A:A,$C1829)","v":0}]
[{"$f":"IF(AND(B1830>0,ISBLANK('beoordeling maatregel'!Q1830)=FALSE),\"Deze stof wordt aangemerkt als ZZS\",\" \")","v":" "},{"$f":"COUNTIF('ZZS-lijst'!A:A,$C1830)","v":0}]
[{"$f":"IF(AND(B1831>0,ISBLANK('beoordeling maatregel'!Q1831)=FALSE),\"Deze stof wordt aangemerkt als ZZS\",\" \")","v":" "},{"$f":"COUNTIF('ZZS-lijst'!A:A,$C1831)","v":0}]
[{"$f":"IF(AND(B1832>0,ISBLANK('beoordeling maatregel'!Q1832)=FALSE),\"Deze stof wordt aangemerkt als ZZS\",\" \")","v":" "},{"$f":"COUNTIF('ZZS-lijst'!A:A,$C1832)","v":0}]
[{"$f":"IF(AND(B1833>0,ISBLANK('beoordeling maatregel'!Q1833)=FALSE),\"Deze stof wordt aangemerkt als ZZS\",\" \")","v":" "},{"$f":"COUNTIF('ZZS-lijst'!A:A,$C1833)","v":0}]
[{"$f":"IF(AND(B1834>0,ISBLANK('beoordeling maatregel'!Q1834)=FALSE),\"Deze stof wordt aangemerkt als ZZS\",\" \")","v":" "},{"$f":"COUNTIF('ZZS-lijst'!A:A,$C1834)","v":0}]
[{"$f":"IF(AND(B1835>0,ISBLANK('beoordeling maatregel'!Q1835)=FALSE),\"Deze stof wordt aangemerkt als ZZS\",\" \")","v":" "},{"$f":"COUNTIF('ZZS-lijst'!A:A,$C1835)","v":0}]
[{"$f":"IF(AND(B1836>0,ISBLANK('beoordeling maatregel'!Q1836)=FALSE),\"Deze stof wordt aangemerkt als ZZS\",\" \")","v":" "},{"$f":"COUNTIF('ZZS-lijst'!A:A,$C1836)","v":0}]
[{"$f":"IF(AND(B1837>0,ISBLANK('beoordeling maatregel'!Q1837)=FALSE),\"Deze stof wordt aangemerkt als ZZS\",\" \")","v":" "},{"$f":"COUNTIF('ZZS-lijst'!A:A,$C1837)","v":0}]
[{"$f":"IF(AND(B1838>0,ISBLANK('beoordeling maatregel'!Q1838)=FALSE),\"Deze stof wordt aangemerkt als ZZS\",\" \")","v":" "},{"$f":"COUNTIF('ZZS-lijst'!A:A,$C1838)","v":0}]
[{"$f":"IF(AND(B1839>0,ISBLANK('beoordeling maatregel'!Q1839)=FALSE),\"Deze stof wordt aangemerkt als ZZS\",\" \")","v":" "},{"$f":"COUNTIF('ZZS-lijst'!A:A,$C1839)","v":0}]
[{"$f":"IF(AND(B1840>0,ISBLANK('beoordeling maatregel'!Q1840)=FALSE),\"Deze stof wordt aangemerkt als ZZS\",\" \")","v":" "},{"$f":"COUNTIF('ZZS-lijst'!A:A,$C1840)","v":0}]
[{"$f":"IF(AND(B1841>0,ISBLANK('beoordeling maatregel'!Q1841)=FALSE),\"Deze stof wordt aangemerkt als ZZS\",\" \")","v":" "},{"$f":"COUNTIF('ZZS-lijst'!A:A,$C1841)","v":0}]
[{"$f":"IF(AND(B1842>0,ISBLANK('beoordeling maatregel'!Q1842)=FALSE),\"Deze stof wordt aangemerkt als ZZS\",\" \")","v":" "},{"$f":"COUNTIF('ZZS-lijst'!A:A,$C1842)","v":0}]
[{"$f":"IF(AND(B1843>0,ISBLANK('beoordeling maatregel'!Q1843)=FALSE),\"Deze stof wordt aangemerkt als ZZS\",\" \")","v":" "},{"$f":"COUNTIF('ZZS-lijst'!A:A,$C1843)","v":0}]
[{"$f":"IF(AND(B1844>0,ISBLANK('beoordeling maatregel'!Q1844)=FALSE),\"Deze stof wordt aangemerkt als ZZS\",\" \")","v":" "},{"$f":"COUNTIF('ZZS-lijst'!A:A,$C1844)","v":0}]
[{"$f":"IF(AND(B1845>0,ISBLANK('beoordeling maatregel'!Q1845)=FALSE),\"Deze stof wordt aangemerkt als ZZS\",\" \")","v":" "},{"$f":"COUNTIF('ZZS-lijst'!A:A,$C1845)","v":0}]
[{"$f":"IF(AND(B1846>0,ISBLANK('beoordeling maatregel'!Q1846)=FALSE),\"Deze stof wordt aangemerkt als ZZS\",\" \")","v":" "},{"$f":"COUNTIF('ZZS-lijst'!A:A,$C1846)","v":0}]
[{"$f":"IF(AND(B1847>0,ISBLANK('beoordeling maatregel'!Q1847)=FALSE),\"Deze stof wordt aangemerkt als ZZS\",\" \")","v":" "},{"$f":"COUNTIF('ZZS-lijst'!A:A,$C1847)","v":0}]
[{"$f":"IF(AND(B1848>0,ISBLANK('beoordeling maatregel'!Q1848)=FALSE),\"Deze stof wordt aangemerkt als ZZS\",\" \")","v":" "},{"$f":"COUNTIF('ZZS-lijst'!A:A,$C1848)","v":0}]
[{"$f":"IF(AND(B1849>0,ISBLANK('beoordeling maatregel'!Q1849)=FALSE),\"Deze stof wordt aangemerkt als ZZS\",\" \")","v":" "},{"$f":"COUNTIF('ZZS-lijst'!A:A,$C1849)","v":0}]
[{"$f":"IF(AND(B1850>0,ISBLANK('beoordeling maatregel'!Q1850)=FALSE),\"Deze stof wordt aangemerkt als ZZS\",\" \")","v":" "},{"$f":"COUNTIF('ZZS-lijst'!A:A,$C1850)","v":0}]
[{"$f":"IF(AND(B1851>0,ISBLANK('beoordeling maatregel'!Q1851)=FALSE),\"Deze stof wordt aangemerkt als ZZS\",\" \")","v":" "},{"$f":"COUNTIF('ZZS-lijst'!A:A,$C1851)","v":0}]
[{"$f":"IF(AND(B1852>0,ISBLANK('beoordeling maatregel'!Q1852)=FALSE),\"Deze stof wordt aangemerkt als ZZS\",\" \")","v":" "},{"$f":"COUNTIF('ZZS-lijst'!A:A,$C1852)","v":0}]
[{"$f":"IF(AND(B1853>0,ISBLANK('beoordeling maatregel'!Q1853)=FALSE),\"Deze stof wordt aangemerkt als ZZS\",\" \")","v":" "},{"$f":"COUNTIF('ZZS-lijst'!A:A,$C1853)","v":0}]
[{"$f":"IF(AND(B1854>0,ISBLANK('beoordeling maatregel'!Q1854)=FALSE),\"Deze stof wordt aangemerkt als ZZS\",\" \")","v":" "},{"$f":"COUNTIF('ZZS-lijst'!A:A,$C1854)","v":0}]
[{"$f":"IF(AND(B1855>0,ISBLANK('beoordeling maatregel'!Q1855)=FALSE),\"Deze stof wordt aangemerkt als ZZS\",\" \")","v":" "},{"$f":"COUNTIF('ZZS-lijst'!A:A,$C1855)","v":0}]
[{"$f":"IF(AND(B1856>0,ISBLANK('beoordeling maatregel'!Q1856)=FALSE),\"Deze stof wordt aangemerkt als ZZS\",\" \")","v":" "},{"$f":"COUNTIF('ZZS-lijst'!A:A,$C1856)","v":0}]
[{"$f":"IF(AND(B1857>0,ISBLANK('beoordeling maatregel'!Q1857)=FALSE),\"Deze stof wordt aangemerkt als ZZS\",\" \")","v":" "},{"$f":"COUNTIF('ZZS-lijst'!A:A,$C1857)","v":0}]
[{"$f":"IF(AND(B1858>0,ISBLANK('beoordeling maatregel'!Q1858)=FALSE),\"Deze stof wordt aangemerkt als ZZS\",\" \")","v":" "},{"$f":"COUNTIF('ZZS-lijst'!A:A,$C1858)","v":0}]
[{"$f":"IF(AND(B1859>0,ISBLANK('beoordeling maatregel'!Q1859)=FALSE),\"Deze stof wordt aangemerkt als ZZS\",\" \")","v":" "},{"$f":"COUNTIF('ZZS-lijst'!A:A,$C1859)","v":0}]
[{"$f":"IF(AND(B1860>0,ISBLANK('beoordeling maatregel'!Q1860)=FALSE),\"Deze stof wordt aangemerkt als ZZS\",\" \")","v":" "},{"$f":"COUNTIF('ZZS-lijst'!A:A,$C1860)","v":0}]
[{"$f":"IF(AND(B1861>0,ISBLANK('beoordeling maatregel'!Q1861)=FALSE),\"Deze stof wordt aangemerkt als ZZS\",\" \")","v":" "},{"$f":"COUNTIF('ZZS-lijst'!A:A,$C1861)","v":0}]
[{"$f":"IF(AND(B1862>0,ISBLANK('beoordeling maatregel'!Q1862)=FALSE),\"Deze stof wordt aangemerkt als ZZS\",\" \")","v":" "},{"$f":"COUNTIF('ZZS-lijst'!A:A,$C1862)","v":0}]
[{"$f":"IF(AND(B1863>0,ISBLANK('beoordeling maatregel'!Q1863)=FALSE),\"Deze stof wordt aangemerkt als ZZS\",\" \")","v":" "},{"$f":"COUNTIF('ZZS-lijst'!A:A,$C1863)","v":0}]
[{"$f":"IF(AND(B1864>0,ISBLANK('beoordeling maatregel'!Q1864)=FALSE),\"Deze stof wordt aangemerkt als ZZS\",\" \")","v":" "},{"$f":"COUNTIF('ZZS-lijst'!A:A,$C1864)","v":0}]
[{"$f":"IF(AND(B1865>0,ISBLANK('beoordeling maatregel'!Q1865)=FALSE),\"Deze stof wordt aangemerkt als ZZS\",\" \")","v":" "},{"$f":"COUNTIF('ZZS-lijst'!A:A,$C1865)","v":0}]
[{"$f":"IF(AND(B1866>0,ISBLANK('beoordeling maatregel'!Q1866)=FALSE),\"Deze stof wordt aangemerkt als ZZS\",\" \")","v":" "},{"$f":"COUNTIF('ZZS-lijst'!A:A,$C1866)","v":0}]
[{"$f":"IF(AND(B1867>0,ISBLANK('beoordeling maatregel'!Q1867)=FALSE),\"Deze stof wordt aangemerkt als ZZS\",\" \")","v":" "},{"$f":"COUNTIF('ZZS-lijst'!A:A,$C1867)","v":0}]
[{"$f":"IF(AND(B1868>0,ISBLANK('beoordeling maatregel'!Q1868)=FALSE),\"Deze stof wordt aangemerkt als ZZS\",\" \")","v":" "},{"$f":"COUNTIF('ZZS-lijst'!A:A,$C1868)","v":0}]
[{"$f":"IF(AND(B1869>0,ISBLANK('beoordeling maatregel'!Q1869)=FALSE),\"Deze stof wordt aangemerkt als ZZS\",\" \")","v":" "},{"$f":"COUNTIF('ZZS-lijst'!A:A,$C1869)","v":0}]
[{"$f":"IF(AND(B1870>0,ISBLANK('beoordeling maatregel'!Q1870)=FALSE),\"Deze stof wordt aangemerkt als ZZS\",\" \")","v":" "},{"$f":"COUNTIF('ZZS-lijst'!A:A,$C1870)","v":0}]
[{"$f":"IF(AND(B1871>0,ISBLANK('beoordeling maatregel'!Q1871)=FALSE),\"Deze stof wordt aangemerkt als ZZS\",\" \")","v":" "},{"$f":"COUNTIF('ZZS-lijst'!A:A,$C1871)","v":0}]
[{"$f":"IF(AND(B1872>0,ISBLANK('beoordeling maatregel'!Q1872)=FALSE),\"Deze stof wordt aangemerkt als ZZS\",\" \")","v":" "},{"$f":"COUNTIF('ZZS-lijst'!A:A,$C1872)","v":0}]
[{"$f":"IF(AND(B1873>0,ISBLANK('beoordeling maatregel'!Q1873)=FALSE),\"Deze stof wordt aangemerkt als ZZS\",\" \")","v":" "},{"$f":"COUNTIF('ZZS-lijst'!A:A,$C1873)","v":0}]
[{"$f":"IF(AND(B1874>0,ISBLANK('beoordeling maatregel'!Q1874)=FALSE),\"Deze stof wordt aangemerkt als ZZS\",\" \")","v":" "},{"$f":"COUNTIF('ZZS-lijst'!A:A,$C1874)","v":0}]
[{"$f":"IF(AND(B1875>0,ISBLANK('beoordeling maatregel'!Q1875)=FALSE),\"Deze stof wordt aangemerkt als ZZS\",\" \")","v":" "},{"$f":"COUNTIF('ZZS-lijst'!A:A,$C1875)","v":0}]
[{"$f":"IF(AND(B1876>0,ISBLANK('beoordeling maatregel'!Q1876)=FALSE),\"Deze stof wordt aangemerkt als ZZS\",\" \")","v":" "},{"$f":"COUNTIF('ZZS-lijst'!A:A,$C1876)","v":0}]
[{"$f":"IF(AND(B1877>0,ISBLANK('beoordeling maatregel'!Q1877)=FALSE),\"Deze stof wordt aangemerkt als ZZS\",\" \")","v":" "},{"$f":"COUNTIF('ZZS-lijst'!A:A,$C1877)","v":0}]
[{"$f":"IF(AND(B1878>0,ISBLANK('beoordeling maatregel'!Q1878)=FALSE),\"Deze stof wordt aangemerkt als ZZS\",\" \")","v":" "},{"$f":"COUNTIF('ZZS-lijst'!A:A,$C1878)","v":0}]
[{"$f":"IF(AND(B1879>0,ISBLANK('beoordeling maatregel'!Q1879)=FALSE),\"Deze stof wordt aangemerkt als ZZS\",\" \")","v":" "},{"$f":"COUNTIF('ZZS-lijst'!A:A,$C1879)","v":0}]
[{"$f":"IF(AND(B1880>0,ISBLANK('beoordeling maatregel'!Q1880)=FALSE),\"Deze stof wordt aangemerkt als ZZS\",\" \")","v":" "},{"$f":"COUNTIF('ZZS-lijst'!A:A,$C1880)","v":0}]
[{"$f":"IF(AND(B1881>0,ISBLANK('beoordeling maatregel'!Q1881)=FALSE),\"Deze stof wordt aangemerkt als ZZS\",\" \")","v":" "},{"$f":"COUNTIF('ZZS-lijst'!A:A,$C1881)","v":0}]
[{"$f":"IF(AND(B1882>0,ISBLANK('beoordeling maatregel'!Q1882)=FALSE),\"Deze stof wordt aangemerkt als ZZS\",\" \")","v":" "},{"$f":"COUNTIF('ZZS-lijst'!A:A,$C1882)","v":0}]
[{"$f":"IF(AND(B1883>0,ISBLANK('beoordeling maatregel'!Q1883)=FALSE),\"Deze stof wordt aangemerkt als ZZS\",\" \")","v":" "},{"$f":"COUNTIF('ZZS-lijst'!A:A,$C1883)","v":0}]
[{"$f":"IF(AND(B1884>0,ISBLANK('beoordeling maatregel'!Q1884)=FALSE),\"Deze stof wordt aangemerkt als ZZS\",\" \")","v":" "},{"$f":"COUNTIF('ZZS-lijst'!A:A,$C1884)","v":0}]
[{"$f":"IF(AND(B1885>0,ISBLANK('beoordeling maatregel'!Q1885)=FALSE),\"Deze stof wordt aangemerkt als ZZS\",\" \")","v":" "},{"$f":"COUNTIF('ZZS-lijst'!A:A,$C1885)","v":0}]
[{"$f":"IF(AND(B1886>0,ISBLANK('beoordeling maatregel'!Q1886)=FALSE),\"Deze stof wordt aangemerkt als ZZS\",\" \")","v":" "},{"$f":"COUNTIF('ZZS-lijst'!A:A,$C1886)","v":0}]
[{"$f":"IF(AND(B1887>0,ISBLANK('beoordeling maatregel'!Q1887)=FALSE),\"Deze stof wordt aangemerkt als ZZS\",\" \")","v":" "},{"$f":"COUNTIF('ZZS-lijst'!A:A,$C1887)","v":0}]
[{"$f":"IF(AND(B1888>0,ISBLANK('beoordeling maatregel'!Q1888)=FALSE),\"Deze stof wordt aangemerkt als ZZS\",\" \")","v":" "},{"$f":"COUNTIF('ZZS-lijst'!A:A,$C1888)","v":0}]
[{"$f":"IF(AND(B1889>0,ISBLANK('beoordeling maatregel'!Q1889)=FALSE),\"Deze stof wordt aangemerkt als ZZS\",\" \")","v":" "},{"$f":"COUNTIF('ZZS-lijst'!A:A,$C1889)","v":0}]
[{"$f":"IF(AND(B1890>0,ISBLANK('beoordeling maatregel'!Q1890)=FALSE),\"Deze stof wordt aangemerkt als ZZS\",\" \")","v":" "},{"$f":"COUNTIF('ZZS-lijst'!A:A,$C1890)","v":0}]
[{"$f":"IF(AND(B1891>0,ISBLANK('beoordeling maatregel'!Q1891)=FALSE),\"Deze stof wordt aangemerkt als ZZS\",\" \")","v":" "},{"$f":"COUNTIF('ZZS-lijst'!A:A,$C1891)","v":0}]
[{"$f":"IF(AND(B1892>0,ISBLANK('beoordeling maatregel'!Q1892)=FALSE),\"Deze stof wordt aangemerkt als ZZS\",\" \")","v":" "},{"$f":"COUNTIF('ZZS-lijst'!A:A,$C1892)","v":0}]
[{"$f":"IF(AND(B1893>0,ISBLANK('beoordeling maatregel'!Q1893)=FALSE),\"Deze stof wordt aangemerkt als ZZS\",\" \")","v":" "},{"$f":"COUNTIF('ZZS-lijst'!A:A,$C1893)","v":0}]
[{"$f":"IF(AND(B1894>0,ISBLANK('beoordeling maatregel'!Q1894)=FALSE),\"Deze stof wordt aangemerkt als ZZS\",\" \")","v":" "},{"$f":"COUNTIF('ZZS-lijst'!A:A,$C1894)","v":0}]
[{"$f":"IF(AND(B1895>0,ISBLANK('beoordeling maatregel'!Q1895)=FALSE),\"Deze stof wordt aangemerkt als ZZS\",\" \")","v":" "},{"$f":"COUNTIF('ZZS-lijst'!A:A,$C1895)","v":0}]
[{"$f":"IF(AND(B1896>0,ISBLANK('beoordeling maatregel'!Q1896)=FALSE),\"Deze stof wordt aangemerkt als ZZS\",\" \")","v":" "},{"$f":"COUNTIF('ZZS-lijst'!A:A,$C1896)","v":0}]
[{"$f":"IF(AND(B1897>0,ISBLANK('beoordeling maatregel'!Q1897)=FALSE),\"Deze stof wordt aangemerkt als ZZS\",\" \")","v":" "},{"$f":"COUNTIF('ZZS-lijst'!A:A,$C1897)","v":0}]
[{"$f":"IF(AND(B1898>0,ISBLANK('beoordeling maatregel'!Q1898)=FALSE),\"Deze stof wordt aangemerkt als ZZS\",\" \")","v":" "},{"$f":"COUNTIF('ZZS-lijst'!A:A,$C1898)","v":0}]
[{"$f":"IF(AND(B1899>0,ISBLANK('beoordeling maatregel'!Q1899)=FALSE),\"Deze stof wordt aangemerkt als ZZS\",\" \")","v":" "},{"$f":"COUNTIF('ZZS-lijst'!A:A,$C1899)","v":0}]
[{"$f":"IF(AND(B1900>0,ISBLANK('beoordeling maatregel'!Q1900)=FALSE),\"Deze stof wordt aangemerkt als ZZS\",\" \")","v":" "},{"$f":"COUNTIF('ZZS-lijst'!A:A,$C1900)","v":0}]
[{"$f":"IF(AND(B1901>0,ISBLANK('beoordeling maatregel'!Q1901)=FALSE),\"Deze stof wordt aangemerkt als ZZS\",\" \")","v":" "},{"$f":"COUNTIF('ZZS-lijst'!A:A,$C1901)","v":0}]
[{"$f":"IF(AND(B1902>0,ISBLANK('beoordeling maatregel'!Q1902)=FALSE),\"Deze stof wordt aangemerkt als ZZS\",\" \")","v":" "},{"$f":"COUNTIF('ZZS-lijst'!A:A,$C1902)","v":0}]
[{"$f":"IF(AND(B1903>0,ISBLANK('beoordeling maatregel'!Q1903)=FALSE),\"Deze stof wordt aangemerkt als ZZS\",\" \")","v":" "},{"$f":"COUNTIF('ZZS-lijst'!A:A,$C1903)","v":0}]
[{"$f":"IF(AND(B1904>0,ISBLANK('beoordeling maatregel'!Q1904)=FALSE),\"Deze stof wordt aangemerkt als ZZS\",\" \")","v":" "},{"$f":"COUNTIF('ZZS-lijst'!A:A,$C1904)","v":0}]
[{"$f":"IF(AND(B1905>0,ISBLANK('beoordeling maatregel'!Q1905)=FALSE),\"Deze stof wordt aangemerkt als ZZS\",\" \")","v":" "},{"$f":"COUNTIF('ZZS-lijst'!A:A,$C1905)","v":0}]
[{"$f":"IF(AND(B1906>0,ISBLANK('beoordeling maatregel'!Q1906)=FALSE),\"Deze stof wordt aangemerkt als ZZS\",\" \")","v":" "},{"$f":"COUNTIF('ZZS-lijst'!A:A,$C1906)","v":0}]
[{"$f":"IF(AND(B1907>0,ISBLANK('beoordeling maatregel'!Q1907)=FALSE),\"Deze stof wordt aangemerkt als ZZS\",\" \")","v":" "},{"$f":"COUNTIF('ZZS-lijst'!A:A,$C1907)","v":0}]
[{"$f":"IF(AND(B1908>0,ISBLANK('beoordeling maatregel'!Q1908)=FALSE),\"Deze stof wordt aangemerkt als ZZS\",\" \")","v":" "},{"$f":"COUNTIF('ZZS-lijst'!A:A,$C1908)","v":0}]
[{"$f":"IF(AND(B1909>0,ISBLANK('beoordeling maatregel'!Q1909)=FALSE),\"Deze stof wordt aangemerkt als ZZS\",\" \")","v":" "},{"$f":"COUNTIF('ZZS-lijst'!A:A,$C1909)","v":0}]
[{"$f":"IF(AND(B1910>0,ISBLANK('beoordeling maatregel'!Q1910)=FALSE),\"Deze stof wordt aangemerkt als ZZS\",\" \")","v":" "},{"$f":"COUNTIF('ZZS-lijst'!A:A,$C1910)","v":0}]
[{"$f":"IF(AND(B1911>0,ISBLANK('beoordeling maatregel'!Q1911)=FALSE),\"Deze stof wordt aangemerkt als ZZS\",\" \")","v":" "},{"$f":"COUNTIF('ZZS-lijst'!A:A,$C1911)","v":0}]
[{"$f":"IF(AND(B1912>0,ISBLANK('beoordeling maatregel'!Q1912)=FALSE),\"Deze stof wordt aangemerkt als ZZS\",\" \")","v":" "},{"$f":"COUNTIF('ZZS-lijst'!A:A,$C1912)","v":0}]
[{"$f":"IF(AND(B1913>0,ISBLANK('beoordeling maatregel'!Q1913)=FALSE),\"Deze stof wordt aangemerkt als ZZS\",\" \")","v":" "},{"$f":"COUNTIF('ZZS-lijst'!A:A,$C1913)","v":0}]
[{"$f":"IF(AND(B1914>0,ISBLANK('beoordeling maatregel'!Q1914)=FALSE),\"Deze stof wordt aangemerkt als ZZS\",\" \")","v":" "},{"$f":"COUNTIF('ZZS-lijst'!A:A,$C1914)","v":0}]
[{"$f":"IF(AND(B1915>0,ISBLANK('beoordeling maatregel'!Q1915)=FALSE),\"Deze stof wordt aangemerkt als ZZS\",\" \")","v":" "},{"$f":"COUNTIF('ZZS-lijst'!A:A,$C1915)","v":0}]
[{"$f":"IF(AND(B1916>0,ISBLANK('beoordeling maatregel'!Q1916)=FALSE),\"Deze stof wordt aangemerkt als ZZS\",\" \")","v":" "},{"$f":"COUNTIF('ZZS-lijst'!A:A,$C1916)","v":0}]
[{"$f":"IF(AND(B1917>0,ISBLANK('beoordeling maatregel'!Q1917)=FALSE),\"Deze stof wordt aangemerkt als ZZS\",\" \")","v":" "},{"$f":"COUNTIF('ZZS-lijst'!A:A,$C1917)","v":0}]
[{"$f":"IF(AND(B1918>0,ISBLANK('beoordeling maatregel'!Q1918)=FALSE),\"Deze stof wordt aangemerkt als ZZS\",\" \")","v":" "},{"$f":"COUNTIF('ZZS-lijst'!A:A,$C1918)","v":0}]
[{"$f":"IF(AND(B1919>0,ISBLANK('beoordeling maatregel'!Q1919)=FALSE),\"Deze stof wordt aangemerkt als ZZS\",\" \")","v":" "},{"$f":"COUNTIF('ZZS-lijst'!A:A,$C1919)","v":0}]
[{"$f":"IF(AND(B1920>0,ISBLANK('beoordeling maatregel'!Q1920)=FALSE),\"Deze stof wordt aangemerkt als ZZS\",\" \")","v":" "},{"$f":"COUNTIF('ZZS-lijst'!A:A,$C1920)","v":0}]
[{"$f":"IF(AND(B1921>0,ISBLANK('beoordeling maatregel'!Q1921)=FALSE),\"Deze stof wordt aangemerkt als ZZS\",\" \")","v":" "},{"$f":"COUNTIF('ZZS-lijst'!A:A,$C1921)","v":0}]
[{"$f":"IF(AND(B1922>0,ISBLANK('beoordeling maatregel'!Q1922)=FALSE),\"Deze stof wordt aangemerkt als ZZS\",\" \")","v":" "},{"$f":"COUNTIF('ZZS-lijst'!A:A,$C1922)","v":0}]
[{"$f":"IF(AND(B1923>0,ISBLANK('beoordeling maatregel'!Q1923)=FALSE),\"Deze stof wordt aangemerkt als ZZS\",\" \")","v":" "},{"$f":"COUNTIF('ZZS-lijst'!A:A,$C1923)","v":0}]
[{"$f":"IF(AND(B1924>0,ISBLANK('beoordeling maatregel'!Q1924)=FALSE),\"Deze stof wordt aangemerkt als ZZS\",\" \")","v":" "},{"$f":"COUNTIF('ZZS-lijst'!A:A,$C1924)","v":0}]
[{"$f":"IF(AND(B1925>0,ISBLANK('beoordeling maatregel'!Q1925)=FALSE),\"Deze stof wordt aangemerkt als ZZS\",\" \")","v":" "},{"$f":"COUNTIF('ZZS-lijst'!A:A,$C1925)","v":0}]
[{"$f":"IF(AND(B1926>0,ISBLANK('beoordeling maatregel'!Q1926)=FALSE),\"Deze stof wordt aangemerkt als ZZS\",\" \")","v":" "},{"$f":"COUNTIF('ZZS-lijst'!A:A,$C1926)","v":0}]
[{"$f":"IF(AND(B1927>0,ISBLANK('beoordeling maatregel'!Q1927)=FALSE),\"Deze stof wordt aangemerkt als ZZS\",\" \")","v":" "},{"$f":"COUNTIF('ZZS-lijst'!A:A,$C1927)","v":0}]
[{"$f":"IF(AND(B1928>0,ISBLANK('beoordeling maatregel'!Q1928)=FALSE),\"Deze stof wordt aangemerkt als ZZS\",\" \")","v":" "},{"$f":"COUNTIF('ZZS-lijst'!A:A,$C1928)","v":0}]
[{"$f":"IF(AND(B1929>0,ISBLANK('beoordeling maatregel'!Q1929)=FALSE),\"Deze stof wordt aangemerkt als ZZS\",\" \")","v":" "},{"$f":"COUNTIF('ZZS-lijst'!A:A,$C1929)","v":0}]
[{"$f":"IF(AND(B1930>0,ISBLANK('beoordeling maatregel'!Q1930)=FALSE),\"Deze stof wordt aangemerkt als ZZS\",\" \")","v":" "},{"$f":"COUNTIF('ZZS-lijst'!A:A,$C1930)","v":0}]
[{"$f":"IF(AND(B1931>0,ISBLANK('beoordeling maatregel'!Q1931)=FALSE),\"Deze stof wordt aangemerkt als ZZS\",\" \")","v":" "},{"$f":"COUNTIF('ZZS-lijst'!A:A,$C1931)","v":0}]
[{"$f":"IF(AND(B1932>0,ISBLANK('beoordeling maatregel'!Q1932)=FALSE),\"Deze stof wordt aangemerkt als ZZS\",\" \")","v":" "},{"$f":"COUNTIF('ZZS-lijst'!A:A,$C1932)","v":0}]
[{"$f":"IF(AND(B1933>0,ISBLANK('beoordeling maatregel'!Q1933)=FALSE),\"Deze stof wordt aangemerkt als ZZS\",\" \")","v":" "},{"$f":"COUNTIF('ZZS-lijst'!A:A,$C1933)","v":0}]
[{"$f":"IF(AND(B1934>0,ISBLANK('beoordeling maatregel'!Q1934)=FALSE),\"Deze stof wordt aangemerkt als ZZS\",\" \")","v":" "},{"$f":"COUNTIF('ZZS-lijst'!A:A,$C1934)","v":0}]
[{"$f":"IF(AND(B1935>0,ISBLANK('beoordeling maatregel'!Q1935)=FALSE),\"Deze stof wordt aangemerkt als ZZS\",\" \")","v":" "},{"$f":"COUNTIF('ZZS-lijst'!A:A,$C1935)","v":0}]
[{"$f":"IF(AND(B1936>0,ISBLANK('beoordeling maatregel'!Q1936)=FALSE),\"Deze stof wordt aangemerkt als ZZS\",\" \")","v":" "},{"$f":"COUNTIF('ZZS-lijst'!A:A,$C1936)","v":0}]
[{"$f":"IF(AND(B1937>0,ISBLANK('beoordeling maatregel'!Q1937)=FALSE),\"Deze stof wordt aangemerkt als ZZS\",\" \")","v":" "},{"$f":"COUNTIF('ZZS-lijst'!A:A,$C1937)","v":0}]
[{"$f":"IF(AND(B1938>0,ISBLANK('beoordeling maatregel'!Q1938)=FALSE),\"Deze stof wordt aangemerkt als ZZS\",\" \")","v":" "},{"$f":"COUNTIF('ZZS-lijst'!A:A,$C1938)","v":0}]
[{"$f":"IF(AND(B1939>0,ISBLANK('beoordeling maatregel'!Q1939)=FALSE),\"Deze stof wordt aangemerkt als ZZS\",\" \")","v":" "},{"$f":"COUNTIF('ZZS-lijst'!A:A,$C1939)","v":0}]
[{"$f":"IF(AND(B1940>0,ISBLANK('beoordeling maatregel'!Q1940)=FALSE),\"Deze stof wordt aangemerkt als ZZS\",\" \")","v":" "},{"$f":"COUNTIF('ZZS-lijst'!A:A,$C1940)","v":0}]
[{"$f":"IF(AND(B1941>0,ISBLANK('beoordeling maatregel'!Q1941)=FALSE),\"Deze stof wordt aangemerkt als ZZS\",\" \")","v":" "},{"$f":"COUNTIF('ZZS-lijst'!A:A,$C1941)","v":0}]
[{"$f":"IF(AND(B1942>0,ISBLANK('beoordeling maatregel'!Q1942)=FALSE),\"Deze stof wordt aangemerkt als ZZS\",\" \")","v":" "},{"$f":"COUNTIF('ZZS-lijst'!A:A,$C1942)","v":0}]
[{"$f":"IF(AND(B1943>0,ISBLANK('beoordeling maatregel'!Q1943)=FALSE),\"Deze stof wordt aangemerkt als ZZS\",\" \")","v":" "},{"$f":"COUNTIF('ZZS-lijst'!A:A,$C1943)","v":0}]
[{"$f":"IF(AND(B1944>0,ISBLANK('beoordeling maatregel'!Q1944)=FALSE),\"Deze stof wordt aangemerkt als ZZS\",\" \")","v":" "},{"$f":"COUNTIF('ZZS-lijst'!A:A,$C1944)","v":0}]
[{"$f":"IF(AND(B1945>0,ISBLANK('beoordeling maatregel'!Q1945)=FALSE),\"Deze stof wordt aangemerkt als ZZS\",\" \")","v":" "},{"$f":"COUNTIF('ZZS-lijst'!A:A,$C1945)","v":0}]
[{"$f":"IF(AND(B1946>0,ISBLANK('beoordeling maatregel'!Q1946)=FALSE),\"Deze stof wordt aangemerkt als ZZS\",\" \")","v":" "},{"$f":"COUNTIF('ZZS-lijst'!A:A,$C1946)","v":0}]
[{"$f":"IF(AND(B1947>0,ISBLANK('beoordeling maatregel'!Q1947)=FALSE),\"Deze stof wordt aangemerkt als ZZS\",\" \")","v":" "},{"$f":"COUNTIF('ZZS-lijst'!A:A,$C1947)","v":0}]
[{"$f":"IF(AND(B1948>0,ISBLANK('beoordeling maatregel'!Q1948)=FALSE),\"Deze stof wordt aangemerkt als ZZS\",\" \")","v":" "},{"$f":"COUNTIF('ZZS-lijst'!A:A,$C1948)","v":0}]
[{"$f":"IF(AND(B1949>0,ISBLANK('beoordeling maatregel'!Q1949)=FALSE),\"Deze stof wordt aangemerkt als ZZS\",\" \")","v":" "},{"$f":"COUNTIF('ZZS-lijst'!A:A,$C1949)","v":0}]
[{"$f":"IF(AND(B1950>0,ISBLANK('beoordeling maatregel'!Q1950)=FALSE),\"Deze stof wordt aangemerkt als ZZS\",\" \")","v":" "},{"$f":"COUNTIF('ZZS-lijst'!A:A,$C1950)","v":0}]
[{"$f":"IF(AND(B1951>0,ISBLANK('beoordeling maatregel'!Q1951)=FALSE),\"Deze stof wordt aangemerkt als ZZS\",\" \")","v":" "},{"$f":"COUNTIF('ZZS-lijst'!A:A,$C1951)","v":0}]
[{"$f":"IF(AND(B1952>0,ISBLANK('beoordeling maatregel'!Q1952)=FALSE),\"Deze stof wordt aangemerkt als ZZS\",\" \")","v":" "},{"$f":"COUNTIF('ZZS-lijst'!A:A,$C1952)","v":0}]
[{"$f":"IF(AND(B1953>0,ISBLANK('beoordeling maatregel'!Q1953)=FALSE),\"Deze stof wordt aangemerkt als ZZS\",\" \")","v":" "},{"$f":"COUNTIF('ZZS-lijst'!A:A,$C1953)","v":0}]
[{"$f":"IF(AND(B1954>0,ISBLANK('beoordeling maatregel'!Q1954)=FALSE),\"Deze stof wordt aangemerkt als ZZS\",\" \")","v":" "},{"$f":"COUNTIF('ZZS-lijst'!A:A,$C1954)","v":0}]
[{"$f":"IF(AND(B1955>0,ISBLANK('beoordeling maatregel'!Q1955)=FALSE),\"Deze stof wordt aangemerkt als ZZS\",\" \")","v":" "},{"$f":"COUNTIF('ZZS-lijst'!A:A,$C1955)","v":0}]
[{"$f":"IF(AND(B1956>0,ISBLANK('beoordeling maatregel'!Q1956)=FALSE),\"Deze stof wordt aangemerkt als ZZS\",\" \")","v":" "},{"$f":"COUNTIF('ZZS-lijst'!A:A,$C1956)","v":0}]
[{"$f":"IF(AND(B1957>0,ISBLANK('beoordeling maatregel'!Q1957)=FALSE),\"Deze stof wordt aangemerkt als ZZS\",\" \")","v":" "},{"$f":"COUNTIF('ZZS-lijst'!A:A,$C1957)","v":0}]
[{"$f":"IF(AND(B1958>0,ISBLANK('beoordeling maatregel'!Q1958)=FALSE),\"Deze stof wordt aangemerkt als ZZS\",\" \")","v":" "},{"$f":"COUNTIF('ZZS-lijst'!A:A,$C1958)","v":0}]
[{"$f":"IF(AND(B1959>0,ISBLANK('beoordeling maatregel'!Q1959)=FALSE),\"Deze stof wordt aangemerkt als ZZS\",\" \")","v":" "},{"$f":"COUNTIF('ZZS-lijst'!A:A,$C1959)","v":0}]
[{"$f":"IF(AND(B1960>0,ISBLANK('beoordeling maatregel'!Q1960)=FALSE),\"Deze stof wordt aangemerkt als ZZS\",\" \")","v":" "},{"$f":"COUNTIF('ZZS-lijst'!A:A,$C1960)","v":0}]
[{"$f":"IF(AND(B1961>0,ISBLANK('beoordeling maatregel'!Q1961)=FALSE),\"Deze stof wordt aangemerkt als ZZS\",\" \")","v":" "},{"$f":"COUNTIF('ZZS-lijst'!A:A,$C1961)","v":0}]
[{"$f":"IF(AND(B1962>0,ISBLANK('beoordeling maatregel'!Q1962)=FALSE),\"Deze stof wordt aangemerkt als ZZS\",\" \")","v":" "},{"$f":"COUNTIF('ZZS-lijst'!A:A,$C1962)","v":0}]
[{"$f":"IF(AND(B1963>0,ISBLANK('beoordeling maatregel'!Q1963)=FALSE),\"Deze stof wordt aangemerkt als ZZS\",\" \")","v":" "},{"$f":"COUNTIF('ZZS-lijst'!A:A,$C1963)","v":0}]
[{"$f":"IF(AND(B1964>0,ISBLANK('beoordeling maatregel'!Q1964)=FALSE),\"Deze stof wordt aangemerkt als ZZS\",\" \")","v":" "},{"$f":"COUNTIF('ZZS-lijst'!A:A,$C1964)","v":0}]
[{"$f":"IF(AND(B1965>0,ISBLANK('beoordeling maatregel'!Q1965)=FALSE),\"Deze stof wordt aangemerkt als ZZS\",\" \")","v":" "},{"$f":"COUNTIF('ZZS-lijst'!A:A,$C1965)","v":0}]
[{"$f":"IF(AND(B1966>0,ISBLANK('beoordeling maatregel'!Q1966)=FALSE),\"Deze stof wordt aangemerkt als ZZS\",\" \")","v":" "},{"$f":"COUNTIF('ZZS-lijst'!A:A,$C1966)","v":0}]
[{"$f":"IF(AND(B1967>0,ISBLANK('beoordeling maatregel'!Q1967)=FALSE),\"Deze stof wordt aangemerkt als ZZS\",\" \")","v":" "},{"$f":"COUNTIF('ZZS-lijst'!A:A,$C1967)","v":0}]
[{"$f":"IF(AND(B1968>0,ISBLANK('beoordeling maatregel'!Q1968)=FALSE),\"Deze stof wordt aangemerkt als ZZS\",\" \")","v":" "},{"$f":"COUNTIF('ZZS-lijst'!A:A,$C1968)","v":0}]
[{"$f":"IF(AND(B1969>0,ISBLANK('beoordeling maatregel'!Q1969)=FALSE),\"Deze stof wordt aangemerkt als ZZS\",\" \")","v":" "},{"$f":"COUNTIF('ZZS-lijst'!A:A,$C1969)","v":0}]
[{"$f":"IF(AND(B1970>0,ISBLANK('beoordeling maatregel'!Q1970)=FALSE),\"Deze stof wordt aangemerkt als ZZS\",\" \")","v":" "},{"$f":"COUNTIF('ZZS-lijst'!A:A,$C1970)","v":0}]
[{"$f":"IF(AND(B1971>0,ISBLANK('beoordeling maatregel'!Q1971)=FALSE),\"Deze stof wordt aangemerkt als ZZS\",\" \")","v":" "},{"$f":"COUNTIF('ZZS-lijst'!A:A,$C1971)","v":0}]
[{"$f":"IF(AND(B1972>0,ISBLANK('beoordeling maatregel'!Q1972)=FALSE),\"Deze stof wordt aangemerkt als ZZS\",\" \")","v":" "},{"$f":"COUNTIF('ZZS-lijst'!A:A,$C1972)","v":0}]
[{"$f":"IF(AND(B1973>0,ISBLANK('beoordeling maatregel'!Q1973)=FALSE),\"Deze stof wordt aangemerkt als ZZS\",\" \")","v":" "},{"$f":"COUNTIF('ZZS-lijst'!A:A,$C1973)","v":0}]
[{"$f":"IF(AND(B1974>0,ISBLANK('beoordeling maatregel'!Q1974)=FALSE),\"Deze stof wordt aangemerkt als ZZS\",\" \")","v":" "},{"$f":"COUNTIF('ZZS-lijst'!A:A,$C1974)","v":0}]
[{"$f":"IF(AND(B1975>0,ISBLANK('beoordeling maatregel'!Q1975)=FALSE),\"Deze stof wordt aangemerkt als ZZS\",\" \")","v":" "},{"$f":"COUNTIF('ZZS-lijst'!A:A,$C1975)","v":0}]
[{"$f":"IF(AND(B1976>0,ISBLANK('beoordeling maatregel'!Q1976)=FALSE),\"Deze stof wordt aangemerkt als ZZS\",\" \")","v":" "},{"$f":"COUNTIF('ZZS-lijst'!A:A,$C1976)","v":0}]
[{"$f":"IF(AND(B1977>0,ISBLANK('beoordeling maatregel'!Q1977)=FALSE),\"Deze stof wordt aangemerkt als ZZS\",\" \")","v":" "},{"$f":"COUNTIF('ZZS-lijst'!A:A,$C1977)","v":0}]
[{"$f":"IF(AND(B1978>0,ISBLANK('beoordeling maatregel'!Q1978)=FALSE),\"Deze stof wordt aangemerkt als ZZS\",\" \")","v":" "},{"$f":"COUNTIF('ZZS-lijst'!A:A,$C1978)","v":0}]
[{"$f":"IF(AND(B1979>0,ISBLANK('beoordeling maatregel'!Q1979)=FALSE),\"Deze stof wordt aangemerkt als ZZS\",\" \")","v":" "},{"$f":"COUNTIF('ZZS-lijst'!A:A,$C1979)","v":0}]
[{"$f":"IF(AND(B1980>0,ISBLANK('beoordeling maatregel'!Q1980)=FALSE),\"Deze stof wordt aangemerkt als ZZS\",\" \")","v":" "},{"$f":"COUNTIF('ZZS-lijst'!A:A,$C1980)","v":0}]
[{"$f":"IF(AND(B1981>0,ISBLANK('beoordeling maatregel'!Q1981)=FALSE),\"Deze stof wordt aangemerkt als ZZS\",\" \")","v":" "},{"$f":"COUNTIF('ZZS-lijst'!A:A,$C1981)","v":0}]
[{"$f":"IF(AND(B1982>0,ISBLANK('beoordeling maatregel'!Q1982)=FALSE),\"Deze stof wordt aangemerkt als ZZS\",\" \")","v":" "},{"$f":"COUNTIF('ZZS-lijst'!A:A,$C1982)","v":0}]
[{"$f":"IF(AND(B1983>0,ISBLANK('beoordeling maatregel'!Q1983)=FALSE),\"Deze stof wordt aangemerkt als ZZS\",\" \")","v":" "},{"$f":"COUNTIF('ZZS-lijst'!A:A,$C1983)","v":0}]
[{"$f":"IF(AND(B1984>0,ISBLANK('beoordeling maatregel'!Q1984)=FALSE),\"Deze stof wordt aangemerkt als ZZS\",\" \")","v":" "},{"$f":"COUNTIF('ZZS-lijst'!A:A,$C1984)","v":0}]
[{"$f":"IF(AND(B1985>0,ISBLANK('beoordeling maatregel'!Q1985)=FALSE),\"Deze stof wordt aangemerkt als ZZS\",\" \")","v":" "},{"$f":"COUNTIF('ZZS-lijst'!A:A,$C1985)","v":0}]
[{"$f":"IF(AND(B1986>0,ISBLANK('beoordeling maatregel'!Q1986)=FALSE),\"Deze stof wordt aangemerkt als ZZS\",\" \")","v":" "},{"$f":"COUNTIF('ZZS-lijst'!A:A,$C1986)","v":0}]
[{"$f":"IF(AND(B1987>0,ISBLANK('beoordeling maatregel'!Q1987)=FALSE),\"Deze stof wordt aangemerkt als ZZS\",\" \")","v":" "},{"$f":"COUNTIF('ZZS-lijst'!A:A,$C1987)","v":0}]
[{"$f":"IF(AND(B1988>0,ISBLANK('beoordeling maatregel'!Q1988)=FALSE),\"Deze stof wordt aangemerkt als ZZS\",\" \")","v":" "},{"$f":"COUNTIF('ZZS-lijst'!A:A,$C1988)","v":0}]
[{"$f":"IF(AND(B1989>0,ISBLANK('beoordeling maatregel'!Q1989)=FALSE),\"Deze stof wordt aangemerkt als ZZS\",\" \")","v":" "},{"$f":"COUNTIF('ZZS-lijst'!A:A,$C1989)","v":0}]
[{"$f":"IF(AND(B1990>0,ISBLANK('beoordeling maatregel'!Q1990)=FALSE),\"Deze stof wordt aangemerkt als ZZS\",\" \")","v":" "},{"$f":"COUNTIF('ZZS-lijst'!A:A,$C1990)","v":0}]
[{"$f":"IF(AND(B1991>0,ISBLANK('beoordeling maatregel'!Q1991)=FALSE),\"Deze stof wordt aangemerkt als ZZS\",\" \")","v":" "},{"$f":"COUNTIF('ZZS-lijst'!A:A,$C1991)","v":0}]
[{"$f":"IF(AND(B1992>0,ISBLANK('beoordeling maatregel'!Q1992)=FALSE),\"Deze stof wordt aangemerkt als ZZS\",\" \")","v":" "},{"$f":"COUNTIF('ZZS-lijst'!A:A,$C1992)","v":0}]
[{"$f":"IF(AND(B1993>0,ISBLANK('beoordeling maatregel'!Q1993)=FALSE),\"Deze stof wordt aangemerkt als ZZS\",\" \")","v":" "},{"$f":"COUNTIF('ZZS-lijst'!A:A,$C1993)","v":0}]
[{"$f":"IF(AND(B1994>0,ISBLANK('beoordeling maatregel'!Q1994)=FALSE),\"Deze stof wordt aangemerkt als ZZS\",\" \")","v":" "},{"$f":"COUNTIF('ZZS-lijst'!A:A,$C1994)","v":0}]
[{"$f":"IF(AND(B1995>0,ISBLANK('beoordeling maatregel'!Q1995)=FALSE),\"Deze stof wordt aangemerkt als ZZS\",\" \")","v":" "},{"$f":"COUNTIF('ZZS-lijst'!A:A,$C1995)","v":0}]
[{"$f":"IF(AND(B1996>0,ISBLANK('beoordeling maatregel'!Q1996)=FALSE),\"Deze stof wordt aangemerkt als ZZS\",\" \")","v":" "},{"$f":"COUNTIF('ZZS-lijst'!A:A,$C1996)","v":0}]
[{"$f":"IF(AND(B1997>0,ISBLANK('beoordeling maatregel'!Q1997)=FALSE),\"Deze stof wordt aangemerkt als ZZS\",\" \")","v":" "},{"$f":"COUNTIF('ZZS-lijst'!A:A,$C1997)","v":0}]
[{"$f":"IF(AND(B1998>0,ISBLANK('beoordeling maatregel'!Q1998)=FALSE),\"Deze stof wordt aangemerkt als ZZS\",\" \")","v":" "},{"$f":"COUNTIF('ZZS-lijst'!A:A,$C1998)","v":0}]
[{"$f":"IF(AND(B1999>0,ISBLANK('beoordeling maatregel'!Q1999)=FALSE),\"Deze stof wordt aangemerkt als ZZS\",\" \")","v":" "},{"$f":"COUNTIF('ZZS-lijst'!A:A,$C1999)","v":0}]
[{"$f":"IF(AND(B2000>0,ISBLANK('beoordeling maatregel'!Q2000)=FALSE),\"Deze stof wordt aangemerkt als ZZS\",\" \")","v":" "},{"$f":"COUNTIF('ZZS-lijst'!A:A,$C2000)","v":0}]

{"sheet":"pot ZZS-lijst","index":18,"n_rows":320,"n_cols":12,"rows_kept":320,"cut":false,"hidden":true,"merged":[]}
["Substance","EC-number","CAS-number","PACT/CORAP","# of entries","ZZS relevant Scope","Footnote"]
["36861-47-9","253-242-6","(±)-1,7,7-trimethyl-3-[(4-methylphenyl)methylene]bicyclo[2.2.1]heptan-2-one (4-Methylbenzylidenecamphor)","(±)-1,7,7-trimethyl-3-[(4-methylphenyl)methylene]bicyclo[2.2.1]heptan-2-one (4-Methylbenzylidenecamphor)","Ja",null,null,null,null,null,"2018-01-19"]
["25640-78-2","247-156-8","(1-methylethyl)-1,1'-biphenyl","(1-methylethyl)-1,1'-biphenyl",null,"Ja",null,null,null,null,"2018-01-19"]
["25155-25-3","246-678-3","[1,3(or 1,4)-phenylenebis(1-methylethylidene)]bis[tert-butyl] peroxide","[1,3(or 1,4)-phenylenebis(1-methylethylidene)]bis[tert-butyl] peroxide","Ja","Ja",null,null,null,null,"2018-01-19"]
["32388-55-9","251-020-3","[3R-(3α,3aβ,7β,8aα)]-1-(2,3,4,7,8,8a-hexahydro-3,6,8,8-tetramethyl-1H-3a,7-methanoazulen-5-yl)ethan-1-one","[3R-(3α,3aβ,7β,8aα)]-1-(2,3,4,7,8,8a-hexahydro-3,6,8,8-tetramethyl-1H-3a,7-methanoazulen-5-yl)ethan-1-one",null,"Ja",null,null,null,null,"2018-01-19"]
["41272-40-6","255-288-2","[4-[α-[4-(dimethylamino)phenyl]benzylidene]cyclohexa-2,5-dien-1-ylidene]dimethylammonium acetate","[4-[α-[4-(dimethylamino)phenyl]benzylidene]cyclohexa-2,5-dien-1-ylidene]dimethylammonium acetate","Ja",null,null,null,null,null,"2018-01-19"]
[null,null,"1-(5,6,7,8-tetrahydro-3,5,5,6,8,8-hexamethyl-2-naftyl)1-ethanon","1-(5,6,7,8-tetrahydro-3,5,5,6,8,8-hexamethyl-2-naphthyl)ethan-1-one",null,"Ja",null,null,null,null,"2018-01-19"]
["17928-28-8","241-867-7","1,1,1,3,5,5,5-heptamethyl-3-[(trimethylsilyl)oxy]trisiloxane","1,1,1,3,5,5,5-heptamethyl-3-[(trimethylsilyl)oxy]trisiloxane",null,"Ja",null,null,null,null,"2018-01-19"]
["1873-88-7","217-496-1","1,1,1,3,5,5,5-heptamethyltrisiloxane","1,1,1,3,5,5,5-heptamethyltrisiloxane",null,"Ja",null,null,null,null,"2018-01-19"]
["375-73-5","206-793-1","1,1,2,2,3,3,4,4,4-nonafluorobutane-1-sulphonic acid","1,1,2,2,3,3,4,4,4-nonafluorobutane-1-sulphonic acid","Ja",null,null,null,null,null,"2018-01-19"]
["288-88-0","206-022-9","1,2,4-triazool","1,2,4-triazole","Ja","Ja",null,null,null,null,"2018-01-19"]
["35415-27-1","941-303-6","1,2,4-trinonyl benzene-1,2,4-tricarboxylate","1,2,4-trinonyl benzene-1,2,4-tricarboxylate",null,"Ja",null,null,null,null,"2018-01-19"]
["68515-40-2","271-082-5","1,2-Benzenedicarboxylic acid, benzyl C7-9-branched and linear alkyl esters","1,2-Benzenedicarboxylic acid, benzyl C7-9-branched and linear alkyl esters",null,"Ja",null,null,null,null,"2018-01-19"]
[null,"700-989-5","1,2-benzenedicarboxylic acid, di-C10-12-branched alkyl esters","1,2-benzenedicarboxylic acid, di-C10-12-branched alkyl esters","Ja","Ja",null,null,null,null,"2018-01-19"]
["68515-47-9","271-089-3","1,2-benzenedicarboxylic acid, di-C11-14-branched alkyl es-ters, C13-rich","1,2-benzenedicarboxylic acid, di-C11-14-branched alkyl es-ters, C13-rich","Ja","Ja",null,null,null,null,"2018-01-19"]
["68515-43-5","271-085-1","1,2-benzenedicarboxylic acid, di-C9-11-branched and linear alkyl esters","1,2-benzenedicarboxylic acid, di-C9-11-branched and linear alkyl esters",null,"Ja",null,null,null,null,"2018-01-19"]
["95-50-1","202-425-9","1,2-dichloorbenzeen","1,2-dichlorobenzene",null,"Ja",null,"gO.1","100 g/uur","20 mg/Nm3","2018-01-19","De weergegeven stofklasse staat in bijlage 12 van de Activiteitenregeling. Omdat deze stof op de lijst met potentiële ZZS staat kan worden overwogen om in het kader van vergunningverlening voor luchtemissies de strengere stofklassen MVP1 of MVP2 te hanteren. Bij overschrijding van de Emissiegrenswaarde voor deze stofklassen kunt u de emissie toetsen aan het (af te leiden) MTR."]
["13014-24-9","235-869-7","1,2-dichloro-4-(trichloromethyl)benzene","1,2-dichloro-4-(trichloromethyl)benzene","Ja",null,null,null,null,null,"2018-01-19"]
["53988-10-6","258-904-8","1,3-dihydro-4(or 5)-methyl-2H-benzimidazole-2-thione","1,3-dihydro-4(or 5)-methyl-2H-benzimidazole-2-thione","Ja","Ja",null,null,null,null,"2018-01-19"]
["61617-00-3","262-872-0","1,3-dihydro-4(or 5)-methyl-2H-benzimidazole-2-thione, zinc salt","1,3-dihydro-4(or 5)-methyl-2H-benzimidazole-2-thione, zinc salt","Ja","Ja",null,null,null,null,"2018-01-19"]
["68953-83-3","273-226-2","1,4-Benzenediamine, N,N'-mixed Ph and tolyl and xylyl derivs.","1,4-Benzenediamine, N,N'-mixed Ph and tolyl and xylyl derivs.","Ja",null,null,null,null,null,"2018-01-19"]
["68953-84-4","273-227-8","1,4-Benzenediamine, N,N'-mixed Ph and tolyl derivs.","1,4-Benzenediamine, N,N'-mixed Ph and tolyl derivs.","Ja","Ja",null,null,null,null,"2018-01-19"]
["68478-45-5","270-820-3","1,4-Benzenediamine, N,N'-mixed tolyl and xylyl derivs.","1,4-Benzenediamine, N,N'-mixed tolyl and xylyl derivs.","Ja",null,null,null,null,null,"2018-01-19"]
["106-50-3","203-404-7","1,4-diaminobenzeen","p-phenylenediamine","Ja",null,null,null,null,null,"2018-01-19"]
["15087-24-8","239-139-9","1,7,7-trimethyl-3-(phenylmethylene)bicyclo[2.2.1]heptan-2-one (3-Benzylidenecamphor)","1,7,7-trimethyl-3-(phenylmethylene)bicyclo[2.2.1]heptan-2-one (3-Benzylidenecamphor)","Ja",null,"Ja",null,null,null,"2018-01-19"]
["3468-63-1","222-429-4","1-[(2,4-dinitrophenyl)azo]-2-naphthol","1-[(2,4-dinitrophenyl)azo]-2-naphthol",null,"Ja",null,null,null,null,"2018-01-19"]
["70356-09-1","274-581-6","1-[4-(1,1-dimethylethyl)phenyl]-3-(4-methoxyphenyl)propane-1,3-dione","1-[4-(1,1-dimethylethyl)phenyl]-3-(4-methoxyphenyl)propane-1,3-dione","Ja","Ja",null,null,null,null,"2018-01-19"]
["947701-81-7","700-604-0","10-undecenyl 2-cyano-3,3-diphenylpropenoate","10-undecenyl 2-cyano-3,3-diphenylpropenoate",null,"Ja",null,null,null,null,"2018-01-19"]
["42074-68-0","255-647-3","1-chloro-2-(chlorodiphenylmethyl)benzene","1-chloro-2-(chlorodiphenylmethyl)benzene","Ja",null,null,null,null,null,"2018-01-19"]
["98-85-1","202-707-1","1-phenylethanol","1-phenylethanol",null,"Ja",null,null,null,null,"2018-01-19"]
["3147-75-9","221-573-5","2-(2H-benzotriazol-2-yl)-4-(1,1,3,3-tetramethylbutyl)phenol","2-(2H-benzotriazol-2-yl)-4-(1,1,3,3-tetramethylbutyl)phenol","Ja",null,null,null,null,null,"2018-01-19"]
["70321-86-7","274-570-6","2-(2H-benzotriazol-2-yl)-4,6-bis(1-methyl-1-phenylethyl)phenol (UV-234)","2-(2H-benzotriazol-2-yl)-4,6-bis(1-methyl-1-phenylethyl)phenol (UV-234)","Ja",null,null,null,null,null,"2018-01-19"]
["2440-22-4","219-470-5","2-(2H-benzotriazol-2-yl)-4-methylphenol (UV-P)","2-(2H-benzotriazol-2-yl)-4-methylphenol (UV-P)","Ja","Ja",null,null,null,null,"2018-01-19"]
["125304-04-3",null,"2-(2H-benzotriazol-2-yl)-6-dodecyl-4-phenol, branched and linear","2-(2H-benzotriazol-2-yl)-6-dodecyl-4-phenol, branched and linear","Ja",null,null,null,null,null,"2018-01-19"]
["73936-91-1","422-600-5","2-(2H-Benzotriazole-2-yl)-6-(1-methyl-1-phenylethyl)-4-(1,1,3,3-tetramethylbutyl)phenol (UV-928)","2-(2H-Benzotriazole-2-yl)-6-(1-methyl-1-phenylethyl)-4-(1,1,3,3-tetramethylbutyl)phenol (UV-928)","Ja",null,null,null,null,null,"2018-01-19"]
["3896-11-5","223-445-4","2-(2'-Hydroxy -3' -tert-butyl-5'-methylphenyl)-5-chloro benzotriazole (UV-326)","2-(2'-Hydroxy -3' -tert-butyl-5'-methylphenyl)-5-chloro benzotriazole (UV-326)","Ja",null,null,null,null,null,"2018-01-19"]
["131-55-5","205-028-9","2,2',4,4'-tetrahydroxybenzophenone","2,2',4,4'-tetrahydroxybenzophenone","Ja",null,null,null,null,null,"2018-01-19"]
["118-82-1","204-279-1","2,2′,6,6′-Tetra-tert-butyl-4,4′- methylenediphenol","2,2′,6,6′-Tetra-tert-butyl-4,4′- methylenediphenol","Ja","Ja",null,null,null,null,"2018-01-19"]
["6864-37-5","229-962-1","2,2'-dimethyl-4,4'-methylenebis(cyclohexylamine)","2,2'-dimethyl-4,4'-methylenebis(cyclohexylamine)","Ja","Ja",null,null,null,null,"2018-01-19"]
["111-42-2","203-868-0","2,2'-iminodiethanol","2,2'-iminodiethanol",null,"Ja",null,"gO.2","500 g/uur","50 mg/Nm3","2018-01-19","De weergegeven stofklasse staat in bijlage 12 van de Activiteitenregeling. Omdat deze stof op de lijst met potentiële ZZS staat kan worden overwogen om in het kader van vergunningverlening voor luchtemissies de strengere stofklassen MVP1 of MVP2 te hanteren. Bij overschrijding van de Emissiegrenswaarde voor deze stofklassen kunt u de emissie toetsen aan het (af te leiden) MTR."]
["2536-05-2","219-799-4","2,2'-methyleendifenyldiisocyanaat","2,2'-methylenediphenyl diisocyanate","Ja",null,null,null,null,null,"2018-01-19"]
["105-59-9","203-312-7","2,2'-methyliminodiethanol","2,2'-methyliminodiethanol",null,"Ja",null,null,null,null,"2018-01-19"]
["2210-79-9","218-645-3","2,3-epoxypropyl o-tolyl ether","2,3-epoxypropyl o-tolyl ether",null,"Ja",null,null,null,null,"2018-01-19"]
["101-37-1","202-936-7","2,4,6-triallyloxy-1,3,5-triazine","2,4,6-triallyloxy-1,3,5-triazine","Ja",null,null,null,null,null,"2018-01-19"]
["118-79-6","204-278-6","2,4,6-tribroomfenol","2,4,6-tribromophenol","Ja","Ja",null,"gO.1","100 g/uur","20 mg/Nm3","2018-01-19","De weergegeven stofklasse staat in bijlage 12 van de Activiteitenregeling. Omdat deze stof op de lijst met potentiële ZZS staat kan worden overwogen om in het kader van vergunningverlening voor luchtemissies de strengere stofklassen MVP1 of MVP2 te hanteren. Bij overschrijding van de Emissiegrenswaarde voor deze stofklassen kunt u de emissie toetsen aan het (af te leiden) MTR."]
["2374-14-3","219-154-7","2,4,6-trimethyl-2,4,6-tris(3,3,3-trifluoropropyl)cyclotrisiloxane","2,4,6-trimethyl-2,4,6-tris(3,3,3-trifluoropropyl)cyclotrisiloxane","Ja",null,null,null,null,null,"2018-01-19"]
["5873-54-1","227-534-9","2,4’-methyleendifenyldiisocyanaat","2,4’-methylenediphenyl diisocyanate","Ja",null,null,null,null,null,"2018-01-19"]
["131-56-6","205-029-4","2,4-dihydroxybenzophenone","2,4-dihydroxybenzophenone","Ja",null,null,null,null,null,"2018-01-19"]
["96-76-4","202-532-0","2,4-di-tert-butylphenol","2,4-di-tert-butylphenol","Ja","Ja",null,null,null,null,"2018-01-19"]
["29736-75-2","249-820-2","2,5,7,10,11,14-hexaoxa-1,6-distibabicyclo[4.4.4]tetradecane","2,5,7,10,11,14-hexaoxa-1,6-distibabicyclo[4.4.4]tetradecane",null,"Ja",null,null,null,null,"2018-09-11"]
["79-74-3","201-222-2","2,5-di-tert-pentylhydroquinone","2,5-di-tert-pentylhydroquinone","Ja","Ja",null,null,null,null,"2018-01-19"]
["3891-98-3","622-542-2","2,6,10-Trimethyldodecane ","2,6,10-Trimethyldodecane",null,"Ja",null,null,null,null,"2018-01-19"]
["15307-93-4","239-349-0","2,6-dichloro-N-phenylaniline","2,6-dichloro-N-phenylaniline","Ja",null,null,null,null,null,"2018-01-19"]
["91-08-7","202-039-0","2,6-tolueendiisocyanaat","2-methyl-m-phenylene diisocyanate","Ja",null,null,"sO","200 g/uur","5/20 mg/Nm3","2018-01-19","De weergegeven stofklasse staat in bijlage 12 van de Activiteitenregeling. Omdat deze stof op de lijst met potentiële ZZS staat kan worden overwogen om in het kader van vergunningverlening voor luchtemissies de strengere stofklassen MVP1 of MVP2 te hanteren. Bij overschrijding van de Emissiegrenswaarde voor deze stofklassen kunt u de emissie toetsen aan het (af te leiden) MTR."]
["32492-61-8","500-082-2","2-[4-[2-[4-(2-hydroxyethoxy)phenyl]propan-2-yl]phenoxy]ethanol","2-[4-[2-[4-(2-hydroxyethoxy)phenyl]propan-2-yl]phenoxy]ethanol",null,"Ja",null,null,null,null,"2018-01-19"]
["67584-55-8","266-733-5","2-[methyl[(nonafluorobutyl) sulpho-nyl]amino]ethyl acrylate","2-[methyl[(nonafluorobutyl) sulpho-nyl]amino]ethyl acrylate",null,"Ja",null,null,null,null,"2018-01-19"]
["15625-89-5","239-701-3","2-ethyl-2-[[(1-oxoallyl)oxy]methyl]-1,3-propanediyl diacrylate","2-ethyl-2-[[(1-oxoallyl)oxy]methyl]-1,3-propanediyl diacrylate",null,"Ja",null,null,null,null,"2018-01-19"]
["118-60-5","204-263-4","2-ethylhexyl salicylate","2-ethylhexyl salicylate",null,"Ja",null,null,null,null,"2018-09-01"]
["83834-59-7","629-661-9","2-ethylhexyl trans-4-methoxycinnamate","2-ethylhexyl trans-4-methoxycinnamate","Ja","Ja",null,null,null,null,"2018-01-19"]
["2425-77-6","219-370-1","2-Hexyldecan-1-ol","2-Hexyldecan-1-ol","Ja",null,null,null,null,null,"2018-01-19"]
["868-77-9","212-782-2","2-hydroxyethyl methacrylate","2-hydroxyethyl methacrylate",null,"Ja",null,null,null,null,"2018-01-19"]
["75-65-0","200-889-7","2-methyl-2-propanol","2-methylpropan-2-ol",null,"Ja",null,"gO.2","500 g/uur","50 mg/Nm3","2018-01-19","De weergegeven stofklasse staat in bijlage 12 van de Activiteitenregeling. Omdat deze stof op de lijst met potentiële ZZS staat kan worden overwogen om in het kader van vergunningverlening voor luchtemissies de strengere stofklassen MVP1 of MVP2 te hanteren. Bij overschrijding van de Emissiegrenswaarde voor deze stofklassen kunt u de emissie toetsen aan het (af te leiden) MTR."]
["18127-01-0","242-016-2","3-(4-tert-butylphenyl)propion aldehyde","3-(4-tert-butylphenyl)propion aldehyde",null,"Ja",null,null,null,null,"2018-01-19"]
["17527-29-6","241-527-8","3,3,4,4,5,5,6,6,7,7,8,8,8-tridecafluorooctyl acrylate","3,3,4,4,5,5,6,6,7,7,8,8,8-tridecafluorooctyl acrylate","Ja","Ja",null,null,null,null,"2018-01-19"]
["2144-53-8","218-407-9","3,3,4,4,5,5,6,6,7,7,8,8,8-tridecafluorooctyl methacrylate","3,3,4,4,5,5,6,6,7,7,8,8,8-tridecafluorooctyl methacrylate","Ja","Ja",null,null,null,null,"2018-01-19"]
["91-97-4","202-112-7","3,3'-dimethylbiphenyl-4,4'-diyl diisocyanate","3,3'-dimethylbiphenyl-4,4'-diyl diisocyanate","Ja",null,null,null,null,null,"2018-01-19"]
["3302-10-1","221-975-0","3,5,5-trimethylhexanoic acid","3,5,5-trimethylhexanoic acid",null,"Ja",null,null,null,null,"2018-01-19"]
["67-51-6","200-657-5","3,5-dimethylpyrazole","3,5-dimethylpyrazole",null,"Ja",null,null,null,null,"2018-01-19"]
["505-32-8","208-008-8","3,7,11,15-tetramethylhexadec-1-en-3-ol","3,7,11,15-tetramethylhexadec-1-en-3-ol","Ja",null,null,null,null,null,"2018-01-19"]
["109-55-7","203-680-9","3-aminopropyldimethylamine","3-aminopropyldimethylamine",null,"Ja",null,null,null,null,"2018-01-19"]
["297730-93-9","435-790-1","3-ethoxy-1,1,1,2,3,4,4,5,5,6,6,6-dodecafluoro-2-(trifluoromethyl)-hexane","3-ethoxy-1,1,1,2,3,4,4,5,5,6,6,6-dodecafluoro-2-(trifluoromethyl)-hexane",null,"Ja",null,null,null,null,"2018-09-11"]
[null,"931-312-3","3-isocyanatomethyl-3,5,5-trimethylcyclohexyl isocyanate homopolymer, isocyanurate type","3-isocyanatomethyl-3,5,5-trimethylcyclohexyl isocyanate homopolymer, isocyanurate type","Ja",null,null,null,null,null,"2018-01-19"]
["123-51-3","204-633-5","3-methylbutan-1-ol","3-methylbutan-1-ol",null,"Ja",null,null,null,null,"2018-01-19"]
["1453-58-3","215-925-7","3-methylpyrazole","3-methylpyrazole",null,"Ja",null,null,null,null,"2018-01-19"]
["2530-85-0","219-785-8","3-trimethoxysilylpropyl methacrylate","3-trimethoxysilylpropyl methacrylate",null,"Ja",null,null,null,null,"2018-01-19"]
["13595-25-0","428-970-4","4,4'-(1,3-phenylene-bis(1-methylethylidene))bisphenol","4,4'-(1,3-phenylene-bis(1-methylethylidene))bisphenol","Ja","Ja",null,null,null,null,"2018-01-19"]
["77-40-7","201-025-1","4,4'-(1-methylpropylidene)bisphenol","4,4'-(1-methylpropylidene)bisphenol","Ja",null,null,null,null,null,"2018-01-19"]
["101-68-8","202-966-0","4,4'-methyleendifenyldiisocyanaat","4,4'-methylenediphenyl diisocyanate","Ja","Ja",null,"sO","200 g/uur","5/20 mg/Nm3","2018-01-19","De weergegeven stofklasse staat in bijlage 12 van de Activiteitenregeling. Omdat deze stof op de lijst met potentiële ZZS staat kan worden overwogen om in het kader van vergunningverlening voor luchtemissies de strengere stofklassen MVP1 of MVP2 te hanteren. Bij overschrijding van de Emissiegrenswaarde voor deze stofklassen kunt u de emissie toetsen aan het (af te leiden) MTR."]
["10254-57-6","233-593-1","4,4'-methylene bis(dibutyldithiocarbamate)","4,4'-methylene bis(dibutyldithiocarbamate)",null,"Ja",null,null,null,null,"2018-09-11"]
["28768-32-3","249-204-3","4,4'-methylenebis[N,N-bis(2,3-epoxypropyl)aniline]","4,4'-methylenebis[N,N-bis(2,3-epoxypropyl)aniline]",null,"Ja",null,null,null,null,"2018-01-19"]
["5384-21-4","226-378-9","4,4'-methylenedi-2,6-xylenol","4,4'-methylenedi-2,6-xylenol","Ja",null,null,null,null,null,"2018-01-19"]
["620-92-8","210-658-2","4,4'-methylenediphenol","4,4'-methylenediphenol","Ja",null,null,null,null,null,"2018-01-19"]
["158885-29-1","500-415-1","4,4'-methylenediphenyl diisocyanate, oligomeric reaction products with butane-1,3-diol, 2,4'-diisocyanato-diphenyl methane, 2,2'-oxydiethanol and propane-1,2-diol","4,4'-methylenediphenyl diisocyanate, oligomeric reaction products with butane-1,3-diol, 2,4'-diisocyanato-diphenyl methane, 2,2'-oxydiethanol and propane-1,2-diol",null,"Ja",null,null,null,null,"2018-01-19"]
["37353-75-6","500-097-4","4,4'-propane-2,2-diyldiphenol, polymer with 2-methyloxirane","4,4'-propane-2,2-diyldiphenol, polymer with 2-methyloxirane",null,"Ja",null,null,null,null,"2018-01-19"]
["80-09-1","201-250-5","4,4'-sulfonyldiphenol","4,4'-sulfonyldiphenol","Ja",null,null,null,null,null,"2018-01-19"]
["98-56-6","202-681-1","4-chloro-α,α,α-trifluorotoluene","4-chloro-α,α,α-trifluorotoluene","Ja",null,null,null,null,null,"2018-09-11"]
["104-93-8","203-253-7","4-methylanisole","4-methylanisole",null,"Ja",null,null,null,null,"2018-01-19"]
["59-89-2","627-564-6","4-Nitrosomorpholine","4-Nitrosomorpholine",null,null,"Ja",null,null,null,"2018-09-11"]
["98-54-4","202-679-0","4-tert-butylfenol","4-tert-butylphenol","Ja","Ja","Ja",null,null,null,"2018-01-19"]
["98-29-3","202-653-9","4-tert-butylpyrocatechol","4-tert-butylpyrocatechol",null,"Ja",null,null,null,null,"2018-01-19"]
["89331-94-2","403-830-5","6'-(dibutylamino)-3'-methyl-2'-(phenylamino)spiro[isobenzofuran-1(3H),9-(9H)-xanthen]-3-one","6'-(dibutylamino)-3'-methyl-2'-(phenylamino)spiro[isobenzofuran-1(3H),9-(9H)-xanthen]-3-one","Ja",null,null,null,null,null,"2018-01-19"]
["119-47-1","204-327-1","6,6'-di-tert-butyl-2,2'-methylenedi-p-cresol","6,6'-di-tert-butyl-2,2'-methylenedi-p-cresol",null,"Ja","Ja",null,null,null,"2018-01-19"]
["85-60-9","201-618-5","6,6'-di-tert-butyl-4,4'-butylidenedi-m-cresol","6,6'-di-tert-butyl-4,4'-butylidenedi-m-cresol",null,"Ja",null,null,null,null,"2018-01-19"]
["96-69-5","202-525-2","6,6'-di-tert-butyl-4,4'-thiodi-m-cresol","6,6'-di-tert-butyl-4,4'-thiodi-m-cresol","Ja","Ja",null,null,null,null,"2018-01-19"]
["1879-09-0","217-533-1","6-tert-butyl-2,4-xylenol","6-tert-butyl-2,4-xylenol","Ja",null,null,null,null,null,"2018-01-19"]
["106-87-6","203-437-7","7-oxa-3-oxiranylbicyclo[4.1.0]heptane","7-oxa-3-oxiranylbicyclo[4.1.0]heptane",null,null,"Ja",null,null,null,"2018-01-19"]
["2386-87-0","219-207-4","7-oxabicyclo[4.1.0]hept-3-ylmethyl 7-oxabicyclo [4.1.0]heptane-3-carboxylate","7-oxabicyclo[4.1.0]hept-3-ylmethyl 7-oxabicyclo [4.1.0]heptane-3-carboxylate",null,"Ja",null,null,null,null,"2018-01-19"]
["127519-17-9","407-000-3","A mixture of branched and linear C7-C9 alkyl 3-[3-(2H-benzotriazol-2-yl)-5-(1,1-dimethylethyl)-4-hydroxyphenyl]propionates","A mixture of branched and linear C7-C9 alkyl 3-[3-(2H-benzotriazol-2-yl)-5-(1,1-dimethylethyl)-4-hydroxyphenyl]propionates","Ja",null,null,null,null,null,"2018-09-11"]
["426218-78-2","422-040-1","a mixture of: 4-(2,2,3-trimethylcyclopent-3-en-1-yl)-1-methyl-2-oxabicyclo[2.2.2]octane; 1-(2,2,3-trimethylcyclopent-3-en-1-yl)-5-methyl-6-oxabicyclo[3.2.1]octane; spiro[cyclohex-3-en-1-yl-[(4,5,6,6a-tetrahydro-3,6',6',6'a-tetramethyl)-1,3'(3'aH)-[2H]cycl","a mixture of: 4-(2,2,3-trimethylcyclopent-3-en-1-yl)-1-methyl-2-oxabicyclo[2.2.2]octane; 1-(2,2,3-trimethylcyclopent-3-en-1-yl)-5-methyl-6-oxabicyclo[3.2.1]octane; spiro[cyclohex-3-en-1-yl-[(4,5,6,6a-tetrahydro-3,6',6',6'a-tetramethyl)-1,3'(3'aH)-[2H]cycl",null,"Ja",null,null,null,null,"2018-01-19"]
[null,"430-050-2","A mixture of: N,N'-ethane-1,2-diylbis(decanamide); 12-hydroxy-N-[2-[1-oxydecyl)amino]ethyl]octadecanamide; N,N'-ethane-1,2-diylbis(12-hydroxyoctadecanamide)","A mixture of: N,N'-ethane-1,2-diylbis(decanamide); 12-hydroxy-N-[2-[1-oxydecyl)amino]ethyl]octadecanamide; N,N'-ethane-1,2-diylbis(12-hydroxyoctadecanamide)","Ja","Ja",null,null,null,null,"2018-01-19"]
["137398-54-0","403-030-6","A mixture of: O,O-di(1-methylethyl)trithio-bis-thioformate,O,O-di(1-methylethyl)tetrathio-bis-thioformate,O,O-di(1-methylethyl)pentathio-bis-thioformate","A mixture of: O,O-di(1-methylethyl)trithio-bis-thioformate,O,O-di(1-methylethyl)tetrathio-bis-thioformate,O,O-di(1-methylethyl)pentathio-bis-thioformate","Ja","Ja",null,null,null,null,"2018-01-19"]
["797751-44-1","458-680-3","A mixture of: propan-2-one-O,O'(methoxyvinylsilandiyl)dioxime; propan-2-one-O-(dimethoxyvinylsilyl)oxime; propan-2-one-O,O',O''-(vinylsilantriyl)trioxime","A mixture of: propan-2-one-O,O'(methoxyvinylsilandiyl)dioxime; propan-2-one-O-(dimethoxyvinylsilyl)oxime; propan-2-one-O,O',O''-(vinylsilantriyl)trioxime",null,"Ja",null,null,null,null,"2018-01-19"]
["192268-65-8","421-820-9","a mixture of: triphenylthiophosphate and tertiary butylated phenyl derivatives","a mixture of: triphenylthiophosphate and tertiary butylated phenyl derivatives",null,"Ja",null,null,null,null,"2018-01-19"]
[null,"400-830-7","A mixture of: α-3-(3-(2H-benzotriazol-2-yl)-5-tert-butyl-4-hydroxyphenyl)propionyl-ω-hydroxypoly(oxyethylene); α-3-(3-(2H-benzotriazol-2-yl)-5-tert-butyl-4-hydroxyphenyl)propionyl-ω-3-(3-(2H-benzotriazol-2-yl)-5-tert-butyl-4-hydroxyphenyl)propionyl…","A mixture of: α-3-(3-(2H-benzotriazol-2-yl)-5-tert-butyl-4-hydroxyphenyl)propionyl-ω-hydroxypoly(oxyethylene); α-3-(3-(2H-benzotriazol-2-yl)-5-tert-butyl-4-hydroxyphenyl)propionyl-ω-3-(3-(2H-benzotriazol-2-yl)-5-tert-butyl-4-hydroxyphenyl)propionyl…","Ja",null,null,null,null,null,"2018-09-11"]
[null,"287-401-7","A mixture of: α-3-(3-(2H-benzotriazol-2-yl)-5-tert-butyl-4-hydroxyphenyl)propionyl-ω-hydroxypoly(oxyethylene); α-3-(3-(2H-benzotriazol-2-yl)-5-tert-butyl-4-hydroxyphenyl)propionyl-ω-3-(3-(2H-benzotriazol-2-yl)-5-tert-butyl-4-hydroxyphenyl)propionyl…","A mixture of: α-3-(3-(2H-benzotriazol-2-yl)-5-tert-butyl-4-hydroxyphenyl)propionyl-ω-hydroxypoly(oxyethylene); α-3-(3-(2H-benzotriazol-2-yl)-5-tert-butyl-4-hydroxyphenyl)propionyl-ω-3-(3-(2H-benzotriazol-2-yl)-5-tert-butyl-4-hydroxyphenyl)propionyl…","Ja",null,null,null,null,null,"2018-09-11"]
["84539-55-9","283-044-5","Acetic acid, oxo-, sodium salt, reaction products with ethylenediamine and phenol, iron sodium salts","Acetic acid, oxo-, sodium salt, reaction products with ethylenediamine and phenol, iron sodium salts",null,"Ja",null,null,null,null,"2018-09-11"]
["127-06-0","204-820-1","acetone oxime","acetone oxime",null,"Ja",null,null,null,null,"2018-01-19"]
["25584-83-2","247-118-0","Acrylic acid, monoester with propane-1,2-diol","Acrylic acid, monoester with propane-1,2-diol",null,"Ja",null,null,null,null,"2018-01-19"]
["85535-85-9","287-477-0","Alkanes, C14-17, chloro","Alkanes, C14-17, chloro","Ja","Ja",null,null,null,null,"2018-01-19"]
[null,"700-992-1","Alkanes, C16–(branched), C20-(branched) and C24-(branched)","Alkanes, C16–(branched), C20-(branched) and C24-(branched)","Ja","Ja",null,null,null,null,"2018-01-19"]
[null,"931-700-2","Alkyl Dimethyl Betaine","Alkyl Dimethyl Betaine",null,"Ja",null,null,null,null,"2018-01-19"]
["1327-41-9","215-477-2","Aluminium chloride basic","Aluminium chloride basic",null,"Ja",null,null,null,null,"2018-01-19"]
["10043-01-3","233-135-0","Aluminium sulphate","Aluminium sulphate",null,"Ja",null,null,null,null,"2018-01-19"]
["7446-70-0","231-208-1","aluminiumchloride","aluminium chloride",null,"Ja",null,null,null,null,"2018-01-19"]
[null,null,"amfotere gefluoreerde surfactant","Amphoteric Fluorinated Surfactant","Ja","Ja",null,null,null,null,"2018-09-11"]
["308062-28-4","931-292-6","Amines, C12-14 (even numbered)-alkyldimethyl, N-oxides","Amines, C12-14 (even numbered)-alkyldimethyl, N-oxides",null,"Ja",null,null,null,null,"2018-01-19"]
[null,"480-310-4","ammonium 2,2,3 trifluor-3-(1,1,2,2,3,3-hexafluoro-3-trifluormethoxypropoxy), propionate","ammonium 2,2,3 trifluor-3-(1,1,2,2,3,3-hexafluoro-3-trifluormethoxypropoxy), propionate","Ja","Ja",null,null,null,null,"2018-01-19"]
["62037-80-3","700-242-3","ammonium 2,3,3,3-tetrafluoro-2-(heptafluoropropoxy)propanoaat","Ammonium 2,3,3,3-tetrafluoro-2-(heptafluoropropoxy)propanoate","Ja","Ja",null,null,null,null,"2018-01-19"]
["12124-97-9","235-183-8","Ammonium bromide","Ammonium bromide",null,null,"Ja",null,null,null,"2018-01-19"]
["908020-52-0","700-323-3","ammonium difluoro[1,1,2,2-tetrafluoro-2-(pentafluoroethoxy)ethoxy]acetate","ammonium difluoro[1,1,2,2-tetrafluoro-2-(pentafluoroethoxy)ethoxy]acetate","Ja","Ja",null,null,null,null,"2018-01-19"]
[null,"700-403-8","Ammonium salts of  mono- and  bis[3,3,4,4,5,5,6,6,7,7,8,8,8-tridecafluorooctyl  and/or poly (substituted  alkene)] phosphate","Ammonium salts of  mono- and  bis[3,3,4,4,5,5,6,6,7,7,8,8,8-tridecafluorooctyl  and/or poly (substituted  alkene)] phosphate","Ja","Ja",null,null,null,null,"2018-01-19"]
["7790-98-9","232-235-1","ammoniumperchloraat","ammonium perchlorate","Ja","Ja",null,null,null,null,"2018-01-19"]
["7727-54-0","231-786-5","ammoniumpersulfaat","persulfate ammonium","Ja",null,null,null,null,null,"2018-01-19"]
["5160-02-1","225-935-3","Barium bis[2-chloro-5-[(2-hydroxy-1-naphthyl)azo]toluene-4-sulphonate]","Barium bis[2-chloro-5-[(2-hydroxy-1-naphthyl)azo]toluene-4-sulphonate]",null,"Ja",null,null,null,null,"2018-01-19"]
["100-52-7","202-860-4","benzaldehyde","benzaldehyde",null,"Ja",null,"gO.1","100 g/uur","20 mg/Nm3","2018-01-19","De weergegeven stofklasse staat in bijlage 12 van de Activiteitenregeling. Omdat deze stof op de lijst met potentiële ZZS staat kan worden overwogen om in het kader van vergunningverlening voor luchtemissies de strengere stofklassen MVP1 of MVP2 te hanteren. Bij overschrijding van de Emissiegrenswaarde voor deze stofklassen kunt u de emissie toetsen aan het (af te leiden) MTR."]
["68411-46-1","270-128-1","Benzenamine, N-phenyl-, reaction products with 2,4,4-trimethylpentene","Benzenamine, N-phenyl-, reaction products with 2,4,4-trimethylpentene",null,"Ja",null,null,null,null,"2018-01-19"]
["101357-15-7","309-912-6","Benzenamine, reaction products with aniline hydrochloride and nitrobenzene","Benzenamine, reaction products with aniline hydrochloride and nitrobenzene",null,"Ja",null,null,null,null,"2018-01-19"]
["84961-70-6","284-660-7","Benzene, mono-C10-13-alkyl derivs., distn. residues","Benzene, mono-C10-13-alkyl derivs., distn. residues","Ja","Ja",null,null,null,null,"2018-01-19"]
[null,"810-801-4","Benzene, mono-C11-C13-branched alkyl derivatives","Benzene, mono-C11-C13-branched alkyl derivatives",null,"Ja",null,null,null,null,"2018-09-11"]
["95-14-7","202-394-1","benzotriazool","benzotriazole","Ja","Ja",null,null,null,null,"2018-01-19"]
["118-58-1","204-262-9","Benzyl salicylate","Benzyl salicylate",null,"Ja",null,null,null,null,"2018-09-11"]
["27776-01-8","248-654-8","Benzyltoluene","Benzyltoluene","Ja",null,null,null,null,null,"2018-01-19"]
["92-52-4","202-163-5","bifenyl","biphenyl","Ja","Ja",null,"sO","200 g/uur","5/20 mg/Nm3","2018-01-19","De weergegeven stofklasse staat in bijlage 12 van de Activiteitenregeling. Omdat deze stof op de lijst met potentiële ZZS staat kan worden overwogen om in het kader van vergunningverlening voor luchtemissies de strengere stofklassen MVP1 of MVP2 te hanteren. Bij overschrijding van de Emissiegrenswaarde voor deze stofklassen kunt u de emissie toetsen aan het (af te leiden) MTR."]
["154702-15-5","421-450-8","Bis(2-ethylhexyl) 4,4’-{6-[4-tert-butylcarbamoyl)anilino]-1,3,5-triazine-2,4-diyldiimino}dibenzoate","Bis(2-ethylhexyl) 4,4’-{6-[4-tert-butylcarbamoyl)anilino]-1,3,5-triazine-2,4-diyldiimino}dibenzoate","Ja","Ja",null,null,null,null,"2018-01-19"]
["103-23-1","203-090-1","Bis(2-ethylhexyl) adipate","Bis(2-ethylhexyl) adipate",null,"Ja",null,null,null,null,"2018-01-19"]
["53306-54-0","258-469-4","Bis(2-propylheptyl) phthalate","Bis(2-propylheptyl) phthalate",null,"Ja",null,null,null,null,"2018-01-19"]
["80-07-9","201-247-9","bis(4-chlorophenyl) sulphone","bis(4-chlorophenyl) sulphone","Ja","Ja",null,null,null,null,"2018-01-19"]
["13927-71-4","237-695-7","Bis(dibutyldithiocarbamato-S,S')copper","Bis(dibutyldithiocarbamato-S,S')copper",null,"Ja",null,null,null,null,"2018-01-19"]
["38640-62-9","254-052-6","Bis(isopropyl)naphthalene","Bis(isopropyl)naphthalene","Ja","Ja",null,null,null,null,"2018-01-19"]
["52299-25-9","700-183-3","bis(nonafluorobutyl)phosphinic acid","bis(nonafluorobutyl)phosphinic acid",null,"Ja",null,null,null,null,"2018-01-19"]
["36878-20-3","253-249-4","Bis(nonylphenyl)amine","Bis(nonylphenyl)amine",null,"Ja",null,null,null,null,"2018-01-19"]
["19372-44-2","243-001-3","bis(pentane-2,4-dionato)calcium","bis(pentane-2,4-dionato)calcium",null,"Ja",null,null,null,null,"2018-01-19"]
["80-43-3","201-279-3","bis(α,α-dimethylbenzyl) peroxide","bis(α,α-dimethylbenzyl) peroxide","Ja","Ja",null,null,null,null,"2018-01-19"]
["431-03-8","207-069-8","butaandion","butanedione","Ja",null,null,null,null,null,"2018-09-11"]
["22984-54-9","245-366-4","Butan-2-one O,O',O''-(methylsilylidyne)trioxime","Butan-2-one O,O',O''-(methylsilylidyne)trioxime",null,"Ja",null,null,null,null,"2018-09-11"]
["2224-33-1","218-747-8","Butan-2-one O,O',O''-(vinylsilylidyne)trioxime","Butan-2-one O,O',O''-(vinylsilylidyne)trioxime",null,"Ja",null,null,null,null,"2018-09-11"]
["78-93-3","201-159-0","butanon","butanone",null,"Ja",null,"gO.2","500 g/uur","50 mg/Nm3","2018-01-19","De weergegeven stofklasse staat in bijlage 12 van de Activiteitenregeling. Omdat deze stof op de lijst met potentiële ZZS staat kan worden overwogen om in het kader van vergunningverlening voor luchtemissies de strengere stofklassen MVP1 of MVP2 te hanteren. Bij overschrijding van de Emissiegrenswaarde voor deze stofklassen kunt u de emissie toetsen aan het (af te leiden) MTR."]
["96-29-7","202-496-6","Butanone oxime","Butanone oxime",null,"Ja","Ja",null,null,null,"2018-01-19"]
["1333-86-4","215-609-9","carbon black","carbon black",null,"Ja",null,"S","200 g/uur","5/20 mg/Nm3","2018-01-19","De weergegeven stofklasse staat in bijlage 12 van de Activiteitenregeling. Omdat deze stof op de lijst met potentiële ZZS staat kan worden overwogen om in het kader van vergunningverlening voor luchtemissies de strengere stofklassen MVP1 of MVP2 te hanteren. Bij overschrijding van de Emissiegrenswaarde voor deze stofklassen kunt u de emissie toetsen aan het (af te leiden) MTR."]
["1306-38-3","215-150-4","cerium dioxide","cerium dioxide",null,"Ja",null,null,null,null,"2018-01-19"]
["2921-88-2","220-864-4","chloorpyrifos","chlorpyrifos","Ja",null,null,null,null,null,"2018-01-19"]
["38083-17-9","253-775-4","Climbazole","Climbazole","Ja","Ja",null,null,null,null,"2018-01-19"]
["108-77-0","203-614-9","cyaanuurzuurchloride","2,4,6-trichloro-1,3,5-triazine","Ja","Ja",null,null,null,null,"2018-01-19"]
["108-94-1","203-631-1","cyclohexanon","cyclohexanone",null,"Ja",null,"gO.2","500 g/uur","50 mg/Nm3","2018-01-19","De weergegeven stofklasse staat in bijlage 12 van de Activiteitenregeling. Omdat deze stof op de lijst met potentiële ZZS staat kan worden overwogen om in het kader van vergunningverlening voor luchtemissies de strengere stofklassen MVP1 of MVP2 te hanteren. Bij overschrijding van de Emissiegrenswaarde voor deze stofklassen kunt u de emissie toetsen aan het (af te leiden) MTR."]
["91-17-8","202-046-9","decahydronaftaleen","decahydronaphthalene","Ja","Ja",null,"gO.2","500 g/uur","50 mg/Nm3","2018-01-19","De weergegeven stofklasse staat in bijlage 12 van de Activiteitenregeling. Omdat deze stof op de lijst met potentiële ZZS staat kan worden overwogen om in het kader van vergunningverlening voor luchtemissies de strengere stofklassen MVP1 of MVP2 te hanteren. Bij overschrijding van de Emissiegrenswaarde voor deze stofklassen kunt u de emissie toetsen aan het (af te leiden) MTR."]
["141-62-8","205-491-7","decamethyltetrasiloxane","decamethyltetrasiloxane","Ja","Ja",null,null,null,null,"2018-01-19"]
["131-17-9","205-016-3","Diallyl phthalate","Diallyl phthalate",null,"Ja",null,null,null,null,"2018-01-19"]
["693-21-0","211-745-8","diethyleenglycoldinitraat","oxydiethylene dinitrate","Ja","Ja",null,null,null,null,"2018-01-19"]
["60-29-7","200-467-2","diethylether","diethyl ether",null,"Ja",null,"gO.2","500 g/uur","50 mg/Nm3","2018-01-19","De weergegeven stofklasse staat in bijlage 12 van de Activiteitenregeling. Omdat deze stof op de lijst met potentiële ZZS staat kan worden overwogen om in het kader van vergunningverlening voor luchtemissies de strengere stofklassen MVP1 of MVP2 te hanteren. Bij overschrijding van de Emissiegrenswaarde voor deze stofklassen kunt u de emissie toetsen aan het (af te leiden) MTR."]
["68479-98-1","270-877-4","diethylmethylbenzenediamine","diethylmethylbenzenediamine","Ja","Ja",null,null,null,null,"2018-01-19"]
["10028-22-5","233-072-9","diiron tris(sulphate)","diiron tris(sulphate)",null,"Ja",null,null,null,null,"2018-01-19"]
["28472-97-1","249-044-4","Diisodecyl azelate","Diisodecyl azelate","Ja","Ja",null,null,null,null,"2018-01-19"]
["71850-09-4","276-090-2","Diisohexyl phthalate","Diisohexyl phthalate",null,null,"Ja",null,null,null,"2018-01-19"]
["25321-09-9","246-835-6","diisopropylbenze(e)n(en)","diisopropylbenzene",null,"Ja",null,"gO.2","500 g/uur","50 mg/Nm3","2018-01-19","De weergegeven stofklasse staat in bijlage 12 van de Activiteitenregeling. Omdat deze stof op de lijst met potentiële ZZS staat kan worden overwogen om in het kader van vergunningverlening voor luchtemissies de strengere stofklassen MVP1 of MVP2 te hanteren. Bij overschrijding van de Emissiegrenswaarde voor deze stofklassen kunt u de emissie toetsen aan het (af te leiden) MTR."]
["868-85-9","212-783-8","Dimethyl phosphonate","Dimethyl phosphonate",null,"Ja",null,null,null,null,"2018-01-19"]
["123-91-1","204-661-8","dioxaan","1,4-dioxane",null,null,"Ja","gO.1","100 g/uur","20 mg/Nm3","2018-09-11","De weergegeven stofklasse staat in bijlage 12 van de Activiteitenregeling. Omdat deze stof op de lijst met potentiële ZZS staat kan worden overwogen om in het kader van vergunningverlening voor luchtemissies de strengere stofklassen MVP1 of MVP2 te hanteren. Bij overschrijding van de Emissiegrenswaarde voor deze stofklassen kunt u de emissie toetsen aan het (af te leiden) MTR."]
["75980-60-8","278-355-8","Diphenyl(2,4,6-trimethylbenzoyl)phosphine oxide","Diphenyl(2,4,6-trimethylbenzoyl)phosphine oxide",null,"Ja",null,null,null,null,"2018-01-19"]
["102-06-7","203-002-1","diphenylguanidine","1,3-diphenylguanidine",null,"Ja",null,null,null,null,"2018-01-19"]
["27344-41-8","248-421-0","disodium 2,2'-([1,1'-biphenyl]-4,4'-diyldivinylene)bis(benzenesulphonate)","disodium 2,2'-([1,1'-biphenyl]-4,4'-diyldivinylene)bis(benzenesulphonate)","Ja",null,null,null,null,null,"2018-01-19"]
["133-66-4","205-117-2","Disodium 4,4'-bis[(4,6-dianilino-1,3,5-triazin-2-yl)amino]stilbene-2,2'-disulphonate","Disodium 4,4'-bis[(4,6-dianilino-1,3,5-triazin-2-yl)amino]stilbene-2,2'-disulphonate",null,"Ja",null,null,null,null,"2018-01-19"]
["6731-36-8","229-782-3","Di-tert-butyl 3,3,5-trimethylcyclohexylidene diperoxide","Di-tert-butyl 3,3,5-trimethylcyclohexylidene diperoxide","Ja","Ja",null,null,null,null,"2018-01-19"]
["110-05-4","203-733-6","Di-tert-butyl peroxide","Di-tert-butyl peroxide",null,"Ja",null,null,null,null,"2018-01-19"]
["10508-09-5","234-042-8","di-tert-pentyl peroxide","di-tert-pentyl peroxide",null,"Ja",null,null,null,null,"2018-01-19"]
["28299-41-4","248-948-6","Ditolyl ether","Ditolyl ether","Ja","Ja",null,null,null,null,"2018-01-19"]
["85507-79-5","287-401-6","diundecyl phthalate, branched and linear","diundecyl phthalate, branched and linear","Ja","Ja",null,null,null,null,"2018-01-19"]
["141-63-9","205-492-2","dodecamethylpentasiloxane","dodecamethylpentasiloxane","Ja","Ja",null,null,null,null,"2018-01-19"]
[null,"405-420-1","EDDHMAFEK","EDDHMAFEK",null,"Ja",null,null,null,null,"2018-09-11"]
["97925-95-6","308-208-6","Ethanol, 2,2'-iminobis-, N-(C13-15-branched and linear alkyl) derivs.","Ethanol, 2,2'-iminobis-, N-(C13-15-branched and linear alkyl) derivs.","Ja",null,"Ja",null,null,null,"2018-01-19"]
["115895-09-5","404-740-9","Ethyl 3,5-dichloro-4-hexadecyloxycarbonyloxybenzoate","Ethyl 3,5-dichloro-4-hexadecyloxycarbonyloxybenzoate",null,"Ja",null,null,null,null,"2018-01-19"]
["120-47-8","204-399-4","Ethyl 4-hydroxybenzoate","Ethyl 4-hydroxybenzoate",null,"Ja",null,null,null,null,"2018-01-19"]
["96-49-1","202-510-0","ethylene carbonate","ethylene carbonate",null,"Ja",null,null,null,null,"2018-01-19"]
["628-96-6","211-063-0","ethylene dinitrate","ethylene dinitrate","Ja","Ja",null,null,null,null,"2018-01-19"]
["97-63-2","202-597-5","ethylmethacrylaat","ethyl methacrylate",null,"Ja",null,null,null,null,"2018-01-19"]
["5888-33-5","227-561-6","Exo-1,7,7-trimethylbicyclo[2.2.1]hept-2-yl acrylate","Exo-1,7,7-trimethylbicyclo[2.2.1]hept-2-yl acrylate",null,null,"Ja",null,null,null,"2018-01-19"]
["68334-05-4","500-204-4","fatty acids, c18-unsatd., dimers, 2-ethylhexyl esters, diethylhexyl dimerate","fatty acids, c18-unsatd., dimers, 2-ethylhexyl esters, diethylhexyl dimerate","Ja",null,null,null,null,null,"2018-01-19"]
["68919-76-6","272-902-4","Fatty acids, tall-oil, reaction products with 2-[(2-aminoethyl)amino]ethanol","Fatty acids, tall-oil, reaction products with 2-[(2-aminoethyl)amino]ethanol",null,"Ja",null,null,null,null,"2018-01-19"]
["100-51-6","202-859-9","fenylmethanol","benzyl alcohol",null,"Ja",null,"gO.2","500 g/uur","50 mg/Nm3","2018-01-19","De weergegeven stofklasse staat in bijlage 12 van de Activiteitenregeling. Omdat deze stof op de lijst met potentiële ZZS staat kan worden overwogen om in het kader van vergunningverlening voor luchtemissies de strengere stofklassen MVP1 of MVP2 te hanteren. Bij overschrijding van de Emissiegrenswaarde voor deze stofklassen kunt u de emissie toetsen aan het (af te leiden) MTR."]
["9003-36-5","500-006-8","Formaldehyde, oligomeric reaction products with 1-chloro-2,3-epoxypropane and phenol","Formaldehyde, oligomeric reaction products with 1-chloro-2,3-epoxypropane and phenol",null,"Ja",null,null,null,null,"2018-01-19"]
["98-01-1","202-627-7","furfural","2-furaldehyde",null,"Ja",null,"gO.1","100 g/uur","20 mg/Nm3","2018-01-19","De weergegeven stofklasse staat in bijlage 12 van de Activiteitenregeling. Omdat deze stof op de lijst met potentiële ZZS staat kan worden overwogen om in het kader van vergunningverlening voor luchtemissies de strengere stofklassen MVP1 of MVP2 te hanteren. Bij overschrijding van de Emissiegrenswaarde voor deze stofklassen kunt u de emissie toetsen aan het (af te leiden) MTR."]
["98-00-0","202-626-1","furfurylalcohol","furfuryl alcohol",null,"Ja",null,"gO.2","500 g/uur","50 mg/Nm3","2018-01-19","De weergegeven stofklasse staat in bijlage 12 van de Activiteitenregeling. Omdat deze stof op de lijst met potentiële ZZS staat kan worden overwogen om in het kader van vergunningverlening voor luchtemissies de strengere stofklassen MVP1 of MVP2 te hanteren. Bij overschrijding van de Emissiegrenswaarde voor deze stofklassen kunt u de emissie toetsen aan het (af te leiden) MTR."]
["111-30-8","203-856-5","glutaaraldehyde","glutaraldehyde","Ja",null,null,null,null,null,"2018-01-19"]
[null,null,"grafiet en meerwandige koolstof nanobuizen, synthetisch grafiet in buisvorm","Graphite, and Multi-Wall Carbon Nanotubes (MWCNT), synthetic graphite in tubular shape, Multi-Wall Carbon Nanotubes (MWCNT)",null,"Ja","Ja",null,null,null,"2018-01-19"]
["77703-56-1","416-600-4","HAT-ISO","HAT-ISO","Ja",null,null,null,null,null,"2018-01-19"]
["629-73-2","211-105-8","hexadec-1-ene","hexadec-1-ene","Ja",null,null,null,null,null,"2018-01-19"]
["116-15-4","204-127-4","hexafluorpropeen","hexafluoropropene",null,"Ja",null,"gO.1","100 g/uur","20 mg/Nm3","2018-01-19","De weergegeven stofklasse staat in bijlage 12 van de Activiteitenregeling. Omdat deze stof op de lijst met potentiële ZZS staat kan worden overwogen om in het kader van vergunningverlening voor luchtemissies de strengere stofklassen MVP1 of MVP2 te hanteren. Bij overschrijding van de Emissiegrenswaarde voor deze stofklassen kunt u de emissie toetsen aan het (af te leiden) MTR."]
["107-46-0","203-492-7","hexamethyldisiloxaan","hexamethyldisiloxane","Ja","Ja",null,"gO.2","500 g/uur","50 mg/Nm3","2018-01-19","De weergegeven stofklasse staat in bijlage 12 van de Activiteitenregeling. Omdat deze stof op de lijst met potentiële ZZS staat kan worden overwogen om in het kader van vergunningverlening voor luchtemissies de strengere stofklassen MVP1 of MVP2 te hanteren. Bij overschrijding van de Emissiegrenswaarde voor deze stofklassen kunt u de emissie toetsen aan het (af te leiden) MTR."]
["13048-33-4","235-921-9","hexamethylene diacrylate (hexane-1,6-diol diacrylate)","hexamethylene diacrylate (hexane-1,6-diol diacrylate)","Ja",null,"Ja",null,null,null,"2018-01-19"]
["6259-76-3","228-408-6","Hexyl salicylate","Hexyl salicylate",null,"Ja",null,null,null,null,"2018-01-19"]
["118-56-9","204-260-8","Homosalate","Homosalate","Ja",null,null,null,null,null,"2018-01-19"]
[null,"701-057-0","Hydrogenated rosin alcohols","Hydrogenated rosin alcohols",null,"Ja",null,null,null,null,"2018-09-11"]
[null,"931-745-8","Imidazolium compounds, 2-C17-unsatd.-alkyl-1-(2-C18-unsatd. amidoethyl)-4,5-dihydro-N-methyl, Me sulfates","Imidazolium compounds, 2-C17-unsatd.-alkyl-1-(2-C18-unsatd. amidoethyl)-4,5-dihydro-N-methyl, Me sulfates","Ja","Ja",null,null,null,null,"2018-01-19"]
["50926-11-9","610-589-1","Indium tin oxide","Indium tin oxide","Ja",null,null,null,null,null,"2018-01-19"]
["118832-72-7","404-800-4","Iso(C10-C14)alkyl (3,5-di-tert-butyl-4-hydroxyphenyl)methylthioacetate","Iso(C10-C14)alkyl (3,5-di-tert-butyl-4-hydroxyphenyl)methylthioacetate","Ja","Ja",null,null,null,null,"2018-01-19"]
["78-59-1","201-126-0","isoforon","isophorone","Ja","Ja",null,"gO.2","500 g/uur","50 mg/Nm3","2018-01-19","De weergegeven stofklasse staat in bijlage 12 van de Activiteitenregeling. Omdat deze stof op de lijst met potentiële ZZS staat kan worden overwogen om in het kader van vergunningverlening voor luchtemissies de strengere stofklassen MVP1 of MVP2 te hanteren. Bij overschrijding van de Emissiegrenswaarde voor deze stofklassen kunt u de emissie toetsen aan het (af te leiden) MTR."]
["71617-10-2","275-702-5","Isopentyl p-methoxycinnamate","Isopentyl p-methoxycinnamate","Ja","Ja",null,null,null,null,"2018-01-19"]
["29253-36-9","249-535-3","isopropylnaphthalene","isopropylnaphthalene",null,"Ja",null,null,null,null,"2018-01-19"]
["7727-21-1","231-781-8","kaliumpersulfaat","potassium persulfate","Ja",null,null,null,null,null,"2018-01-19"]
["75-15-0","200-843-6","koolstofdisulfide","carbon disulphide",null,"Ja",null,"gO.2","500 g/uur","50 mg/Nm3","2018-01-19","De weergegeven stofklasse staat in bijlage 12 van de Activiteitenregeling. Omdat deze stof op de lijst met potentiële ZZS staat kan worden overwogen om in het kader van vergunningverlening voor luchtemissies de strengere stofklassen MVP1 of MVP2 te hanteren. Bij overschrijding van de Emissiegrenswaarde voor deze stofklassen kunt u de emissie toetsen aan het (af te leiden) MTR."]
[null,null,"legeringen van kobalt-wolfraamcarbide hardmetaal","Alloys Cobalt-tungsten carbide hard metals","Ja",null,null,null,null,null,"2018-01-19"]
["67774-74-7","267-051-0","lineaire C10-C13 alkylbenzenen","benzene, C10-13 alkyl derivatives","Ja",null,null,null,null,null,"2018-01-19"]
["101-90-6","202-987-5","m-bis(2,3-epoxypropoxy)benzene","m-bis(2,3-epoxypropoxy)benzene",null,null,"Ja",null,null,null,"2018-09-11"]
["99-62-7","202-773-1","m-diisopropylbenzeen","1,3-diisopropylbenzene",null,"Ja",null,"gO.2","500 g/uur","50 mg/Nm3","2018-01-19","De weergegeven stofklasse staat in bijlage 12 van de Activiteitenregeling. Omdat deze stof op de lijst met potentiële ZZS staat kan worden overwogen om in het kader van vergunningverlening voor luchtemissies de strengere stofklassen MVP1 of MVP2 te hanteren. Bij overschrijding van de Emissiegrenswaarde voor deze stofklassen kunt u de emissie toetsen aan het (af te leiden) MTR."]
["108-78-1","203-615-4","melamine","melamine",null,null,"Ja",null,null,null,"2018-01-19"]
["27813-02-1","248-666-3","Methacrylic acid, monoester with propane-1,2-diol","Methacrylic acid, monoester with propane-1,2-diol",null,"Ja",null,null,null,null,"2018-01-19"]
["99-76-3","202-785-7","methyl 4-hydroxybenzoate","methyl 4-hydroxybenzoate","Ja","Ja",null,null,null,null,"2018-01-19"]
["26447-40-5","247-714-0","methyleendifenyldiisocyanaat","methylenediphenyl diisocyanate","Ja",null,null,null,null,null,"2018-01-19"]
["80-62-6","201-297-1","methylmethacrylaat","methyl methacrylate",null,"Ja","Ja","gO.1","100 g/uur","20 mg/Nm3","2018-01-19","De weergegeven stofklasse staat in bijlage 12 van de Activiteitenregeling. Omdat deze stof op de lijst met potentiële ZZS staat kan worden overwogen om in het kader van vergunningverlening voor luchtemissies de strengere stofklassen MVP1 of MVP2 te hanteren. Bij overschrijding van de Emissiegrenswaarde voor deze stofklassen kunt u de emissie toetsen aan het (af te leiden) MTR."]
["1634-04-4","216-653-1","methyl-tert-butylether","tert-butyl methyl ether","Ja","Ja",null,"gO.2","500 g/uur","50 mg/Nm3","2018-01-19","De weergegeven stofklasse staat in bijlage 12 van de Activiteitenregeling. Omdat deze stof op de lijst met potentiële ZZS staat kan worden overwogen om in het kader van vergunningverlening voor luchtemissies de strengere stofklassen MVP1 of MVP2 te hanteren. Bij overschrijding van de Emissiegrenswaarde voor deze stofklassen kunt u de emissie toetsen aan het (af te leiden) MTR."]
[null,"448-020-2","mixture of two components: 1. N-(1,3- dimethylbutyl)-N´- phenyl-p-phenylenediamine 2. N1-(1,3-dimethylbutyl)- N4-(4-(1-methyl-1- phenylethyl)phenyl)benzene-1,4-diamine","mixture of two components: 1. N-(1,3- dimethylbutyl)-N´- phenyl-p-phenylenediamine 2. N1-(1,3-dimethylbutyl)- N4-(4-(1-methyl-1- phenylethyl)phenyl)benzene-1,4-diamine","Ja","Ja",null,null,null,null,"2018-01-19"]
["1313-27-5","215-204-7","molybdenum trioxide","molybdenum trioxide","Ja",null,null,null,null,null,"2018-01-19"]
[null,"700-427-9","Mono- and/or di- and/or tri(1-phenylethyl)-m-cresol and p-cresol","Mono- and/or di- and/or tri(1-phenylethyl)-m-cresol and p-cresol","Ja","Ja",null,null,null,null,"2018-01-19"]
["108-45-2","203-584-7","m-phenylenediamine","m-phenylenediamine",null,"Ja",null,null,null,null,"2018-01-19"]
["108-38-3","203-576-3","m-xyleen","m-xylene",null,"Ja",null,null,null,null,"2018-01-19"]
["3081-01-4","221-374-3","N-(1,4-dimethylpentyl)-N'-phenylbenzene-1,4-diamine","N-(1,4-dimethylpentyl)-N'-phenylbenzene-1,4-diamine","Ja","Ja",null,null,null,null,"2018-01-19"]
["56358-17-9","260-126-9","N-(2-ethylhexyl)naphthalen-2-amine","N-(2-ethylhexyl)naphthalen-2-amine","Ja",null,null,null,null,null,"2018-01-19"]
["4979-32-2","225-625-8","N,N-dicyclohexylbenzothiazole-2-sulphenamide","N,N-dicyclohexylbenzothiazole-2-sulphenamide","Ja","Ja",null,null,null,null,"2018-01-19"]
["3710-84-7","223-055-4","N,N-diethylhydroxylamine","N,N-diethylhydroxylamine",null,"Ja",null,null,null,null,"2018-09-11"]
["135-57-9","205-201-9","N,N'-dithiodi-o-phenylenedibenzamide","N,N'-dithiodi-o-phenylenedibenzamide","Ja","Ja",null,null,null,null,"2018-01-19"]
["1228186-18-2","629-767-5","N-[2-(piperazin-1-yl)ethyl]C18-insaturated-alkylamide","N-[2-(piperazin-1-yl)ethyl]C18-insaturated-alkylamide",null,"Ja",null,null,null,null,"2018-01-19"]
["90-30-2","201-983-0","N-1-naphthylaniline","N-1-naphthylaniline","Ja","Ja",null,null,null,null,"2018-01-19"]
["7775-14-6","231-890-0","natriumdithioniet","sodium dithionite",null,"Ja",null,null,null,null,"2018-01-19"]
["7601-89-0","231-511-9","natriumperchloraat","sodium perchlorate","Ja","Ja",null,null,null,null,"2018-01-19"]
["7775-27-1","231-892-1","natriumpersulfaat","disodium peroxodisulphate","Ja",null,null,null,null,null,"2018-01-19"]
["141-32-2","205-480-7","n-butylacrylaat","butyl acrylate",null,"Ja",null,"gO.1","100 g/uur","20 mg/Nm3","2018-01-19","De weergegeven stofklasse staat in bijlage 12 van de Activiteitenregeling. Omdat deze stof op de lijst met potentiële ZZS staat kan worden overwogen om in het kader van vergunningverlening voor luchtemissies de strengere stofklassen MVP1 of MVP2 te hanteren. Bij overschrijding van de Emissiegrenswaarde voor deze stofklassen kunt u de emissie toetsen aan het (af te leiden) MTR."]
["67-43-6","200-652-8","N-carboxymethyliminobis(ethylenenitrilo)tetra(acetic acid)","N-carboxymethyliminobis(ethylenenitrilo)tetra(acetic acid)","Ja",null,null,null,null,null,"2018-01-19"]
["109-60-4","203-686-1","n-propylacetaat","n-propyl acetate",null,"Ja",null,"gO.2","500 g/uur","50 mg/Nm3","2018-01-19","De weergegeven stofklasse staat in bijlage 12 van de Activiteitenregeling. Omdat deze stof op de lijst met potentiële ZZS staat kan worden overwogen om in het kader van vergunningverlening voor luchtemissies de strengere stofklassen MVP1 of MVP2 te hanteren. Bij overschrijding van de Emissiegrenswaarde voor deze stofklassen kunt u de emissie toetsen aan het (af te leiden) MTR."]
["597-82-0","209-909-9","O,O,O-triphenyl phosphorothioate","O,O,O-triphenyl phosphorothioate","Ja","Ja",null,null,null,null,"2018-01-19"]
["1843-05-6","217-421-2","Octabenzone","Octabenzone",null,"Ja",null,null,null,null,"2018-01-19"]
["107-51-7","203-497-4","Octamethyltrisiloxane","Octamethyltrisiloxane","Ja","Ja",null,null,null,null,"2018-01-19"]
["68938-03-4","273-110-1","Octene, hydroformylation products, low-boiling","Octene, hydroformylation products, low-boiling",null,"Ja",null,null,null,null,"2018-01-19"]
["6197-30-4","228-250-8","Octocrilene","Octocrilene","Ja","Ja",null,null,null,null,"2018-01-19"]
[null,"700-960-7","Oligomerisation and alkylation reaction products of 2-phenylpropene and phenol","Oligomerisation and alkylation reaction products of 2-phenylpropene and phenol","Ja","Ja",null,null,null,null,"2018-01-19"]
["26038-87-9","247-421-8","orthoboric acid, compound with 2-aminoethanol","orthoboric acid, compound with 2-aminoethanol","Ja",null,null,null,null,null,"2018-01-19"]
["68609-97-2","271-846-8","Oxirane, mono[(C12-14-alkyloxy)methyl] derivs.","Oxirane, mono[(C12-14-alkyloxy)methyl] derivs.",null,"Ja",null,null,null,null,"2018-01-19"]
["131-57-7","205-031-5","oxybenzone","oxybenzone","Ja","Ja",null,null,null,null,"2018-01-19"]
["120-55-8","204-407-6","Oxydiethylene dibenzoate","Oxydiethylene dibenzoate",null,"Ja",null,null,null,null,"2018-01-19"]
["27138-31-4","248-258-5","oxydipropyl dibenzoate","oxydipropyl dibenzoate",null,"Ja",null,null,null,null,"2018-01-19"]
["95-47-6","202-422-2","o-xyleen","o-xylene",null,"Ja",null,null,null,null,"2018-01-19"]
["5026-74-4","225-716-2","p-(2,3-epoxypropoxy)-N,N-bis(2,3-epoxypropyl)aniline","p-(2,3-epoxypropoxy)-N,N-bis(2,3-epoxypropyl)aniline",null,"Ja",null,null,null,null,"2018-01-19"]
["100-18-5","202-826-9","p-diisopropylbenzeen","1,4-diisopropylbenzene",null,"Ja",null,"gO.2","500 g/uur","50 mg/Nm3","2018-01-19","De weergegeven stofklasse staat in bijlage 12 van de Activiteitenregeling. Omdat deze stof op de lijst met potentiële ZZS staat kan worden overwogen om in het kader van vergunningverlening voor luchtemissies de strengere stofklassen MVP1 of MVP2 te hanteren. Bij overschrijding van de Emissiegrenswaarde voor deze stofklassen kunt u de emissie toetsen aan het (af te leiden) MTR."]
["504-60-9","207-995-2","penta-1,3-diene","penta-1,3-diene","Ja",null,null,null,null,null,"2018-01-19"]
["12007-92-0","234-522-7","Pentaboron sodium octaoxide","Pentaboron sodium octaoxide",null,null,"Ja",null,null,null,"2018-01-19"]
["4067-16-7","223-775-9","pentaethylenehexamine","3,6,9,12-tetraazatetradecamethylenediamine",null,"Ja",null,null,null,null,"2018-01-19"]
["7601-90-3","231-512-4","perchloorzuur","perchloric acid","Ja",null,null,null,null,null,"2018-01-19"]
["338-83-0","206-420-2","Perfluamine","Perfluamine",null,"Ja",null,null,null,null,"2018-01-19"]
[null,null,"perfluorbutaansulfonzuur, zouten en gerelateerde stoffen","Perfluorobutane sulfonic acid, its salts and related substances",null,null,"Ja",null,null,null,"2018-01-19"]
[null,null,"perfluorbutaanzuur en zijn zouten en precursoren","Perfluorobutanoic acid and its salts and precursors","Ja",null,null,null,null,null,"2018-09-11"]
[null,null,"perfluoroctylsilanen","Perfluorooctyl silanes","Ja",null,null,null,null,null,"2018-01-19"]
["68610-51-5","271-867-2","Phenol, 4-methyl-, reaction products with dicyclopentadiene and isobutylene","Phenol, 4-methyl-, reaction products with dicyclopentadiene and isobutylene","Ja","Ja",null,null,null,null,"2018-01-19"]
["61788-44-1","262-975-0","Phenol, styrenated","Phenol, styrenated","Ja","Ja",null,null,null,null,"2018-01-19"]
["84605-29-8","283-392-8","Phosphorodithioic acid, mixed O,O-bis(1,3-dimethylbutyl and iso-Pr) esters, zinc salts","Phosphorodithioic acid, mixed O,O-bis(1,3-dimethylbutyl and iso-Pr) esters, zinc salts","Ja",null,null,null,null,null,"2018-01-19"]
["51-03-6","200-076-7","piperonyl-butoxide","2-(2-butoxyethoxy)ethyl 6-propylpiperonyl ether",null,"Ja",null,null,null,null,"2018-01-19"]
[null,null,"polyfluor-5,8,11,14-tetrakis(polyfluoralkyl)polyoxaalkaan","Polyfluoro-5,8,11,14-tetrakis(polyfluoralkyl)-polyoxaalkane",null,"Ja",null,null,null,null,"2018-01-19"]
[null,"938-828-8","potassium 2-({2-[(carboxymethyl)[(2-hydroxyphenyl)methyl]amino]ethyl}[(2-hydroxyphenyl)methyl]amino)acetic acid iron potassium chloride","potassium 2-({2-[(carboxymethyl)[(2-hydroxyphenyl)methyl]amino]ethyl}[(2-hydroxyphenyl)methyl]amino)acetic acid iron potassium chloride",null,"Ja",null,null,null,null,"2018-09-11"]
["12056-51-8","432-240-0","Potassium titanium oxide (K2Ti6O13)","Potassium titanium oxide (K2Ti6O13)",null,"Ja",null,null,null,null,"2018-01-19"]
["2312-35-8","219-006-1","Propargite","Propargite",null,"Ja",null,null,null,null,"2018-01-19"]
["94-13-3","202-307-7","propyl 4-hydroxybenzoate","propyl 4-hydroxybenzoate","Ja","Ja",null,null,null,null,"2018-01-19"]
[null,"700-103-7","reaction mass of (2S,5R)-2-tert-butyl-5-methyl-2-propyl-2,5-dihydrofuran and (2S,5S)-2-tert-butyl-5-methyl-2-propyl-2,5-dihydrofuran","reaction mass of (2S,5R)-2-tert-butyl-5-methyl-2-propyl-2,5-dihydrofuran and (2S,5S)-2-tert-butyl-5-methyl-2-propyl-2,5-dihydrofuran","Ja",null,null,null,null,null,"2018-01-19"]
[null,"915-730-3","reaction mass of 1-(1,2,3,4,5,6,7,8-octahydro-2,3,8,8-tetramethyl-2-naphthyl)ethan-1-one and 1-(1,2,3,4,6,7,8,8a-octahydro-2,3,8,8-tetramethyl-2-naphthyl)ethan-1-one and 1-(1,2,3,5,6,7,8,8a-octahydro-2,3,8,8-tetramethyl-2-naphthyl)ethan-1-one","reaction mass of 1-(1,2,3,4,5,6,7,8-octahydro-2,3,8,8-tetramethyl-2-naphthyl)ethan-1-one and 1-(1,2,3,4,6,7,8,8a-octahydro-2,3,8,8-tetramethyl-2-naphthyl)ethan-1-one and 1-(1,2,3,5,6,7,8,8a-octahydro-2,3,8,8-tetramethyl-2-naphthyl)ethan-1-one","Ja","Ja",null,null,null,null,"2018-01-19"]
[null,"473-390-7","reaction mass of 2,2,3,3,5,5,6,6-octafluoro-4-(1,1,1,2,3,3,3-heptafluoropropan-2-yl)morpholine and 2,2,3,3,5,5,6,6-octafluoro-4-(heptafluoropropyl)morpholine","reaction mass of 2,2,3,3,5,5,6,6-octafluoro-4-(1,1,1,2,3,3,3-heptafluoropropan-2-yl)morpholine and 2,2,3,3,5,5,6,6-octafluoro-4-(heptafluoropropyl)morpholine","Ja","Ja",null,null,null,null,"2018-01-19"]
[null,"915-333-5","Reaction mass of 2,4,6-tris(1-phenyl-ethyl)phenol and Bis(1-phenylethyl) phenol","Reaction mass of 2,4,6-tris(1-phenyl-ethyl)phenol and Bis(1-phenylethyl) phenol","Ja",null,null,null,null,null,"2018-01-19"]
[null,"907-745-9","Reaction mass of 2,6-di-tert-butylphenol and 2,4,6-tri-tert-butylphenol","Reaction mass of 2,6-di-tert-butylphenol and 2,4,6-tri-tert-butylphenol","Ja","Ja",null,null,null,null,"2018-01-19"]
[null,"906-390-7","Reaction mass of 2-methylpentane and Hexanol, branched and linear and diisopropyl ether","Reaction mass of 2-methylpentane and Hexanol, branched and linear and diisopropyl ether",null,"Ja",null,null,null,null,"2018-01-19"]
[null,"905-806-4","Reaction mass of 4,4'-methylenediphenyl diisocyanate and o-(p-isocyanatobenzyl)phenyl isocyanate / methylene diphenyl diisocyanate","Reaction mass of 4,4'-methylenediphenyl diisocyanate and o-(p-isocyanatobenzyl)phenyl isocyanate / methylene diphenyl diisocyanate","Ja","Ja",null,null,null,null,"2018-01-19"]
[null,"452-830-1","Reaction mass of disodium 2-(hexadecylthio)-1-(4-sulfonatobutyl)-1H-benzimidazole-5-sulfonate and disodium 2-(hexadecylthio)-1-(4-sulfonatobutyl)-1H-benzimidazole-6-sulfonate","Reaction mass of disodium 2-(hexadecylthio)-1-(4-sulfonatobutyl)-1H-benzimidazole-5-sulfonate and disodium 2-(hexadecylthio)-1-(4-sulfonatobutyl)-1H-benzimidazole-6-sulfonate","Ja",null,null,null,null,null,"2018-01-19"]
[null,"905-562-9","reaction mass of ethylbenzene and m-xylene and p-xylene","reaction mass of ethylbenzene and m-xylene and p-xylene",null,"Ja",null,null,null,null,"2018-01-19"]
[null,"905-588-0","reaction mass of ethylbenzene and xylene","reaction mass of ethylbenzene and xylene",null,"Ja",null,null,null,null,"2018-01-19"]
[null,"700-161-3","reaction mass of mixed (3,3,4,4,5,5,6,6,7,7,8,8,8-tridecafluorooctyl)  phosphates,  ammonium salt","reaction mass of mixed (3,3,4,4,5,5,6,6,7,7,8,8,8-tridecafluorooctyl)  phosphates,  ammonium salt","Ja","Ja",null,null,null,null,"2018-01-19"]
[null,"911-815-4","Reaction mass of tris(2-chloropropyl) phosphate and tris(2-chloro-1-methylethyl) phosphate and Phosphoric acid, bis(2-chloro-1-methylethyl) 2-chloropropyl ester and Phosphoric acid, 2-chloro-1-methylethyl bis(2-chloropropyl) ester","Reaction mass of tris(2-chloropropyl) phosphate and tris(2-chloro-1-methylethyl) phosphate and Phosphoric acid, bis(2-chloro-1-methylethyl) 2-chloropropyl ester and Phosphoric acid, 2-chloro-1-methylethyl bis(2-chloropropyl) ester","Ja","Ja",null,null,null,null,"2018-01-19"]
[null,"412-780-3","Reaction product of ammonium molybdate and C12-C24-diethoxylated alkylamine (1:5-1:3)","Reaction product of ammonium molybdate and C12-C24-diethoxylated alkylamine (1:5-1:3)","Ja","Ja",null,null,null,null,"2018-01-19"]
["25068-38-6","500-033-5","Reaction product: bisphenol-A-(epichlorhydrin),epoxy resin (number average molecular weight ≤ 700)","Reaction product: bisphenol-A-(epichlorhydrin),epoxy resin (number average molecular weight ≤ 700)","Ja","Ja",null,null,null,null,"2018-01-19"]
[null,"701-029-8","Reaction products of 1,1'-methylenebis(4-isocyanatobenzene) in excess and 1-isocyanato-2-(4-isocyanatobenzyl)benzene in excess with 2,2'-[(methylethylene)bis(oxy)]di(methylethanol), butane-1,3-diol and propane-1,2-diol","Reaction products of 1,1'-methylenebis(4-isocyanatobenzene) in excess and 1-isocyanato-2-(4-isocyanatobenzyl)benzene in excess with 2,2'-[(methylethylene)bis(oxy)]di(methylethanol), butane-1,3-diol and propane-1,2-diol",null,"Ja",null,null,null,null,"2018-09-11"]
["144020-22-4","482-330-9","Reaction products of acetic anhydride and 1,5,10-trimethyl- 1,5,9-cyclodecatriene","Reaction products of acetic anhydride and 1,5,10-trimethyl- 1,5,9-cyclodecatriene","Ja",null,null,null,null,null,"2018-01-19"]
["65997-13-9","266-042-9","Resin acids and Rosin acids, hydrogenated, esters with glycerol","Resin acids and Rosin acids, hydrogenated, esters with glycerol","Ja","Ja",null,null,null,null,"2018-01-19"]
["64365-17-9","264-848-5","Resin acids and Rosin acids, hydrogenated, esters with pentaerythritol","Resin acids and Rosin acids, hydrogenated, esters with pentaerythritol","Ja","Ja",null,null,null,null,"2018-01-19"]
["108-46-3","203-585-2","resorcinol","resorcinol","Ja","Ja",null,"gO.2","500 g/uur","50 mg/Nm3","2018-01-19","De weergegeven stofklasse staat in bijlage 12 van de Activiteitenregeling. Omdat deze stof op de lijst met potentiële ZZS staat kan worden overwogen om in het kader van vergunningverlening voor luchtemissies de strengere stofklassen MVP1 of MVP2 te hanteren. Bij overschrijding van de Emissiegrenswaarde voor deze stofklassen kunt u de emissie toetsen aan het (af te leiden) MTR."]
["255881-94-8","401-850-9","S-(tricyclo(5.2.1.0'2,6)deca-3-en-8(or 9)-yl O-(isopropyl or isobutyl or 2-ethylhexyl) O-(isopropyl or isobutyl or 2-ethylhexyl) phosphorodithioate","S-(tricyclo(5.2.1.0'2,6)deca-3-en-8(or 9)-yl O-(isopropyl or isobutyl or 2-ethylhexyl) O-(isopropyl or isobutyl or 2-ethylhexyl) phosphorodithioate","Ja","Ja",null,null,null,null,"2018-01-19"]
[null,"700-579-6","Sepisol Fast Blue 85219","Sepisol Fast Blue 85219","Ja","Ja",null,null,null,null,"2018-01-19"]
[null,"447-780-2","Shale Oil Bitumen","Shale Oil Bitumen","Ja",null,null,null,null,null,"2018-01-19"]
["127-68-4","204-857-3","Sodium 3-nitrobenzene sulphonate","Sodium 3-nitrobenzene sulphonate",null,"Ja",null,null,null,null,"2018-01-19"]
["149-44-0","205-739-4","Sodium hydroxymethanesulphinate","Sodium hydroxymethanesulphinate",null,"Ja",null,null,null,null,"2018-01-19"]
["8000-41-7","232-268-1","Terpineol","Terpineol",null,null,"Ja",null,null,null,"2018-01-19"]
["614-45-9","210-382-2","tert-butyl perbenzoate","tert-butyl perbenzoate",null,"Ja",null,null,null,null,"2018-01-19"]
["57583-54-7","260-830-6","tetraphenyl m-phenylene bis(phosphate)","tetraphenyl m-phenylene bis(phosphate)","Ja","Ja",null,null,null,null,"2018-01-19"]
["25265-78-5","246-772-4","Tetrapropylenebenzene","Tetrapropylenebenzene","Ja",null,null,null,null,null,"2018-01-19"]
["58-55-9","200-385-7","Theophylline","Theophylline",null,null,"Ja",null,null,null,"2018-09-11"]
["7488-55-3","231-302-2","Tin sulphate","Tin sulphate",null,"Ja",null,null,null,null,"2018-01-19"]
["584-84-9","209-544-5","tolueendiisocyanaat","4-methyl-m-phenylene diisocyanate","Ja",null,null,"sO","200 g/uur","5/20 mg/Nm3","2018-01-19","De weergegeven stofklasse staat in bijlage 12 van de Activiteitenregeling. Omdat deze stof op de lijst met potentiële ZZS staat kan worden overwogen om in het kader van vergunningverlening voor luchtemissies de strengere stofklassen MVP1 of MVP2 te hanteren. Bij overschrijding van de Emissiegrenswaarde voor deze stofklassen kunt u de emissie toetsen aan het (af te leiden) MTR."]
["77-94-1","201-071-2","tributyl citrate","tributyl citrate","Ja",null,null,null,null,null,"2018-01-19"]
["101-20-2","202-924-1","triclocarban","triclocarban","Ja","Ja",null,null,null,null,"2018-01-19"]
["3380-34-5","222-182-2","Triclosan","Triclosan","Ja","Ja",null,null,null,null,"2018-01-19"]
["115-86-6","204-112-2","trifenylfosfaat","triphenyl phosphate","Ja","Ja",null,"gO.1","100 g/uur","20 mg/Nm3","2018-01-19","De weergegeven stofklasse staat in bijlage 12 van de Activiteitenregeling. Omdat deze stof op de lijst met potentiële ZZS staat kan worden overwogen om in het kader van vergunningverlening voor luchtemissies de strengere stofklassen MVP1 of MVP2 te hanteren. Bij overschrijding van de Emissiegrenswaarde voor deze stofklassen kunt u de emissie toetsen aan het (af te leiden) MTR."]
["1185-55-3","214-685-0","Trimethoxy(methyl)silane","Trimethoxy(methyl)silane",null,"Ja",null,null,null,null,"2018-01-19"]
["112-03-8","203-929-1","Trimethyloctadecylammonium chloride","Trimethyloctadecylammonium chloride",null,"Ja",null,null,null,null,"2018-09-11"]
["101-02-0","202-908-4","Triphenyl phosphite","Triphenyl phosphite","Ja","Ja",null,null,null,null,"2018-01-19"]
["13674-84-5","237-158-7","tris(2-chloro-1-methylethyl) phosphate","tris(2-chloro-1-methylethyl) phosphate","Ja",null,null,null,null,null,"2018-01-19"]
["3319-31-1","222-020-0","tris(2-ethylhexyl)-benzene-1,2,4-tricarboxylate","tris(2-ethylhexyl)-benzene-1,2,4-tricarboxylate","Ja","Ja",null,null,null,null,"2018-01-19"]
[null,"809-930-9","Tris(methylphenyl) phosphate","Tris(methylphenyl) phosphate","Ja","Ja",null,null,null,null,"2018-01-19"]
["13674-87-8","237-159-2","Tris[2-chloro-1-(chloromethyl)ethyl] phosphate","Tris[2-chloro-1-(chloromethyl)ethyl] phosphate","Ja","Ja",null,null,null,null,"2018-01-19"]
["307-24-4","206-196-6","Undecafluorohexanoic acid","Undecafluorohexanoic acid","Ja",null,"Ja",null,null,null,"2018-01-19"]
[null,null,"UVCB-Diaminen","UVCB-Diamines","Ja",null,null,null,null,null,"2018-01-19"]
["1314-62-1","215-239-8","vanadiumpentoxide","divanadium pentaoxide",null,null,"Ja","sA.1","0,25 g/uur","0,05 mg/Nm3","2018-09-11","De weergegeven stofklasse staat in bijlage 12 van de Activiteitenregeling. Omdat deze stof op de lijst met potentiële ZZS staat kan worden overwogen om in het kader van vergunningverlening voor luchtemissies de strengere stofklassen MVP1 of MVP2 te hanteren. Bij overschrijding van de Emissiegrenswaarde voor deze stofklassen kunt u de emissie toetsen aan het (af te leiden) MTR."]
["108-05-4","203-545-4","vinylacetaat","vinyl acetate",null,"Ja",null,"gO.2","500 g/uur","50 mg/Nm3","2018-01-19","De weergegeven stofklasse staat in bijlage 12 van de Activiteitenregeling. Omdat deze stof op de lijst met potentiële ZZS staat kan worden overwogen om in het kader van vergunningverlening voor luchtemissies de strengere stofklassen MVP1 of MVP2 te hanteren. Bij overschrijding van de Emissiegrenswaarde voor deze stofklassen kunt u de emissie toetsen aan het (af te leiden) MTR."]
["107-25-5","203-475-4","vinylmethylether","methyl vinyl ether",null,"Ja",null,null,null,null,"2018-01-19"]
["2768-02-7","220-449-8","vinyltrimethoxisilaan","trimethoxyvinylsilane",null,"Ja",null,null,null,null,"2018-01-19"]
[null,"442-200-4","W-663","W-663","Ja",null,null,null,null,null,"2018-01-19"]
[null,"444-340-1","Wässerige loesung des MV31-Kaliumsalz","Wässerige loesung des MV31-Kaliumsalz","Ja","Ja",null,null,null,null,"2018-01-19"]
["4259-15-8","224-235-5","zinc bis[O,O-bis(2-ethylhexyl)] bis(dithiophosphate)","zinc bis[O,O-bis(2-ethylhexyl)] bis(dithiophosphate)","Ja",null,null,null,null,null,"2018-01-19"]
["137-30-4","205-288-3","ziram","ziram","Ja","Ja",null,null,null,null,"2018-01-19"]
[null,null,"zouten van perchloorzuur","Salts of pechoric acid","Ja",null,null,null,null,null,"2018-01-19"]

{"sheet":"pot-ZZS-checker","index":19,"n_rows":999,"n_cols":4,"rows_kept":999,"cut":false,"hidden":true,"merged":[[1,3,6,4]]}
["ZZS aanduiding",null,"CAS-nummer"]
[{"$f":"IF(B2>0,\"Deze stof wordt aangemerkt als potentiële ZZS\",\" \")","v":" "},{"$f":"COUNTIF('pot ZZS-lijst'!A:A,$C2)","v":0},"=+'beoordeling maatregel'!P17","In kolom C kan het Cas-nummer van de gebruikte of gevormde stoffen die in het afvalwater terecht kunnen komen worden ingevoerd. Ook kan een lijst in 1 keer worden geplakt. Vervolgens wordt de ingevoerde lijst o.b.v. CAS-nummer vergeleken met de lijst van ZZS-stoffen opgetseld door RIVM. De stoffen die als ZZS moeten worden aangemerkt worden in kolom A benoemd. tevens zal de cel in dat geval rood kleuren."]
[{"$f":"IF(B3>0,\"Deze stof wordt aangemerkt als potentiële ZZS\",\" \")","v":" "},{"$f":"COUNTIF('pot ZZS-lijst'!A:A,$C3)","v":0},{"$f":"+'beoordeling maatregel'!Q18","v":0}]
[" ",{"$f":"COUNTIF('pot ZZS-lijst'!A:A,$C4)","v":0},{"$f":"+'beoordeling maatregel'!Q19","v":"Fdrinkwater"}]
[" ",{"$f":"COUNTIF('pot ZZS-lijst'!A:A,$C5)","v":0},{"$f":"+'beoordeling maatregel'!Q20","v":" "}]
[" ",{"$f":"COUNTIF('pot ZZS-lijst'!A:A,$C6)","v":0},{"$f":"+'beoordeling maatregel'!Q21","v":0}]
[" ",{"$f":"COUNTIF('pot ZZS-lijst'!A:A,$C7)","v":0},{"$f":"+'beoordeling maatregel'!Q22","v":0}]
[" ",{"$f":"COUNTIF('pot ZZS-lijst'!A:A,$C8)","v":0},{"$f":"+'beoordeling maatregel'!Q23","v":0}]
[" ",{"$f":"COUNTIF('pot ZZS-lijst'!A:A,$C9)","v":0},{"$f":"+'beoordeling maatregel'!Q24","v":0}]
[" ",{"$f":"COUNTIF('pot ZZS-lijst'!A:A,$C10)","v":0},{"$f":"+'beoordeling maatregel'!Q25","v":0}]
[" ",{"$f":"COUNTIF('pot ZZS-lijst'!A:A,$C11)","v":0},{"$f":"+'beoordeling maatregel'!Q26","v":0}]
[" ",{"$f":"COUNTIF('pot ZZS-lijst'!A:A,$C12)","v":0},{"$f":"+'beoordeling maatregel'!Q27","v":"Vul CAS-nr. in !"}]
[" ",{"$f":"COUNTIF('pot ZZS-lijst'!A:A,$C13)","v":0},{"$f":"+'beoordeling maatregel'!Q28","v":"Voer Cas-nummer van de stof of aanduiding \"ZZS\" in, indien het zeker een ZZS betreft!"}]
[" ",{"$f":"COUNTIF('pot ZZS-lijst'!A:A,$C14)","v":0},{"$f":"+'beoordeling maatregel'!Q29","v":0}]
[" ",{"$f":"COUNTIF('pot ZZS-lijst'!A:A,$C15)","v":0},{"$f":"+'beoordeling maatregel'!Q30","v":0}]
[" ",{"$f":"COUNTIF('pot ZZS-lijst'!A:A,$C16)","v":0},{"$f":"+'beoordeling maatregel'!Q31","v":0}]
[" ",{"$f":"COUNTIF('pot ZZS-lijst'!A:A,$C17)","v":0},{"$f":"+'beoordeling maatregel'!Q32","v":0}]
[" ",{"$f":"COUNTIF('pot ZZS-lijst'!A:A,$C18)","v":0},{"$f":"+'beoordeling maatregel'!Q33","v":0}]
[" ",{"$f":"COUNTIF('pot ZZS-lijst'!A:A,$C19)","v":0},{"$f":"+'beoordeling maatregel'!Q34","v":0}]
[" ",{"$f":"COUNTIF('pot ZZS-lijst'!A:A,$C20)","v":0},{"$f":"+'beoordeling maatregel'!Q35","v":0}]
[" ",{"$f":"COUNTIF('pot ZZS-lijst'!A:A,$C21)","v":0},{"$f":"+'beoordeling maatregel'!Q36","v":0}]
[" ",{"$f":"COUNTIF('pot ZZS-lijst'!A:A,$C22)","v":0},{"$f":"+'beoordeling maatregel'!Q37","v":0}]
[" ",{"$f":"COUNTIF('pot ZZS-lijst'!A:A,$C23)","v":0},{"$f":"+'beoordeling maatregel'!Q38","v":0}]
[" ",{"$f":"COUNTIF('pot ZZS-lijst'!A:A,$C24)","v":0},{"$f":"+'beoordeling maatregel'!Q39","v":0}]
[" ",{"$f":"COUNTIF('pot ZZS-lijst'!A:A,$C25)","v":0},{"$f":"+'beoordeling maatregel'!Q40","v":0}]
[" ",{"$f":"COUNTIF('pot ZZS-lijst'!A:A,$C26)","v":0},{"$f":"+'beoordeling maatregel'!Q41","v":0}]
[" ",{"$f":"COUNTIF('pot ZZS-lijst'!A:A,$C27)","v":0},{"$f":"+'beoordeling maatregel'!Q42","v":0}]
[" ",{"$f":"COUNTIF('pot ZZS-lijst'!A:A,$C28)","v":0},{"$f":"+'beoordeling maatregel'!Q43","v":0}]
[" ",{"$f":"COUNTIF('pot ZZS-lijst'!A:A,$C29)","v":0},{"$f":"+'beoordeling maatregel'!Q44","v":0}]
[" ",{"$f":"COUNTIF('pot ZZS-lijst'!A:A,$C30)","v":0},{"$f":"+'beoordeling maatregel'!Q45","v":0}]
[" ",{"$f":"COUNTIF('pot ZZS-lijst'!A:A,$C31)","v":0},{"$f":"+'beoordeling maatregel'!Q46","v":0}]
[" ",{"$f":"COUNTIF('pot ZZS-lijst'!A:A,$C32)","v":0},{"$f":"+'beoordeling maatregel'!Q47","v":0}]
[" ",{"$f":"COUNTIF('pot ZZS-lijst'!A:A,$C33)","v":0},{"$f":"+'beoordeling maatregel'!Q48","v":0}]
[" ",{"$f":"COUNTIF('pot ZZS-lijst'!A:A,$C34)","v":0},{"$f":"+'beoordeling maatregel'!Q49","v":0}]
[" ",{"$f":"COUNTIF('pot ZZS-lijst'!A:A,$C35)","v":0},{"$f":"+'beoordeling maatregel'!Q50","v":0}]
[" ",{"$f":"COUNTIF('pot ZZS-lijst'!A:A,$C36)","v":0},{"$f":"+'beoordeling maatregel'!Q51","v":0}]
[" ",{"$f":"COUNTIF('pot ZZS-lijst'!A:A,$C37)","v":0},{"$f":"+'beoordeling maatregel'!Q52","v":0}]
[" ",{"$f":"COUNTIF('pot ZZS-lijst'!A:A,$C38)","v":0},{"$f":"+'beoordeling maatregel'!Q53","v":0}]
[" ",{"$f":"COUNTIF('pot ZZS-lijst'!A:A,$C39)","v":0},{"$f":"+'beoordeling maatregel'!Q54","v":0}]
[" ",{"$f":"COUNTIF('pot ZZS-lijst'!A:A,$C40)","v":0},{"$f":"+'beoordeling maatregel'!Q55","v":0}]
[" ",{"$f":"COUNTIF('pot ZZS-lijst'!A:A,$C41)","v":0},{"$f":"+'beoordeling maatregel'!Q56","v":0}]
[" ",{"$f":"COUNTIF('pot ZZS-lijst'!A:A,$C42)","v":0},{"$f":"+'beoordeling maatregel'!Q57","v":0}]
[" ",{"$f":"COUNTIF('pot ZZS-lijst'!A:A,$C43)","v":0},{"$f":"+'beoordeling maatregel'!Q58","v":0}]
[" ",{"$f":"COUNTIF('pot ZZS-lijst'!A:A,$C44)","v":0},{"$f":"+'beoordeling maatregel'!Q59","v":0}]
[" ",{"$f":"COUNTIF('pot ZZS-lijst'!A:A,$C45)","v":0},{"$f":"+'beoordeling maatregel'!Q60","v":0}]
[" ",{"$f":"COUNTIF('pot ZZS-lijst'!A:A,$C46)","v":0},{"$f":"+'beoordeling maatregel'!Q61","v":0}]
[" ",{"$f":"COUNTIF('pot ZZS-lijst'!A:A,$C47)","v":0},{"$f":"+'beoordeling maatregel'!Q62","v":0}]
[" ",{"$f":"COUNTIF('pot ZZS-lijst'!A:A,$C48)","v":0},{"$f":"+'beoordeling maatregel'!Q63","v":0}]
[" ",{"$f":"COUNTIF('pot ZZS-lijst'!A:A,$C49)","v":0},{"$f":"+'beoordeling maatregel'!Q64","v":0}]
[" ",{"$f":"COUNTIF('pot ZZS-lijst'!A:A,$C50)","v":0},{"$f":"+'beoordeling maatregel'!Q65","v":0}]
[" ",{"$f":"COUNTIF('pot ZZS-lijst'!A:A,$C51)","v":0},{"$f":"+'beoordeling maatregel'!Q66","v":0}]
[" ",{"$f":"COUNTIF('pot ZZS-lijst'!A:A,$C52)","v":0},{"$f":"+'beoordeling maatregel'!Q67","v":0}]
[" ",{"$f":"COUNTIF('pot ZZS-lijst'!A:A,$C53)","v":0},{"$f":"+'beoordeling maatregel'!Q68","v":0}]
[" ",{"$f":"COUNTIF('pot ZZS-lijst'!A:A,$C54)","v":0},{"$f":"+'beoordeling maatregel'!Q69","v":0}]
[" ",{"$f":"COUNTIF('pot ZZS-lijst'!A:A,$C55)","v":0},{"$f":"+'beoordeling maatregel'!Q70","v":0}]
[" ",{"$f":"COUNTIF('pot ZZS-lijst'!A:A,$C56)","v":0},{"$f":"+'beoordeling maatregel'!Q71","v":0}]
[" ",{"$f":"COUNTIF('pot ZZS-lijst'!A:A,$C57)","v":0},{"$f":"+'beoordeling maatregel'!Q72","v":0}]
[" ",{"$f":"COUNTIF('pot ZZS-lijst'!A:A,$C58)","v":0},{"$f":"+'beoordeling maatregel'!Q73","v":0}]
[" ",{"$f":"COUNTIF('pot ZZS-lijst'!A:A,$C59)","v":0},{"$f":"+'beoordeling maatregel'!Q74","v":0}]
[" ",{"$f":"COUNTIF('pot ZZS-lijst'!A:A,$C60)","v":0},{"$f":"+'beoordeling maatregel'!Q75","v":0}]
[" ",{"$f":"COUNTIF('pot ZZS-lijst'!A:A,$C61)","v":0},{"$f":"+'beoordeling maatregel'!Q76","v":0}]
[" ",{"$f":"COUNTIF('pot ZZS-lijst'!A:A,$C62)","v":0},{"$f":"+'beoordeling maatregel'!Q77","v":0}]
[" ",{"$f":"COUNTIF('pot ZZS-lijst'!A:A,$C63)","v":0},{"$f":"+'beoordeling maatregel'!Q78","v":0}]
[" ",{"$f":"COUNTIF('pot ZZS-lijst'!A:A,$C64)","v":0},{"$f":"+'beoordeling maatregel'!Q79","v":0}]
[" ",{"$f":"COUNTIF('pot ZZS-lijst'!A:A,$C65)","v":0},{"$f":"+'beoordeling maatregel'!Q80","v":0}]
[" ",{"$f":"COUNTIF('pot ZZS-lijst'!A:A,$C66)","v":0},{"$f":"+'beoordeling maatregel'!Q81","v":0}]
[{"$f":"IF(B67>0,\"Deze stof wordt aangemerkt als potentiële ZZS\",\" \")","v":" "},{"$f":"COUNTIF('pot ZZS-lijst'!A:A,$C67)","v":0},{"$f":"+'beoordeling maatregel'!Q82","v":0}]
[" ",{"$f":"COUNTIF('pot ZZS-lijst'!A:A,$C68)","v":0},{"$f":"+'beoordeling maatregel'!Q83","v":0}]
[" ",{"$f":"COUNTIF('pot ZZS-lijst'!A:A,$C69)","v":0},{"$f":"+'beoordeling maatregel'!Q84","v":0}]
[" ",{"$f":"COUNTIF('pot ZZS-lijst'!A:A,$C70)","v":0},{"$f":"+'beoordeling maatregel'!Q85","v":0}]
[" ",{"$f":"COUNTIF('pot ZZS-lijst'!A:A,$C71)","v":0},{"$f":"+'beoordeling maatregel'!Q86","v":0}]
[" ",{"$f":"COUNTIF('pot ZZS-lijst'!A:A,$C72)","v":0},{"$f":"+'beoordeling maatregel'!Q87","v":0}]
[" ",{"$f":"COUNTIF('pot ZZS-lijst'!A:A,$C73)","v":0},{"$f":"+'beoordeling maatregel'!Q88","v":0}]
[" ",{"$f":"COUNTIF('pot ZZS-lijst'!A:A,$C74)","v":0},{"$f":"+'beoordeling maatregel'!Q89","v":0}]
[" ",{"$f":"COUNTIF('pot ZZS-lijst'!A:A,$C75)","v":0},{"$f":"+'beoordeling maatregel'!Q90","v":0}]
[" ",{"$f":"COUNTIF('pot ZZS-lijst'!A:A,$C76)","v":0},{"$f":"+'beoordeling maatregel'!Q91","v":0}]
[" ",{"$f":"COUNTIF('pot ZZS-lijst'!A:A,$C77)","v":0},{"$f":"+'beoordeling maatregel'!Q92","v":0}]
[" ",{"$f":"COUNTIF('pot ZZS-lijst'!A:A,$C78)","v":0},{"$f":"+'beoordeling maatregel'!Q93","v":0}]
[" ",{"$f":"COUNTIF('pot ZZS-lijst'!A:A,$C79)","v":0},{"$f":"+'beoordeling maatregel'!Q94","v":0}]
[" ",{"$f":"COUNTIF('pot ZZS-lijst'!A:A,$C80)","v":0},{"$f":"+'beoordeling maatregel'!Q95","v":0}]
[" ",{"$f":"COUNTIF('pot ZZS-lijst'!A:A,$C81)","v":0},{"$f":"+'beoordeling maatregel'!Q96","v":0}]
[" ",{"$f":"COUNTIF('pot ZZS-lijst'!A:A,$C82)","v":0},{"$f":"+'beoordeling maatregel'!Q97","v":0}]
[" ",{"$f":"COUNTIF('pot ZZS-lijst'!A:A,$C83)","v":0},{"$f":"+'beoordeling maatregel'!Q98","v":0}]
[" ",{"$f":"COUNTIF('pot ZZS-lijst'!A:A,$C84)","v":0},{"$f":"+'beoordeling maatregel'!Q99","v":0}]
[" ",{"$f":"COUNTIF('pot ZZS-lijst'!A:A,$C85)","v":0},{"$f":"+'beoordeling maatregel'!Q100","v":0}]
[" ",{"$f":"COUNTIF('pot ZZS-lijst'!A:A,$C86)","v":0},{"$f":"+'beoordeling maatregel'!Q101","v":0}]
[" ",{"$f":"COUNTIF('pot ZZS-lijst'!A:A,$C87)","v":0},{"$f":"+'beoordeling maatregel'!Q102","v":0}]
[" ",{"$f":"COUNTIF('pot ZZS-lijst'!A:A,$C88)","v":0},{"$f":"+'beoordeling maatregel'!Q103","v":0}]
[" ",{"$f":"COUNTIF('pot ZZS-lijst'!A:A,$C89)","v":0},{"$f":"+'beoordeling maatregel'!Q104","v":0}]
[" ",{"$f":"COUNTIF('pot ZZS-lijst'!A:A,$C90)","v":0},{"$f":"+'beoordeling maatregel'!Q105","v":0}]
[" ",{"$f":"COUNTIF('pot ZZS-lijst'!A:A,$C91)","v":0},{"$f":"+'beoordeling maatregel'!Q106","v":0}]
[" ",{"$f":"COUNTIF('pot ZZS-lijst'!A:A,$C92)","v":0},{"$f":"+'beoordeling maatregel'!Q107","v":0}]
[" ",{"$f":"COUNTIF('pot ZZS-lijst'!A:A,$C93)","v":0},{"$f":"+'beoordeling maatregel'!Q108","v":0}]
[" ",{"$f":"COUNTIF('pot ZZS-lijst'!A:A,$C94)","v":0},{"$f":"+'beoordeling maatregel'!Q109","v":0}]
[" ",{"$f":"COUNTIF('pot ZZS-lijst'!A:A,$C95)","v":0},{"$f":"+'beoordeling maatregel'!Q110","v":0}]
[" ",{"$f":"COUNTIF('pot ZZS-lijst'!A:A,$C96)","v":0},{"$f":"+'beoordeling maatregel'!Q111","v":0}]
[" ",{"$f":"COUNTIF('pot ZZS-lijst'!A:A,$C97)","v":0},{"$f":"+'beoordeling maatregel'!Q112","v":0}]
[" ",{"$f":"COUNTIF('pot ZZS-lijst'!A:A,$C98)","v":0},{"$f":"+'beoordeling maatregel'!Q113","v":0}]
[" ",{"$f":"COUNTIF('pot ZZS-lijst'!A:A,$C99)","v":0},{"$f":"+'beoordeling maatregel'!Q114","v":0}]
[" ",{"$f":"COUNTIF('pot ZZS-lijst'!A:A,$C100)","v":0},{"$f":"+'beoordeling maatregel'!Q115","v":0}]
[" ",{"$f":"COUNTIF('pot ZZS-lijst'!A:A,$C101)","v":0},{"$f":"+'beoordeling maatregel'!Q116","v":0}]
[" ",{"$f":"COUNTIF('pot ZZS-lijst'!A:A,$C102)","v":0},{"$f":"+'beoordeling maatregel'!Q117","v":0}]
[" ",{"$f":"COUNTIF('pot ZZS-lijst'!A:A,$C103)","v":0},{"$f":"+'beoordeling maatregel'!Q118","v":0}]
[" ",{"$f":"COUNTIF('pot ZZS-lijst'!A:A,$C104)","v":0},{"$f":"+'beoordeling maatregel'!Q119","v":0}]
[" ",{"$f":"COUNTIF('pot ZZS-lijst'!A:A,$C105)","v":0},{"$f":"+'beoordeling maatregel'!Q120","v":0}]
[" ",{"$f":"COUNTIF('pot ZZS-lijst'!A:A,$C106)","v":0},{"$f":"+'beoordeling maatregel'!Q121","v":0}]
[" ",{"$f":"COUNTIF('pot ZZS-lijst'!A:A,$C107)","v":0},{"$f":"+'beoordeling maatregel'!Q122","v":0}]
[" ",{"$f":"COUNTIF('pot ZZS-lijst'!A:A,$C108)","v":0},{"$f":"+'beoordeling maatregel'!Q123","v":0}]
[" ",{"$f":"COUNTIF('pot ZZS-lijst'!A:A,$C109)","v":0},{"$f":"+'beoordeling maatregel'!Q124","v":0}]
[" ",{"$f":"COUNTIF('pot ZZS-lijst'!A:A,$C110)","v":0},{"$f":"+'beoordeling maatregel'!Q125","v":0}]
[" ",{"$f":"COUNTIF('pot ZZS-lijst'!A:A,$C111)","v":0},{"$f":"+'beoordeling maatregel'!Q126","v":0}]
[" ",{"$f":"COUNTIF('pot ZZS-lijst'!A:A,$C112)","v":0},{"$f":"+'beoordeling maatregel'!Q127","v":0}]
[" ",{"$f":"COUNTIF('pot ZZS-lijst'!A:A,$C113)","v":0},{"$f":"+'beoordeling maatregel'!Q128","v":0}]
[" ",{"$f":"COUNTIF('pot ZZS-lijst'!A:A,$C114)","v":0},{"$f":"+'beoordeling maatregel'!Q129","v":0}]
[" ",{"$f":"COUNTIF('pot ZZS-lijst'!A:A,$C115)","v":0},{"$f":"+'beoordeling maatregel'!Q130","v":0}]
[" ",{"$f":"COUNTIF('pot ZZS-lijst'!A:A,$C116)","v":0},{"$f":"+'beoordeling maatregel'!Q131","v":0}]
[" ",{"$f":"COUNTIF('pot ZZS-lijst'!A:A,$C117)","v":0},{"$f":"+'beoordeling maatregel'!Q132","v":0}]
[" ",{"$f":"COUNTIF('pot ZZS-lijst'!A:A,$C118)","v":0},{"$f":"+'beoordeling maatregel'!Q133","v":0}]
[" ",{"$f":"COUNTIF('pot ZZS-lijst'!A:A,$C119)","v":0},{"$f":"+'beoordeling maatregel'!Q134","v":0}]
[" ",{"$f":"COUNTIF('pot ZZS-lijst'!A:A,$C120)","v":0},{"$f":"+'beoordeling maatregel'!Q135","v":0}]
[" ",{"$f":"COUNTIF('pot ZZS-lijst'!A:A,$C121)","v":0},{"$f":"+'beoordeling maatregel'!Q136","v":0}]
[" ",{"$f":"COUNTIF('pot ZZS-lijst'!A:A,$C122)","v":0},{"$f":"+'beoordeling maatregel'!Q137","v":0}]
[" ",{"$f":"COUNTIF('pot ZZS-lijst'!A:A,$C123)","v":0},{"$f":"+'beoordeling maatregel'!Q138","v":0}]
[" ",{"$f":"COUNTIF('pot ZZS-lijst'!A:A,$C124)","v":0},{"$f":"+'beoordeling maatregel'!Q139","v":0}]
[" ",{"$f":"COUNTIF('pot ZZS-lijst'!A:A,$C125)","v":0},{"$f":"+'beoordeling maatregel'!Q140","v":0}]
[" ",{"$f":"COUNTIF('pot ZZS-lijst'!A:A,$C126)","v":0},{"$f":"+'beoordeling maatregel'!Q141","v":0}]
[" ",{"$f":"COUNTIF('pot ZZS-lijst'!A:A,$C127)","v":0},{"$f":"+'beoordeling maatregel'!Q142","v":0}]
[" ",{"$f":"COUNTIF('pot ZZS-lijst'!A:A,$C128)","v":0},{"$f":"+'beoordeling maatregel'!Q143","v":0}]
[" ",{"$f":"COUNTIF('pot ZZS-lijst'!A:A,$C129)","v":0},{"$f":"+'beoordeling maatregel'!Q144","v":0}]
[" ",{"$f":"COUNTIF('pot ZZS-lijst'!A:A,$C130)","v":0},{"$f":"+'beoordeling maatregel'!Q145","v":0}]
[{"$f":"IF(B131>0,\"Deze stof wordt aangemerkt als potentiële ZZS\",\" \")","v":" "},{"$f":"COUNTIF('pot ZZS-lijst'!A:A,$C131)","v":0},{"$f":"+'beoordeling maatregel'!Q146","v":0}]
[" ",{"$f":"COUNTIF('pot ZZS-lijst'!A:A,$C132)","v":0},{"$f":"+'beoordeling maatregel'!Q147","v":0}]
[" ",{"$f":"COUNTIF('pot ZZS-lijst'!A:A,$C133)","v":0},{"$f":"+'beoordeling maatregel'!Q148","v":0}]
[" ",{"$f":"COUNTIF('pot ZZS-lijst'!A:A,$C134)","v":0},{"$f":"+'beoordeling maatregel'!Q149","v":0}]
[" ",{"$f":"COUNTIF('pot ZZS-lijst'!A:A,$C135)","v":0},{"$f":"+'beoordeling maatregel'!Q150","v":0}]
[" ",{"$f":"COUNTIF('pot ZZS-lijst'!A:A,$C136)","v":0},{"$f":"+'beoordeling maatregel'!Q151","v":0}]
[" ",{"$f":"COUNTIF('pot ZZS-lijst'!A:A,$C137)","v":0},{"$f":"+'beoordeling maatregel'!Q152","v":0}]
[" ",{"$f":"COUNTIF('pot ZZS-lijst'!A:A,$C138)","v":0},{"$f":"+'beoordeling maatregel'!Q153","v":0}]
[" ",{"$f":"COUNTIF('pot ZZS-lijst'!A:A,$C139)","v":0},{"$f":"+'beoordeling maatregel'!Q154","v":0}]
[" ",{"$f":"COUNTIF('pot ZZS-lijst'!A:A,$C140)","v":0},{"$f":"+'beoordeling maatregel'!Q155","v":0}]
[" ",{"$f":"COUNTIF('pot ZZS-lijst'!A:A,$C141)","v":0},{"$f":"+'beoordeling maatregel'!Q156","v":0}]
[" ",{"$f":"COUNTIF('pot ZZS-lijst'!A:A,$C142)","v":0},{"$f":"+'beoordeling maatregel'!Q157","v":0}]
[" ",{"$f":"COUNTIF('pot ZZS-lijst'!A:A,$C143)","v":0},{"$f":"+'beoordeling maatregel'!Q158","v":0}]
[" ",{"$f":"COUNTIF('pot ZZS-lijst'!A:A,$C144)","v":0},{"$f":"+'beoordeling maatregel'!Q159","v":0}]
[" ",{"$f":"COUNTIF('pot ZZS-lijst'!A:A,$C145)","v":0},{"$f":"+'beoordeling maatregel'!Q160","v":0}]
[" ",{"$f":"COUNTIF('pot ZZS-lijst'!A:A,$C146)","v":0},{"$f":"+'beoordeling maatregel'!Q161","v":0}]
[" ",{"$f":"COUNTIF('pot ZZS-lijst'!A:A,$C147)","v":0},{"$f":"+'beoordeling maatregel'!Q162","v":0}]
[" ",{"$f":"COUNTIF('pot ZZS-lijst'!A:A,$C148)","v":0},{"$f":"+'beoordeling maatregel'!Q163","v":0}]
[" ",{"$f":"COUNTIF('pot ZZS-lijst'!A:A,$C149)","v":0},{"$f":"+'beoordeling maatregel'!Q164","v":0}]
[" ",{"$f":"COUNTIF('pot ZZS-lijst'!A:A,$C150)","v":0},{"$f":"+'beoordeling maatregel'!Q165","v":0}]
[" ",{"$f":"COUNTIF('pot ZZS-lijst'!A:A,$C151)","v":0},{"$f":"+'beoordeling maatregel'!Q166","v":0}]
[" ",{"$f":"COUNTIF('pot ZZS-lijst'!A:A,$C152)","v":0},{"$f":"+'beoordeling maatregel'!Q167","v":0}]
[" ",{"$f":"COUNTIF('pot ZZS-lijst'!A:A,$C153)","v":0},{"$f":"+'beoordeling maatregel'!Q168","v":0}]
[" ",{"$f":"COUNTIF('pot ZZS-lijst'!A:A,$C154)","v":0},{"$f":"+'beoordeling maatregel'!Q169","v":0}]
[" ",{"$f":"COUNTIF('pot ZZS-lijst'!A:A,$C155)","v":0},{"$f":"+'beoordeling maatregel'!Q170","v":0}]
[" ",{"$f":"COUNTIF('pot ZZS-lijst'!A:A,$C156)","v":0},{"$f":"+'beoordeling maatregel'!Q171","v":0}]
[" ",{"$f":"COUNTIF('pot ZZS-lijst'!A:A,$C157)","v":0},{"$f":"+'beoordeling maatregel'!Q172","v":0}]
[" ",{"$f":"COUNTIF('pot ZZS-lijst'!A:A,$C158)","v":0},{"$f":"+'beoordeling maatregel'!Q173","v":0}]
[" ",{"$f":"COUNTIF('pot ZZS-lijst'!A:A,$C159)","v":0},{"$f":"+'beoordeling maatregel'!Q174","v":0}]
[" ",{"$f":"COUNTIF('pot ZZS-lijst'!A:A,$C160)","v":0},{"$f":"+'beoordeling maatregel'!Q175","v":0}]
[" ",{"$f":"COUNTIF('pot ZZS-lijst'!A:A,$C161)","v":0},{"$f":"+'beoordeling maatregel'!Q176","v":0}]
[" ",{"$f":"COUNTIF('pot ZZS-lijst'!A:A,$C162)","v":0},{"$f":"+'beoordeling maatregel'!Q177","v":0}]
[" ",{"$f":"COUNTIF('pot ZZS-lijst'!A:A,$C163)","v":0},{"$f":"+'beoordeling maatregel'!Q178","v":0}]
[" ",{"$f":"COUNTIF('pot ZZS-lijst'!A:A,$C164)","v":0},{"$f":"+'beoordeling maatregel'!Q179","v":0}]
[" ",{"$f":"COUNTIF('pot ZZS-lijst'!A:A,$C165)","v":0},{"$f":"+'beoordeling maatregel'!Q180","v":0}]
[" ",{"$f":"COUNTIF('pot ZZS-lijst'!A:A,$C166)","v":0},{"$f":"+'beoordeling maatregel'!Q181","v":0}]
[" ",{"$f":"COUNTIF('pot ZZS-lijst'!A:A,$C167)","v":0},{"$f":"+'beoordeling maatregel'!Q182","v":0}]
[" ",{"$f":"COUNTIF('pot ZZS-lijst'!A:A,$C168)","v":0},{"$f":"+'beoordeling maatregel'!Q183","v":0}]
[" ",{"$f":"COUNTIF('pot ZZS-lijst'!A:A,$C169)","v":0},{"$f":"+'beoordeling maatregel'!Q184","v":0}]
[" ",{"$f":"COUNTIF('pot ZZS-lijst'!A:A,$C170)","v":0},{"$f":"+'beoordeling maatregel'!Q185","v":0}]
[" ",{"$f":"COUNTIF('pot ZZS-lijst'!A:A,$C171)","v":0},{"$f":"+'beoordeling maatregel'!Q186","v":0}]
[" ",{"$f":"COUNTIF('pot ZZS-lijst'!A:A,$C172)","v":0},{"$f":"+'beoordeling maatregel'!Q187","v":0}]
[" ",{"$f":"COUNTIF('pot ZZS-lijst'!A:A,$C173)","v":0},{"$f":"+'beoordeling maatregel'!Q188","v":0}]
[" ",{"$f":"COUNTIF('pot ZZS-lijst'!A:A,$C174)","v":0},{"$f":"+'beoordeling maatregel'!Q189","v":0}]
[" ",{"$f":"COUNTIF('pot ZZS-lijst'!A:A,$C175)","v":0},{"$f":"+'beoordeling maatregel'!Q190","v":0}]
[" ",{"$f":"COUNTIF('pot ZZS-lijst'!A:A,$C176)","v":0},{"$f":"+'beoordeling maatregel'!Q191","v":0}]
[" ",{"$f":"COUNTIF('pot ZZS-lijst'!A:A,$C177)","v":0},{"$f":"+'beoordeling maatregel'!Q192","v":0}]
[" ",{"$f":"COUNTIF('pot ZZS-lijst'!A:A,$C178)","v":0},{"$f":"+'beoordeling maatregel'!Q193","v":0}]
[" ",{"$f":"COUNTIF('pot ZZS-lijst'!A:A,$C179)","v":0},{"$f":"+'beoordeling maatregel'!Q194","v":0}]
[" ",{"$f":"COUNTIF('pot ZZS-lijst'!A:A,$C180)","v":0},{"$f":"+'beoordeling maatregel'!Q195","v":0}]
[" ",{"$f":"COUNTIF('pot ZZS-lijst'!A:A,$C181)","v":0},{"$f":"+'beoordeling maatregel'!Q196","v":0}]
[" ",{"$f":"COUNTIF('pot ZZS-lijst'!A:A,$C182)","v":0},{"$f":"+'beoordeling maatregel'!Q197","v":0}]
[" ",{"$f":"COUNTIF('pot ZZS-lijst'!A:A,$C183)","v":0},{"$f":"+'beoordeling maatregel'!Q198","v":0}]
[" ",{"$f":"COUNTIF('pot ZZS-lijst'!A:A,$C184)","v":0},{"$f":"+'beoordeling maatregel'!Q199","v":0}]
[" ",{"$f":"COUNTIF('pot ZZS-lijst'!A:A,$C185)","v":0},{"$f":"+'beoordeling maatregel'!Q200","v":0}]
[" ",{"$f":"COUNTIF('pot ZZS-lijst'!A:A,$C186)","v":0},{"$f":"+'beoordeling maatregel'!Q201","v":0}]
[" ",{"$f":"COUNTIF('pot ZZS-lijst'!A:A,$C187)","v":0},{"$f":"+'beoordeling maatregel'!Q202","v":0}]
[" ",{"$f":"COUNTIF('pot ZZS-lijst'!A:A,$C188)","v":0},{"$f":"+'beoordeling maatregel'!Q203","v":0}]
[" ",{"$f":"COUNTIF('pot ZZS-lijst'!A:A,$C189)","v":0},{"$f":"+'beoordeling maatregel'!Q204","v":0}]
[" ",{"$f":"COUNTIF('pot ZZS-lijst'!A:A,$C190)","v":0},{"$f":"+'beoordeling maatregel'!Q205","v":0}]
[" ",{"$f":"COUNTIF('pot ZZS-lijst'!A:A,$C191)","v":0},{"$f":"+'beoordeling maatregel'!Q206","v":0}]
[" ",{"$f":"COUNTIF('pot ZZS-lijst'!A:A,$C192)","v":0},{"$f":"+'beoordeling maatregel'!Q207","v":0}]
[" ",{"$f":"COUNTIF('pot ZZS-lijst'!A:A,$C193)","v":0},{"$f":"+'beoordeling maatregel'!Q208","v":0}]
[" ",{"$f":"COUNTIF('pot ZZS-lijst'!A:A,$C194)","v":0},{"$f":"+'beoordeling maatregel'!Q209","v":0}]
[{"$f":"IF(B195>0,\"Deze stof wordt aangemerkt als potentiële ZZS\",\" \")","v":" "},{"$f":"COUNTIF('pot ZZS-lijst'!A:A,$C195)","v":0},{"$f":"+'beoordeling maatregel'!Q210","v":0}]
[" ",{"$f":"COUNTIF('pot ZZS-lijst'!A:A,$C196)","v":0},{"$f":"+'beoordeling maatregel'!Q211","v":0}]
[" ",{"$f":"COUNTIF('pot ZZS-lijst'!A:A,$C197)","v":0},{"$f":"+'beoordeling maatregel'!Q212","v":0}]
[" ",{"$f":"COUNTIF('pot ZZS-lijst'!A:A,$C198)","v":0},{"$f":"+'beoordeling maatregel'!Q213","v":0}]
[" ",{"$f":"COUNTIF('pot ZZS-lijst'!A:A,$C199)","v":0},{"$f":"+'beoordeling maatregel'!Q214","v":0}]
[" ",{"$f":"COUNTIF('pot ZZS-lijst'!A:A,$C200)","v":0},{"$f":"+'beoordeling maatregel'!Q215","v":0}]
[" ",{"$f":"COUNTIF('pot ZZS-lijst'!A:A,$C201)","v":0},{"$f":"+'beoordeling maatregel'!Q216","v":0}]
[" ",{"$f":"COUNTIF('pot ZZS-lijst'!A:A,$C202)","v":0},{"$f":"+'beoordeling maatregel'!Q217","v":0}]
[" ",{"$f":"COUNTIF('pot ZZS-lijst'!A:A,$C203)","v":0},{"$f":"+'beoordeling maatregel'!Q218","v":0}]
[" ",{"$f":"COUNTIF('pot ZZS-lijst'!A:A,$C204)","v":0},{"$f":"+'beoordeling maatregel'!Q219","v":0}]
[" ",{"$f":"COUNTIF('pot ZZS-lijst'!A:A,$C205)","v":0},{"$f":"+'beoordeling maatregel'!Q220","v":0}]
[" ",{"$f":"COUNTIF('pot ZZS-lijst'!A:A,$C206)","v":0},{"$f":"+'beoordeling maatregel'!Q221","v":0}]
[" ",{"$f":"COUNTIF('pot ZZS-lijst'!A:A,$C207)","v":0},{"$f":"+'beoordeling maatregel'!Q222","v":0}]
[" ",{"$f":"COUNTIF('pot ZZS-lijst'!A:A,$C208)","v":0},{"$f":"+'beoordeling maatregel'!Q223","v":0}]
[" ",{"$f":"COUNTIF('pot ZZS-lijst'!A:A,$C209)","v":0},{"$f":"+'beoordeling maatregel'!Q224","v":0}]
[" ",{"$f":"COUNTIF('pot ZZS-lijst'!A:A,$C210)","v":0},{"$f":"+'beoordeling maatregel'!Q225","v":0}]
[" ",{"$f":"COUNTIF('pot ZZS-lijst'!A:A,$C211)","v":0},{"$f":"+'beoordeling maatregel'!Q226","v":0}]
[" ",{"$f":"COUNTIF('pot ZZS-lijst'!A:A,$C212)","v":0},{"$f":"+'beoordeling maatregel'!Q227","v":0}]
[" ",{"$f":"COUNTIF('pot ZZS-lijst'!A:A,$C213)","v":0},{"$f":"+'beoordeling maatregel'!Q228","v":0}]
[" ",{"$f":"COUNTIF('pot ZZS-lijst'!A:A,$C214)","v":0},{"$f":"+'beoordeling maatregel'!Q229","v":0}]
[" ",{"$f":"COUNTIF('pot ZZS-lijst'!A:A,$C215)","v":0},{"$f":"+'beoordeling maatregel'!Q230","v":0}]
[" ",{"$f":"COUNTIF('pot ZZS-lijst'!A:A,$C216)","v":0},{"$f":"+'beoordeling maatregel'!Q231","v":0}]
[" ",{"$f":"COUNTIF('pot ZZS-lijst'!A:A,$C217)","v":0},{"$f":"+'beoordeling maatregel'!Q232","v":0}]
[" ",{"$f":"COUNTIF('pot ZZS-lijst'!A:A,$C218)","v":0},{"$f":"+'beoordeling maatregel'!Q233","v":0}]
[" ",{"$f":"COUNTIF('pot ZZS-lijst'!A:A,$C219)","v":0},{"$f":"+'beoordeling maatregel'!Q234","v":0}]
[" ",{"$f":"COUNTIF('pot ZZS-lijst'!A:A,$C220)","v":0},{"$f":"+'beoordeling maatregel'!Q235","v":0}]
[" ",{"$f":"COUNTIF('pot ZZS-lijst'!A:A,$C221)","v":0},{"$f":"+'beoordeling maatregel'!Q236","v":0}]
[" ",{"$f":"COUNTIF('pot ZZS-lijst'!A:A,$C222)","v":0},{"$f":"+'beoordeling maatregel'!Q237","v":0}]
[" ",{"$f":"COUNTIF('pot ZZS-lijst'!A:A,$C223)","v":0},{"$f":"+'beoordeling maatregel'!Q238","v":0}]
[" ",{"$f":"COUNTIF('pot ZZS-lijst'!A:A,$C224)","v":0},{"$f":"+'beoordeling maatregel'!Q239","v":0}]
[" ",{"$f":"COUNTIF('pot ZZS-lijst'!A:A,$C225)","v":0},{"$f":"+'beoordeling maatregel'!Q240","v":0}]
[" ",{"$f":"COUNTIF('pot ZZS-lijst'!A:A,$C226)","v":0},{"$f":"+'beoordeling maatregel'!Q241","v":0}]
[" ",{"$f":"COUNTIF('pot ZZS-lijst'!A:A,$C227)","v":0},{"$f":"+'beoordeling maatregel'!Q242","v":0}]
[" ",{"$f":"COUNTIF('pot ZZS-lijst'!A:A,$C228)","v":0},{"$f":"+'beoordeling maatregel'!Q243","v":0}]
[" ",{"$f":"COUNTIF('pot ZZS-lijst'!A:A,$C229)","v":0},{"$f":"+'beoordeling maatregel'!Q244","v":0}]
[" ",{"$f":"COUNTIF('pot ZZS-lijst'!A:A,$C230)","v":0},{"$f":"+'beoordeling maatregel'!Q245","v":0}]
[" ",{"$f":"COUNTIF('pot ZZS-lijst'!A:A,$C231)","v":0},{"$f":"+'beoordeling maatregel'!Q246","v":0}]
[" ",{"$f":"COUNTIF('pot ZZS-lijst'!A:A,$C232)","v":0},{"$f":"+'beoordeling maatregel'!Q247","v":0}]
[" ",{"$f":"COUNTIF('pot ZZS-lijst'!A:A,$C233)","v":0},{"$f":"+'beoordeling maatregel'!Q248","v":0}]
[" ",{"$f":"COUNTIF('pot ZZS-lijst'!A:A,$C234)","v":0},{"$f":"+'beoordeling maatregel'!Q249","v":0}]
[" ",{"$f":"COUNTIF('pot ZZS-lijst'!A:A,$C235)","v":0},{"$f":"+'beoordeling maatregel'!Q250","v":0}]
[" ",{"$f":"COUNTIF('pot ZZS-lijst'!A:A,$C236)","v":0},{"$f":"+'beoordeling maatregel'!Q251","v":0}]
[" ",{"$f":"COUNTIF('pot ZZS-lijst'!A:A,$C237)","v":0},{"$f":"+'beoordeling maatregel'!Q252","v":0}]
[" ",{"$f":"COUNTIF('pot ZZS-lijst'!A:A,$C238)","v":0},{"$f":"+'beoordeling maatregel'!Q253","v":0}]
[" ",{"$f":"COUNTIF('pot ZZS-lijst'!A:A,$C239)","v":0},{"$f":"+'beoordeling maatregel'!Q254","v":0}]
[" ",{"$f":"COUNTIF('pot ZZS-lijst'!A:A,$C240)","v":0},{"$f":"+'beoordeling maatregel'!Q255","v":0}]
[" ",{"$f":"COUNTIF('pot ZZS-lijst'!A:A,$C241)","v":0},{"$f":"+'beoordeling maatregel'!Q256","v":0}]
[" ",{"$f":"COUNTIF('pot ZZS-lijst'!A:A,$C242)","v":0},{"$f":"+'beoordeling maatregel'!Q257","v":0}]
[" ",{"$f":"COUNTIF('pot ZZS-lijst'!A:A,$C243)","v":0},{"$f":"+'beoordeling maatregel'!Q258","v":0}]
[" ",{"$f":"COUNTIF('pot ZZS-lijst'!A:A,$C244)","v":0},{"$f":"+'beoordeling maatregel'!Q259","v":0}]
[" ",{"$f":"COUNTIF('pot ZZS-lijst'!A:A,$C245)","v":0},{"$f":"+'beoordeling maatregel'!Q260","v":0}]
[" ",{"$f":"COUNTIF('pot ZZS-lijst'!A:A,$C246)","v":0},{"$f":"+'beoordeling maatregel'!Q261","v":0}]
[" ",{"$f":"COUNTIF('pot ZZS-lijst'!A:A,$C247)","v":0},{"$f":"+'beoordeling maatregel'!Q262","v":0}]
[" ",{"$f":"COUNTIF('pot ZZS-lijst'!A:A,$C248)","v":0},{"$f":"+'beoordeling maatregel'!Q263","v":0}]
[" ",{"$f":"COUNTIF('pot ZZS-lijst'!A:A,$C249)","v":0},{"$f":"+'beoordeling maatregel'!Q264","v":0}]
[" ",{"$f":"COUNTIF('pot ZZS-lijst'!A:A,$C250)","v":0},{"$f":"+'beoordeling maatregel'!Q265","v":0}]
[" ",{"$f":"COUNTIF('pot ZZS-lijst'!A:A,$C251)","v":0},{"$f":"+'beoordeling maatregel'!Q266","v":0}]
[" ",{"$f":"COUNTIF('pot ZZS-lijst'!A:A,$C252)","v":0},{"$f":"+'beoordeling maatregel'!Q267","v":0}]
[" ",{"$f":"COUNTIF('pot ZZS-lijst'!A:A,$C253)","v":0},{"$f":"+'beoordeling maatregel'!Q268","v":0}]
[" ",{"$f":"COUNTIF('pot ZZS-lijst'!A:A,$C254)","v":0},{"$f":"+'beoordeling maatregel'!Q269","v":0}]
[" ",{"$f":"COUNTIF('pot ZZS-lijst'!A:A,$C255)","v":0},{"$f":"+'beoordeling maatregel'!Q270","v":0}]
[" ",{"$f":"COUNTIF('pot ZZS-lijst'!A:A,$C256)","v":0},{"$f":"+'beoordeling maatregel'!Q271","v":0}]
[" ",{"$f":"COUNTIF('pot ZZS-lijst'!A:A,$C257)","v":0},{"$f":"+'beoordeling maatregel'!Q272","v":0}]
[" ",{"$f":"COUNTIF('pot ZZS-lijst'!A:A,$C258)","v":0},{"$f":"+'beoordeling maatregel'!Q273","v":0}]
[{"$f":"IF(B259>0,\"Deze stof wordt aangemerkt als potentiële ZZS\",\" \")","v":" "},{"$f":"COUNTIF('pot ZZS-lijst'!A:A,$C259)","v":0},{"$f":"+'beoordeling maatregel'!Q274","v":0}]
[" ",{"$f":"COUNTIF('pot ZZS-lijst'!A:A,$C260)","v":0},{"$f":"+'beoordeling maatregel'!Q275","v":0}]
[" ",{"$f":"COUNTIF('pot ZZS-lijst'!A:A,$C261)","v":0},{"$f":"+'beoordeling maatregel'!Q276","v":0}]
[" ",{"$f":"COUNTIF('pot ZZS-lijst'!A:A,$C262)","v":0},{"$f":"+'beoordeling maatregel'!Q277","v":0}]
[" ",{"$f":"COUNTIF('pot ZZS-lijst'!A:A,$C263)","v":0},{"$f":"+'beoordeling maatregel'!Q278","v":0}]
[" ",{"$f":"COUNTIF('pot ZZS-lijst'!A:A,$C264)","v":0},{"$f":"+'beoordeling maatregel'!Q279","v":0}]
[" ",{"$f":"COUNTIF('pot ZZS-lijst'!A:A,$C265)","v":0},{"$f":"+'beoordeling maatregel'!Q280","v":0}]
[" ",{"$f":"COUNTIF('pot ZZS-lijst'!A:A,$C266)","v":0},{"$f":"+'beoordeling maatregel'!Q281","v":0}]
[" ",{"$f":"COUNTIF('pot ZZS-lijst'!A:A,$C267)","v":0},{"$f":"+'beoordeling maatregel'!Q282","v":0}]
[" ",{"$f":"COUNTIF('pot ZZS-lijst'!A:A,$C268)","v":0},{"$f":"+'beoordeling maatregel'!Q283","v":0}]
[" ",{"$f":"COUNTIF('pot ZZS-lijst'!A:A,$C269)","v":0},{"$f":"+'beoordeling maatregel'!Q284","v":0}]
[" ",{"$f":"COUNTIF('pot ZZS-lijst'!A:A,$C270)","v":0},{"$f":"+'beoordeling maatregel'!Q285","v":0}]
[" ",{"$f":"COUNTIF('pot ZZS-lijst'!A:A,$C271)","v":0},{"$f":"+'beoordeling maatregel'!Q286","v":0}]
[" ",{"$f":"COUNTIF('pot ZZS-lijst'!A:A,$C272)","v":0},{"$f":"+'beoordeling maatregel'!Q287","v":0}]
[" ",{"$f":"COUNTIF('pot ZZS-lijst'!A:A,$C273)","v":0},{"$f":"+'beoordeling maatregel'!Q288","v":0}]
[" ",{"$f":"COUNTIF('pot ZZS-lijst'!A:A,$C274)","v":0},{"$f":"+'beoordeling maatregel'!Q289","v":0}]
[" ",{"$f":"COUNTIF('pot ZZS-lijst'!A:A,$C275)","v":0},{"$f":"+'beoordeling maatregel'!Q290","v":0}]
[" ",{"$f":"COUNTIF('pot ZZS-lijst'!A:A,$C276)","v":0},{"$f":"+'beoordeling maatregel'!Q291","v":0}]
[" ",{"$f":"COUNTIF('pot ZZS-lijst'!A:A,$C277)","v":0},{"$f":"+'beoordeling maatregel'!Q292","v":0}]
[" ",{"$f":"COUNTIF('pot ZZS-lijst'!A:A,$C278)","v":0},{"$f":"+'beoordeling maatregel'!Q293","v":0}]
[" ",{"$f":"COUNTIF('pot ZZS-lijst'!A:A,$C279)","v":0},{"$f":"+'beoordeling maatregel'!Q294","v":0}]
[" ",{"$f":"COUNTIF('pot ZZS-lijst'!A:A,$C280)","v":0},{"$f":"+'beoordeling maatregel'!Q295","v":0}]
[" ",{"$f":"COUNTIF('pot ZZS-lijst'!A:A,$C281)","v":0},{"$f":"+'beoordeling maatregel'!Q296","v":0}]
[" ",{"$f":"COUNTIF('pot ZZS-lijst'!A:A,$C282)","v":0},{"$f":"+'beoordeling maatregel'!Q297","v":0}]
[" ",{"$f":"COUNTIF('pot ZZS-lijst'!A:A,$C283)","v":0},{"$f":"+'beoordeling maatregel'!Q298","v":0}]
[" ",{"$f":"COUNTIF('pot ZZS-lijst'!A:A,$C284)","v":0},{"$f":"+'beoordeling maatregel'!Q299","v":0}]
[" ",{"$f":"COUNTIF('pot ZZS-lijst'!A:A,$C285)","v":0},{"$f":"+'beoordeling maatregel'!Q300","v":0}]
[" ",{"$f":"COUNTIF('pot ZZS-lijst'!A:A,$C286)","v":0},{"$f":"+'beoordeling maatregel'!Q301","v":0}]
[" ",{"$f":"COUNTIF('pot ZZS-lijst'!A:A,$C287)","v":0},{"$f":"+'beoordeling maatregel'!Q302","v":0}]
[" ",{"$f":"COUNTIF('pot ZZS-lijst'!A:A,$C288)","v":0},{"$f":"+'beoordeling maatregel'!Q303","v":0}]
[" ",{"$f":"COUNTIF('pot ZZS-lijst'!A:A,$C289)","v":0},{"$f":"+'beoordeling maatregel'!Q304","v":0}]
[" ",{"$f":"COUNTIF('pot ZZS-lijst'!A:A,$C290)","v":0},{"$f":"+'beoordeling maatregel'!Q305","v":0}]
[" ",{"$f":"COUNTIF('pot ZZS-lijst'!A:A,$C291)","v":0},{"$f":"+'beoordeling maatregel'!Q306","v":0}]
[" ",{"$f":"COUNTIF('pot ZZS-lijst'!A:A,$C292)","v":0},{"$f":"+'beoordeling maatregel'!Q307","v":0}]
[" ",{"$f":"COUNTIF('pot ZZS-lijst'!A:A,$C293)","v":0},{"$f":"+'beoordeling maatregel'!Q308","v":0}]
[" ",{"$f":"COUNTIF('pot ZZS-lijst'!A:A,$C294)","v":0},{"$f":"+'beoordeling maatregel'!Q309","v":0}]
[" ",{"$f":"COUNTIF('pot ZZS-lijst'!A:A,$C295)","v":0},{"$f":"+'beoordeling maatregel'!Q310","v":0}]
[" ",{"$f":"COUNTIF('pot ZZS-lijst'!A:A,$C296)","v":0},{"$f":"+'beoordeling maatregel'!Q311","v":0}]
[" ",{"$f":"COUNTIF('pot ZZS-lijst'!A:A,$C297)","v":0},{"$f":"+'beoordeling maatregel'!Q312","v":0}]
[" ",{"$f":"COUNTIF('pot ZZS-lijst'!A:A,$C298)","v":0},{"$f":"+'beoordeling maatregel'!Q313","v":0}]
[" ",{"$f":"COUNTIF('pot ZZS-lijst'!A:A,$C299)","v":0},{"$f":"+'beoordeling maatregel'!Q314","v":0}]
[" ",{"$f":"COUNTIF('pot ZZS-lijst'!A:A,$C300)","v":0},{"$f":"+'beoordeling maatregel'!Q315","v":0}]
[" ",{"$f":"COUNTIF('pot ZZS-lijst'!A:A,$C301)","v":0},{"$f":"+'beoordeling maatregel'!Q316","v":0}]
[" ",{"$f":"COUNTIF('pot ZZS-lijst'!A:A,$C302)","v":0},{"$f":"+'beoordeling maatregel'!Q317","v":0}]
[" ",{"$f":"COUNTIF('pot ZZS-lijst'!A:A,$C303)","v":0},{"$f":"+'beoordeling maatregel'!Q318","v":0}]
[" ",{"$f":"COUNTIF('pot ZZS-lijst'!A:A,$C304)","v":0},{"$f":"+'beoordeling maatregel'!Q319","v":0}]
[" ",{"$f":"COUNTIF('pot ZZS-lijst'!A:A,$C305)","v":0},{"$f":"+'beoordeling maatregel'!Q320","v":0}]
[" ",{"$f":"COUNTIF('pot ZZS-lijst'!A:A,$C306)","v":0},{"$f":"+'beoordeling maatregel'!Q321","v":0}]
[" ",{"$f":"COUNTIF('pot ZZS-lijst'!A:A,$C307)","v":0},{"$f":"+'beoordeling maatregel'!Q322","v":0}]
[" ",{"$f":"COUNTIF('pot ZZS-lijst'!A:A,$C308)","v":0},{"$f":"+'beoordeling maatregel'!Q323","v":0}]
[" ",{"$f":"COUNTIF('pot ZZS-lijst'!A:A,$C309)","v":0},{"$f":"+'beoordeling maatregel'!Q324","v":0}]
[" ",{"$f":"COUNTIF('pot ZZS-lijst'!A:A,$C310)","v":0},{"$f":"+'beoordeling maatregel'!Q325","v":0}]
[" ",{"$f":"COUNTIF('pot ZZS-lijst'!A:A,$C311)","v":0},{"$f":"+'beoordeling maatregel'!Q326","v":0}]
[" ",{"$f":"COUNTIF('pot ZZS-lijst'!A:A,$C312)","v":0},{"$f":"+'beoordeling maatregel'!Q327","v":0}]
[" ",{"$f":"COUNTIF('pot ZZS-lijst'!A:A,$C313)","v":0},{"$f":"+'beoordeling maatregel'!Q328","v":0}]
[" ",{"$f":"COUNTIF('pot ZZS-lijst'!A:A,$C314)","v":0},{"$f":"+'beoordeling maatregel'!Q329","v":0}]
[" ",{"$f":"COUNTIF('pot ZZS-lijst'!A:A,$C315)","v":0},{"$f":"+'beoordeling maatregel'!Q330","v":0}]
[" ",{"$f":"COUNTIF('pot ZZS-lijst'!A:A,$C316)","v":0},{"$f":"+'beoordeling maatregel'!Q331","v":0}]
[" ",{"$f":"COUNTIF('pot ZZS-lijst'!A:A,$C317)","v":0},{"$f":"+'beoordeling maatregel'!Q332","v":0}]
[" ",{"$f":"COUNTIF('pot ZZS-lijst'!A:A,$C318)","v":0},{"$f":"+'beoordeling maatregel'!Q333","v":0}]
[" ",{"$f":"COUNTIF('pot ZZS-lijst'!A:A,$C319)","v":0},{"$f":"+'beoordeling maatregel'!Q334","v":0}]
[" ",{"$f":"COUNTIF('pot ZZS-lijst'!A:A,$C320)","v":0},{"$f":"+'beoordeling maatregel'!Q335","v":0}]
[" ",{"$f":"COUNTIF('pot ZZS-lijst'!A:A,$C321)","v":0},{"$f":"+'beoordeling maatregel'!Q336","v":0}]
[" ",{"$f":"COUNTIF('pot ZZS-lijst'!A:A,$C322)","v":0},{"$f":"+'beoordeling maatregel'!Q337","v":0}]
[{"$f":"IF(B323>0,\"Deze stof wordt aangemerkt als potentiële ZZS\",\" \")","v":" "},{"$f":"COUNTIF('pot ZZS-lijst'!A:A,$C323)","v":0},{"$f":"+'beoordeling maatregel'!Q338","v":0}]
[" ",{"$f":"COUNTIF('pot ZZS-lijst'!A:A,$C324)","v":0},{"$f":"+'beoordeling maatregel'!Q339","v":0}]
[" ",{"$f":"COUNTIF('pot ZZS-lijst'!A:A,$C325)","v":0},{"$f":"+'beoordeling maatregel'!Q340","v":0}]
[" ",{"$f":"COUNTIF('pot ZZS-lijst'!A:A,$C326)","v":0},{"$f":"+'beoordeling maatregel'!Q341","v":0}]
[" ",{"$f":"COUNTIF('pot ZZS-lijst'!A:A,$C327)","v":0},{"$f":"+'beoordeling maatregel'!Q342","v":0}]
[" ",{"$f":"COUNTIF('pot ZZS-lijst'!A:A,$C328)","v":0},{"$f":"+'beoordeling maatregel'!Q343","v":0}]
[" ",{"$f":"COUNTIF('pot ZZS-lijst'!A:A,$C329)","v":0},{"$f":"+'beoordeling maatregel'!Q344","v":0}]
[" ",{"$f":"COUNTIF('pot ZZS-lijst'!A:A,$C330)","v":0},{"$f":"+'beoordeling maatregel'!Q345","v":0}]
[" ",{"$f":"COUNTIF('pot ZZS-lijst'!A:A,$C331)","v":0},{"$f":"+'beoordeling maatregel'!Q346","v":0}]
[" ",{"$f":"COUNTIF('pot ZZS-lijst'!A:A,$C332)","v":0},{"$f":"+'beoordeling maatregel'!Q347","v":0}]
[" ",{"$f":"COUNTIF('pot ZZS-lijst'!A:A,$C333)","v":0},{"$f":"+'beoordeling maatregel'!Q348","v":0}]
[" ",{"$f":"COUNTIF('pot ZZS-lijst'!A:A,$C334)","v":0},{"$f":"+'beoordeling maatregel'!Q349","v":0}]
[" ",{"$f":"COUNTIF('pot ZZS-lijst'!A:A,$C335)","v":0},{"$f":"+'beoordeling maatregel'!Q350","v":0}]
[" ",{"$f":"COUNTIF('pot ZZS-lijst'!A:A,$C336)","v":0},{"$f":"+'beoordeling maatregel'!Q351","v":0}]
[" ",{"$f":"COUNTIF('pot ZZS-lijst'!A:A,$C337)","v":0},{"$f":"+'beoordeling maatregel'!Q352","v":0}]
[" ",{"$f":"COUNTIF('pot ZZS-lijst'!A:A,$C338)","v":0},{"$f":"+'beoordeling maatregel'!Q353","v":0}]
[" ",{"$f":"COUNTIF('pot ZZS-lijst'!A:A,$C339)","v":0},{"$f":"+'beoordeling maatregel'!Q354","v":0}]
[" ",{"$f":"COUNTIF('pot ZZS-lijst'!A:A,$C340)","v":0},{"$f":"+'beoordeling maatregel'!Q355","v":0}]
[" ",{"$f":"COUNTIF('pot ZZS-lijst'!A:A,$C341)","v":0},{"$f":"+'beoordeling maatregel'!Q356","v":0}]
[" ",{"$f":"COUNTIF('pot ZZS-lijst'!A:A,$C342)","v":0},{"$f":"+'beoordeling maatregel'!Q357","v":0}]
[" ",{"$f":"COUNTIF('pot ZZS-lijst'!A:A,$C343)","v":0},{"$f":"+'beoordeling maatregel'!Q358","v":0}]
[" ",{"$f":"COUNTIF('pot ZZS-lijst'!A:A,$C344)","v":0},{"$f":"+'beoordeling maatregel'!Q359","v":0}]
[" ",{"$f":"COUNTIF('pot ZZS-lijst'!A:A,$C345)","v":0},{"$f":"+'beoordeling maatregel'!Q360","v":0}]
[" ",{"$f":"COUNTIF('pot ZZS-lijst'!A:A,$C346)","v":0},{"$f":"+'beoordeling maatregel'!Q361","v":0}]
[" ",{"$f":"COUNTIF('pot ZZS-lijst'!A:A,$C347)","v":0},{"$f":"+'beoordeling maatregel'!Q362","v":0}]
[" ",{"$f":"COUNTIF('pot ZZS-lijst'!A:A,$C348)","v":0},{"$f":"+'beoordeling maatregel'!Q363","v":0}]
[" ",{"$f":"COUNTIF('pot ZZS-lijst'!A:A,$C349)","v":0},{"$f":"+'beoordeling maatregel'!Q364","v":0}]
[" ",{"$f":"COUNTIF('pot ZZS-lijst'!A:A,$C350)","v":0},{"$f":"+'beoordeling maatregel'!Q365","v":0}]
[" ",{"$f":"COUNTIF('pot ZZS-lijst'!A:A,$C351)","v":0},{"$f":"+'beoordeling maatregel'!Q366","v":0}]
[" ",{"$f":"COUNTIF('pot ZZS-lijst'!A:A,$C352)","v":0},{"$f":"+'beoordeling maatregel'!Q367","v":0}]
[" ",{"$f":"COUNTIF('pot ZZS-lijst'!A:A,$C353)","v":0},{"$f":"+'beoordeling maatregel'!Q368","v":0}]
[" ",{"$f":"COUNTIF('pot ZZS-lijst'!A:A,$C354)","v":0},{"$f":"+'beoordeling maatregel'!Q369","v":0}]
[" ",{"$f":"COUNTIF('pot ZZS-lijst'!A:A,$C355)","v":0},{"$f":"+'beoordeling maatregel'!Q370","v":0}]
[" ",{"$f":"COUNTIF('pot ZZS-lijst'!A:A,$C356)","v":0},{"$f":"+'beoordeling maatregel'!Q371","v":0}]
[" ",{"$f":"COUNTIF('pot ZZS-lijst'!A:A,$C357)","v":0},{"$f":"+'beoordeling maatregel'!Q372","v":0}]
[" ",{"$f":"COUNTIF('pot ZZS-lijst'!A:A,$C358)","v":0},{"$f":"+'beoordeling maatregel'!Q373","v":0}]
[" ",{"$f":"COUNTIF('pot ZZS-lijst'!A:A,$C359)","v":0},{"$f":"+'beoordeling maatregel'!Q374","v":0}]
[" ",{"$f":"COUNTIF('pot ZZS-lijst'!A:A,$C360)","v":0},{"$f":"+'beoordeling maatregel'!Q375","v":0}]
[" ",{"$f":"COUNTIF('pot ZZS-lijst'!A:A,$C361)","v":0},{"$f":"+'beoordeling maatregel'!Q376","v":0}]
[" ",{"$f":"COUNTIF('pot ZZS-lijst'!A:A,$C362)","v":0},{"$f":"+'beoordeling maatregel'!Q377","v":0}]
[" ",{"$f":"COUNTIF('pot ZZS-lijst'!A:A,$C363)","v":0},{"$f":"+'beoordeling maatregel'!Q378","v":0}]
[" ",{"$f":"COUNTIF('pot ZZS-lijst'!A:A,$C364)","v":0},{"$f":"+'beoordeling maatregel'!Q379","v":0}]
[" ",{"$f":"COUNTIF('pot ZZS-lijst'!A:A,$C365)","v":0},{"$f":"+'beoordeling maatregel'!Q380","v":0}]
[" ",{"$f":"COUNTIF('pot ZZS-lijst'!A:A,$C366)","v":0},{"$f":"+'beoordeling maatregel'!Q381","v":0}]
[" ",{"$f":"COUNTIF('pot ZZS-lijst'!A:A,$C367)","v":0},{"$f":"+'beoordeling maatregel'!Q382","v":0}]
[" ",{"$f":"COUNTIF('pot ZZS-lijst'!A:A,$C368)","v":0},{"$f":"+'beoordeling maatregel'!Q383","v":0}]
[" ",{"$f":"COUNTIF('pot ZZS-lijst'!A:A,$C369)","v":0},{"$f":"+'beoordeling maatregel'!Q384","v":0}]
[" ",{"$f":"COUNTIF('pot ZZS-lijst'!A:A,$C370)","v":0},{"$f":"+'beoordeling maatregel'!Q385","v":0}]
[" ",{"$f":"COUNTIF('pot ZZS-lijst'!A:A,$C371)","v":0},{"$f":"+'beoordeling maatregel'!Q386","v":0}]
[" ",{"$f":"COUNTIF('pot ZZS-lijst'!A:A,$C372)","v":0},{"$f":"+'beoordeling maatregel'!Q387","v":0}]
[" ",{"$f":"COUNTIF('pot ZZS-lijst'!A:A,$C373)","v":0},{"$f":"+'beoordeling maatregel'!Q388","v":0}]
[" ",{"$f":"COUNTIF('pot ZZS-lijst'!A:A,$C374)","v":0},{"$f":"+'beoordeling maatregel'!Q389","v":0}]
[" ",{"$f":"COUNTIF('pot ZZS-lijst'!A:A,$C375)","v":0},{"$f":"+'beoordeling maatregel'!Q390","v":0}]
[" ",{"$f":"COUNTIF('pot ZZS-lijst'!A:A,$C376)","v":0},{"$f":"+'beoordeling maatregel'!Q391","v":0}]
[" ",{"$f":"COUNTIF('pot ZZS-lijst'!A:A,$C377)","v":0},{"$f":"+'beoordeling maatregel'!Q392","v":0}]
[" ",{"$f":"COUNTIF('pot ZZS-lijst'!A:A,$C378)","v":0},{"$f":"+'beoordeling maatregel'!Q393","v":0}]
[" ",{"$f":"COUNTIF('pot ZZS-lijst'!A:A,$C379)","v":0},{"$f":"+'beoordeling maatregel'!Q394","v":0}]
[" ",{"$f":"COUNTIF('pot ZZS-lijst'!A:A,$C380)","v":0},{"$f":"+'beoordeling maatregel'!Q395","v":0}]
[" ",{"$f":"COUNTIF('pot ZZS-lijst'!A:A,$C381)","v":0},{"$f":"+'beoordeling maatregel'!Q396","v":0}]
[" ",{"$f":"COUNTIF('pot ZZS-lijst'!A:A,$C382)","v":0},{"$f":"+'beoordeling maatregel'!Q397","v":0}]
[" ",{"$f":"COUNTIF('pot ZZS-lijst'!A:A,$C383)","v":0},{"$f":"+'beoordeling maatregel'!Q398","v":0}]
[" ",{"$f":"COUNTIF('pot ZZS-lijst'!A:A,$C384)","v":0},{"$f":"+'beoordeling maatregel'!Q399","v":0}]
[" ",{"$f":"COUNTIF('pot ZZS-lijst'!A:A,$C385)","v":0},{"$f":"+'beoordeling maatregel'!Q400","v":0}]
[" ",{"$f":"COUNTIF('pot ZZS-lijst'!A:A,$C386)","v":0},{"$f":"+'beoordeling maatregel'!Q401","v":0}]
[{"$f":"IF(B387>0,\"Deze stof wordt aangemerkt als potentiële ZZS\",\" \")","v":" "},{"$f":"COUNTIF('pot ZZS-lijst'!A:A,$C387)","v":0},{"$f":"+'beoordeling maatregel'!Q402","v":0}]
[" ",{"$f":"COUNTIF('pot ZZS-lijst'!A:A,$C388)","v":0},{"$f":"+'beoordeling maatregel'!Q403","v":0}]
[" ",{"$f":"COUNTIF('pot ZZS-lijst'!A:A,$C389)","v":0},{"$f":"+'beoordeling maatregel'!Q404","v":0}]
[" ",{"$f":"COUNTIF('pot ZZS-lijst'!A:A,$C390)","v":0},{"$f":"+'beoordeling maatregel'!Q405","v":0}]
[" ",{"$f":"COUNTIF('pot ZZS-lijst'!A:A,$C391)","v":0},{"$f":"+'beoordeling maatregel'!Q406","v":0}]
[" ",{"$f":"COUNTIF('pot ZZS-lijst'!A:A,$C392)","v":0},{"$f":"+'beoordeling maatregel'!Q407","v":0}]
[" ",{"$f":"COUNTIF('pot ZZS-lijst'!A:A,$C393)","v":0},{"$f":"+'beoordeling maatregel'!Q408","v":0}]
[" ",{"$f":"COUNTIF('pot ZZS-lijst'!A:A,$C394)","v":0},{"$f":"+'beoordeling maatregel'!Q409","v":0}]
[" ",{"$f":"COUNTIF('pot ZZS-lijst'!A:A,$C395)","v":0},{"$f":"+'beoordeling maatregel'!Q410","v":0}]
[" ",{"$f":"COUNTIF('pot ZZS-lijst'!A:A,$C396)","v":0},{"$f":"+'beoordeling maatregel'!Q411","v":0}]
[" ",{"$f":"COUNTIF('pot ZZS-lijst'!A:A,$C397)","v":0},{"$f":"+'beoordeling maatregel'!Q412","v":0}]
[" ",{"$f":"COUNTIF('pot ZZS-lijst'!A:A,$C398)","v":0},{"$f":"+'beoordeling maatregel'!Q413","v":0}]
[" ",{"$f":"COUNTIF('pot ZZS-lijst'!A:A,$C399)","v":0},{"$f":"+'beoordeling maatregel'!Q414","v":0}]
[" ",{"$f":"COUNTIF('pot ZZS-lijst'!A:A,$C400)","v":0},{"$f":"+'beoordeling maatregel'!Q415","v":0}]
[" ",{"$f":"COUNTIF('pot ZZS-lijst'!A:A,$C401)","v":0},{"$f":"+'beoordeling maatregel'!Q416","v":0}]
[" ",{"$f":"COUNTIF('pot ZZS-lijst'!A:A,$C402)","v":0},{"$f":"+'beoordeling maatregel'!Q417","v":0}]
[" ",{"$f":"COUNTIF('pot ZZS-lijst'!A:A,$C403)","v":0},{"$f":"+'beoordeling maatregel'!Q418","v":0}]
[" ",{"$f":"COUNTIF('pot ZZS-lijst'!A:A,$C404)","v":0},{"$f":"+'beoordeling maatregel'!Q419","v":0}]
[" ",{"$f":"COUNTIF('pot ZZS-lijst'!A:A,$C405)","v":0},{"$f":"+'beoordeling maatregel'!Q420","v":0}]
[" ",{"$f":"COUNTIF('pot ZZS-lijst'!A:A,$C406)","v":0},{"$f":"+'beoordeling maatregel'!Q421","v":0}]
[" ",{"$f":"COUNTIF('pot ZZS-lijst'!A:A,$C407)","v":0},{"$f":"+'beoordeling maatregel'!Q422","v":0}]
[" ",{"$f":"COUNTIF('pot ZZS-lijst'!A:A,$C408)","v":0},{"$f":"+'beoordeling maatregel'!Q423","v":0}]
[" ",{"$f":"COUNTIF('pot ZZS-lijst'!A:A,$C409)","v":0},{"$f":"+'beoordeling maatregel'!Q424","v":0}]
[" ",{"$f":"COUNTIF('pot ZZS-lijst'!A:A,$C410)","v":0},{"$f":"+'beoordeling maatregel'!Q425","v":0}]
[" ",{"$f":"COUNTIF('pot ZZS-lijst'!A:A,$C411)","v":0},{"$f":"+'beoordeling maatregel'!Q426","v":0}]
[" ",{"$f":"COUNTIF('pot ZZS-lijst'!A:A,$C412)","v":0},{"$f":"+'beoordeling maatregel'!Q427","v":0}]
[" ",{"$f":"COUNTIF('pot ZZS-lijst'!A:A,$C413)","v":0},{"$f":"+'beoordeling maatregel'!Q428","v":0}]
[" ",{"$f":"COUNTIF('pot ZZS-lijst'!A:A,$C414)","v":0},{"$f":"+'beoordeling maatregel'!Q429","v":0}]
[" ",{"$f":"COUNTIF('pot ZZS-lijst'!A:A,$C415)","v":0},{"$f":"+'beoordeling maatregel'!Q430","v":0}]
[" ",{"$f":"COUNTIF('pot ZZS-lijst'!A:A,$C416)","v":0},{"$f":"+'beoordeling maatregel'!Q431","v":0}]
[" ",{"$f":"COUNTIF('pot ZZS-lijst'!A:A,$C417)","v":0},{"$f":"+'beoordeling maatregel'!Q432","v":0}]
[" ",{"$f":"COUNTIF('pot ZZS-lijst'!A:A,$C418)","v":0},{"$f":"+'beoordeling maatregel'!Q433","v":0}]
[" ",{"$f":"COUNTIF('pot ZZS-lijst'!A:A,$C419)","v":0},{"$f":"+'beoordeling maatregel'!Q434","v":0}]
[" ",{"$f":"COUNTIF('pot ZZS-lijst'!A:A,$C420)","v":0},{"$f":"+'beoordeling maatregel'!Q435","v":0}]
[" ",{"$f":"COUNTIF('pot ZZS-lijst'!A:A,$C421)","v":0},{"$f":"+'beoordeling maatregel'!Q436","v":0}]
[" ",{"$f":"COUNTIF('pot ZZS-lijst'!A:A,$C422)","v":0},{"$f":"+'beoordeling maatregel'!Q437","v":0}]
[" ",{"$f":"COUNTIF('pot ZZS-lijst'!A:A,$C423)","v":0},{"$f":"+'beoordeling maatregel'!Q438","v":0}]
[" ",{"$f":"COUNTIF('pot ZZS-lijst'!A:A,$C424)","v":0},{"$f":"+'beoordeling maatregel'!Q439","v":0}]
[" ",{"$f":"COUNTIF('pot ZZS-lijst'!A:A,$C425)","v":0},{"$f":"+'beoordeling maatregel'!Q440","v":0}]
[" ",{"$f":"COUNTIF('pot ZZS-lijst'!A:A,$C426)","v":0},{"$f":"+'beoordeling maatregel'!Q441","v":0}]
[" ",{"$f":"COUNTIF('pot ZZS-lijst'!A:A,$C427)","v":0},{"$f":"+'beoordeling maatregel'!Q442","v":0}]
[" ",{"$f":"COUNTIF('pot ZZS-lijst'!A:A,$C428)","v":0},{"$f":"+'beoordeling maatregel'!Q443","v":0}]
[" ",{"$f":"COUNTIF('pot ZZS-lijst'!A:A,$C429)","v":0},{"$f":"+'beoordeling maatregel'!Q444","v":0}]
[" ",{"$f":"COUNTIF('pot ZZS-lijst'!A:A,$C430)","v":0},{"$f":"+'beoordeling maatregel'!Q445","v":0}]
[" ",{"$f":"COUNTIF('pot ZZS-lijst'!A:A,$C431)","v":0},{"$f":"+'beoordeling maatregel'!Q446","v":0}]
[" ",{"$f":"COUNTIF('pot ZZS-lijst'!A:A,$C432)","v":0},{"$f":"+'beoordeling maatregel'!Q447","v":0}]
[" ",{"$f":"COUNTIF('pot ZZS-lijst'!A:A,$C433)","v":0},{"$f":"+'beoordeling maatregel'!Q448","v":0}]
[" ",{"$f":"COUNTIF('pot ZZS-lijst'!A:A,$C434)","v":0},{"$f":"+'beoordeling maatregel'!Q449","v":0}]
[" ",{"$f":"COUNTIF('pot ZZS-lijst'!A:A,$C435)","v":0},{"$f":"+'beoordeling maatregel'!Q450","v":0}]
[" ",{"$f":"COUNTIF('pot ZZS-lijst'!A:A,$C436)","v":0},{"$f":"+'beoordeling maatregel'!Q451","v":0}]
[" ",{"$f":"COUNTIF('pot ZZS-lijst'!A:A,$C437)","v":0},{"$f":"+'beoordeling maatregel'!Q452","v":0}]
[" ",{"$f":"COUNTIF('pot ZZS-lijst'!A:A,$C438)","v":0},{"$f":"+'beoordeling maatregel'!Q453","v":0}]
[" ",{"$f":"COUNTIF('pot ZZS-lijst'!A:A,$C439)","v":0},{"$f":"+'beoordeling maatregel'!Q454","v":0}]
[" ",{"$f":"COUNTIF('pot ZZS-lijst'!A:A,$C440)","v":0},{"$f":"+'beoordeling maatregel'!Q455","v":0}]
[" ",{"$f":"COUNTIF('pot ZZS-lijst'!A:A,$C441)","v":0},{"$f":"+'beoordeling maatregel'!Q456","v":0}]
[" ",{"$f":"COUNTIF('pot ZZS-lijst'!A:A,$C442)","v":0},{"$f":"+'beoordeling maatregel'!Q457","v":0}]
[" ",{"$f":"COUNTIF('pot ZZS-lijst'!A:A,$C443)","v":0},{"$f":"+'beoordeling maatregel'!Q458","v":0}]
[" ",{"$f":"COUNTIF('pot ZZS-lijst'!A:A,$C444)","v":0},{"$f":"+'beoordeling maatregel'!Q459","v":0}]
[" ",{"$f":"COUNTIF('pot ZZS-lijst'!A:A,$C445)","v":0},{"$f":"+'beoordeling maatregel'!Q460","v":0}]
[" ",{"$f":"COUNTIF('pot ZZS-lijst'!A:A,$C446)","v":0},{"$f":"+'beoordeling maatregel'!Q461","v":0}]
[" ",{"$f":"COUNTIF('pot ZZS-lijst'!A:A,$C447)","v":0},{"$f":"+'beoordeling maatregel'!Q462","v":0}]
[" ",{"$f":"COUNTIF('pot ZZS-lijst'!A:A,$C448)","v":0},{"$f":"+'beoordeling maatregel'!Q463","v":0}]
[" ",{"$f":"COUNTIF('pot ZZS-lijst'!A:A,$C449)","v":0},{"$f":"+'beoordeling maatregel'!Q464","v":0}]
[" ",{"$f":"COUNTIF('pot ZZS-lijst'!A:A,$C450)","v":0},{"$f":"+'beoordeling maatregel'!Q465","v":0}]
[{"$f":"IF(B451>0,\"Deze stof wordt aangemerkt als potentiële ZZS\",\" \")","v":" "},{"$f":"COUNTIF('pot ZZS-lijst'!A:A,$C451)","v":0},{"$f":"+'beoordeling maatregel'!Q466","v":0}]
[" ",{"$f":"COUNTIF('pot ZZS-lijst'!A:A,$C452)","v":0},{"$f":"+'beoordeling maatregel'!Q467","v":0}]
[" ",{"$f":"COUNTIF('pot ZZS-lijst'!A:A,$C453)","v":0},{"$f":"+'beoordeling maatregel'!Q468","v":0}]
[" ",{"$f":"COUNTIF('pot ZZS-lijst'!A:A,$C454)","v":0},{"$f":"+'beoordeling maatregel'!Q469","v":0}]
[" ",{"$f":"COUNTIF('pot ZZS-lijst'!A:A,$C455)","v":0},{"$f":"+'beoordeling maatregel'!Q470","v":0}]
[" ",{"$f":"COUNTIF('pot ZZS-lijst'!A:A,$C456)","v":0},{"$f":"+'beoordeling maatregel'!Q471","v":0}]
[" ",{"$f":"COUNTIF('pot ZZS-lijst'!A:A,$C457)","v":0},{"$f":"+'beoordeling maatregel'!Q472","v":0}]
[" ",{"$f":"COUNTIF('pot ZZS-lijst'!A:A,$C458)","v":0},{"$f":"+'beoordeling maatregel'!Q473","v":0}]
[" ",{"$f":"COUNTIF('pot ZZS-lijst'!A:A,$C459)","v":0},{"$f":"+'beoordeling maatregel'!Q474","v":0}]
[" ",{"$f":"COUNTIF('pot ZZS-lijst'!A:A,$C460)","v":0},{"$f":"+'beoordeling maatregel'!Q475","v":0}]
[" ",{"$f":"COUNTIF('pot ZZS-lijst'!A:A,$C461)","v":0},{"$f":"+'beoordeling maatregel'!Q476","v":0}]
[" ",{"$f":"COUNTIF('pot ZZS-lijst'!A:A,$C462)","v":0},{"$f":"+'beoordeling maatregel'!Q477","v":0}]
[" ",{"$f":"COUNTIF('pot ZZS-lijst'!A:A,$C463)","v":0},{"$f":"+'beoordeling maatregel'!Q478","v":0}]
[" ",{"$f":"COUNTIF('pot ZZS-lijst'!A:A,$C464)","v":0},{"$f":"+'beoordeling maatregel'!Q479","v":0}]
[" ",{"$f":"COUNTIF('pot ZZS-lijst'!A:A,$C465)","v":0},{"$f":"+'beoordeling maatregel'!Q480","v":0}]
[" ",{"$f":"COUNTIF('pot ZZS-lijst'!A:A,$C466)","v":0},{"$f":"+'beoordeling maatregel'!Q481","v":0}]
[" ",{"$f":"COUNTIF('pot ZZS-lijst'!A:A,$C467)","v":0},{"$f":"+'beoordeling maatregel'!Q482","v":0}]
[" ",{"$f":"COUNTIF('pot ZZS-lijst'!A:A,$C468)","v":0},{"$f":"+'beoordeling maatregel'!Q483","v":0}]
[" ",{"$f":"COUNTIF('pot ZZS-lijst'!A:A,$C469)","v":0},{"$f":"+'beoordeling maatregel'!Q484","v":0}]
[" ",{"$f":"COUNTIF('pot ZZS-lijst'!A:A,$C470)","v":0},{"$f":"+'beoordeling maatregel'!Q485","v":0}]
[" ",{"$f":"COUNTIF('pot ZZS-lijst'!A:A,$C471)","v":0},{"$f":"+'beoordeling maatregel'!Q486","v":0}]
[" ",{"$f":"COUNTIF('pot ZZS-lijst'!A:A,$C472)","v":0},{"$f":"+'beoordeling maatregel'!Q487","v":0}]
[" ",{"$f":"COUNTIF('pot ZZS-lijst'!A:A,$C473)","v":0},{"$f":"+'beoordeling maatregel'!Q488","v":0}]
[" ",{"$f":"COUNTIF('pot ZZS-lijst'!A:A,$C474)","v":0},{"$f":"+'beoordeling maatregel'!Q489","v":0}]
[" ",{"$f":"COUNTIF('pot ZZS-lijst'!A:A,$C475)","v":0},{"$f":"+'beoordeling maatregel'!Q490","v":0}]
[" ",{"$f":"COUNTIF('pot ZZS-lijst'!A:A,$C476)","v":0},{"$f":"+'beoordeling maatregel'!Q491","v":0}]
[" ",{"$f":"COUNTIF('pot ZZS-lijst'!A:A,$C477)","v":0},{"$f":"+'beoordeling maatregel'!Q492","v":0}]
[" ",{"$f":"COUNTIF('pot ZZS-lijst'!A:A,$C478)","v":0},{"$f":"+'beoordeling maatregel'!Q493","v":0}]
[" ",{"$f":"COUNTIF('pot ZZS-lijst'!A:A,$C479)","v":0},{"$f":"+'beoordeling maatregel'!Q494","v":0}]
[" ",{"$f":"COUNTIF('pot ZZS-lijst'!A:A,$C480)","v":0},{"$f":"+'beoordeling maatregel'!Q495","v":0}]
[" ",{"$f":"COUNTIF('pot ZZS-lijst'!A:A,$C481)","v":0},{"$f":"+'beoordeling maatregel'!Q496","v":0}]
[" ",{"$f":"COUNTIF('pot ZZS-lijst'!A:A,$C482)","v":0},{"$f":"+'beoordeling maatregel'!Q497","v":0}]
[" ",{"$f":"COUNTIF('pot ZZS-lijst'!A:A,$C483)","v":0},{"$f":"+'beoordeling maatregel'!Q498","v":0}]
[" ",{"$f":"COUNTIF('pot ZZS-lijst'!A:A,$C484)","v":0},{"$f":"+'beoordeling maatregel'!Q499","v":0}]
[" ",{"$f":"COUNTIF('pot ZZS-lijst'!A:A,$C485)","v":0},{"$f":"+'beoordeling maatregel'!Q500","v":0}]
[" ",{"$f":"COUNTIF('pot ZZS-lijst'!A:A,$C486)","v":0},{"$f":"+'beoordeling maatregel'!Q501","v":0}]
[" ",{"$f":"COUNTIF('pot ZZS-lijst'!A:A,$C487)","v":0},{"$f":"+'beoordeling maatregel'!Q502","v":0}]
[" ",{"$f":"COUNTIF('pot ZZS-lijst'!A:A,$C488)","v":0},{"$f":"+'beoordeling maatregel'!Q503","v":0}]
[" ",{"$f":"COUNTIF('pot ZZS-lijst'!A:A,$C489)","v":0},{"$f":"+'beoordeling maatregel'!Q504","v":0}]
[" ",{"$f":"COUNTIF('pot ZZS-lijst'!A:A,$C490)","v":0},{"$f":"+'beoordeling maatregel'!Q505","v":0}]
[" ",{"$f":"COUNTIF('pot ZZS-lijst'!A:A,$C491)","v":0},{"$f":"+'beoordeling maatregel'!Q506","v":0}]
[" ",{"$f":"COUNTIF('pot ZZS-lijst'!A:A,$C492)","v":0},{"$f":"+'beoordeling maatregel'!Q507","v":0}]
[" ",{"$f":"COUNTIF('pot ZZS-lijst'!A:A,$C493)","v":0},{"$f":"+'beoordeling maatregel'!Q508","v":0}]
[" ",{"$f":"COUNTIF('pot ZZS-lijst'!A:A,$C494)","v":0},{"$f":"+'beoordeling maatregel'!Q509","v":0}]
[" ",{"$f":"COUNTIF('pot ZZS-lijst'!A:A,$C495)","v":0},{"$f":"+'beoordeling maatregel'!Q510","v":0}]
[" ",{"$f":"COUNTIF('pot ZZS-lijst'!A:A,$C496)","v":0},{"$f":"+'beoordeling maatregel'!Q511","v":0}]
[" ",{"$f":"COUNTIF('pot ZZS-lijst'!A:A,$C497)","v":0},{"$f":"+'beoordeling maatregel'!Q512","v":0}]
[" ",{"$f":"COUNTIF('pot ZZS-lijst'!A:A,$C498)","v":0},{"$f":"+'beoordeling maatregel'!Q513","v":0}]
[" ",{"$f":"COUNTIF('pot ZZS-lijst'!A:A,$C499)","v":0},{"$f":"+'beoordeling maatregel'!Q514","v":0}]
[" ",{"$f":"COUNTIF('pot ZZS-lijst'!A:A,$C500)","v":0},{"$f":"+'beoordeling maatregel'!Q515","v":0}]
[" ",{"$f":"COUNTIF('pot ZZS-lijst'!A:A,$C501)","v":0},{"$f":"+'beoordeling maatregel'!Q516","v":0}]
[" ",{"$f":"COUNTIF('pot ZZS-lijst'!A:A,$C502)","v":0},{"$f":"+'beoordeling maatregel'!Q517","v":0}]
[" ",{"$f":"COUNTIF('pot ZZS-lijst'!A:A,$C503)","v":0},{"$f":"+'beoordeling maatregel'!Q518","v":0}]
[" ",{"$f":"COUNTIF('pot ZZS-lijst'!A:A,$C504)","v":0},{"$f":"+'beoordeling maatregel'!Q519","v":0}]
[" ",{"$f":"COUNTIF('pot ZZS-lijst'!A:A,$C505)","v":0},{"$f":"+'beoordeling maatregel'!Q520","v":0}]
[" ",{"$f":"COUNTIF('pot ZZS-lijst'!A:A,$C506)","v":0},{"$f":"+'beoordeling maatregel'!Q521","v":0}]
[" ",{"$f":"COUNTIF('pot ZZS-lijst'!A:A,$C507)","v":0},{"$f":"+'beoordeling maatregel'!Q522","v":0}]
[" ",{"$f":"COUNTIF('pot ZZS-lijst'!A:A,$C508)","v":0},{"$f":"+'beoordeling maatregel'!Q523","v":0}]
[" ",{"$f":"COUNTIF('pot ZZS-lijst'!A:A,$C509)","v":0},{"$f":"+'beoordeling maatregel'!Q524","v":0}]
[" ",{"$f":"COUNTIF('pot ZZS-lijst'!A:A,$C510)","v":0},{"$f":"+'beoordeling maatregel'!Q525","v":0}]
[" ",{"$f":"COUNTIF('pot ZZS-lijst'!A:A,$C511)","v":0},{"$f":"+'beoordeling maatregel'!Q526","v":0}]
[" ",{"$f":"COUNTIF('pot ZZS-lijst'!A:A,$C512)","v":0},{"$f":"+'beoordeling maatregel'!Q527","v":0}]
[" ",{"$f":"COUNTIF('pot ZZS-lijst'!A:A,$C513)","v":0},{"$f":"+'beoordeling maatregel'!Q528","v":0}]
[" ",{"$f":"COUNTIF('pot ZZS-lijst'!A:A,$C514)","v":0},{"$f":"+'beoordeling maatregel'!Q529","v":0}]
[{"$f":"IF(B515>0,\"Deze stof wordt aangemerkt als potentiële ZZS\",\" \")","v":" "},{"$f":"COUNTIF('pot ZZS-lijst'!A:A,$C515)","v":0},{"$f":"+'beoordeling maatregel'!Q530","v":0}]
[" ",{"$f":"COUNTIF('pot ZZS-lijst'!A:A,$C516)","v":0},{"$f":"+'beoordeling maatregel'!Q531","v":0}]
[" ",{"$f":"COUNTIF('pot ZZS-lijst'!A:A,$C517)","v":0},{"$f":"+'beoordeling maatregel'!Q532","v":0}]
[" ",{"$f":"COUNTIF('pot ZZS-lijst'!A:A,$C518)","v":0},{"$f":"+'beoordeling maatregel'!Q533","v":0}]
[" ",{"$f":"COUNTIF('pot ZZS-lijst'!A:A,$C519)","v":0},{"$f":"+'beoordeling maatregel'!Q534","v":0}]
[" ",{"$f":"COUNTIF('pot ZZS-lijst'!A:A,$C520)","v":0},{"$f":"+'beoordeling maatregel'!Q535","v":0}]
[" ",{"$f":"COUNTIF('pot ZZS-lijst'!A:A,$C521)","v":0},{"$f":"+'beoordeling maatregel'!Q536","v":0}]
[" ",{"$f":"COUNTIF('pot ZZS-lijst'!A:A,$C522)","v":0},{"$f":"+'beoordeling maatregel'!Q537","v":0}]
[" ",{"$f":"COUNTIF('pot ZZS-lijst'!A:A,$C523)","v":0},{"$f":"+'beoordeling maatregel'!Q538","v":0}]
[" ",{"$f":"COUNTIF('pot ZZS-lijst'!A:A,$C524)","v":0},{"$f":"+'beoordeling maatregel'!Q539","v":0}]
[" ",{"$f":"COUNTIF('pot ZZS-lijst'!A:A,$C525)","v":0},{"$f":"+'beoordeling maatregel'!Q540","v":0}]
[" ",{"$f":"COUNTIF('pot ZZS-lijst'!A:A,$C526)","v":0},{"$f":"+'beoordeling maatregel'!Q541","v":0}]
[" ",{"$f":"COUNTIF('pot ZZS-lijst'!A:A,$C527)","v":0},{"$f":"+'beoordeling maatregel'!Q542","v":0}]
[" ",{"$f":"COUNTIF('pot ZZS-lijst'!A:A,$C528)","v":0},{"$f":"+'beoordeling maatregel'!Q543","v":0}]
[" ",{"$f":"COUNTIF('pot ZZS-lijst'!A:A,$C529)","v":0},{"$f":"+'beoordeling maatregel'!Q544","v":0}]
[" ",{"$f":"COUNTIF('pot ZZS-lijst'!A:A,$C530)","v":0},{"$f":"+'beoordeling maatregel'!Q545","v":0}]
[" ",{"$f":"COUNTIF('pot ZZS-lijst'!A:A,$C531)","v":0},{"$f":"+'beoordeling maatregel'!Q546","v":0}]
[" ",{"$f":"COUNTIF('pot ZZS-lijst'!A:A,$C532)","v":0},{"$f":"+'beoordeling maatregel'!Q547","v":0}]
[" ",{"$f":"COUNTIF('pot ZZS-lijst'!A:A,$C533)","v":0},{"$f":"+'beoordeling maatregel'!Q548","v":0}]
[" ",{"$f":"COUNTIF('pot ZZS-lijst'!A:A,$C534)","v":0},{"$f":"+'beoordeling maatregel'!Q549","v":0}]
[" ",{"$f":"COUNTIF('pot ZZS-lijst'!A:A,$C535)","v":0},{"$f":"+'beoordeling maatregel'!Q550","v":0}]
[" ",{"$f":"COUNTIF('pot ZZS-lijst'!A:A,$C536)","v":0},{"$f":"+'beoordeling maatregel'!Q551","v":0}]
[" ",{"$f":"COUNTIF('pot ZZS-lijst'!A:A,$C537)","v":0},{"$f":"+'beoordeling maatregel'!Q552","v":0}]
[" ",{"$f":"COUNTIF('pot ZZS-lijst'!A:A,$C538)","v":0},{"$f":"+'beoordeling maatregel'!Q553","v":0}]
[" ",{"$f":"COUNTIF('pot ZZS-lijst'!A:A,$C539)","v":0},{"$f":"+'beoordeling maatregel'!Q554","v":0}]
[" ",{"$f":"COUNTIF('pot ZZS-lijst'!A:A,$C540)","v":0},{"$f":"+'beoordeling maatregel'!Q555","v":0}]
[" ",{"$f":"COUNTIF('pot ZZS-lijst'!A:A,$C541)","v":0},{"$f":"+'beoordeling maatregel'!Q556","v":0}]
[" ",{"$f":"COUNTIF('pot ZZS-lijst'!A:A,$C542)","v":0},{"$f":"+'beoordeling maatregel'!Q557","v":0}]
[" ",{"$f":"COUNTIF('pot ZZS-lijst'!A:A,$C543)","v":0},{"$f":"+'beoordeling maatregel'!Q558","v":0}]
[" ",{"$f":"COUNTIF('pot ZZS-lijst'!A:A,$C544)","v":0},{"$f":"+'beoordeling maatregel'!Q559","v":0}]
[" ",{"$f":"COUNTIF('pot ZZS-lijst'!A:A,$C545)","v":0},{"$f":"+'beoordeling maatregel'!Q560","v":0}]
[" ",{"$f":"COUNTIF('pot ZZS-lijst'!A:A,$C546)","v":0},{"$f":"+'beoordeling maatregel'!Q561","v":0}]
[" ",{"$f":"COUNTIF('pot ZZS-lijst'!A:A,$C547)","v":0},{"$f":"+'beoordeling maatregel'!Q562","v":0}]
[" ",{"$f":"COUNTIF('pot ZZS-lijst'!A:A,$C548)","v":0},{"$f":"+'beoordeling maatregel'!Q563","v":0}]
[" ",{"$f":"COUNTIF('pot ZZS-lijst'!A:A,$C549)","v":0},{"$f":"+'beoordeling maatregel'!Q564","v":0}]
[" ",{"$f":"COUNTIF('pot ZZS-lijst'!A:A,$C550)","v":0},{"$f":"+'beoordeling maatregel'!Q565","v":0}]
[" ",{"$f":"COUNTIF('pot ZZS-lijst'!A:A,$C551)","v":0},{"$f":"+'beoordeling maatregel'!Q566","v":0}]
[" ",{"$f":"COUNTIF('pot ZZS-lijst'!A:A,$C552)","v":0},{"$f":"+'beoordeling maatregel'!Q567","v":0}]
[" ",{"$f":"COUNTIF('pot ZZS-lijst'!A:A,$C553)","v":0},{"$f":"+'beoordeling maatregel'!Q568","v":0}]
[" ",{"$f":"COUNTIF('pot ZZS-lijst'!A:A,$C554)","v":0},{"$f":"+'beoordeling maatregel'!Q569","v":0}]
[" ",{"$f":"COUNTIF('pot ZZS-lijst'!A:A,$C555)","v":0},{"$f":"+'beoordeling maatregel'!Q570","v":0}]
[" ",{"$f":"COUNTIF('pot ZZS-lijst'!A:A,$C556)","v":0},{"$f":"+'beoordeling maatregel'!Q571","v":0}]
[" ",{"$f":"COUNTIF('pot ZZS-lijst'!A:A,$C557)","v":0},{"$f":"+'beoordeling maatregel'!Q572","v":0}]
[" ",{"$f":"COUNTIF('pot ZZS-lijst'!A:A,$C558)","v":0},{"$f":"+'beoordeling maatregel'!Q573","v":0}]
[" ",{"$f":"COUNTIF('pot ZZS-lijst'!A:A,$C559)","v":0},{"$f":"+'beoordeling maatregel'!Q574","v":0}]
[" ",{"$f":"COUNTIF('pot ZZS-lijst'!A:A,$C560)","v":0},{"$f":"+'beoordeling maatregel'!Q575","v":0}]
[" ",{"$f":"COUNTIF('pot ZZS-lijst'!A:A,$C561)","v":0},{"$f":"+'beoordeling maatregel'!Q576","v":0}]
[" ",{"$f":"COUNTIF('pot ZZS-lijst'!A:A,$C562)","v":0},{"$f":"+'beoordeling maatregel'!Q577","v":0}]
[" ",{"$f":"COUNTIF('pot ZZS-lijst'!A:A,$C563)","v":0},{"$f":"+'beoordeling maatregel'!Q578","v":0}]
[" ",{"$f":"COUNTIF('pot ZZS-lijst'!A:A,$C564)","v":0},{"$f":"+'beoordeling maatregel'!Q579","v":0}]
[" ",{"$f":"COUNTIF('pot ZZS-lijst'!A:A,$C565)","v":0},{"$f":"+'beoordeling maatregel'!Q580","v":0}]
[" ",{"$f":"COUNTIF('pot ZZS-lijst'!A:A,$C566)","v":0},{"$f":"+'beoordeling maatregel'!Q581","v":0}]
[" ",{"$f":"COUNTIF('pot ZZS-lijst'!A:A,$C567)","v":0},{"$f":"+'beoordeling maatregel'!Q582","v":0}]
[" ",{"$f":"COUNTIF('pot ZZS-lijst'!A:A,$C568)","v":0},{"$f":"+'beoordeling maatregel'!Q583","v":0}]
[" ",{"$f":"COUNTIF('pot ZZS-lijst'!A:A,$C569)","v":0},{"$f":"+'beoordeling maatregel'!Q584","v":0}]
[" ",{"$f":"COUNTIF('pot ZZS-lijst'!A:A,$C570)","v":0},{"$f":"+'beoordeling maatregel'!Q585","v":0}]
[" ",{"$f":"COUNTIF('pot ZZS-lijst'!A:A,$C571)","v":0},{"$f":"+'beoordeling maatregel'!Q586","v":0}]
[" ",{"$f":"COUNTIF('pot ZZS-lijst'!A:A,$C572)","v":0},{"$f":"+'beoordeling maatregel'!Q587","v":0}]
[" ",{"$f":"COUNTIF('pot ZZS-lijst'!A:A,$C573)","v":0},{"$f":"+'beoordeling maatregel'!Q588","v":0}]
[" ",{"$f":"COUNTIF('pot ZZS-lijst'!A:A,$C574)","v":0},{"$f":"+'beoordeling maatregel'!Q589","v":0}]
[" ",{"$f":"COUNTIF('pot ZZS-lijst'!A:A,$C575)","v":0},{"$f":"+'beoordeling maatregel'!Q590","v":0}]
[" ",{"$f":"COUNTIF('pot ZZS-lijst'!A:A,$C576)","v":0},{"$f":"+'beoordeling maatregel'!Q591","v":0}]
[" ",{"$f":"COUNTIF('pot ZZS-lijst'!A:A,$C577)","v":0},{"$f":"+'beoordeling maatregel'!Q592","v":0}]
[" ",{"$f":"COUNTIF('pot ZZS-lijst'!A:A,$C578)","v":0},{"$f":"+'beoordeling maatregel'!Q593","v":0}]
[{"$f":"IF(B579>0,\"Deze stof wordt aangemerkt als potentiële ZZS\",\" \")","v":" "},{"$f":"COUNTIF('pot ZZS-lijst'!A:A,$C579)","v":0},{"$f":"+'beoordeling maatregel'!Q594","v":0}]
[" ",{"$f":"COUNTIF('pot ZZS-lijst'!A:A,$C580)","v":0},{"$f":"+'beoordeling maatregel'!Q595","v":0}]
[" ",{"$f":"COUNTIF('pot ZZS-lijst'!A:A,$C581)","v":0},{"$f":"+'beoordeling maatregel'!Q596","v":0}]
[" ",{"$f":"COUNTIF('pot ZZS-lijst'!A:A,$C582)","v":0},{"$f":"+'beoordeling maatregel'!Q597","v":0}]
[" ",{"$f":"COUNTIF('pot ZZS-lijst'!A:A,$C583)","v":0},{"$f":"+'beoordeling maatregel'!Q598","v":0}]
[" ",{"$f":"COUNTIF('pot ZZS-lijst'!A:A,$C584)","v":0},{"$f":"+'beoordeling maatregel'!Q599","v":0}]
[" ",{"$f":"COUNTIF('pot ZZS-lijst'!A:A,$C585)","v":0},{"$f":"+'beoordeling maatregel'!Q600","v":0}]
[" ",{"$f":"COUNTIF('pot ZZS-lijst'!A:A,$C586)","v":0},{"$f":"+'beoordeling maatregel'!Q601","v":0}]
[" ",{"$f":"COUNTIF('pot ZZS-lijst'!A:A,$C587)","v":0},{"$f":"+'beoordeling maatregel'!Q602","v":0}]
[" ",{"$f":"COUNTIF('pot ZZS-lijst'!A:A,$C588)","v":0},{"$f":"+'beoordeling maatregel'!Q603","v":0}]
[" ",{"$f":"COUNTIF('pot ZZS-lijst'!A:A,$C589)","v":0},{"$f":"+'beoordeling maatregel'!Q604","v":0}]
[" ",{"$f":"COUNTIF('pot ZZS-lijst'!A:A,$C590)","v":0},{"$f":"+'beoordeling maatregel'!Q605","v":0}]
[" ",{"$f":"COUNTIF('pot ZZS-lijst'!A:A,$C591)","v":0},{"$f":"+'beoordeling maatregel'!Q606","v":0}]
[" ",{"$f":"COUNTIF('pot ZZS-lijst'!A:A,$C592)","v":0},{"$f":"+'beoordeling maatregel'!Q607","v":0}]
[" ",{"$f":"COUNTIF('pot ZZS-lijst'!A:A,$C593)","v":0},{"$f":"+'beoordeling maatregel'!Q608","v":0}]
[" ",{"$f":"COUNTIF('pot ZZS-lijst'!A:A,$C594)","v":0},{"$f":"+'beoordeling maatregel'!Q609","v":0}]
[" ",{"$f":"COUNTIF('pot ZZS-lijst'!A:A,$C595)","v":0},{"$f":"+'beoordeling maatregel'!Q610","v":0}]
[" ",{"$f":"COUNTIF('pot ZZS-lijst'!A:A,$C596)","v":0},{"$f":"+'beoordeling maatregel'!Q611","v":0}]
[" ",{"$f":"COUNTIF('pot ZZS-lijst'!A:A,$C597)","v":0},{"$f":"+'beoordeling maatregel'!Q612","v":0}]
[" ",{"$f":"COUNTIF('pot ZZS-lijst'!A:A,$C598)","v":0},{"$f":"+'beoordeling maatregel'!Q613","v":0}]
[" ",{"$f":"COUNTIF('pot ZZS-lijst'!A:A,$C599)","v":0},{"$f":"+'beoordeling maatregel'!Q614","v":0}]
[" ",{"$f":"COUNTIF('pot ZZS-lijst'!A:A,$C600)","v":0},{"$f":"+'beoordeling maatregel'!Q615","v":0}]
[" ",{"$f":"COUNTIF('pot ZZS-lijst'!A:A,$C601)","v":0},{"$f":"+'beoordeling maatregel'!Q616","v":0}]
[" ",{"$f":"COUNTIF('pot ZZS-lijst'!A:A,$C602)","v":0},{"$f":"+'beoordeling maatregel'!Q617","v":0}]
[" ",{"$f":"COUNTIF('pot ZZS-lijst'!A:A,$C603)","v":0},{"$f":"+'beoordeling maatregel'!Q618","v":0}]
[" ",{"$f":"COUNTIF('pot ZZS-lijst'!A:A,$C604)","v":0},{"$f":"+'beoordeling maatregel'!Q619","v":0}]
[" ",{"$f":"COUNTIF('pot ZZS-lijst'!A:A,$C605)","v":0},{"$f":"+'beoordeling maatregel'!Q620","v":0}]
[" ",{"$f":"COUNTIF('pot ZZS-lijst'!A:A,$C606)","v":0},{"$f":"+'beoordeling maatregel'!Q621","v":0}]
[" ",{"$f":"COUNTIF('pot ZZS-lijst'!A:A,$C607)","v":0},{"$f":"+'beoordeling maatregel'!Q622","v":0}]
[" ",{"$f":"COUNTIF('pot ZZS-lijst'!A:A,$C608)","v":0},{"$f":"+'beoordeling maatregel'!Q623","v":0}]
[" ",{"$f":"COUNTIF('pot ZZS-lijst'!A:A,$C609)","v":0},{"$f":"+'beoordeling maatregel'!Q624","v":0}]
[" ",{"$f":"COUNTIF('pot ZZS-lijst'!A:A,$C610)","v":0},{"$f":"+'beoordeling maatregel'!Q625","v":0}]
[" ",{"$f":"COUNTIF('pot ZZS-lijst'!A:A,$C611)","v":0},{"$f":"+'beoordeling maatregel'!Q626","v":0}]
[" ",{"$f":"COUNTIF('pot ZZS-lijst'!A:A,$C612)","v":0},{"$f":"+'beoordeling maatregel'!Q627","v":0}]
[" ",{"$f":"COUNTIF('pot ZZS-lijst'!A:A,$C613)","v":0},{"$f":"+'beoordeling maatregel'!Q628","v":0}]
[" ",{"$f":"COUNTIF('pot ZZS-lijst'!A:A,$C614)","v":0},{"$f":"+'beoordeling maatregel'!Q629","v":0}]
[" ",{"$f":"COUNTIF('pot ZZS-lijst'!A:A,$C615)","v":0},{"$f":"+'beoordeling maatregel'!Q630","v":0}]
[" ",{"$f":"COUNTIF('pot ZZS-lijst'!A:A,$C616)","v":0},{"$f":"+'beoordeling maatregel'!Q631","v":0}]
[" ",{"$f":"COUNTIF('pot ZZS-lijst'!A:A,$C617)","v":0},{"$f":"+'beoordeling maatregel'!Q632","v":0}]
[" ",{"$f":"COUNTIF('pot ZZS-lijst'!A:A,$C618)","v":0},{"$f":"+'beoordeling maatregel'!Q633","v":0}]
[" ",{"$f":"COUNTIF('pot ZZS-lijst'!A:A,$C619)","v":0},{"$f":"+'beoordeling maatregel'!Q634","v":0}]
[" ",{"$f":"COUNTIF('pot ZZS-lijst'!A:A,$C620)","v":0},{"$f":"+'beoordeling maatregel'!Q635","v":0}]
[" ",{"$f":"COUNTIF('pot ZZS-lijst'!A:A,$C621)","v":0},{"$f":"+'beoordeling maatregel'!Q636","v":0}]
[" ",{"$f":"COUNTIF('pot ZZS-lijst'!A:A,$C622)","v":0},{"$f":"+'beoordeling maatregel'!Q637","v":0}]
[" ",{"$f":"COUNTIF('pot ZZS-lijst'!A:A,$C623)","v":0},{"$f":"+'beoordeling maatregel'!Q638","v":0}]
[" ",{"$f":"COUNTIF('pot ZZS-lijst'!A:A,$C624)","v":0},{"$f":"+'beoordeling maatregel'!Q639","v":0}]
[" ",{"$f":"COUNTIF('pot ZZS-lijst'!A:A,$C625)","v":0},{"$f":"+'beoordeling maatregel'!Q640","v":0}]
[" ",{"$f":"COUNTIF('pot ZZS-lijst'!A:A,$C626)","v":0},{"$f":"+'beoordeling maatregel'!Q641","v":0}]
[" ",{"$f":"COUNTIF('pot ZZS-lijst'!A:A,$C627)","v":0},{"$f":"+'beoordeling maatregel'!Q642","v":0}]
[" ",{"$f":"COUNTIF('pot ZZS-lijst'!A:A,$C628)","v":0},{"$f":"+'beoordeling maatregel'!Q643","v":0}]
[" ",{"$f":"COUNTIF('pot ZZS-lijst'!A:A,$C629)","v":0},{"$f":"+'beoordeling maatregel'!Q644","v":0}]
[" ",{"$f":"COUNTIF('pot ZZS-lijst'!A:A,$C630)","v":0},{"$f":"+'beoordeling maatregel'!Q645","v":0}]
[" ",{"$f":"COUNTIF('pot ZZS-lijst'!A:A,$C631)","v":0},{"$f":"+'beoordeling maatregel'!Q646","v":0}]
[" ",{"$f":"COUNTIF('pot ZZS-lijst'!A:A,$C632)","v":0},{"$f":"+'beoordeling maatregel'!Q647","v":0}]
[" ",{"$f":"COUNTIF('pot ZZS-lijst'!A:A,$C633)","v":0},{"$f":"+'beoordeling maatregel'!Q648","v":0}]
[" ",{"$f":"COUNTIF('pot ZZS-lijst'!A:A,$C634)","v":0},{"$f":"+'beoordeling maatregel'!Q649","v":0}]
[" ",{"$f":"COUNTIF('pot ZZS-lijst'!A:A,$C635)","v":0},{"$f":"+'beoordeling maatregel'!Q650","v":0}]
[" ",{"$f":"COUNTIF('pot ZZS-lijst'!A:A,$C636)","v":0},{"$f":"+'beoordeling maatregel'!Q651","v":0}]
[" ",{"$f":"COUNTIF('pot ZZS-lijst'!A:A,$C637)","v":0},{"$f":"+'beoordeling maatregel'!Q652","v":0}]
[" ",{"$f":"COUNTIF('pot ZZS-lijst'!A:A,$C638)","v":0},{"$f":"+'beoordeling maatregel'!Q653","v":0}]
[" ",{"$f":"COUNTIF('pot ZZS-lijst'!A:A,$C639)","v":0},{"$f":"+'beoordeling maatregel'!Q654","v":0}]
[" ",{"$f":"COUNTIF('pot ZZS-lijst'!A:A,$C640)","v":0},{"$f":"+'beoordeling maatregel'!Q655","v":0}]
[" ",{"$f":"COUNTIF('pot ZZS-lijst'!A:A,$C641)","v":0},{"$f":"+'beoordeling maatregel'!Q656","v":0}]
[" ",{"$f":"COUNTIF('pot ZZS-lijst'!A:A,$C642)","v":0},{"$f":"+'beoordeling maatregel'!Q657","v":0}]
[{"$f":"IF(B643>0,\"Deze stof wordt aangemerkt als potentiële ZZS\",\" \")","v":" "},{"$f":"COUNTIF('pot ZZS-lijst'!A:A,$C643)","v":0},{"$f":"+'beoordeling maatregel'!Q658","v":0}]
[" ",{"$f":"COUNTIF('pot ZZS-lijst'!A:A,$C644)","v":0},{"$f":"+'beoordeling maatregel'!Q659","v":0}]
[" ",{"$f":"COUNTIF('pot ZZS-lijst'!A:A,$C645)","v":0},{"$f":"+'beoordeling maatregel'!Q660","v":0}]
[" ",{"$f":"COUNTIF('pot ZZS-lijst'!A:A,$C646)","v":0},{"$f":"+'beoordeling maatregel'!Q661","v":0}]
[" ",{"$f":"COUNTIF('pot ZZS-lijst'!A:A,$C647)","v":0},{"$f":"+'beoordeling maatregel'!Q662","v":0}]
[" ",{"$f":"COUNTIF('pot ZZS-lijst'!A:A,$C648)","v":0},{"$f":"+'beoordeling maatregel'!Q663","v":0}]
[" ",{"$f":"COUNTIF('pot ZZS-lijst'!A:A,$C649)","v":0},{"$f":"+'beoordeling maatregel'!Q664","v":0}]
[" ",{"$f":"COUNTIF('pot ZZS-lijst'!A:A,$C650)","v":0},{"$f":"+'beoordeling maatregel'!Q665","v":0}]
[" ",{"$f":"COUNTIF('pot ZZS-lijst'!A:A,$C651)","v":0},{"$f":"+'beoordeling maatregel'!Q666","v":0}]
[" ",{"$f":"COUNTIF('pot ZZS-lijst'!A:A,$C652)","v":0},{"$f":"+'beoordeling maatregel'!Q667","v":0}]
[" ",{"$f":"COUNTIF('pot ZZS-lijst'!A:A,$C653)","v":0},{"$f":"+'beoordeling maatregel'!Q668","v":0}]
[" ",{"$f":"COUNTIF('pot ZZS-lijst'!A:A,$C654)","v":0},{"$f":"+'beoordeling maatregel'!Q669","v":0}]
[" ",{"$f":"COUNTIF('pot ZZS-lijst'!A:A,$C655)","v":0},{"$f":"+'beoordeling maatregel'!Q670","v":0}]
[" ",{"$f":"COUNTIF('pot ZZS-lijst'!A:A,$C656)","v":0},{"$f":"+'beoordeling maatregel'!Q671","v":0}]
[" ",{"$f":"COUNTIF('pot ZZS-lijst'!A:A,$C657)","v":0},{"$f":"+'beoordeling maatregel'!Q672","v":0}]
[" ",{"$f":"COUNTIF('pot ZZS-lijst'!A:A,$C658)","v":0},{"$f":"+'beoordeling maatregel'!Q673","v":0}]
[" ",{"$f":"COUNTIF('pot ZZS-lijst'!A:A,$C659)","v":0},{"$f":"+'beoordeling maatregel'!Q674","v":0}]
[" ",{"$f":"COUNTIF('pot ZZS-lijst'!A:A,$C660)","v":0},{"$f":"+'beoordeling maatregel'!Q675","v":0}]
[" ",{"$f":"COUNTIF('pot ZZS-lijst'!A:A,$C661)","v":0},{"$f":"+'beoordeling maatregel'!Q676","v":0}]
[" ",{"$f":"COUNTIF('pot ZZS-lijst'!A:A,$C662)","v":0},{"$f":"+'beoordeling maatregel'!Q677","v":0}]
[" ",{"$f":"COUNTIF('pot ZZS-lijst'!A:A,$C663)","v":0},{"$f":"+'beoordeling maatregel'!Q678","v":0}]
[" ",{"$f":"COUNTIF('pot ZZS-lijst'!A:A,$C664)","v":0},{"$f":"+'beoordeling maatregel'!Q679","v":0}]
[" ",{"$f":"COUNTIF('pot ZZS-lijst'!A:A,$C665)","v":0},{"$f":"+'beoordeling maatregel'!Q680","v":0}]
[" ",{"$f":"COUNTIF('pot ZZS-lijst'!A:A,$C666)","v":0},{"$f":"+'beoordeling maatregel'!Q681","v":0}]
[" ",{"$f":"COUNTIF('pot ZZS-lijst'!A:A,$C667)","v":0},{"$f":"+'beoordeling maatregel'!Q682","v":0}]
[" ",{"$f":"COUNTIF('pot ZZS-lijst'!A:A,$C668)","v":0},{"$f":"+'beoordeling maatregel'!Q683","v":0}]
[" ",{"$f":"COUNTIF('pot ZZS-lijst'!A:A,$C669)","v":0},{"$f":"+'beoordeling maatregel'!Q684","v":0}]
[" ",{"$f":"COUNTIF('pot ZZS-lijst'!A:A,$C670)","v":0},{"$f":"+'beoordeling maatregel'!Q685","v":0}]
[" ",{"$f":"COUNTIF('pot ZZS-lijst'!A:A,$C671)","v":0},{"$f":"+'beoordeling maatregel'!Q686","v":0}]
[" ",{"$f":"COUNTIF('pot ZZS-lijst'!A:A,$C672)","v":0},{"$f":"+'beoordeling maatregel'!Q687","v":0}]
[" ",{"$f":"COUNTIF('pot ZZS-lijst'!A:A,$C673)","v":0},{"$f":"+'beoordeling maatregel'!Q688","v":0}]
[" ",{"$f":"COUNTIF('pot ZZS-lijst'!A:A,$C674)","v":0},{"$f":"+'beoordeling maatregel'!Q689","v":0}]
[" ",{"$f":"COUNTIF('pot ZZS-lijst'!A:A,$C675)","v":0},{"$f":"+'beoordeling maatregel'!Q690","v":0}]
[" ",{"$f":"COUNTIF('pot ZZS-lijst'!A:A,$C676)","v":0},{"$f":"+'beoordeling maatregel'!Q691","v":0}]
[" ",{"$f":"COUNTIF('pot ZZS-lijst'!A:A,$C677)","v":0},{"$f":"+'beoordeling maatregel'!Q692","v":0}]
[" ",{"$f":"COUNTIF('pot ZZS-lijst'!A:A,$C678)","v":0},{"$f":"+'beoordeling maatregel'!Q693","v":0}]
[" ",{"$f":"COUNTIF('pot ZZS-lijst'!A:A,$C679)","v":0},{"$f":"+'beoordeling maatregel'!Q694","v":0}]
[" ",{"$f":"COUNTIF('pot ZZS-lijst'!A:A,$C680)","v":0},{"$f":"+'beoordeling maatregel'!Q695","v":0}]
[" ",{"$f":"COUNTIF('pot ZZS-lijst'!A:A,$C681)","v":0},{"$f":"+'beoordeling maatregel'!Q696","v":0}]
[" ",{"$f":"COUNTIF('pot ZZS-lijst'!A:A,$C682)","v":0},{"$f":"+'beoordeling maatregel'!Q697","v":0}]
[" ",{"$f":"COUNTIF('pot ZZS-lijst'!A:A,$C683)","v":0},{"$f":"+'beoordeling maatregel'!Q698","v":0}]
[" ",{"$f":"COUNTIF('pot ZZS-lijst'!A:A,$C684)","v":0},{"$f":"+'beoordeling maatregel'!Q699","v":0}]
[" ",{"$f":"COUNTIF('pot ZZS-lijst'!A:A,$C685)","v":0},{"$f":"+'beoordeling maatregel'!Q700","v":0}]
[" ",{"$f":"COUNTIF('pot ZZS-lijst'!A:A,$C686)","v":0},{"$f":"+'beoordeling maatregel'!Q701","v":0}]
[" ",{"$f":"COUNTIF('pot ZZS-lijst'!A:A,$C687)","v":0},{"$f":"+'beoordeling maatregel'!Q702","v":0}]
[" ",{"$f":"COUNTIF('pot ZZS-lijst'!A:A,$C688)","v":0},{"$f":"+'beoordeling maatregel'!Q703","v":0}]
[" ",{"$f":"COUNTIF('pot ZZS-lijst'!A:A,$C689)","v":0},{"$f":"+'beoordeling maatregel'!Q704","v":0}]
[" ",{"$f":"COUNTIF('pot ZZS-lijst'!A:A,$C690)","v":0},{"$f":"+'beoordeling maatregel'!Q705","v":0}]
[" ",{"$f":"COUNTIF('pot ZZS-lijst'!A:A,$C691)","v":0},{"$f":"+'beoordeling maatregel'!Q706","v":0}]
[" ",{"$f":"COUNTIF('pot ZZS-lijst'!A:A,$C692)","v":0},{"$f":"+'beoordeling maatregel'!Q707","v":0}]
[" ",{"$f":"COUNTIF('pot ZZS-lijst'!A:A,$C693)","v":0},{"$f":"+'beoordeling maatregel'!Q708","v":0}]
[" ",{"$f":"COUNTIF('pot ZZS-lijst'!A:A,$C694)","v":0},{"$f":"+'beoordeling maatregel'!Q709","v":0}]
[" ",{"$f":"COUNTIF('pot ZZS-lijst'!A:A,$C695)","v":0},{"$f":"+'beoordeling maatregel'!Q710","v":0}]
[" ",{"$f":"COUNTIF('pot ZZS-lijst'!A:A,$C696)","v":0},{"$f":"+'beoordeling maatregel'!Q711","v":0}]
[" ",{"$f":"COUNTIF('pot ZZS-lijst'!A:A,$C697)","v":0},{"$f":"+'beoordeling maatregel'!Q712","v":0}]
[" ",{"$f":"COUNTIF('pot ZZS-lijst'!A:A,$C698)","v":0},{"$f":"+'beoordeling maatregel'!Q713","v":0}]
[" ",{"$f":"COUNTIF('pot ZZS-lijst'!A:A,$C699)","v":0},{"$f":"+'beoordeling maatregel'!Q714","v":0}]
[" ",{"$f":"COUNTIF('pot ZZS-lijst'!A:A,$C700)","v":0},{"$f":"+'beoordeling maatregel'!Q715","v":0}]
[" ",{"$f":"COUNTIF('pot ZZS-lijst'!A:A,$C701)","v":0},{"$f":"+'beoordeling maatregel'!Q716","v":0}]
[" ",{"$f":"COUNTIF('pot ZZS-lijst'!A:A,$C702)","v":0},{"$f":"+'beoordeling maatregel'!Q717","v":0}]
[" ",{"$f":"COUNTIF('pot ZZS-lijst'!A:A,$C703)","v":0},{"$f":"+'beoordeling maatregel'!Q718","v":0}]
[" ",{"$f":"COUNTIF('pot ZZS-lijst'!A:A,$C704)","v":0},{"$f":"+'beoordeling maatregel'!Q719","v":0}]
[" ",{"$f":"COUNTIF('pot ZZS-lijst'!A:A,$C705)","v":0},{"$f":"+'beoordeling maatregel'!Q720","v":0}]
[" ",{"$f":"COUNTIF('pot ZZS-lijst'!A:A,$C706)","v":0},{"$f":"+'beoordeling maatregel'!Q721","v":0}]
[{"$f":"IF(B707>0,\"Deze stof wordt aangemerkt als potentiële ZZS\",\" \")","v":" "},{"$f":"COUNTIF('pot ZZS-lijst'!A:A,$C707)","v":0},{"$f":"+'beoordeling maatregel'!Q722","v":0}]
[" ",{"$f":"COUNTIF('pot ZZS-lijst'!A:A,$C708)","v":0},{"$f":"+'beoordeling maatregel'!Q723","v":0}]
[" ",{"$f":"COUNTIF('pot ZZS-lijst'!A:A,$C709)","v":0},{"$f":"+'beoordeling maatregel'!Q724","v":0}]
[" ",{"$f":"COUNTIF('pot ZZS-lijst'!A:A,$C710)","v":0},{"$f":"+'beoordeling maatregel'!Q725","v":0}]
[" ",{"$f":"COUNTIF('pot ZZS-lijst'!A:A,$C711)","v":0},{"$f":"+'beoordeling maatregel'!Q726","v":0}]
[" ",{"$f":"COUNTIF('pot ZZS-lijst'!A:A,$C712)","v":0},{"$f":"+'beoordeling maatregel'!Q727","v":0}]
[" ",{"$f":"COUNTIF('pot ZZS-lijst'!A:A,$C713)","v":0},{"$f":"+'beoordeling maatregel'!Q728","v":0}]
[" ",{"$f":"COUNTIF('pot ZZS-lijst'!A:A,$C714)","v":0},{"$f":"+'beoordeling maatregel'!Q729","v":0}]
[" ",{"$f":"COUNTIF('pot ZZS-lijst'!A:A,$C715)","v":0},{"$f":"+'beoordeling maatregel'!Q730","v":0}]
[" ",{"$f":"COUNTIF('pot ZZS-lijst'!A:A,$C716)","v":0},{"$f":"+'beoordeling maatregel'!Q731","v":0}]
[" ",{"$f":"COUNTIF('pot ZZS-lijst'!A:A,$C717)","v":0},{"$f":"+'beoordeling maatregel'!Q732","v":0}]
[" ",{"$f":"COUNTIF('pot ZZS-lijst'!A:A,$C718)","v":0},{"$f":"+'beoordeling maatregel'!Q733","v":0}]
[" ",{"$f":"COUNTIF('pot ZZS-lijst'!A:A,$C719)","v":0},{"$f":"+'beoordeling maatregel'!Q734","v":0}]
[" ",{"$f":"COUNTIF('pot ZZS-lijst'!A:A,$C720)","v":0},{"$f":"+'beoordeling maatregel'!Q735","v":0}]
[" ",{"$f":"COUNTIF('pot ZZS-lijst'!A:A,$C721)","v":0},{"$f":"+'beoordeling maatregel'!Q736","v":0}]
[" ",{"$f":"COUNTIF('pot ZZS-lijst'!A:A,$C722)","v":0},{"$f":"+'beoordeling maatregel'!Q737","v":0}]
[" ",{"$f":"COUNTIF('pot ZZS-lijst'!A:A,$C723)","v":0},{"$f":"+'beoordeling maatregel'!Q738","v":0}]
[" ",{"$f":"COUNTIF('pot ZZS-lijst'!A:A,$C724)","v":0},{"$f":"+'beoordeling maatregel'!Q739","v":0}]
[" ",{"$f":"COUNTIF('pot ZZS-lijst'!A:A,$C725)","v":0},{"$f":"+'beoordeling maatregel'!Q740","v":0}]
[" ",{"$f":"COUNTIF('pot ZZS-lijst'!A:A,$C726)","v":0},{"$f":"+'beoordeling maatregel'!Q741","v":0}]
[" ",{"$f":"COUNTIF('pot ZZS-lijst'!A:A,$C727)","v":0},{"$f":"+'beoordeling maatregel'!Q742","v":0}]
[" ",{"$f":"COUNTIF('pot ZZS-lijst'!A:A,$C728)","v":0},{"$f":"+'beoordeling maatregel'!Q743","v":0}]
[" ",{"$f":"COUNTIF('pot ZZS-lijst'!A:A,$C729)","v":0},{"$f":"+'beoordeling maatregel'!Q744","v":0}]
[" ",{"$f":"COUNTIF('pot ZZS-lijst'!A:A,$C730)","v":0},{"$f":"+'beoordeling maatregel'!Q745","v":0}]
[" ",{"$f":"COUNTIF('pot ZZS-lijst'!A:A,$C731)","v":0},{"$f":"+'beoordeling maatregel'!Q746","v":0}]
[" ",{"$f":"COUNTIF('pot ZZS-lijst'!A:A,$C732)","v":0},{"$f":"+'beoordeling maatregel'!Q747","v":0}]
[" ",{"$f":"COUNTIF('pot ZZS-lijst'!A:A,$C733)","v":0},{"$f":"+'beoordeling maatregel'!Q748","v":0}]
[" ",{"$f":"COUNTIF('pot ZZS-lijst'!A:A,$C734)","v":0},{"$f":"+'beoordeling maatregel'!Q749","v":0}]
[" ",{"$f":"COUNTIF('pot ZZS-lijst'!A:A,$C735)","v":0},{"$f":"+'beoordeling maatregel'!Q750","v":0}]
[" ",{"$f":"COUNTIF('pot ZZS-lijst'!A:A,$C736)","v":0},{"$f":"+'beoordeling maatregel'!Q751","v":0}]
[" ",{"$f":"COUNTIF('pot ZZS-lijst'!A:A,$C737)","v":0},{"$f":"+'beoordeling maatregel'!Q752","v":0}]
[" ",{"$f":"COUNTIF('pot ZZS-lijst'!A:A,$C738)","v":0},{"$f":"+'beoordeling maatregel'!Q753","v":0}]
[" ",{"$f":"COUNTIF('pot ZZS-lijst'!A:A,$C739)","v":0},{"$f":"+'beoordeling maatregel'!Q754","v":0}]
[" ",{"$f":"COUNTIF('pot ZZS-lijst'!A:A,$C740)","v":0},{"$f":"+'beoordeling maatregel'!Q755","v":0}]
[" ",{"$f":"COUNTIF('pot ZZS-lijst'!A:A,$C741)","v":0},{"$f":"+'beoordeling maatregel'!Q756","v":0}]
[" ",{"$f":"COUNTIF('pot ZZS-lijst'!A:A,$C742)","v":0},{"$f":"+'beoordeling maatregel'!Q757","v":0}]
[" ",{"$f":"COUNTIF('pot ZZS-lijst'!A:A,$C743)","v":0},{"$f":"+'beoordeling maatregel'!Q758","v":0}]
[" ",{"$f":"COUNTIF('pot ZZS-lijst'!A:A,$C744)","v":0},{"$f":"+'beoordeling maatregel'!Q759","v":0}]
[" ",{"$f":"COUNTIF('pot ZZS-lijst'!A:A,$C745)","v":0},{"$f":"+'beoordeling maatregel'!Q760","v":0}]
[" ",{"$f":"COUNTIF('pot ZZS-lijst'!A:A,$C746)","v":0},{"$f":"+'beoordeling maatregel'!Q761","v":0}]
[" ",{"$f":"COUNTIF('pot ZZS-lijst'!A:A,$C747)","v":0},{"$f":"+'beoordeling maatregel'!Q762","v":0}]
[" ",{"$f":"COUNTIF('pot ZZS-lijst'!A:A,$C748)","v":0},{"$f":"+'beoordeling maatregel'!Q763","v":0}]
[" ",{"$f":"COUNTIF('pot ZZS-lijst'!A:A,$C749)","v":0},{"$f":"+'beoordeling maatregel'!Q764","v":0}]
[" ",{"$f":"COUNTIF('pot ZZS-lijst'!A:A,$C750)","v":0},{"$f":"+'beoordeling maatregel'!Q765","v":0}]
[" ",{"$f":"COUNTIF('pot ZZS-lijst'!A:A,$C751)","v":0},{"$f":"+'beoordeling maatregel'!Q766","v":0}]
[" ",{"$f":"COUNTIF('pot ZZS-lijst'!A:A,$C752)","v":0},{"$f":"+'beoordeling maatregel'!Q767","v":0}]
[" ",{"$f":"COUNTIF('pot ZZS-lijst'!A:A,$C753)","v":0},{"$f":"+'beoordeling maatregel'!Q768","v":0}]
[" ",{"$f":"COUNTIF('pot ZZS-lijst'!A:A,$C754)","v":0},{"$f":"+'beoordeling maatregel'!Q769","v":0}]
[" ",{"$f":"COUNTIF('pot ZZS-lijst'!A:A,$C755)","v":0},{"$f":"+'beoordeling maatregel'!Q770","v":0}]
[" ",{"$f":"COUNTIF('pot ZZS-lijst'!A:A,$C756)","v":0},{"$f":"+'beoordeling maatregel'!Q771","v":0}]
[" ",{"$f":"COUNTIF('pot ZZS-lijst'!A:A,$C757)","v":0},{"$f":"+'beoordeling maatregel'!Q772","v":0}]
[" ",{"$f":"COUNTIF('pot ZZS-lijst'!A:A,$C758)","v":0},{"$f":"+'beoordeling maatregel'!Q773","v":0}]
[" ",{"$f":"COUNTIF('pot ZZS-lijst'!A:A,$C759)","v":0},{"$f":"+'beoordeling maatregel'!Q774","v":0}]
[" ",{"$f":"COUNTIF('pot ZZS-lijst'!A:A,$C760)","v":0},{"$f":"+'beoordeling maatregel'!Q775","v":0}]
[" ",{"$f":"COUNTIF('pot ZZS-lijst'!A:A,$C761)","v":0},{"$f":"+'beoordeling maatregel'!Q776","v":0}]
[" ",{"$f":"COUNTIF('pot ZZS-lijst'!A:A,$C762)","v":0},{"$f":"+'beoordeling maatregel'!Q777","v":0}]
[" ",{"$f":"COUNTIF('pot ZZS-lijst'!A:A,$C763)","v":0},{"$f":"+'beoordeling maatregel'!Q778","v":0}]
[" ",{"$f":"COUNTIF('pot ZZS-lijst'!A:A,$C764)","v":0},{"$f":"+'beoordeling maatregel'!Q779","v":0}]
[" ",{"$f":"COUNTIF('pot ZZS-lijst'!A:A,$C765)","v":0},{"$f":"+'beoordeling maatregel'!Q780","v":0}]
[" ",{"$f":"COUNTIF('pot ZZS-lijst'!A:A,$C766)","v":0},{"$f":"+'beoordeling maatregel'!Q781","v":0}]
[" ",{"$f":"COUNTIF('pot ZZS-lijst'!A:A,$C767)","v":0},{"$f":"+'beoordeling maatregel'!Q782","v":0}]
[" ",{"$f":"COUNTIF('pot ZZS-lijst'!A:A,$C768)","v":0},{"$f":"+'beoordeling maatregel'!Q783","v":0}]
[" ",{"$f":"COUNTIF('pot ZZS-lijst'!A:A,$C769)","v":0},{"$f":"+'beoordeling maatregel'!Q784","v":0}]
[" ",{"$f":"COUNTIF('pot ZZS-lijst'!A:A,$C770)","v":0},{"$f":"+'beoordeling maatregel'!Q785","v":0}]
[{"$f":"IF(B771>0,\"Deze stof wordt aangemerkt als potentiële ZZS\",\" \")","v":" "},{"$f":"COUNTIF('pot ZZS-lijst'!A:A,$C771)","v":0},{"$f":"+'beoordeling maatregel'!Q786","v":0}]
[" ",{"$f":"COUNTIF('pot ZZS-lijst'!A:A,$C772)","v":0},{"$f":"+'beoordeling maatregel'!Q787","v":0}]
[" ",{"$f":"COUNTIF('pot ZZS-lijst'!A:A,$C773)","v":0},{"$f":"+'beoordeling maatregel'!Q788","v":0}]
[" ",{"$f":"COUNTIF('pot ZZS-lijst'!A:A,$C774)","v":0},{"$f":"+'beoordeling maatregel'!Q789","v":0}]
[" ",{"$f":"COUNTIF('pot ZZS-lijst'!A:A,$C775)","v":0},{"$f":"+'beoordeling maatregel'!Q790","v":0}]
[" ",{"$f":"COUNTIF('pot ZZS-lijst'!A:A,$C776)","v":0},{"$f":"+'beoordeling maatregel'!Q791","v":0}]
[" ",{"$f":"COUNTIF('pot ZZS-lijst'!A:A,$C777)","v":0},{"$f":"+'beoordeling maatregel'!Q792","v":0}]
[" ",{"$f":"COUNTIF('pot ZZS-lijst'!A:A,$C778)","v":0},{"$f":"+'beoordeling maatregel'!Q793","v":0}]
[" ",{"$f":"COUNTIF('pot ZZS-lijst'!A:A,$C779)","v":0},{"$f":"+'beoordeling maatregel'!Q794","v":0}]
[" ",{"$f":"COUNTIF('pot ZZS-lijst'!A:A,$C780)","v":0},{"$f":"+'beoordeling maatregel'!Q795","v":0}]
[" ",{"$f":"COUNTIF('pot ZZS-lijst'!A:A,$C781)","v":0},{"$f":"+'beoordeling maatregel'!Q796","v":0}]
[" ",{"$f":"COUNTIF('pot ZZS-lijst'!A:A,$C782)","v":0},{"$f":"+'beoordeling maatregel'!Q797","v":0}]
[" ",{"$f":"COUNTIF('pot ZZS-lijst'!A:A,$C783)","v":0},{"$f":"+'beoordeling maatregel'!Q798","v":0}]
[" ",{"$f":"COUNTIF('pot ZZS-lijst'!A:A,$C784)","v":0},{"$f":"+'beoordeling maatregel'!Q799","v":0}]
[" ",{"$f":"COUNTIF('pot ZZS-lijst'!A:A,$C785)","v":0},{"$f":"+'beoordeling maatregel'!Q800","v":0}]
[" ",{"$f":"COUNTIF('pot ZZS-lijst'!A:A,$C786)","v":0},{"$f":"+'beoordeling maatregel'!Q801","v":0}]
[" ",{"$f":"COUNTIF('pot ZZS-lijst'!A:A,$C787)","v":0},{"$f":"+'beoordeling maatregel'!Q802","v":0}]
[" ",{"$f":"COUNTIF('pot ZZS-lijst'!A:A,$C788)","v":0},{"$f":"+'beoordeling maatregel'!Q803","v":0}]
[" ",{"$f":"COUNTIF('pot ZZS-lijst'!A:A,$C789)","v":0},{"$f":"+'beoordeling maatregel'!Q804","v":0}]
[" ",{"$f":"COUNTIF('pot ZZS-lijst'!A:A,$C790)","v":0},{"$f":"+'beoordeling maatregel'!Q805","v":0}]
[" ",{"$f":"COUNTIF('pot ZZS-lijst'!A:A,$C791)","v":0},{"$f":"+'beoordeling maatregel'!Q806","v":0}]
[" ",{"$f":"COUNTIF('pot ZZS-lijst'!A:A,$C792)","v":0},{"$f":"+'beoordeling maatregel'!Q807","v":0}]
[" ",{"$f":"COUNTIF('pot ZZS-lijst'!A:A,$C793)","v":0},{"$f":"+'beoordeling maatregel'!Q808","v":0}]
[" ",{"$f":"COUNTIF('pot ZZS-lijst'!A:A,$C794)","v":0},{"$f":"+'beoordeling maatregel'!Q809","v":0}]
[" ",{"$f":"COUNTIF('pot ZZS-lijst'!A:A,$C795)","v":0},{"$f":"+'beoordeling maatregel'!Q810","v":0}]
[" ",{"$f":"COUNTIF('pot ZZS-lijst'!A:A,$C796)","v":0},{"$f":"+'beoordeling maatregel'!Q811","v":0}]
[" ",{"$f":"COUNTIF('pot ZZS-lijst'!A:A,$C797)","v":0},{"$f":"+'beoordeling maatregel'!Q812","v":0}]
[" ",{"$f":"COUNTIF('pot ZZS-lijst'!A:A,$C798)","v":0},{"$f":"+'beoordeling maatregel'!Q813","v":0}]
[" ",{"$f":"COUNTIF('pot ZZS-lijst'!A:A,$C799)","v":0},{"$f":"+'beoordeling maatregel'!Q814","v":0}]
[" ",{"$f":"COUNTIF('pot ZZS-lijst'!A:A,$C800)","v":0},{"$f":"+'beoordeling maatregel'!Q815","v":0}]
[" ",{"$f":"COUNTIF('pot ZZS-lijst'!A:A,$C801)","v":0},{"$f":"+'beoordeling maatregel'!Q816","v":0}]
[" ",{"$f":"COUNTIF('pot ZZS-lijst'!A:A,$C802)","v":0},{"$f":"+'beoordeling maatregel'!Q817","v":0}]
[" ",{"$f":"COUNTIF('pot ZZS-lijst'!A:A,$C803)","v":0},{"$f":"+'beoordeling maatregel'!Q818","v":0}]
[" ",{"$f":"COUNTIF('pot ZZS-lijst'!A:A,$C804)","v":0},{"$f":"+'beoordeling maatregel'!Q819","v":0}]
[" ",{"$f":"COUNTIF('pot ZZS-lijst'!A:A,$C805)","v":0},{"$f":"+'beoordeling maatregel'!Q820","v":0}]
[" ",{"$f":"COUNTIF('pot ZZS-lijst'!A:A,$C806)","v":0},{"$f":"+'beoordeling maatregel'!Q821","v":0}]
[" ",{"$f":"COUNTIF('pot ZZS-lijst'!A:A,$C807)","v":0},{"$f":"+'beoordeling maatregel'!Q822","v":0}]
[" ",{"$f":"COUNTIF('pot ZZS-lijst'!A:A,$C808)","v":0},{"$f":"+'beoordeling maatregel'!Q823","v":0}]
[" ",{"$f":"COUNTIF('pot ZZS-lijst'!A:A,$C809)","v":0},{"$f":"+'beoordeling maatregel'!Q824","v":0}]
[" ",{"$f":"COUNTIF('pot ZZS-lijst'!A:A,$C810)","v":0},{"$f":"+'beoordeling maatregel'!Q825","v":0}]
[" ",{"$f":"COUNTIF('pot ZZS-lijst'!A:A,$C811)","v":0},{"$f":"+'beoordeling maatregel'!Q826","v":0}]
[" ",{"$f":"COUNTIF('pot ZZS-lijst'!A:A,$C812)","v":0},{"$f":"+'beoordeling maatregel'!Q827","v":0}]
[" ",{"$f":"COUNTIF('pot ZZS-lijst'!A:A,$C813)","v":0},{"$f":"+'beoordeling maatregel'!Q828","v":0}]
[" ",{"$f":"COUNTIF('pot ZZS-lijst'!A:A,$C814)","v":0},{"$f":"+'beoordeling maatregel'!Q829","v":0}]
[" ",{"$f":"COUNTIF('pot ZZS-lijst'!A:A,$C815)","v":0},{"$f":"+'beoordeling maatregel'!Q830","v":0}]
[" ",{"$f":"COUNTIF('pot ZZS-lijst'!A:A,$C816)","v":0},{"$f":"+'beoordeling maatregel'!Q831","v":0}]
[" ",{"$f":"COUNTIF('pot ZZS-lijst'!A:A,$C817)","v":0},{"$f":"+'beoordeling maatregel'!Q832","v":0}]
[" ",{"$f":"COUNTIF('pot ZZS-lijst'!A:A,$C818)","v":0},{"$f":"+'beoordeling maatregel'!Q833","v":0}]
[" ",{"$f":"COUNTIF('pot ZZS-lijst'!A:A,$C819)","v":0},{"$f":"+'beoordeling maatregel'!Q834","v":0}]
[" ",{"$f":"COUNTIF('pot ZZS-lijst'!A:A,$C820)","v":0},{"$f":"+'beoordeling maatregel'!Q835","v":0}]
[" ",{"$f":"COUNTIF('pot ZZS-lijst'!A:A,$C821)","v":0},{"$f":"+'beoordeling maatregel'!Q836","v":0}]
[" ",{"$f":"COUNTIF('pot ZZS-lijst'!A:A,$C822)","v":0},{"$f":"+'beoordeling maatregel'!Q837","v":0}]
[" ",{"$f":"COUNTIF('pot ZZS-lijst'!A:A,$C823)","v":0},{"$f":"+'beoordeling maatregel'!Q838","v":0}]
[" ",{"$f":"COUNTIF('pot ZZS-lijst'!A:A,$C824)","v":0},{"$f":"+'beoordeling maatregel'!Q839","v":0}]
[" ",{"$f":"COUNTIF('pot ZZS-lijst'!A:A,$C825)","v":0},{"$f":"+'beoordeling maatregel'!Q840","v":0}]
[" ",{"$f":"COUNTIF('pot ZZS-lijst'!A:A,$C826)","v":0},{"$f":"+'beoordeling maatregel'!Q841","v":0}]
[" ",{"$f":"COUNTIF('pot ZZS-lijst'!A:A,$C827)","v":0},{"$f":"+'beoordeling maatregel'!Q842","v":0}]
[" ",{"$f":"COUNTIF('pot ZZS-lijst'!A:A,$C828)","v":0},{"$f":"+'beoordeling maatregel'!Q843","v":0}]
[" ",{"$f":"COUNTIF('pot ZZS-lijst'!A:A,$C829)","v":0},{"$f":"+'beoordeling maatregel'!Q844","v":0}]
[" ",{"$f":"COUNTIF('pot ZZS-lijst'!A:A,$C830)","v":0},{"$f":"+'beoordeling maatregel'!Q845","v":0}]
[" ",{"$f":"COUNTIF('pot ZZS-lijst'!A:A,$C831)","v":0},{"$f":"+'beoordeling maatregel'!Q846","v":0}]
[" ",{"$f":"COUNTIF('pot ZZS-lijst'!A:A,$C832)","v":0},{"$f":"+'beoordeling maatregel'!Q847","v":0}]
[" ",{"$f":"COUNTIF('pot ZZS-lijst'!A:A,$C833)","v":0},{"$f":"+'beoordeling maatregel'!Q848","v":0}]
[" ",{"$f":"COUNTIF('pot ZZS-lijst'!A:A,$C834)","v":0},{"$f":"+'beoordeling maatregel'!Q849","v":0}]
[{"$f":"IF(B835>0,\"Deze stof wordt aangemerkt als potentiële ZZS\",\" \")","v":" "},{"$f":"COUNTIF('pot ZZS-lijst'!A:A,$C835)","v":0},{"$f":"+'beoordeling maatregel'!Q850","v":0}]
[" ",{"$f":"COUNTIF('pot ZZS-lijst'!A:A,$C836)","v":0},{"$f":"+'beoordeling maatregel'!Q851","v":0}]
[" ",{"$f":"COUNTIF('pot ZZS-lijst'!A:A,$C837)","v":0},{"$f":"+'beoordeling maatregel'!Q852","v":0}]
[" ",{"$f":"COUNTIF('pot ZZS-lijst'!A:A,$C838)","v":0},{"$f":"+'beoordeling maatregel'!Q853","v":0}]
[" ",{"$f":"COUNTIF('pot ZZS-lijst'!A:A,$C839)","v":0},{"$f":"+'beoordeling maatregel'!Q854","v":0}]
[" ",{"$f":"COUNTIF('pot ZZS-lijst'!A:A,$C840)","v":0},{"$f":"+'beoordeling maatregel'!Q855","v":0}]
[" ",{"$f":"COUNTIF('pot ZZS-lijst'!A:A,$C841)","v":0},{"$f":"+'beoordeling maatregel'!Q856","v":0}]
[" ",{"$f":"COUNTIF('pot ZZS-lijst'!A:A,$C842)","v":0},{"$f":"+'beoordeling maatregel'!Q857","v":0}]
[" ",{"$f":"COUNTIF('pot ZZS-lijst'!A:A,$C843)","v":0},{"$f":"+'beoordeling maatregel'!Q858","v":0}]
[" ",{"$f":"COUNTIF('pot ZZS-lijst'!A:A,$C844)","v":0},{"$f":"+'beoordeling maatregel'!Q859","v":0}]
[" ",{"$f":"COUNTIF('pot ZZS-lijst'!A:A,$C845)","v":0},{"$f":"+'beoordeling maatregel'!Q860","v":0}]
[" ",{"$f":"COUNTIF('pot ZZS-lijst'!A:A,$C846)","v":0},{"$f":"+'beoordeling maatregel'!Q861","v":0}]
[" ",{"$f":"COUNTIF('pot ZZS-lijst'!A:A,$C847)","v":0},{"$f":"+'beoordeling maatregel'!Q862","v":0}]
[" ",{"$f":"COUNTIF('pot ZZS-lijst'!A:A,$C848)","v":0},{"$f":"+'beoordeling maatregel'!Q863","v":0}]
[" ",{"$f":"COUNTIF('pot ZZS-lijst'!A:A,$C849)","v":0},{"$f":"+'beoordeling maatregel'!Q864","v":0}]
[" ",{"$f":"COUNTIF('pot ZZS-lijst'!A:A,$C850)","v":0},{"$f":"+'beoordeling maatregel'!Q865","v":0}]
[" ",{"$f":"COUNTIF('pot ZZS-lijst'!A:A,$C851)","v":0},{"$f":"+'beoordeling maatregel'!Q866","v":0}]
[" ",{"$f":"COUNTIF('pot ZZS-lijst'!A:A,$C852)","v":0},{"$f":"+'beoordeling maatregel'!Q867","v":0}]
[" ",{"$f":"COUNTIF('pot ZZS-lijst'!A:A,$C853)","v":0},{"$f":"+'beoordeling maatregel'!Q868","v":0}]
[" ",{"$f":"COUNTIF('pot ZZS-lijst'!A:A,$C854)","v":0},{"$f":"+'beoordeling maatregel'!Q869","v":0}]
[" ",{"$f":"COUNTIF('pot ZZS-lijst'!A:A,$C855)","v":0},{"$f":"+'beoordeling maatregel'!Q870","v":0}]
[" ",{"$f":"COUNTIF('pot ZZS-lijst'!A:A,$C856)","v":0},{"$f":"+'beoordeling maatregel'!Q871","v":0}]
[" ",{"$f":"COUNTIF('pot ZZS-lijst'!A:A,$C857)","v":0},{"$f":"+'beoordeling maatregel'!Q872","v":0}]
[" ",{"$f":"COUNTIF('pot ZZS-lijst'!A:A,$C858)","v":0},{"$f":"+'beoordeling maatregel'!Q873","v":0}]
[" ",{"$f":"COUNTIF('pot ZZS-lijst'!A:A,$C859)","v":0},{"$f":"+'beoordeling maatregel'!Q874","v":0}]
[" ",{"$f":"COUNTIF('pot ZZS-lijst'!A:A,$C860)","v":0},{"$f":"+'beoordeling maatregel'!Q875","v":0}]
[" ",{"$f":"COUNTIF('pot ZZS-lijst'!A:A,$C861)","v":0},{"$f":"+'beoordeling maatregel'!Q876","v":0}]
[" ",{"$f":"COUNTIF('pot ZZS-lijst'!A:A,$C862)","v":0},{"$f":"+'beoordeling maatregel'!Q877","v":0}]
[" ",{"$f":"COUNTIF('pot ZZS-lijst'!A:A,$C863)","v":0},{"$f":"+'beoordeling maatregel'!Q878","v":0}]
[" ",{"$f":"COUNTIF('pot ZZS-lijst'!A:A,$C864)","v":0},{"$f":"+'beoordeling maatregel'!Q879","v":0}]
[" ",{"$f":"COUNTIF('pot ZZS-lijst'!A:A,$C865)","v":0},{"$f":"+'beoordeling maatregel'!Q880","v":0}]
[" ",{"$f":"COUNTIF('pot ZZS-lijst'!A:A,$C866)","v":0},{"$f":"+'beoordeling maatregel'!Q881","v":0}]
[" ",{"$f":"COUNTIF('pot ZZS-lijst'!A:A,$C867)","v":0},{"$f":"+'beoordeling maatregel'!Q882","v":0}]
[" ",{"$f":"COUNTIF('pot ZZS-lijst'!A:A,$C868)","v":0},{"$f":"+'beoordeling maatregel'!Q883","v":0}]
[" ",{"$f":"COUNTIF('pot ZZS-lijst'!A:A,$C869)","v":0},{"$f":"+'beoordeling maatregel'!Q884","v":0}]
[" ",{"$f":"COUNTIF('pot ZZS-lijst'!A:A,$C870)","v":0},{"$f":"+'beoordeling maatregel'!Q885","v":0}]
[" ",{"$f":"COUNTIF('pot ZZS-lijst'!A:A,$C871)","v":0},{"$f":"+'beoordeling maatregel'!Q886","v":0}]
[" ",{"$f":"COUNTIF('pot ZZS-lijst'!A:A,$C872)","v":0},{"$f":"+'beoordeling maatregel'!Q887","v":0}]
[" ",{"$f":"COUNTIF('pot ZZS-lijst'!A:A,$C873)","v":0},{"$f":"+'beoordeling maatregel'!Q888","v":0}]
[" ",{"$f":"COUNTIF('pot ZZS-lijst'!A:A,$C874)","v":0},{"$f":"+'beoordeling maatregel'!Q889","v":0}]
[" ",{"$f":"COUNTIF('pot ZZS-lijst'!A:A,$C875)","v":0},{"$f":"+'beoordeling maatregel'!Q890","v":0}]
[" ",{"$f":"COUNTIF('pot ZZS-lijst'!A:A,$C876)","v":0},{"$f":"+'beoordeling maatregel'!Q891","v":0}]
[" ",{"$f":"COUNTIF('pot ZZS-lijst'!A:A,$C877)","v":0},{"$f":"+'beoordeling maatregel'!Q892","v":0}]
[" ",{"$f":"COUNTIF('pot ZZS-lijst'!A:A,$C878)","v":0},{"$f":"+'beoordeling maatregel'!Q893","v":0}]
[" ",{"$f":"COUNTIF('pot ZZS-lijst'!A:A,$C879)","v":0},{"$f":"+'beoordeling maatregel'!Q894","v":0}]
[" ",{"$f":"COUNTIF('pot ZZS-lijst'!A:A,$C880)","v":0},{"$f":"+'beoordeling maatregel'!Q895","v":0}]
[" ",{"$f":"COUNTIF('pot ZZS-lijst'!A:A,$C881)","v":0},{"$f":"+'beoordeling maatregel'!Q896","v":0}]
[" ",{"$f":"COUNTIF('pot ZZS-lijst'!A:A,$C882)","v":0},{"$f":"+'beoordeling maatregel'!Q897","v":0}]
[" ",{"$f":"COUNTIF('pot ZZS-lijst'!A:A,$C883)","v":0},{"$f":"+'beoordeling maatregel'!Q898","v":0}]
[" ",{"$f":"COUNTIF('pot ZZS-lijst'!A:A,$C884)","v":0},{"$f":"+'beoordeling maatregel'!Q899","v":0}]
[" ",{"$f":"COUNTIF('pot ZZS-lijst'!A:A,$C885)","v":0},{"$f":"+'beoordeling maatregel'!Q900","v":0}]
[" ",{"$f":"COUNTIF('pot ZZS-lijst'!A:A,$C886)","v":0},{"$f":"+'beoordeling maatregel'!Q901","v":0}]
[" ",{"$f":"COUNTIF('pot ZZS-lijst'!A:A,$C887)","v":0},{"$f":"+'beoordeling maatregel'!Q902","v":0}]
[" ",{"$f":"COUNTIF('pot ZZS-lijst'!A:A,$C888)","v":0},{"$f":"+'beoordeling maatregel'!Q903","v":0}]
[" ",{"$f":"COUNTIF('pot ZZS-lijst'!A:A,$C889)","v":0},{"$f":"+'beoordeling maatregel'!Q904","v":0}]
[" ",{"$f":"COUNTIF('pot ZZS-lijst'!A:A,$C890)","v":0},{"$f":"+'beoordeling maatregel'!Q905","v":0}]
[" ",{"$f":"COUNTIF('pot ZZS-lijst'!A:A,$C891)","v":0},{"$f":"+'beoordeling maatregel'!Q906","v":0}]
[" ",{"$f":"COUNTIF('pot ZZS-lijst'!A:A,$C892)","v":0},{"$f":"+'beoordeling maatregel'!Q907","v":0}]
[" ",{"$f":"COUNTIF('pot ZZS-lijst'!A:A,$C893)","v":0},{"$f":"+'beoordeling maatregel'!Q908","v":0}]
[" ",{"$f":"COUNTIF('pot ZZS-lijst'!A:A,$C894)","v":0},{"$f":"+'beoordeling maatregel'!Q909","v":0}]
[" ",{"$f":"COUNTIF('pot ZZS-lijst'!A:A,$C895)","v":0},{"$f":"+'beoordeling maatregel'!Q910","v":0}]
[" ",{"$f":"COUNTIF('pot ZZS-lijst'!A:A,$C896)","v":0},{"$f":"+'beoordeling maatregel'!Q911","v":0}]
[" ",{"$f":"COUNTIF('pot ZZS-lijst'!A:A,$C897)","v":0},{"$f":"+'beoordeling maatregel'!Q912","v":0}]
[" ",{"$f":"COUNTIF('pot ZZS-lijst'!A:A,$C898)","v":0},{"$f":"+'beoordeling maatregel'!Q913","v":0}]
[{"$f":"IF(B899>0,\"Deze stof wordt aangemerkt als potentiële ZZS\",\" \")","v":" "},{"$f":"COUNTIF('pot ZZS-lijst'!A:A,$C899)","v":0},{"$f":"+'beoordeling maatregel'!Q914","v":0}]
[" ",{"$f":"COUNTIF('pot ZZS-lijst'!A:A,$C900)","v":0},{"$f":"+'beoordeling maatregel'!Q915","v":0}]
[" ",{"$f":"COUNTIF('pot ZZS-lijst'!A:A,$C901)","v":0},{"$f":"+'beoordeling maatregel'!Q916","v":0}]
[" ",{"$f":"COUNTIF('pot ZZS-lijst'!A:A,$C902)","v":0},{"$f":"+'beoordeling maatregel'!Q917","v":0}]
[" ",{"$f":"COUNTIF('pot ZZS-lijst'!A:A,$C903)","v":0},{"$f":"+'beoordeling maatregel'!Q918","v":0}]
[" ",{"$f":"COUNTIF('pot ZZS-lijst'!A:A,$C904)","v":0},{"$f":"+'beoordeling maatregel'!Q919","v":0}]
[" ",{"$f":"COUNTIF('pot ZZS-lijst'!A:A,$C905)","v":0},{"$f":"+'beoordeling maatregel'!Q920","v":0}]
[" ",{"$f":"COUNTIF('pot ZZS-lijst'!A:A,$C906)","v":0},{"$f":"+'beoordeling maatregel'!Q921","v":0}]
[" ",{"$f":"COUNTIF('pot ZZS-lijst'!A:A,$C907)","v":0},{"$f":"+'beoordeling maatregel'!Q922","v":0}]
[" ",{"$f":"COUNTIF('pot ZZS-lijst'!A:A,$C908)","v":0},{"$f":"+'beoordeling maatregel'!Q923","v":0}]
[" ",{"$f":"COUNTIF('pot ZZS-lijst'!A:A,$C909)","v":0},{"$f":"+'beoordeling maatregel'!Q924","v":0}]
[" ",{"$f":"COUNTIF('pot ZZS-lijst'!A:A,$C910)","v":0},{"$f":"+'beoordeling maatregel'!Q925","v":0}]
[" ",{"$f":"COUNTIF('pot ZZS-lijst'!A:A,$C911)","v":0},{"$f":"+'beoordeling maatregel'!Q926","v":0}]
[" ",{"$f":"COUNTIF('pot ZZS-lijst'!A:A,$C912)","v":0},{"$f":"+'beoordeling maatregel'!Q927","v":0}]
[" ",{"$f":"COUNTIF('pot ZZS-lijst'!A:A,$C913)","v":0},{"$f":"+'beoordeling maatregel'!Q928","v":0}]
[" ",{"$f":"COUNTIF('pot ZZS-lijst'!A:A,$C914)","v":0},{"$f":"+'beoordeling maatregel'!Q929","v":0}]
[" ",{"$f":"COUNTIF('pot ZZS-lijst'!A:A,$C915)","v":0},{"$f":"+'beoordeling maatregel'!Q930","v":0}]
[" ",{"$f":"COUNTIF('pot ZZS-lijst'!A:A,$C916)","v":0},{"$f":"+'beoordeling maatregel'!Q931","v":0}]
[" ",{"$f":"COUNTIF('pot ZZS-lijst'!A:A,$C917)","v":0},{"$f":"+'beoordeling maatregel'!Q932","v":0}]
[" ",{"$f":"COUNTIF('pot ZZS-lijst'!A:A,$C918)","v":0},{"$f":"+'beoordeling maatregel'!Q933","v":0}]
[" ",{"$f":"COUNTIF('pot ZZS-lijst'!A:A,$C919)","v":0},{"$f":"+'beoordeling maatregel'!Q934","v":0}]
[" ",{"$f":"COUNTIF('pot ZZS-lijst'!A:A,$C920)","v":0},{"$f":"+'beoordeling maatregel'!Q935","v":0}]
[" ",{"$f":"COUNTIF('pot ZZS-lijst'!A:A,$C921)","v":0},{"$f":"+'beoordeling maatregel'!Q936","v":0}]
[" ",{"$f":"COUNTIF('pot ZZS-lijst'!A:A,$C922)","v":0},{"$f":"+'beoordeling maatregel'!Q937","v":0}]
[" ",{"$f":"COUNTIF('pot ZZS-lijst'!A:A,$C923)","v":0},{"$f":"+'beoordeling maatregel'!Q938","v":0}]
[" ",{"$f":"COUNTIF('pot ZZS-lijst'!A:A,$C924)","v":0},{"$f":"+'beoordeling maatregel'!Q939","v":0}]
[" ",{"$f":"COUNTIF('pot ZZS-lijst'!A:A,$C925)","v":0},{"$f":"+'beoordeling maatregel'!Q940","v":0}]
[" ",{"$f":"COUNTIF('pot ZZS-lijst'!A:A,$C926)","v":0},{"$f":"+'beoordeling maatregel'!Q941","v":0}]
[" ",{"$f":"COUNTIF('pot ZZS-lijst'!A:A,$C927)","v":0},{"$f":"+'beoordeling maatregel'!Q942","v":0}]
[" ",{"$f":"COUNTIF('pot ZZS-lijst'!A:A,$C928)","v":0},{"$f":"+'beoordeling maatregel'!Q943","v":0}]
[" ",{"$f":"COUNTIF('pot ZZS-lijst'!A:A,$C929)","v":0},{"$f":"+'beoordeling maatregel'!Q944","v":0}]
[" ",{"$f":"COUNTIF('pot ZZS-lijst'!A:A,$C930)","v":0},{"$f":"+'beoordeling maatregel'!Q945","v":0}]
[" ",{"$f":"COUNTIF('pot ZZS-lijst'!A:A,$C931)","v":0},{"$f":"+'beoordeling maatregel'!Q946","v":0}]
[" ",{"$f":"COUNTIF('pot ZZS-lijst'!A:A,$C932)","v":0},{"$f":"+'beoordeling maatregel'!Q947","v":0}]
[" ",{"$f":"COUNTIF('pot ZZS-lijst'!A:A,$C933)","v":0},{"$f":"+'beoordeling maatregel'!Q948","v":0}]
[" ",{"$f":"COUNTIF('pot ZZS-lijst'!A:A,$C934)","v":0},{"$f":"+'beoordeling maatregel'!Q949","v":0}]
[" ",{"$f":"COUNTIF('pot ZZS-lijst'!A:A,$C935)","v":0},{"$f":"+'beoordeling maatregel'!Q950","v":0}]
[" ",{"$f":"COUNTIF('pot ZZS-lijst'!A:A,$C936)","v":0},{"$f":"+'beoordeling maatregel'!Q951","v":0}]
[" ",{"$f":"COUNTIF('pot ZZS-lijst'!A:A,$C937)","v":0},{"$f":"+'beoordeling maatregel'!Q952","v":0}]
[" ",{"$f":"COUNTIF('pot ZZS-lijst'!A:A,$C938)","v":0},{"$f":"+'beoordeling maatregel'!Q953","v":0}]
[" ",{"$f":"COUNTIF('pot ZZS-lijst'!A:A,$C939)","v":0},{"$f":"+'beoordeling maatregel'!Q954","v":0}]
[" ",{"$f":"COUNTIF('pot ZZS-lijst'!A:A,$C940)","v":0},{"$f":"+'beoordeling maatregel'!Q955","v":0}]
[" ",{"$f":"COUNTIF('pot ZZS-lijst'!A:A,$C941)","v":0},{"$f":"+'beoordeling maatregel'!Q956","v":0}]
[" ",{"$f":"COUNTIF('pot ZZS-lijst'!A:A,$C942)","v":0},{"$f":"+'beoordeling maatregel'!Q957","v":0}]
[" ",{"$f":"COUNTIF('pot ZZS-lijst'!A:A,$C943)","v":0},{"$f":"+'beoordeling maatregel'!Q958","v":0}]
[" ",{"$f":"COUNTIF('pot ZZS-lijst'!A:A,$C944)","v":0},{"$f":"+'beoordeling maatregel'!Q959","v":0}]
[" ",{"$f":"COUNTIF('pot ZZS-lijst'!A:A,$C945)","v":0},{"$f":"+'beoordeling maatregel'!Q960","v":0}]
[" ",{"$f":"COUNTIF('pot ZZS-lijst'!A:A,$C946)","v":0},{"$f":"+'beoordeling maatregel'!Q961","v":0}]
[" ",{"$f":"COUNTIF('pot ZZS-lijst'!A:A,$C947)","v":0},{"$f":"+'beoordeling maatregel'!Q962","v":0}]
[" ",{"$f":"COUNTIF('pot ZZS-lijst'!A:A,$C948)","v":0},{"$f":"+'beoordeling maatregel'!Q963","v":0}]
[" ",{"$f":"COUNTIF('pot ZZS-lijst'!A:A,$C949)","v":0},{"$f":"+'beoordeling maatregel'!Q964","v":0}]
[" ",{"$f":"COUNTIF('pot ZZS-lijst'!A:A,$C950)","v":0},{"$f":"+'beoordeling maatregel'!Q965","v":0}]
[" ",{"$f":"COUNTIF('pot ZZS-lijst'!A:A,$C951)","v":0},{"$f":"+'beoordeling maatregel'!Q966","v":0}]
[" ",{"$f":"COUNTIF('pot ZZS-lijst'!A:A,$C952)","v":0},{"$f":"+'beoordeling maatregel'!Q967","v":0}]
[" ",{"$f":"COUNTIF('pot ZZS-lijst'!A:A,$C953)","v":0},{"$f":"+'beoordeling maatregel'!Q968","v":0}]
[" ",{"$f":"COUNTIF('pot ZZS-lijst'!A:A,$C954)","v":0},{"$f":"+'beoordeling maatregel'!Q969","v":0}]
[" ",{"$f":"COUNTIF('pot ZZS-lijst'!A:A,$C955)","v":0},{"$f":"+'beoordeling maatregel'!Q970","v":0}]
[" ",{"$f":"COUNTIF('pot ZZS-lijst'!A:A,$C956)","v":0},{"$f":"+'beoordeling maatregel'!Q971","v":0}]
[" ",{"$f":"COUNTIF('pot ZZS-lijst'!A:A,$C957)","v":0},{"$f":"+'beoordeling maatregel'!Q972","v":0}]
[" ",{"$f":"COUNTIF('pot ZZS-lijst'!A:A,$C958)","v":0},{"$f":"+'beoordeling maatregel'!Q973","v":0}]
[" ",{"$f":"COUNTIF('pot ZZS-lijst'!A:A,$C959)","v":0},{"$f":"+'beoordeling maatregel'!Q974","v":0}]
[" ",{"$f":"COUNTIF('pot ZZS-lijst'!A:A,$C960)","v":0},{"$f":"+'beoordeling maatregel'!Q975","v":0}]
[" ",{"$f":"COUNTIF('pot ZZS-lijst'!A:A,$C961)","v":0},{"$f":"+'beoordeling maatregel'!Q976","v":0}]
[" ",{"$f":"COUNTIF('pot ZZS-lijst'!A:A,$C962)","v":0},{"$f":"+'beoordeling maatregel'!Q977","v":0}]
[{"$f":"IF(B963>0,\"Deze stof wordt aangemerkt als potentiële ZZS\",\" \")","v":" "},{"$f":"COUNTIF('pot ZZS-lijst'!A:A,$C963)","v":0},{"$f":"+'beoordeling maatregel'!Q978","v":0}]
[" ",{"$f":"COUNTIF('pot ZZS-lijst'!A:A,$C964)","v":0},{"$f":"+'beoordeling maatregel'!Q979","v":0}]
[" ",{"$f":"COUNTIF('pot ZZS-lijst'!A:A,$C965)","v":0},{"$f":"+'beoordeling maatregel'!Q980","v":0}]
[" ",{"$f":"COUNTIF('pot ZZS-lijst'!A:A,$C966)","v":0},{"$f":"+'beoordeling maatregel'!Q981","v":0}]
[" ",{"$f":"COUNTIF('pot ZZS-lijst'!A:A,$C967)","v":0},{"$f":"+'beoordeling maatregel'!Q982","v":0}]
[" ",{"$f":"COUNTIF('pot ZZS-lijst'!A:A,$C968)","v":0},{"$f":"+'beoordeling maatregel'!Q983","v":0}]
[" ",{"$f":"COUNTIF('pot ZZS-lijst'!A:A,$C969)","v":0},{"$f":"+'beoordeling maatregel'!Q984","v":0}]
[" ",{"$f":"COUNTIF('pot ZZS-lijst'!A:A,$C970)","v":0},{"$f":"+'beoordeling maatregel'!Q985","v":0}]
[" ",{"$f":"COUNTIF('pot ZZS-lijst'!A:A,$C971)","v":0},{"$f":"+'beoordeling maatregel'!Q986","v":0}]
[" ",{"$f":"COUNTIF('pot ZZS-lijst'!A:A,$C972)","v":0},{"$f":"+'beoordeling maatregel'!Q987","v":0}]
[" ",{"$f":"COUNTIF('pot ZZS-lijst'!A:A,$C973)","v":0},{"$f":"+'beoordeling maatregel'!Q988","v":0}]
[" ",{"$f":"COUNTIF('pot ZZS-lijst'!A:A,$C974)","v":0},{"$f":"+'beoordeling maatregel'!Q989","v":0}]
[" ",{"$f":"COUNTIF('pot ZZS-lijst'!A:A,$C975)","v":0},{"$f":"+'beoordeling maatregel'!Q990","v":0}]
[" ",{"$f":"COUNTIF('pot ZZS-lijst'!A:A,$C976)","v":0},{"$f":"+'beoordeling maatregel'!Q991","v":0}]
[" ",{"$f":"COUNTIF('pot ZZS-lijst'!A:A,$C977)","v":0},{"$f":"+'beoordeling maatregel'!Q992","v":0}]
[" ",{"$f":"COUNTIF('pot ZZS-lijst'!A:A,$C978)","v":0},{"$f":"+'beoordeling maatregel'!Q993","v":0}]
[" ",{"$f":"COUNTIF('pot ZZS-lijst'!A:A,$C979)","v":0},{"$f":"+'beoordeling maatregel'!Q994","v":0}]
[" ",{"$f":"COUNTIF('pot ZZS-lijst'!A:A,$C980)","v":0},{"$f":"+'beoordeling maatregel'!Q995","v":0}]
[" ",{"$f":"COUNTIF('pot ZZS-lijst'!A:A,$C981)","v":0},{"$f":"+'beoordeling maatregel'!Q996","v":0}]
[" ",{"$f":"COUNTIF('pot ZZS-lijst'!A:A,$C982)","v":0},{"$f":"+'beoordeling maatregel'!Q997","v":0}]
[" ",{"$f":"COUNTIF('pot ZZS-lijst'!A:A,$C983)","v":0},{"$f":"+'beoordeling maatregel'!Q998","v":0}]
[" ",{"$f":"COUNTIF('pot ZZS-lijst'!A:A,$C984)","v":0},{"$f":"+'beoordeling maatregel'!Q999","v":0}]
[" ",{"$f":"COUNTIF('pot ZZS-lijst'!A:A,$C985)","v":0},{"$f":"+'beoordeling maatregel'!Q1000","v":0}]
[" ",{"$f":"COUNTIF('pot ZZS-lijst'!A:A,$C986)","v":0},{"$f":"+'beoordeling maatregel'!Q1001","v":0}]
[" ",{"$f":"COUNTIF('pot ZZS-lijst'!A:A,$C987)","v":0},{"$f":"+'beoordeling maatregel'!Q1002","v":0}]
[" ",{"$f":"COUNTIF('pot ZZS-lijst'!A:A,$C988)","v":0},{"$f":"+'beoordeling maatregel'!Q1003","v":0}]
[" ",{"$f":"COUNTIF('pot ZZS-lijst'!A:A,$C989)","v":0},{"$f":"+'beoordeling maatregel'!Q1004","v":0}]
[" ",{"$f":"COUNTIF('pot ZZS-lijst'!A:A,$C990)","v":0},{"$f":"+'beoordeling maatregel'!Q1005","v":0}]
[" ",{"$f":"COUNTIF('pot ZZS-lijst'!A:A,$C991)","v":0},{"$f":"+'beoordeling maatregel'!Q1006","v":0}]
[" ",{"$f":"COUNTIF('pot ZZS-lijst'!A:A,$C992)","v":0},{"$f":"+'beoordeling maatregel'!Q1007","v":0}]
[" ",{"$f":"COUNTIF('pot ZZS-lijst'!A:A,$C993)","v":0},{"$f":"+'beoordeling maatregel'!Q1008","v":0}]
[" ",{"$f":"COUNTIF('pot ZZS-lijst'!A:A,$C994)","v":0},{"$f":"+'beoordeling maatregel'!Q1009","v":0}]
[" ",{"$f":"COUNTIF('pot ZZS-lijst'!A:A,$C995)","v":0},{"$f":"+'beoordeling maatregel'!Q1010","v":0}]
[" ",{"$f":"COUNTIF('pot ZZS-lijst'!A:A,$C996)","v":0},{"$f":"+'beoordeling maatregel'!Q1011","v":0}]
[" ",{"$f":"COUNTIF('pot ZZS-lijst'!A:A,$C997)","v":0},{"$f":"+'beoordeling maatregel'!Q1012","v":0}]
[" ",{"$f":"COUNTIF('pot ZZS-lijst'!A:A,$C998)","v":0},{"$f":"+'beoordeling maatregel'!Q1013","v":0}]
[" ",{"$f":"COUNTIF('pot ZZS-lijst'!A:A,$C999)","v":0},{"$f":"+'beoordeling maatregel'!Q1014","v":0}]